{"text_format":"1","workbook":"xlsx","n_sheets":6,"sheets":["LED-LED","LED-Lighting","Base","MTTF","Sheet1","Sheet2"],"not_rendered":{"charts":10,"images":1,"macros":1,"external_links":1,"defined_names":11,"comments":1,"pivot_tables":0},"unopened":[],"bounds":{"document_bytes":16777216,"sheet_cells":100000,"rows_first":2000,"rows_last":500,"rows_between":2000,"halvings":0,"cell_chars":16384,"cell_head_chars":4096},"cells_cut":0,"cells_raw":0,"read":"whole","date_system":"1900"}

{"sheet":"LED-LED","index":0,"n_rows":2347,"n_cols":180,"rows_kept":562,"cut":true,"hidden":false,"merged":[[44,1,55,1],[22,6,22,7],[47,6,47,7],[47,4,47,5],[48,4,48,5],[48,6,48,7],[18,1,29,1],[35,4,35,5],[35,6,35,7],[31,1,42,1],[21,4,21,5],[21,6,21,7],[34,6,34,7],[34,4,34,5],[31,2,31,3],[31,4,31,5],[5,1,16,1],[9,4,9,5],[9,6,9,7],[22,4,22,5],[5,2,5,3],[6,2,6,3],[18,2,18,3],[18,4,18,5],[19,2,19,3],[19,4,19,5],[19,6,19,8],[18,6,18,8],[5,20,5,21],[8,4,8,5],[8,6,8,7],[8,20,8,21],[8,55,8,56],[5,4,5,5],[6,4,6,5],[5,6,5,8],[6,9,6,10],[6,6,6,8],[8,57,8,58],[8,59,9,59],[8,60,9,60],[18,20,18,21],[21,20,21,21],[21,55,21,56],[21,57,21,58],[21,59,22,59],[21,60,22,60],[31,20,31,21],[34,20,34,21],[47,55,47,56],[47,57,47,58],[47,59,48,59],[47,60,48,60],[34,55,34,56],[34,57,34,58],[34,59,35,59],[34,60,35,60],[19,9,19,10],[32,9,32,10],[45,9,45,10],[44,2,44,3],[44,4,44,5],[45,2,45,3],[45,4,45,5],[31,6,31,8],[32,6,32,8],[44,6,44,8],[45,6,45,8],[32,2,32,3],[32,4,32,5]],"bounds":{"rows_first":250,"rows_last":62,"rows_between":250,"halvings":3}}
[]
[null,null,null,null,null,null,null,null,null,null,null,null,null,null,null,null,null,null,null,null,null,null,null,null,null,null,null,null,null,null,null,null,null,null,null,null,null,null,null,null,null,null,5.8450203071999995E-2]
[null,null,null,null,null,null,null,null,null,null,null,null,null,null,null,null,null,null,null,null,null,null,null,null,"Lm/$"]
[null,"Step : Product → CCT → CRI → Vf/Flux → Current → ",null,null,null,null,null,null,null,null,null,null,null,null,null,null,null,null,null,null,null,null,null,null,"$/Lm",null,null,null,null,null,null,null,null,null,null,null,null,null,null,null,null,null,90.909090909090907]
[]
[null,"LED - A","Maker",null,"Type",null,"LED",null,null,{"$f":"IF(AND(G7>0,K10>0),\"∑LES =\",\"\")","v":""},{"$f":"IF(AND(G7>0,K10>0),BG6*K10,\"\")","v":""},null,null,null,null,null,null,null,null,null,"supportable current scope",null,null,null,null,null,null,null,null,null,null,null,null,null,null,null,{"$f":"VLOOKUP(G7,Base!C:I,2,FALSE)","v":{"$error":"#N/A"}},null,null,null,null,null,2000,null,null,null,null,null,null,null,null,null,null,null,null,null,{"$f":"VLOOKUP(G7,Base!C:I,5,FALSE)","v":{"$error":"#N/A"}},null,{"$f":"VLOOKUP(G7,Base!C:I,Base!H3,FALSE)","v":{"$error":"#N/A"}}]
[null,null,null,null,null,null,null,null,null,{"$f":"IF(AND(G7>0,K10>0),BG7,\"\")","v":""},null,null,null,null,null,null,null,null,null,null,null,null,null,null,null,null,null,null,null,null,null,null,null,null,null,null,null,null,null,null,null,null,null,null,null,null,null,null,null,null,null,null,null,null,null,null,null,null,{"$f":"VLOOKUP(G7,Base!C:Q,Base!Q3,FALSE)","v":{"$error":"#N/A"}}]
[null,null,"IF_sort. =",{"$f":"IF(G7>0,AK6,\"\")","v":""},"IF_max. =",{"$f":"IF(G7>0,BG8,\"\")","v":""},"Tj_sort.",{"$f":"IF(AND(G7=Base!C58,D10=90),85,IF(G7>0,VLOOKUP(G7,Base!C:I,7,FALSE),\"\"))","v":""},null,"Tj_max. =",{"$f":"IF(G7>0,BE8,\"\")","v":""},null,null,null,null,null,null,null,null,null,{"$f":"MTTF!BE4","v":""},{"$f":"MTTF!BF4","v":""},null,null,"Current",null,null,null,null,null,100,null,null,null,null,null,{"$f":"H8","v":""},{"$f":"AK8-(AK6*AJ11*BE6)","v":{"$error":"#VALUE!"}},null,null,null,null,null,null,null,null,null,null,null,null,null,null,null,null,null,null,{"$f":"VLOOKUP(G7,Base!C:I,4,FALSE)","v":{"$error":"#N/A"}},null,{"$f":"VLOOKUP(G7,Base!C:I,3,FALSE)","v":{"$error":"#N/A"}}]
[null,null,"CCT","CRI","Vf [V]",null,"Flux [lm]",null,null,"Price","# of LED",null,null,null,null,null,null,null,null,null,"Expected lifetime (hr)",null,null,null,"Ts","Graph - 1",null,null,"Graph - 2",null,null,"Graph - 3",null,null,null,null,null,null,null,null,null,null,null,null,null,null,null,null,null,null,1]
[null,null,null,null,null,null,null,null,null,null,1,null,null,null,null,null,null,null,null,null,"L70\n(Ts > 25℃)","L80\n(Ts > 25℃)",null,null,"Tj ","Y",0.58450203071999995,null,103.065715487408,0.58450203071999995,null,103.065715487408,null,null,null,2.95,25]
[null,null,"Current\n[A]","Ts\n(℃)","TJ\n[℃]","VF /LED\n(V) ","∑Flux\n[㏐]","∑Power\n[W] ","Flux/Area\n[lm/LES]","Efficacy\n[Lm/W]","Lm/$",null,null,null,null,null,null,null,null,null,null,null,null,null,"Vf",null,null,null,null,null,null,null,null,null,null,{"$f":"AJ12","v":{"$error":"#N/A"}},{"$f":"AK12","v":{"$error":"#N/A"}},null,null,null,null,null,null,null,null,null,null,null,null,null,null,null,null,null,null,null,null,null,null,null,null,null,null,null,"Vivid option",null,null,null,null,null,null,null,null,null,null,null,null,null,null,null,null,null,{"$f":"CE12","v":{"$error":"#N/A"}},{"$f":"CF12","v":{"$error":"#N/A"}},{"$error":"#N/A"},{"$error":"#N/A"},{"$error":"#N/A"},{"$error":"#N/A"},{"$error":"#N/A"},{"$error":"#N/A"},{"$error":"#N/A"},{"$error":"#N/A"},{"$error":"#N/A"},{"$error":"#N/A"},{"$error":"#N/A"},{"$error":"#N/A"}]
[null,null,{"$f":"IF(AND(G7>0,C10>0,D10>0),C13/2,\"\")","v":""},null,{"$f":"IF(AND($G$7>0,$C$10>0,$D$10>0,C12>0,$E$10>0),IF(D12>0,D12+F12*C12*$BE$6,$AK$8),\"\")","v":""},{"$f":"IF(AND($G$7>0,$C$10>0,$D$10>0,$E$10>0),(D12-$AL$8)*BD12+AJ12*BE12,\"\")","v":""},{"$f":"IF(AND($G$7>0,$C$10>0,$D$10>0,C12>0,$E$10>0,$G$10>0,$K$10>0),(((E12-$AK$8)*BF12+1)*AK12*BG12)*$K$10,\"\")","v":""},{"$f":"IF(AND($G$7>0,$C$10>0,$D$10>0,$E$10>0,$K$10>0),F12*C12*$K$10,\"\")","v":""},{"$f":"IF(AND($G$7>0,$C$10>0,$D$10>0,$E$10>0,$K$10>0,$G$10>0),G12/$K$6,\"\")","v":""},{"$f":"IF(AND($G$7>0,$C$10>0,$D$10>0,$E$10>0,$G$10>0,$K$10>0),G12/H12,\"\")","v":""},{"$f":"IF(AND($G$7>0,$C$10>0,$D$10>0,C12>0,$J$10>0,$E$10>0,$G$10>0,$K$10>0),IF($K$11=\"Lm/$\",G12/($J$10*$K$10),$J$10*$K$10/G12),\"\")","v":""},null,"Y-asix",null,null,null,null,null,null,null,{"$f":"IF(OR($G$7=Base!$BT$21,$G$7=Base!$BT$32,$G$7=Base!$BT$40,$G$7=Base!$BT$51,$G$7=Base!$BT$58,$G$7=Base!$BT$69,$G$7=Base!$BT$83,$G$7=Base!$BT$144,$G$7=Base!$BT$210),IF(AND(C12>0,D12>0),MTTF!BK5,\"\"),\"\")","v":""},{"$f":"IF(OR($G$7=Base!$BT$21,$G$7=Base!$BT$32,$G$7=Base!$BT$40,$G$7=Base!$BT$51,$G$7=Base!$BT$58,$G$7=Base!$BT$69,$G$7=Base!$BT$83,$G$7=Base!$BT$144,$G$7=Base!$BT$210),IF(AND(C12>0,D12>0),MTTF!BL5,\"\"),\"\")","v":""},null,null,"Flux",{"$f":"IF(AND($G$7>0,$C$10>0,$D$10>0,$E$10>0,$G$10>0),IF($M$13=$Y$8,C12,IF($M$13=$Y$9,D12,IF($M$13=$Y$11,F12,IF($M$13=$Y$12,G12,IF($M$13=$Y$10,E12,IF($M$13=$Y$13,H12,IF($M$13=$Y$15,J12,IF($M$13=$Y$16,K12,IF($M$13=$Y$14,I12,\"\"))))))))),0)","v":0},{"$f":"IF(AND($G$7>0,$C$10>0,$D$10>0,$E$10>0,$G$10>0),IF($R$22=$Y$8,C12,IF($R$22=$Y$9,D12,IF($R$22=$Y$11,F12,IF($R$22=$Y$12,G12,IF($R$22=$Y$10,E12,IF($R$22=$Y$13,H12,IF($R$22=$Y$15,J12,IF($R$22=$Y$16,K12,IF($R$22=$Y$14,I12,\"\"))))))))),0)","v":0},null,{"$f":"IF(AND($G$7>0,$C$10>0,$D$10>0,$E$10>0,$G$10>0),IF($M$30=$Y$8,C12,IF($M$30=$Y$9,D12,IF($M$30=$Y$11,F12,IF($M$30=$Y$12,G12,IF($M$30=$Y$10,E12,IF($M$30=$Y$13,H12,IF($M$30=$Y$15,J12,IF($M$30=$Y$16,K12,IF($M$30=$Y$14,I12,\"\"))))))))),0)","v":0},{"$f":"IF(AND($G$7>0,$C$10>0,$D$10>0,$E$10>0,$G$10>0),IF($R$38=$Y$8,C12,IF($R$38=$Y$9,D12,IF($R$38=$Y$11,F12,IF($R$38=$Y$12,G12,IF($R$38=$Y$10,E12,IF($R$38=$Y$13,H12,IF($R$38=$Y$15,J12,IF($R$38=$Y$16,K12,IF($R$38=$Y$14,I12,\"\"))))))))),0)","v":0},null,{"$f":"IF(AND($G$7>0,$C$10>0,$D$10>0,$E$10>0,$G$10>0),IF($M$49=$Y$8,C12,IF($M$49=$Y$9,D12,IF($M$49=$Y$11,F12,IF($M$49=$Y$12,G12,IF($M$49=$Y$10,E12,IF($M$49=$Y$13,H12,IF($M$49=$Y$15,J12,IF($M$49=$Y$16,K12,IF($M$49=$Y$14,I12,\"\"))))))))),0)","v":0},{"$f":"IF(AND($G$7>0,$C$10>0,$D$10>0,$E$10>0,$G$10>0),IF($R$55=$Y$8,C12,IF($R$55=$Y$9,D12,IF($R$55=$Y$11,F12,IF($R$55=$Y$12,G12,IF($R$55=$Y$10,E12,IF($R$55=$Y$13,H12,IF($R$55=$Y$15,J12,IF($R$55=$Y$16,K12,IF($R$55=$Y$14,I12,\"\"))))))))),0)","v":0},null,null,{"$f":"VLOOKUP(BN12,Base!$CL:$DJ,AL12,FALSE)","v":{"$error":"#N/A"}},{"$f":"VLOOKUP(BN12,Base!$CL:$CU,AT12,FALSE)","v":{"$error":"#N/A"}},{"$f":"MATCH($E$10,AM12:AS12,0)+18","v":{"$error":"#N/A"}},{"$f":"VLOOKUP(BN12,Base!$CL:$DQ,Base!$DK$3,FALSE)","v":{"$error":"#N/A"}},{"$f":"VLOOKUP(BN12,Base!$CL:$DQ,Base!$DL$3,FALSE)","v":{"$error":"#N/A"}},{"$f":"VLOOKUP(BN12,Base!$CL:$DQ,Base!$DM$3,FALSE)","v":{"$error":"#N/A"}},{"$f":"VLOOKUP(BN12,Base!$CL:$DQ,Base!$DN$3,FALSE)","v":{"$error":"#N/A"}},{"$f":"VLOOKUP(BN12,Base!$CL:$DQ,Base!$DO$3,FALSE)","v":{"$error":"#N/A"}},{"$f":"VLOOKUP(BN12,Base!$CL:$DQ,Base!$DP$3,FALSE)","v":{"$error":"#N/A"}},{"$f":"VLOOKUP(BN12,Base!$CL:$DQ,Base!$DQ$3,FALSE)","v":{"$error":"#N/A"}},{"$f":"MATCH($G$10,AU12:BB12,0)+2","v":{"$error":"#N/A"}},{"$f":"VLOOKUP($BN$12,Base!$CL:$DC,Base!CV$3,FALSE)","v":{"$error":"#N/A"}},{"$f":"VLOOKUP($BN$12,Base!$CL:$DC,Base!CW$3,FALSE)","v":{"$error":"#N/A"}},{"$f":"VLOOKUP($BN$12,Base!$CL:$DC,Base!CX$3,FALSE)","v":{"$error":"#N/A"}},{"$f":"VLOOKUP($BN$12,Base!$CL:$DC,Base!CY$3,FALSE)","v":{"$error":"#N/A"}},{"$f":"VLOOKUP($BN$12,Base!$CL:$DC,Base!CZ$3,FALSE)","v":{"$error":"#N/A"}},{"$f":"VLOOKUP($BN$12,Base!$CL:$DC,Base!DA$3,FALSE)","v":{"$error":"#N/A"}},{"$f":"VLOOKUP($BN$12,Base!$CL:$DC,Base!DB$3,FALSE)","v":{"$error":"#N/A"}},{"$f":"VLOOKUP($BN$12,Base!$CL:$DC,Base!DC$3,FALSE)","v":{"$error":"#N/A"}},null,{"$f":"IF(D12>0,CP12*C12^2+CQ12*C12+CR12,0)","v":0},{"$f":"IF(AND(C12<=$BG$8,C12>0),CL12*C12^3+CM12*C12^2+CN12*C12+CO12,\"-\")","v":{"$error":"#N/A"}},{"$f":"IF(D12>0,CI12*C12^2+CJ12*C12+CK12,0)","v":0},{"$f":"IF(AND(C12<=$BG$8,C12>0),CE12*C12^3+CF12*C12^2+CG12*C12+CH12,\"-\")","v":{"$error":"#N/A"}},{"$f":"IF(AND(G7>0,C10>0,D10>0),VLOOKUP(BN12,Base!CL:EF,Base!EF3,FALSE),\"\")","v":""},{"$f":"IF(AND(G7>0,C10>0,D10>0),VLOOKUP(BN12,Base!CL:CM,Base!CM3,FALSE),\"\")","v":""},null,{"$f":"IF($G$7>0,VLOOKUP($G$7,Base!$BT:$BU,Base!BU3,FALSE),0)","v":0},{"$f":"BK12*IF(OR(C10=\"Fashion\",C10=\"Meat\",C10=\"Vegetable\"),79,C10)","v":0},{"$f":"IF(D10=\"Fashion_White\",68,IF(D10=\"Fashion_Color\",69,D10))","v":0},{"$f":"IF(BM12=\"Special\",BK12*BM13*79+BM13+79,BK12*C10*BM12+C10+BM12)","v":0},null,{"$f":"VLOOKUP($G$7,Base!$BT:$CF,Base!BX$3,FALSE)","v":{"$error":"#N/A"}},{"$f":"VLOOKUP($G$7,Base!$BT:$CF,Base!BY$3,FALSE)","v":{"$error":"#N/A"}},{"$f":"VLOOKUP($G$7,Base!$BT:$CF,Base!BZ$3,FALSE)","v":{"$error":"#N/A"}},{"$f":"VLOOKUP($G$7,Base!$BT:$CF,Base!CA$3,FALSE)","v":{"$error":"#N/A"}},{"$f":"VLOOKUP($G$7,Base!$BT:$CF,Base!CB$3,FALSE)","v":{"$error":"#N/A"}},{"$f":"VLOOKUP($G$7,Base!$BT:$CF,Base!CC$3,FALSE)","v":{"$error":"#N/A"}},{"$f":"VLOOKUP($G$7,Base!$BT:$CF,Base!CD$3,FALSE)","v":{"$error":"#N/A"}},{"$f":"VLOOKUP($G$7,Base!$BT:$CF,Base!CE$3,FALSE)","v":{"$error":"#N/A"}},{"$f":"VLOOKUP($G$7,Base!$BT:$CF,Base!CF$3,FALSE)","v":{"$error":"#N/A"}},null,{"$f":"VLOOKUP($BL$12,Base!$CG:$CK,Base!CH$3,FALSE)","v":{"$error":"#N/A"}},{"$f":"VLOOKUP($BL$12,Base!$CG:$CK,Base!CI$3,FALSE)","v":{"$error":"#N/A"}},{"$f":"VLOOKUP($BL$12,Base!$CG:$CK,Base!CJ$3,FALSE)","v":{"$error":"#N/A"}},{"$f":"VLOOKUP($BL$12,Base!$CG:$CK,Base!CK$3,FALSE)","v":{"$error":"#N/A"}},null,{"$f":"VLOOKUP(BN12,Base!$CL:$EE,Base!$DR$3,FALSE)","v":{"$error":"#N/A"}},{"$f":"VLOOKUP(BN12,Base!$CL:$EE,Base!$DS$3,FALSE)","v":{"$error":"#N/A"}},{"$f":"VLOOKUP(BN12,Base!$CL:$EE,Base!$DT$3,FALSE)","v":{"$error":"#N/A"}},{"$f":"VLOOKUP(BN12,Base!$CL:$EE,Base!$DU$3,FALSE)","v":{"$error":"#N/A"}},{"$f":"VLOOKUP(BN12,Base!$CL:$EE,Base!$DV$3,FALSE)","v":{"$error":"#N/A"}},{"$f":"VLOOKUP(BN12,Base!$CL:$EE,Base!$DW$3,FALSE)","v":{"$error":"#N/A"}},{"$f":"VLOOKUP(BN12,Base!$CL:$EE,Base!$DX$3,FALSE)","v":{"$error":"#N/A"}},{"$f":"VLOOKUP(BN12,Base!$CL:$EE,Base!$DY$3,FALSE)","v":{"$error":"#N/A"}},{"$f":"VLOOKUP(BN12,Base!$CL:$EE,Base!$DZ$3,FALSE)","v":{"$error":"#N/A"}},{"$f":"VLOOKUP(BN12,Base!$CL:$EE,Base!$EA$3,FALSE)","v":{"$error":"#N/A"}},{"$f":"VLOOKUP(BN12,Base!$CL:$EE,Base!$EB$3,FALSE)","v":{"$error":"#N/A"}},{"$f":"VLOOKUP(BN12,Base!$CL:$EE,Base!$EC$3,FALSE)","v":{"$error":"#N/A"}},{"$f":"VLOOKUP(BN12,Base!$CL:$EE,Base!$ED$3,FALSE)","v":{"$error":"#N/A"}},{"$f":"VLOOKUP(BN12,Base!$CL:$EE,Base!$EE$3,FALSE)","v":{"$error":"#N/A"}}]
[null,null,{"$f":"IF(AND(G7>0,C10>0,D10>0),C14/2,\"\")","v":""},null,"","","","","","","",null,null,null,null,null,null,null,null,null,{"$f":"IF(OR($G$7=Base!$BT$21,$G$7=Base!$BT$32,$G$7=Base!$BT$40,$G$7=Base!$BT$51,$G$7=Base!$BT$58,$G$7=Base!$BT$69,$G$7=Base!$BT$83,$G$7=Base!$BT$144,$G$7=Base!$BT$210),IF(AND(C13>0,D13>0),MTTF!BK6,\"\"),\"\")","v":""},{"$f":"IF(OR($G$7=Base!$BT$21,$G$7=Base!$BT$32,$G$7=Base!$BT$40,$G$7=Base!$BT$51,$G$7=Base!$BT$58,$G$7=Base!$BT$69,$G$7=Base!$BT$83,$G$7=Base!$BT$144,$G$7=Base!$BT$210),IF(AND(C13>0,D13>0),MTTF!BL6,\"\"),\"\")","v":""},null,null,"Power",0,0,null,0,0,null,0,0,null,null,{"$f":"AJ12","v":{"$error":"#N/A"}},{"$f":"AK12","v":{"$error":"#N/A"}},null,null,null,null,null,null,null,null,null,null,null,null,null,null,null,null,null,null,0,{"$error":"#N/A"},0,{"$error":"#N/A"},null,null,null,null,null,{"$f":"IF(C10=\"Fashion\",51,IF(C10=\"Meat\",52,IF(C10=\"Vegetable\",53,\"-\")))","v":"-"},null,null,null,null,null,null,null,null,null,null,null,null,null,null,null,null,null,{"$f":"CE12","v":{"$error":"#N/A"}},{"$error":"#N/A"},{"$error":"#N/A"},{"$error":"#N/A"},{"$error":"#N/A"},{"$error":"#N/A"},{"$error":"#N/A"},{"$error":"#N/A"},{"$error":"#N/A"},{"$error":"#N/A"},{"$error":"#N/A"},{"$error":"#N/A"},{"$error":"#N/A"},{"$error":"#N/A"}]
[null,null,{"$f":"IF(AND(G7>0,C10>0,D10>0),D8,\"\")","v":""},null,"","","","","",{"$f":"IF(AND($G$7>0,$C$10>0,$D$10>0,$E$10>0,$G$10>0,$K$10>0),G14/H14,\"\")","v":""},"",null,null,null,null,null,null,null,null,null,{"$f":"IF(OR($G$7=Base!$BT$21,$G$7=Base!$BT$32,$G$7=Base!$BT$40,$G$7=Base!$BT$51,$G$7=Base!$BT$58,$G$7=Base!$BT$69,$G$7=Base!$BT$83,$G$7=Base!$BT$144,$G$7=Base!$BT$210),IF(AND(C14>0,D14>0),MTTF!BK7,\"\"),\"\")","v":""},{"$f":"IF(OR($G$7=Base!$BT$21,$G$7=Base!$BT$32,$G$7=Base!$BT$40,$G$7=Base!$BT$51,$G$7=Base!$BT$58,$G$7=Base!$BT$69,$G$7=Base!$BT$83,$G$7=Base!$BT$144,$G$7=Base!$BT$210),IF(AND(C14>0,D14>0),MTTF!BL7,\"\"),\"\")","v":""},null,null,"lm/LES",0,0,null,0,0,null,0,0,null,null,{"$f":"AJ13","v":{"$error":"#N/A"}},{"$error":"#N/A"},null,null,null,null,null,null,null,null,null,null,null,null,null,null,null,null,null,null,0,{"$f":"IF(AND(C14<=$BG$8,C14>0),CL14*C14^3+CM14*C14^2+CN14*C14+CO14,\"-\")","v":{"$error":"#N/A"}},0,{"$error":"#N/A"},null,null,null,null,null,null,null,null,null,null,null,null,null,null,null,null,null,null,null,null,null,null,null,{"$error":"#N/A"},{"$error":"#N/A"},{"$error":"#N/A"},{"$error":"#N/A"},{"$error":"#N/A"},{"$error":"#N/A"},{"$error":"#N/A"},{"$error":"#N/A"},{"$error":"#N/A"},{"$error":"#N/A"},{"$error":"#N/A"},{"$error":"#N/A"},{"$error":"#N/A"},{"$f":"CR13","v":{"$error":"#N/A"}}]
[null,null,{"$f":"IF(AND(G7>0,C10>0,D10>0),(2*C14+C17)/3,\"\")","v":""},null,"","","","","","","",null,null,null,null,null,null,null,null,null,{"$f":"IF(OR($G$7=Base!$BT$21,$G$7=Base!$BT$32,$G$7=Base!$BT$40,$G$7=Base!$BT$51,$G$7=Base!$BT$58,$G$7=Base!$BT$69,$G$7=Base!$BT$83,$G$7=Base!$BT$144,$G$7=Base!$BT$210),IF(AND(C15>0,D15>0),MTTF!BK8,\"\"),\"\")","v":""},{"$f":"IF(OR($G$7=Base!$BT$21,$G$7=Base!$BT$32,$G$7=Base!$BT$40,$G$7=Base!$BT$51,$G$7=Base!$BT$58,$G$7=Base!$BT$69,$G$7=Base!$BT$83,$G$7=Base!$BT$144,$G$7=Base!$BT$210),IF(AND(C15>0,D15>0),MTTF!BL8,\"\"),\"\")","v":""},null,null,"Lm/W",0,0,null,0,0,null,0,0,null,null,{"$error":"#N/A"},{"$error":"#N/A"},null,null,null,null,null,null,null,null,null,null,null,null,null,null,null,null,null,null,0,{"$error":"#N/A"},0,{"$error":"#N/A"},null,null,null,null,null,null,null,null,null,null,null,null,null,null,null,null,null,null,null,null,null,null,null,{"$error":"#N/A"},{"$error":"#N/A"},{"$error":"#N/A"},{"$error":"#N/A"},{"$error":"#N/A"},{"$error":"#N/A"},{"$error":"#N/A"},{"$error":"#N/A"},{"$error":"#N/A"},{"$error":"#N/A"},{"$error":"#N/A"},{"$error":"#N/A"},{"$error":"#N/A"},{"$f":"CR14","v":{"$error":"#N/A"}}]
[null,null,{"$f":"IF(AND(G7>0,C10>0,D10>0),(C14+2*C17)/3,\"\")","v":""},null,"","","","","","","",null,null,null,null,null,null,null,null,null,{"$f":"IF(OR($G$7=Base!$BT$21,$G$7=Base!$BT$32,$G$7=Base!$BT$40,$G$7=Base!$BT$51,$G$7=Base!$BT$58,$G$7=Base!$BT$69,$G$7=Base!$BT$83,$G$7=Base!$BT$144,$G$7=Base!$BT$210),IF(AND(C16>0,D16>0),MTTF!BK9,\"\"),\"\")","v":""},{"$f":"IF(OR($G$7=Base!$BT$21,$G$7=Base!$BT$32,$G$7=Base!$BT$40,$G$7=Base!$BT$51,$G$7=Base!$BT$58,$G$7=Base!$BT$69,$G$7=Base!$BT$83,$G$7=Base!$BT$144,$G$7=Base!$BT$210),IF(AND(C16>0,D16>0),MTTF!BL9,\"\"),\"\")","v":""},null,null,{"$f":"K11","v":"Lm/$"},0,0,null,0,0,null,0,0,null,null,{"$error":"#N/A"},{"$error":"#N/A"},null,null,null,null,null,null,null,null,null,null,null,null,null,null,null,null,null,null,0,{"$error":"#N/A"},0,{"$error":"#N/A"},null,null,null,null,null,null,null,null,null,null,null,null,null,null,null,null,null,null,null,null,null,null,null,{"$error":"#N/A"},{"$error":"#N/A"},{"$error":"#N/A"},{"$error":"#N/A"},{"$error":"#N/A"},{"$error":"#N/A"},{"$error":"#N/A"},{"$error":"#N/A"},{"$error":"#N/A"},{"$error":"#N/A"},{"$error":"#N/A"},{"$error":"#N/A"},{"$error":"#N/A"},{"$f":"CR15","v":{"$error":"#N/A"}}]
[null,null,{"$f":"IF(AND(G7>0,C10>0,D10>0),F8,\"\")","v":""},null,"","","","","","","",null,null,null,null,null,null,null,null,null,{"$f":"IF(OR($G$7=Base!$BT$21,$G$7=Base!$BT$32,$G$7=Base!$BT$40,$G$7=Base!$BT$51,$G$7=Base!$BT$58,$G$7=Base!$BT$69,$G$7=Base!$BT$83,$G$7=Base!$BT$144,$G$7=Base!$BT$210),IF(AND(C17>0,D17>0),MTTF!BK10,\"\"),\"\")","v":""},{"$f":"IF(OR($G$7=Base!$BT$21,$G$7=Base!$BT$32,$G$7=Base!$BT$40,$G$7=Base!$BT$51,$G$7=Base!$BT$58,$G$7=Base!$BT$69,$G$7=Base!$BT$83,$G$7=Base!$BT$144,$G$7=Base!$BT$210),IF(AND(C17>0,D17>0),MTTF!BL10,\"\"),\"\")","v":""},null,null,null,0,0,null,0,0,null,0,0,null,null,{"$f":"AJ13","v":{"$error":"#N/A"}},{"$f":"AK13","v":{"$error":"#N/A"}},null,null,null,null,null,null,null,null,null,null,null,null,null,null,null,null,null,null,0,{"$error":"#N/A"},0,{"$error":"#N/A"},null,null,null,null,null,null,null,null,null,null,null,null,null,null,null,null,null,null,null,null,null,null,null,{"$f":"CE13","v":{"$error":"#N/A"}},{"$error":"#N/A"},{"$error":"#N/A"},{"$error":"#N/A"},{"$error":"#N/A"},{"$error":"#N/A"},{"$error":"#N/A"},{"$error":"#N/A"},{"$error":"#N/A"},{"$error":"#N/A"},{"$error":"#N/A"},{"$error":"#N/A"},{"$f":"CQ16","v":{"$error":"#N/A"}},{"$error":"#N/A"}]
[]
[null,"LED - B","Maker",null,"Type",null,"LED",null,null,{"$f":"IF(AND(G20>0,K23>0),\"∑LES =\",\"\")","v":""},{"$f":"IF(AND(G20>0,K23>0),BG19*K23,\"\")","v":""},null,null,null,null,null,null,null,null,null,"supportable current scope",null,null,null,null,null,null,null,null,null,null,null,null,null,null,null,{"$f":"VLOOKUP(G20,Base!C:I,2,FALSE)","v":{"$error":"#N/A"}},null,null,null,null,null,null,null,null,null,null,null,null,null,null,null,null,null,null,null,{"$f":"VLOOKUP(G20,Base!C:I,5,FALSE)","v":{"$error":"#N/A"}},null,{"$f":"VLOOKUP(G20,Base!C:I,Base!H3,FALSE)","v":{"$error":"#N/A"}}]
[null,null,null,null,null,null,null,null,null,{"$f":"IF(AND(G20>0,K23>0),BG20,\"\")","v":""},null,null,null,null,null,null,null,null,null,null,null,null,null,null,null,null,null,null,null,null,null,null,null,null,null,null,null,null,null,null,null,null,null,null,null,null,null,null,null,null,null,null,null,null,null,null,null,null,{"$f":"VLOOKUP(G20,Base!C:Q,Base!Q3,FALSE)","v":{"$error":"#N/A"}}]
[null,null,"IF_sort. =",{"$f":"IF(G20>0,AK19,\"\")","v":""},"IF_max. =",{"$f":"IF(G20>0,BG21,\"\")","v":""},"Tj_sort.",{"$f":"IF(AND(G20=Base!C58,D23=90),85,IF(G20>0,VLOOKUP(G20,Base!C:I,7,FALSE),\"\"))","v":""},null,"Tj_max. =",{"$f":"IF(G20>0,BE21,\"\")","v":""},null,null,null,null,null,null,null,null,null,{"$f":"MTTF!BR4","v":""},{"$f":"MTTF!BS4","v":""},null,null,null,null,null,null,null,null,null,null,null,null,null,null,{"$f":"H21","v":""},{"$f":"AK21-(AK19*AJ24*BE19)","v":{"$error":"#VALUE!"}},null,null,null,null,null,null,null,null,null,null,null,null,null,null,null,null,null,null,{"$f":"VLOOKUP(G20,Base!C:I,4,FALSE)","v":{"$error":"#N/A"}},null,{"$f":"VLOOKUP(G20,Base!C:I,3,FALSE)","v":{"$error":"#N/A"}}]
[null,null,"CCT","CRI","Vf [V]",null,"Flux [lm]",null,null,"Price","# of LED",null,null,null,null,null,"X-asix",null,null,null,"Expected lifetime (hr)"]
[null,null,null,null,null,null,null,null,null,null,null,null,null,null,null,null,null,null,null,null,"L70\n(Ts > 25℃)","L80\n(Ts > 25℃)"]
[null,null,"Current\n[A]","Ts\n(℃)","TJ\n(℃)","VF /LED\n(V) ","∑Flux\n[㏐]","∑Power\n(W) ","Flux/Area\n[lm/LES]","Efficacy\n(Lm/W)",{"$f":"K11","v":"Lm/$"},null,null,null,null,null,null,null,null,null,null,null,null,null,null,null,null,null,null,null,null,null,null,null,null,{"$f":"AJ25","v":{"$error":"#N/A"}},{"$f":"AK25","v":{"$error":"#N/A"}},null,null,null,null,null,null,null,null,null,null,null,null,null,null,null,null,null,null,null,null,null,null,null,null,null,null,null,null,null,null,null,null,null,null,null,null,null,null,null,null,null,null,null,null,null,{"$f":"CE25","v":{"$error":"#N/A"}},{"$f":"CF25","v":{"$error":"#N/A"}},{"$error":"#N/A"},{"$error":"#N/A"},{"$error":"#N/A"},{"$error":"#N/A"},{"$error":"#N/A"},{"$error":"#N/A"},{"$error":"#N/A"},{"$error":"#N/A"},{"$error":"#N/A"},{"$error":"#N/A"},{"$error":"#N/A"},{"$error":"#N/A"}]
[null,null,{"$f":"IF(AND(G20>0,C23>0,D23>0),C26/2,\"\")","v":""},null,{"$f":"IF(AND($G$20>0,$C$23>0,$D$23>0,C25>0,$E$23>0),IF(D25>0,D25+F25*C25*$BE$19,$AK$21),\"\")","v":""},{"$f":"IF(AND($G$20>0,$C$23>0,$D$23>0,$E$23>0),(D25-$AL$21)*BD25+AJ25*BE25,\"\")","v":""},{"$f":"IF(AND($G$20>0,$C$23>0,$D$23>0,C25>0,$E$23>0,$G$23>0,$K$23>0),(((E25-$AK$21)*BF25+1)*AK25*BG25)*$K$23,\"\")","v":""},{"$f":"IF(AND($G$20>0,$C$23>0,$D$23>0,$E$23>0,$K$23>0),F25*C25*$K$23,\"\")","v":""},{"$f":"IF(AND($G$20>0,$C$23>0,$D$23>0,$E$23>0,$K$23>0,$G$23>0),G25/$K$19,\"\")","v":""},{"$f":"IF(AND($G$20>0,$C$23>0,$D$23>0,$E$23>0,$G$23>0,$K$23>0),G25/H25,\"\")","v":""},{"$f":"IF(AND($G$20>0,$C$23>0,$D$23>0,C25>0,$J$23>0,$E$23>0,$G$23>0,$K$23>0),IF($K$11=\"Lm/$\",G25/($J$23*$K$23),$J$23*$K$23/G25),\"\")","v":""},null,null,null,null,null,null,null,null,null,{"$f":"IF(OR($G$20=Base!$BT$21,$G$20=Base!$BT$32,$G$20=Base!$BT$40,$G$20=Base!$BT$51,$G$20=Base!$BT$58,$G$20=Base!$BT$69,$G$20=Base!$BT$83,$G$20=Base!$BT$144,$G$20=Base!$BT$210),IF(AND(C25>0,D25>0),MTTF!BX5,\"\"),\"\")","v":""},{"$f":"IF(OR($G$20=Base!$BT$21,$G$20=Base!$BT$32,$G$20=Base!$BT$40,$G$20=Base!$BT$51,$G$20=Base!$BT$58,$G$20=Base!$BT$69,$G$20=Base!$BT$83,$G$20=Base!$BT$144,$G$20=Base!$BT$210),IF(AND(C25>0,D25>0),MTTF!BY5,\"\"),\"\")","v":""},null,null,null,{"$f":"IF(AND($G$20>0,$C$23>0,$D$23>0,$E$23>0,$G$23>0),IF($M$13=$Y$8,C25,IF($M$13=$Y$9,D25,IF($M$13=$Y$11,F25,IF($M$13=$Y$12,G25,IF($M$13=$Y$10,E25,IF($M$13=$Y$13,H25,IF($M$13=$Y$15,J25,IF($M$13=$Y$16,K25,IF($M$13=$Y$14,I25,\"\"))))))))),0)","v":0},{"$f":"IF(AND($G$20>0,$C$23>0,$D$23>0,$E$23>0,$G$23>0),IF($R$22=$Y$8,C25,IF($R$22=$Y$9,D25,IF($R$22=$Y$11,F25,IF($R$22=$Y$12,G25,IF($R$22=$Y$10,E25,IF($R$22=$Y$13,H25,IF($R$22=$Y$15,J25,IF($R$22=$Y$16,K25,IF($R$22=$Y$14,I25,\"\"))))))))),0)","v":0},null,{"$f":"IF(AND($G$20>0,$C$23>0,$D$23>0,$E$23>0,$G$23>0),IF($M$30=$Y$8,C25,IF($M$30=$Y$9,D25,IF($M$30=$Y$11,F25,IF($M$30=$Y$12,G25,IF($M$30=$Y$10,E25,IF($M$30=$Y$13,H25,IF($M$30=$Y$15,J25,IF($M$30=$Y$16,K25,IF($M$30=$Y$14,I25,\"\"))))))))),0)","v":0},{"$f":"IF(AND($G$20>0,$C$23>0,$D$23>0,$E$23>0,$G$23>0),IF($R$38=$Y$8,C25,IF($R$38=$Y$9,D25,IF($R$38=$Y$11,F25,IF($R$38=$Y$12,G25,IF($R$38=$Y$10,E25,IF($R$38=$Y$13,H25,IF($R$38=$Y$15,J25,IF($R$38=$Y$16,K25,IF($R$38=$Y$14,I25,\"\"))))))))),0)","v":0},null,{"$f":"IF(AND($G$20>0,$C$23>0,$D$23>0,$E$23>0,$G$23>0),IF($M$49=$Y$8,C25,IF($M$49=$Y$9,D25,IF($M$49=$Y$11,F25,IF($M$49=$Y$12,G25,IF($M$49=$Y$10,E25,IF($M$49=$Y$13,H25,IF($M$49=$Y$15,J25,IF($M$49=$Y$16,K25,IF($M$49=$Y$14,I25,\"\"))))))))),0)","v":0},{"$f":"IF(AND($G$20>0,$C$23>0,$D$23>0,$E$23>0,$G$23>0),IF($R$55=$Y$8,C25,IF($R$55=$Y$9,D25,IF($R$55=$Y$11,F25,IF($R$55=$Y$12,G25,IF($R$55=$Y$10,E25,IF($R$55=$Y$13,H25,IF($R$55=$Y$15,J25,IF($R$55=$Y$16,K25,IF($R$55=$Y$14,I25,\"\"))))))))),0)","v":0},null,null,{"$f":"VLOOKUP(BN25,Base!$CL:$DJ,AL25,FALSE)","v":{"$error":"#N/A"}},{"$f":"VLOOKUP(BN25,Base!$CL:$CU,AT25,FALSE)","v":{"$error":"#N/A"}},{"$f":"MATCH($E$23,AM25:AS25,0)+18","v":{"$error":"#N/A"}},{"$f":"VLOOKUP(BN25,Base!$CL:$DQ,Base!$DK$3,FALSE)","v":{"$error":"#N/A"}},{"$f":"VLOOKUP(BN25,Base!$CL:$DQ,Base!$DL$3,FALSE)","v":{"$error":"#N/A"}},{"$f":"VLOOKUP(BN25,Base!$CL:$DQ,Base!$DM$3,FALSE)","v":{"$error":"#N/A"}},{"$f":"VLOOKUP(BN25,Base!$CL:$DQ,Base!$DN$3,FALSE)","v":{"$error":"#N/A"}},{"$f":"VLOOKUP(BN25,Base!$CL:$DQ,Base!$DO$3,FALSE)","v":{"$error":"#N/A"}},{"$f":"VLOOKUP(BN25,Base!$CL:$DQ,Base!$DP$3,FALSE)","v":{"$error":"#N/A"}},{"$f":"VLOOKUP(BN25,Base!$CL:$DQ,Base!$DQ$3,FALSE)","v":{"$error":"#N/A"}},{"$f":"MATCH($G$23,AU25:BB25,0)+2","v":{"$error":"#N/A"}},{"$f":"VLOOKUP($BN$25,Base!$CL:$DC,Base!CV$3,FALSE)","v":{"$error":"#N/A"}},{"$f":"VLOOKUP($BN$25,Base!$CL:$DC,Base!CW$3,FALSE)","v":{"$error":"#N/A"}},{"$f":"VLOOKUP($BN$25,Base!$CL:$DC,Base!CX$3,FALSE)","v":{"$error":"#N/A"}},{"$f":"VLOOKUP($BN$25,Base!$CL:$DC,Base!CY$3,FALSE)","v":{"$error":"#N/A"}},{"$f":"VLOOKUP($BN$25,Base!$CL:$DC,Base!CZ$3,FALSE)","v":{"$error":"#N/A"}},{"$f":"VLOOKUP($BN$25,Base!$CL:$DC,Base!DA$3,FALSE)","v":{"$error":"#N/A"}},{"$f":"VLOOKUP($BN$25,Base!$CL:$DC,Base!DB$3,FALSE)","v":{"$error":"#N/A"}},{"$f":"VLOOKUP($BN$25,Base!$CL:$DC,Base!DC$3,FALSE)","v":{"$error":"#N/A"}},null,{"$f":"IF(D25>0,CP25*C25^2+CQ25*C25+CR25,0)","v":0},{"$f":"IF(AND(C25<=$BG$21,C25>0),CL25*C25^3+CM25*C25^2+CN25*C25+CO25,\"-\")","v":{"$error":"#N/A"}},{"$f":"IF(D25>0,CI25*C25^2+CJ25*C25+CK25,0)","v":0},{"$f":"IF(AND(C25<=$BG$21,C25>0),CE25*C25^3+CF25*C25^2+CG25*C25+CH25,\"-\")","v":{"$error":"#N/A"}},{"$f":"IF(AND(G20>0,C23>0,D23>0),VLOOKUP(BN25,Base!CL:EF,Base!EF3,FALSE),\"\")","v":""},{"$f":"IF(AND(G20>0,C23>0,D23>0),VLOOKUP(BN25,Base!CL:CM,Base!CM3,FALSE),\"\")","v":""},null,{"$f":"IF($G$20>0,VLOOKUP($G$20,Base!$BT:$BU,Base!BU3,FALSE),0)","v":0},{"$f":"BK25*IF(OR(C23=\"Fashion\",C23=\"Meat\",C23=\"Vegetable\"),79,C23)","v":0},{"$f":"IF(D23=\"Fashion_White\",68,IF(D23=\"Fashion_Color\",69,D23))","v":0},{"$f":"IF(BM25=\"Special\",BK25*BM26*79+BM26+79,BK25*C23*BM25+C23+BM25)","v":0},null,{"$f":"VLOOKUP($G$20,Base!$BT:$CF,Base!BX$3,FALSE)","v":{"$error":"#N/A"}},{"$f":"VLOOKUP($G$20,Base!$BT:$CF,Base!BY$3,FALSE)","v":{"$error":"#N/A"}},{"$f":"VLOOKUP($G$20,Base!$BT:$CF,Base!BZ$3,FALSE)","v":{"$error":"#N/A"}},{"$f":"VLOOKUP($G$20,Base!$BT:$CF,Base!CA$3,FALSE)","v":{"$error":"#N/A"}},{"$f":"VLOOKUP($G$20,Base!$BT:$CF,Base!CB$3,FALSE)","v":{"$error":"#N/A"}},{"$f":"VLOOKUP($G$20,Base!$BT:$CF,Base!CC$3,FALSE)","v":{"$error":"#N/A"}},{"$f":"VLOOKUP($G$20,Base!$BT:$CF,Base!CD$3,FALSE)","v":{"$error":"#N/A"}},{"$f":"VLOOKUP($G$20,Base!$BT:$CF,Base!CE$3,FALSE)","v":{"$error":"#N/A"}},{"$f":"VLOOKUP($G$20,Base!$BT:$CF,Base!CF$3,FALSE)","v":{"$error":"#N/A"}},null,{"$f":"VLOOKUP($BL$25,Base!$CG:$CK,Base!CH3,FALSE)","v":{"$error":"#N/A"}},{"$f":"VLOOKUP($BL$25,Base!$CG:$CK,Base!CI3,FALSE)","v":{"$error":"#N/A"}},{"$f":"VLOOKUP($BL$25,Base!$CG:$CK,Base!CJ3,FALSE)","v":{"$error":"#N/A"}},{"$f":"VLOOKUP($BL$25,Base!$CG:$CK,Base!CK3,FALSE)","v":{"$error":"#N/A"}},null,{"$f":"VLOOKUP(BN25,Base!$CL:$EE,Base!$DR$3,FALSE)","v":{"$error":"#N/A"}},{"$f":"VLOOKUP(BN25,Base!$CL:$EE,Base!$DS$3,FALSE)","v":{"$error":"#N/A"}},{"$f":"VLOOKUP(BN25,Base!$CL:$EE,Base!$DT$3,FALSE)","v":{"$error":"#N/A"}},{"$f":"VLOOKUP(BN25,Base!$CL:$EE,Base!$DU$3,FALSE)","v":{"$error":"#N/A"}},{"$f":"VLOOKUP(BN25,Base!$CL:$EE,Base!$DV$3,FALSE)","v":{"$error":"#N/A"}},{"$f":"VLOOKUP(BN25,Base!$CL:$EE,Base!$DW$3,FALSE)","v":{"$error":"#N/A"}},{"$f":"VLOOKUP(BN25,Base!$CL:$EE,Base!$DX$3,FALSE)","v":{"$error":"#N/A"}},{"$f":"VLOOKUP(BN25,Base!$CL:$EE,Base!$DY$3,FALSE)","v":{"$error":"#N/A"}},{"$f":"VLOOKUP(BN25,Base!$CL:$EE,Base!$DZ$3,FALSE)","v":{"$error":"#N/A"}},{"$f":"VLOOKUP(BN25,Base!$CL:$EE,Base!$EA$3,FALSE)","v":{"$error":"#N/A"}},{"$f":"VLOOKUP(BN25,Base!$CL:$EE,Base!$EB$3,FALSE)","v":{"$error":"#N/A"}},{"$f":"VLOOKUP(BN25,Base!$CL:$EE,Base!$EC$3,FALSE)","v":{"$error":"#N/A"}},{"$f":"VLOOKUP(BN25,Base!$CL:$EE,Base!$ED$3,FALSE)","v":{"$error":"#N/A"}},{"$f":"VLOOKUP(BN25,Base!$CL:$EE,Base!$EE$3,FALSE)","v":{"$error":"#N/A"}}]
[null,null,{"$f":"IF(AND(G20>0,C23>0,D23>0),C27/2,\"\")","v":""},null,"","","","","","","",null,null,null,null,null,null,null,null,null,{"$f":"IF(OR($G$20=Base!$BT$21,$G$20=Base!$BT$32,$G$20=Base!$BT$40,$G$20=Base!$BT$51,$G$20=Base!$BT$58,$G$20=Base!$BT$69,$G$20=Base!$BT$83,$G$20=Base!$BT$144,$G$20=Base!$BT$210),IF(AND(C26>0,D26>0),MTTF!BX6,\"\"),\"\")","v":""},{"$f":"IF(OR($G$20=Base!$BT$21,$G$20=Base!$BT$32,$G$20=Base!$BT$40,$G$20=Base!$BT$51,$G$20=Base!$BT$58,$G$20=Base!$BT$69,$G$20=Base!$BT$83,$G$20=Base!$BT$144,$G$20=Base!$BT$210),IF(AND(C26>0,D26>0),MTTF!BY6,\"\"),\"\")","v":""},null,null,null,0,0,null,0,0,null,0,0,null,null,{"$f":"AJ25","v":{"$error":"#N/A"}},{"$error":"#N/A"},null,null,null,null,null,null,null,null,null,null,null,null,null,null,null,null,null,null,0,{"$error":"#N/A"},0,{"$error":"#N/A"},null,null,null,null,null,{"$f":"IF(C23=\"Fashion\",51,IF(C23=\"Meat\",52,IF(C23=\"Vegetable\",53,\"-\")))","v":"-"},null,null,null,null,null,null,null,null,null,null,null,null,null,null,null,null,null,{"$f":"CE25","v":{"$error":"#N/A"}},{"$error":"#N/A"},{"$error":"#N/A"},{"$error":"#N/A"},{"$error":"#N/A"},{"$error":"#N/A"},{"$error":"#N/A"},{"$error":"#N/A"},{"$error":"#N/A"},{"$error":"#N/A"},{"$error":"#N/A"},{"$error":"#N/A"},{"$error":"#N/A"},{"$error":"#N/A"}]
[null,null,{"$f":"IF(AND(G20>0,C23>0,D23>0),D21,\"\")","v":""},null,"","","","","",{"$f":"IF(AND($G$20>0,$C$23>0,$D$23>0,$E$23>0,$G$23>0,$K$23>0),G27/H27,\"\")","v":""},"",null,null,null,null,null,null,null,null,null,{"$f":"IF(OR($G$20=Base!$BT$21,$G$20=Base!$BT$32,$G$20=Base!$BT$40,$G$20=Base!$BT$51,$G$20=Base!$BT$58,$G$20=Base!$BT$69,$G$20=Base!$BT$83,$G$20=Base!$BT$144,$G$20=Base!$BT$210),IF(AND(C27>0,D27>0),MTTF!BX7,\"\"),\"\")","v":""},{"$f":"IF(OR($G$20=Base!$BT$21,$G$20=Base!$BT$32,$G$20=Base!$BT$40,$G$20=Base!$BT$51,$G$20=Base!$BT$58,$G$20=Base!$BT$69,$G$20=Base!$BT$83,$G$20=Base!$BT$144,$G$20=Base!$BT$210),IF(AND(C27>0,D27>0),MTTF!BY7,\"\"),\"\")","v":""},null,null,null,0,0,null,0,0,null,{"$f":"IF(AND($G$20>0,$C$23>0,$D$23>0,$E$23>0,$G$23>0),IF($M$49=$Y$8,C27,IF($M$49=$Y$9,D27,IF($M$49=$Y$11,F27,IF($M$49=$Y$12,G27,IF($M$49=$Y$10,E27,IF($M$49=$Y$13,H27,IF($M$49=$Y$15,J27,IF($M$49=$Y$16,K27,IF($M$49=$Y$14,I27,\"\"))))))))),0)","v":0},0,null,null,{"$error":"#N/A"},{"$error":"#N/A"},null,null,null,null,null,null,null,null,null,null,null,null,null,null,null,null,null,null,0,{"$error":"#N/A"},0,{"$error":"#N/A"},null,null,null,null,null,null,null,null,null,null,null,null,null,null,null,null,null,null,null,null,null,null,null,{"$error":"#N/A"},{"$error":"#N/A"},{"$error":"#N/A"},{"$error":"#N/A"},{"$error":"#N/A"},{"$error":"#N/A"},{"$error":"#N/A"},{"$error":"#N/A"},{"$error":"#N/A"},{"$error":"#N/A"},{"$error":"#N/A"},{"$error":"#N/A"},{"$error":"#N/A"},{"$error":"#N/A"}]
[null,null,{"$f":"IF(AND(G20>0,C23>0,D23>0),(2*C27+C30)/3,\"\")","v":""},null,"","","","","","","",null,null,null,null,null,null,null,null,null,{"$f":"IF(OR($G$20=Base!$BT$21,$G$20=Base!$BT$32,$G$20=Base!$BT$40,$G$20=Base!$BT$51,$G$20=Base!$BT$58,$G$20=Base!$BT$69,$G$20=Base!$BT$83,$G$20=Base!$BT$144,$G$20=Base!$BT$210),IF(AND(C28>0,D28>0),MTTF!BX8,\"\"),\"\")","v":""},{"$f":"IF(OR($G$20=Base!$BT$21,$G$20=Base!$BT$32,$G$20=Base!$BT$40,$G$20=Base!$BT$51,$G$20=Base!$BT$58,$G$20=Base!$BT$69,$G$20=Base!$BT$83,$G$20=Base!$BT$144,$G$20=Base!$BT$210),IF(AND(C28>0,D28>0),MTTF!BY8,\"\"),\"\")","v":""},null,null,null,0,0,null,0,0,null,0,0,null,null,{"$error":"#N/A"},{"$error":"#N/A"},null,null,null,null,null,null,null,null,null,null,null,null,null,null,null,null,null,null,0,{"$error":"#N/A"},0,{"$error":"#N/A"},null,null,null,null,null,null,null,null,null,null,null,null,null,null,null,null,null,null,null,null,null,null,null,{"$error":"#N/A"},{"$error":"#N/A"},{"$error":"#N/A"},{"$error":"#N/A"},{"$error":"#N/A"},{"$error":"#N/A"},{"$error":"#N/A"},{"$error":"#N/A"},{"$error":"#N/A"},{"$error":"#N/A"},{"$error":"#N/A"},{"$error":"#N/A"},{"$error":"#N/A"},{"$error":"#N/A"}]
[null,null,{"$f":"IF(AND(G20>0,C23>0,D23>0),(C27+2*C30)/3,\"\")","v":""},null,"","","","","","","",null,"Y-asix",null,null,null,null,null,null,null,{"$f":"IF(OR($G$20=Base!$BT$21,$G$20=Base!$BT$32,$G$20=Base!$BT$40,$G$20=Base!$BT$51,$G$20=Base!$BT$58,$G$20=Base!$BT$69,$G$20=Base!$BT$83,$G$20=Base!$BT$144,$G$20=Base!$BT$210),IF(AND(C29>0,D29>0),MTTF!BX9,\"\"),\"\")","v":""},{"$f":"IF(OR($G$20=Base!$BT$21,$G$20=Base!$BT$32,$G$20=Base!$BT$40,$G$20=Base!$BT$51,$G$20=Base!$BT$58,$G$20=Base!$BT$69,$G$20=Base!$BT$83,$G$20=Base!$BT$144,$G$20=Base!$BT$210),IF(AND(C29>0,D29>0),MTTF!BY9,\"\"),\"\")","v":""},null,null,null,0,0,null,0,0,null,0,0,null,null,{"$error":"#N/A"},{"$error":"#N/A"},null,null,null,null,null,null,null,null,null,null,null,null,null,null,null,null,null,null,0,{"$error":"#N/A"},0,{"$error":"#N/A"},null,null,null,null,null,null,null,null,null,null,null,null,null,null,null,null,null,null,null,null,null,null,null,{"$error":"#N/A"},{"$error":"#N/A"},{"$error":"#N/A"},{"$error":"#N/A"},{"$error":"#N/A"},{"$error":"#N/A"},{"$error":"#N/A"},{"$error":"#N/A"},{"$error":"#N/A"},{"$error":"#N/A"},{"$error":"#N/A"},{"$error":"#N/A"},{"$error":"#N/A"},{"$error":"#N/A"}]
[null,null,{"$f":"IF(AND(G20>0,C23>0,D23>0),F21,\"\")","v":""},null,"","","","","","","",null,null,null,null,null,null,null,null,null,{"$f":"IF(OR($G$20=Base!$BT$21,$G$20=Base!$BT$32,$G$20=Base!$BT$40,$G$20=Base!$BT$51,$G$20=Base!$BT$58,$G$20=Base!$BT$69,$G$20=Base!$BT$83,$G$20=Base!$BT$144,$G$20=Base!$BT$210),IF(AND(C30>0,D30>0),MTTF!BX10,\"\"),\"\")","v":""},{"$f":"IF(OR($G$20=Base!$BT$21,$G$20=Base!$BT$32,$G$20=Base!$BT$40,$G$20=Base!$BT$51,$G$20=Base!$BT$58,$G$20=Base!$BT$69,$G$20=Base!$BT$83,$G$20=Base!$BT$144,$G$20=Base!$BT$210),IF(AND(C30>0,D30>0),MTTF!BY10,\"\"),\"\")","v":""},null,null,null,0,0,null,0,0,null,0,0,null,null,{"$f":"AJ26","v":{"$error":"#N/A"}},{"$f":"AK26","v":{"$error":"#N/A"}},null,null,null,null,null,null,null,null,null,null,null,null,null,null,null,null,null,null,0,{"$error":"#N/A"},0,{"$error":"#N/A"},null,null,null,null,null,null,null,null,null,null,null,null,null,null,null,null,null,null,null,null,null,null,null,{"$f":"CE26","v":{"$error":"#N/A"}},{"$error":"#N/A"},{"$error":"#N/A"},{"$error":"#N/A"},{"$error":"#N/A"},{"$error":"#N/A"},{"$error":"#N/A"},{"$error":"#N/A"},{"$error":"#N/A"},{"$error":"#N/A"},{"$error":"#N/A"},{"$error":"#N/A"},{"$f":"CQ29","v":{"$error":"#N/A"}},{"$error":"#N/A"}]
[]
[null,"LED - C","Maker",null,"Type",null,"LED",null,null,{"$f":"IF(AND(G33>0,K36>0),\"∑LES =\",\"\")","v":""},{"$f":"IF(AND(G33>0,K36>0),BG32*K36,\"\")","v":""},null,null,null,null,null,null,null,null,null,"supportable current scope",null,null,null,null,null,null,null,null,null,null,null,null,null,null,null,{"$f":"VLOOKUP(G33,Base!C:I,2,FALSE)","v":{"$error":"#N/A"}},null,null,null,null,null,null,null,null,null,null,null,null,null,null,null,null,null,null,null,{"$f":"VLOOKUP(G33,Base!C:I,5,FALSE)","v":{"$error":"#N/A"}},null,{"$f":"VLOOKUP(G33,Base!C:I,Base!H3,FALSE)","v":{"$error":"#N/A"}}]
[null,null,null,null,null,null,null,null,null,{"$f":"IF(AND(G33>0,K36>0),BG33,\"\")","v":""},null,null,null,null,null,null,null,null,null,null,null,null,null,null,null,null,null,null,null,null,null,null,null,null,null,null,null,null,null,null,null,null,null,null,null,null,null,null,null,null,null,null,null,null,null,null,null,null,{"$f":"VLOOKUP(G33,Base!C:Q,Base!Q3,FALSE)","v":{"$error":"#N/A"}}]
[null,null,"IF_sort. =",{"$f":"IF(G33>0,AK32,\"\")","v":""},"IF_max. =",{"$f":"IF(G33>0,BG34,\"\")","v":""},"Tj_sort.",{"$f":"IF(AND(G33=Base!C58,D36=90),85,IF(G33>0,VLOOKUP(G33,Base!C:I,7,FALSE),\"\"))","v":""},null,"Tj_max. =",{"$f":"IF(G33>0,BE34,\"\")","v":""},null,null,null,null,null,null,null,null,null,{"$f":"MTTF!CE4","v":""},{"$f":"MTTF!CF4","v":""},null,null,null,null,null,null,null,null,null,null,null,null,null,null,{"$f":"H34","v":""},{"$f":"AK34-(AK32*AJ37*BE32)","v":{"$error":"#VALUE!"}},null,null,null,null,null,null,null,null,null,null,null,null,null,null,null,null,null,null,{"$f":"VLOOKUP(G33,Base!C:I,4,FALSE)","v":{"$error":"#N/A"}},null,{"$f":"VLOOKUP(G33,Base!C:I,3,FALSE)","v":{"$error":"#N/A"}}]
[null,null,"CCT\n[K]","CRI\n[Ra]","Vf [V]",null,"Flux [lm]",null,null,"Price","# of LED",null,null,null,null,null,null,null,null,null,"Expected lifetime (hr)"]
[null,null,null,null,null,null,null,null,null,null,null,null,null,null,null,null,null,null,null,null,"L70\n(Ts > 25℃)","L80\n(Ts > 25℃)"]
[null,null,"Current\n[A]","Ts\n(℃)","TJ\n(℃)","VF /LED\n(V) ","∑Flux\n[㏐]","∑Power\n(W) ","Flux/Area\n[lm/LES]","Efficacy\n(Lm/W)",{"$f":"K11","v":"Lm/$"},null,null,null,null,null,null,null,null,null,null,null,null,null,null,null,null,null,null,null,null,null,null,null,null,{"$f":"AJ38","v":{"$error":"#N/A"}},{"$f":"AK38","v":{"$error":"#N/A"}},null,null,null,null,null,null,null,null,null,null,null,null,null,null,null,null,null,null,null,null,null,null,null,null,null,null,null,null,null,null,null,null,null,null,null,null,null,null,null,null,null,null,null,null,null,{"$f":"CE38","v":{"$error":"#N/A"}},{"$f":"CF38","v":{"$error":"#N/A"}},{"$error":"#N/A"},{"$error":"#N/A"},{"$error":"#N/A"},{"$error":"#N/A"},{"$error":"#N/A"},{"$error":"#N/A"},{"$error":"#N/A"},{"$error":"#N/A"},{"$error":"#N/A"},{"$error":"#N/A"},{"$error":"#N/A"},{"$error":"#N/A"}]
[null,null,{"$f":"IF(AND(G33>0,C36>0,D36>0),C39/2,\"\")","v":""},null,{"$f":"IF(AND($G$33>0,$C$36>0,$D$36>0,C38>0,$E$36>0),IF(D38>0,D38+F38*C38*$BE$32,$AK$34),\"\")","v":""},{"$f":"IF(AND($G$33>0,$C$36>0,$D$36>0,$E$36>0),(D38-$AL$34)*BD38+AJ38*BE38,\"\")","v":""},{"$f":"IF(AND($G$33>0,$C$36>0,$D$36>0,C38>0,$E$36>0,$G$36>0,$K$36>0),(((E38-$AK$34)*BF38+1)*AK38*BG38)*$K$36,\"\")","v":""},{"$f":"IF(AND($G$33>0,$C$36>0,$D$36>0,$E$36>0,$K$36>0),F38*C38*$K$36,\"\")","v":""},{"$f":"IF(AND($G$33>0,$C$36>0,$D$36>0,$E$36>0,$K$36>0,$G$36>0),G38/$K$32,\"\")","v":""},{"$f":"IF(AND($G$33>0,$C$36>0,$D$36>0,$E$36>0,$G$36>0,$K$36>0),G38/H38,\"\")","v":""},{"$f":"IF(AND($G$33>0,$C$36>0,$D$36>0,C38>0,$J$36>0,$E$36>0,$G$36>0,$K$36>0),IF($K$11=\"Lm/$\",G38/($J$36*$K$36),$J$36*$K$36/G38),\"\")","v":""},null,null,null,null,null,"X-asix",null,null,null,{"$f":"IF(OR($G$33=Base!$BT$21,$G$33=Base!$BT$32,$G$33=Base!$BT$40,$G$33=Base!$BT$51,$G$33=Base!$BT$58,$G$33=Base!$BT$69,$G$33=Base!$BT$83,$G$33=Base!$BT$144,$G$33=Base!$BT$210),IF(AND(C38>0,D38>0),MTTF!CK5,\"\"),\"\")","v":""},{"$f":"IF(OR($G$33=Base!$BT$21,$G$33=Base!$BT$32,$G$33=Base!$BT$40,$G$33=Base!$BT$51,$G$33=Base!$BT$58,$G$33=Base!$BT$69,$G$33=Base!$BT$83,$G$33=Base!$BT$144,$G$33=Base!$BT$210),IF(AND(C38>0,D38>0),MTTF!CL5,\"\"),\"\")","v":""},null,null,null,{"$f":"IF(AND($G$33>0,$C$36>0,$D$36>0,$E$36>0,$G$36>0),IF($M$13=$Y$8,C38,IF($M$13=$Y$9,D38,IF($M$13=$Y$11,F38,IF($M$13=$Y$12,G38,IF($M$13=$Y$10,E38,IF($M$13=$Y$13,H38,IF($M$13=$Y$15,J38,IF($M$13=$Y$16,K38,IF($M$13=$Y$14,I38,\"\"))))))))),0)","v":0},{"$f":"IF(AND($G$33>0,$C$36>0,$D$36>0,$E$36>0,$G$36>0),IF($R$22=$Y$8,C38,IF($R$22=$Y$9,D38,IF($R$22=$Y$11,F38,IF($R$22=$Y$12,G38,IF($R$22=$Y$10,E38,IF($R$22=$Y$13,H38,IF($R$22=$Y$15,J38,IF($R$22=$Y$16,K38,IF($R$22=$Y$14,I38,\"\"))))))))),0)","v":0},null,{"$f":"IF(AND($G$33>0,$C$36>0,$D$36>0,$E$36>0,$G$36>0),IF($M$30=$Y$8,C38,IF($M$30=$Y$9,D38,IF($M$30=$Y$11,F38,IF($M$30=$Y$12,G38,IF($M$30=$Y$10,E38,IF($M$30=$Y$13,H38,IF($M$30=$Y$15,J38,IF($M$30=$Y$16,K38,IF($M$30=$Y$14,I38,\"\"))))))))),0)","v":0},{"$f":"IF(AND($G$33>0,$C$36>0,$D$36>0,$E$36>0,$G$36>0),IF($R$38=$Y$8,C38,IF($R$38=$Y$9,D38,IF($R$38=$Y$11,F38,IF($R$38=$Y$12,G38,IF($R$38=$Y$10,E38,IF($R$38=$Y$13,H38,IF($R$38=$Y$15,J38,IF($R$38=$Y$16,K38,IF($R$38=$Y$14,I38,\"\"))))))))),0)","v":0},null,{"$f":"IF(AND($G$33>0,$C$36>0,$D$36>0,$E$36>0,$G$36>0),IF($M$49=$Y$8,C38,IF($M$49=$Y$9,D38,IF($M$49=$Y$11,F38,IF($M$49=$Y$12,G38,IF($M$49=$Y$10,E38,IF($M$49=$Y$13,H38,IF($M$49=$Y$15,J38,IF($M$49=$Y$16,K38,IF($M$49=$Y$14,I38,\"\"))))))))),0)","v":0},{"$f":"IF(AND($G$33>0,$C$36>0,$D$36>0,$E$36>0,$G$36>0),IF($R$55=$Y$8,C38,IF($R$55=$Y$9,D38,IF($R$55=$Y$11,F38,IF($R$55=$Y$12,G38,IF($R$55=$Y$10,E38,IF($R$55=$Y$13,H38,IF($R$55=$Y$15,J38,IF($R$55=$Y$16,K38,IF($R$55=$Y$14,I38,\"\"))))))))),0)","v":0},null,null,{"$f":"VLOOKUP(BN38,Base!$CL:$DJ,AL38,FALSE)","v":{"$error":"#N/A"}},{"$f":"VLOOKUP(BN38,Base!$CL:$CU,AT38,FALSE)","v":{"$error":"#N/A"}},{"$f":"MATCH($E$36,AM38:AS38,0)+18","v":{"$error":"#N/A"}},{"$f":"VLOOKUP(BN38,Base!$CL:$DQ,Base!$DK$3,FALSE)","v":{"$error":"#N/A"}},{"$f":"VLOOKUP(BN38,Base!$CL:$DQ,Base!$DL$3,FALSE)","v":{"$error":"#N/A"}},{"$f":"VLOOKUP(BN38,Base!$CL:$DQ,Base!$DM$3,FALSE)","v":{"$error":"#N/A"}},{"$f":"VLOOKUP(BN38,Base!$CL:$DQ,Base!$DN$3,FALSE)","v":{"$error":"#N/A"}},{"$f":"VLOOKUP(BN38,Base!$CL:$DQ,Base!$DO$3,FALSE)","v":{"$error":"#N/A"}},{"$f":"VLOOKUP(BN38,Base!$CL:$DQ,Base!$DP$3,FALSE)","v":{"$error":"#N/A"}},{"$f":"VLOOKUP(BN38,Base!$CL:$DQ,Base!$DQ$3,FALSE)","v":{"$error":"#N/A"}},{"$f":"MATCH($G$36,AU38:BB38,0)+2","v":{"$error":"#N/A"}},{"$f":"VLOOKUP($BN$38,Base!$CL:$DC,Base!CV$3,FALSE)","v":{"$error":"#N/A"}},{"$f":"VLOOKUP($BN$38,Base!$CL:$DC,Base!CW$3,FALSE)","v":{"$error":"#N/A"}},{"$f":"VLOOKUP($BN$38,Base!$CL:$DC,Base!CX$3,FALSE)","v":{"$error":"#N/A"}},{"$f":"VLOOKUP($BN$38,Base!$CL:$DC,Base!CY$3,FALSE)","v":{"$error":"#N/A"}},{"$f":"VLOOKUP($BN$38,Base!$CL:$DC,Base!CZ$3,FALSE)","v":{"$error":"#N/A"}},{"$f":"VLOOKUP($BN$38,Base!$CL:$DC,Base!DA$3,FALSE)","v":{"$error":"#N/A"}},{"$f":"VLOOKUP($BN$38,Base!$CL:$DC,Base!DB$3,FALSE)","v":{"$error":"#N/A"}},{"$f":"VLOOKUP($BN$38,Base!$CL:$DC,Base!DC$3,FALSE)","v":{"$error":"#N/A"}},null,{"$f":"IF(D38>0,CP38*C38^2+CQ38*C38+CR38,0)","v":0},{"$f":"IF(AND(C38<=$BG$34,C38>0),CL38*C38^3+CM38*C38^2+CN38*C38+CO38,\"-\")","v":{"$error":"#N/A"}},{"$f":"IF(D38>0,CI38*C38^2+CJ38*C38+CK38,0)","v":0},{"$f":"IF(AND(C38<=$BG$34,C38>0),CE38*C38^3+CF38*C38^2+CG38*C38+CH38,\"-\")","v":{"$error":"#N/A"}},{"$f":"IF(AND(G33>0,C36>0,D36>0),VLOOKUP(BN38,Base!CL:EF,Base!EF3,FALSE),\"\")","v":""},{"$f":"IF(AND(G33>0,C36>0,D36>0),VLOOKUP(BN38,Base!CL:CM,Base!CM3,FALSE),\"\")","v":""},null,{"$f":"IF($G$33>0,VLOOKUP($G$33,Base!$BT:$BU,Base!BU3,FALSE),0)","v":0},{"$f":"BK38*IF(OR(C36=\"Fashion\",C36=\"Meat\",C36=\"Vegetable\"),79,C36)","v":0},{"$f":"IF(D36=\"Fashion_White\",68,IF(D36=\"Fashion_Color\",69,D36))","v":0},{"$f":"IF(BM38=\"Special\",BK38*BM39*79+BM39+79,BK38*C36*BM38+C36+BM38)","v":0},null,{"$f":"VLOOKUP($G$33,Base!$BT:$CF,Base!BX$3,FALSE)","v":{"$error":"#N/A"}},{"$f":"VLOOKUP($G$33,Base!$BT:$CF,Base!BY$3,FALSE)","v":{"$error":"#N/A"}},{"$f":"VLOOKUP($G$33,Base!$BT:$CF,Base!BZ$3,FALSE)","v":{"$error":"#N/A"}},{"$f":"VLOOKUP($G$33,Base!$BT:$CF,Base!CA$3,FALSE)","v":{"$error":"#N/A"}},{"$f":"VLOOKUP($G$33,Base!$BT:$CF,Base!CB$3,FALSE)","v":{"$error":"#N/A"}},{"$f":"VLOOKUP($G$33,Base!$BT:$CF,Base!CC$3,FALSE)","v":{"$error":"#N/A"}},{"$f":"VLOOKUP($G$33,Base!$BT:$CF,Base!CD$3,FALSE)","v":{"$error":"#N/A"}},{"$f":"VLOOKUP($G$33,Base!$BT:$CF,Base!CE$3,FALSE)","v":{"$error":"#N/A"}},{"$f":"VLOOKUP($G$33,Base!$BT:$CF,Base!CF$3,FALSE)","v":{"$error":"#N/A"}},null,{"$f":"VLOOKUP($BL$38,Base!$CG:$CK,Base!CH3,FALSE)","v":{"$error":"#N/A"}},{"$f":"VLOOKUP($BL$38,Base!$CG:$CK,Base!CI3,FALSE)","v":{"$error":"#N/A"}},{"$f":"VLOOKUP($BL$38,Base!$CG:$CK,Base!CJ3,FALSE)","v":{"$error":"#N/A"}},{"$f":"VLOOKUP($BL$38,Base!$CG:$CK,Base!CK3,FALSE)","v":{"$error":"#N/A"}},null,{"$f":"VLOOKUP(BN38,Base!$CL:$EE,Base!$DR$3,FALSE)","v":{"$error":"#N/A"}},{"$f":"VLOOKUP(BN38,Base!$CL:$EE,Base!$DS$3,FALSE)","v":{"$error":"#N/A"}},{"$f":"VLOOKUP(BN38,Base!$CL:$EE,Base!$DT$3,FALSE)","v":{"$error":"#N/A"}},{"$f":"VLOOKUP(BN38,Base!$CL:$EE,Base!$DU$3,FALSE)","v":{"$error":"#N/A"}},{"$f":"VLOOKUP(BN38,Base!$CL:$EE,Base!$DV$3,FALSE)","v":{"$error":"#N/A"}},{"$f":"VLOOKUP(BN38,Base!$CL:$EE,Base!$DW$3,FALSE)","v":{"$error":"#N/A"}},{"$f":"VLOOKUP(BN38,Base!$CL:$EE,Base!$DX$3,FALSE)","v":{"$error":"#N/A"}},{"$f":"VLOOKUP(BN38,Base!$CL:$EE,Base!$DY$3,FALSE)","v":{"$error":"#N/A"}},{"$f":"VLOOKUP(BN38,Base!$CL:$EE,Base!$DZ$3,FALSE)","v":{"$error":"#N/A"}},{"$f":"VLOOKUP(BN38,Base!$CL:$EE,Base!$EA$3,FALSE)","v":{"$error":"#N/A"}},{"$f":"VLOOKUP(BN38,Base!$CL:$EE,Base!$EB$3,FALSE)","v":{"$error":"#N/A"}},{"$f":"VLOOKUP(BN38,Base!$CL:$EE,Base!$EC$3,FALSE)","v":{"$error":"#N/A"}},{"$f":"VLOOKUP(BN38,Base!$CL:$EE,Base!$ED$3,FALSE)","v":{"$error":"#N/A"}},{"$f":"VLOOKUP(BN38,Base!$CL:$EE,Base!$EE$3,FALSE)","v":{"$error":"#N/A"}}]
[null,null,{"$f":"IF(AND(G33>0,C36>0,D36>0),C40/2,\"\")","v":""},null,"","","","","","","",null,null,null,null,null,null,null,null,null,{"$f":"IF(OR($G$33=Base!$BT$21,$G$33=Base!$BT$32,$G$33=Base!$BT$40,$G$33=Base!$BT$51,$G$33=Base!$BT$58,$G$33=Base!$BT$69,$G$33=Base!$BT$83,$G$33=Base!$BT$144,$G$33=Base!$BT$210),IF(AND(C39>0,D39>0),MTTF!CK6,\"\"),\"\")","v":""},{"$f":"IF(OR($G$33=Base!$BT$21,$G$33=Base!$BT$32,$G$33=Base!$BT$40,$G$33=Base!$BT$51,$G$33=Base!$BT$58,$G$33=Base!$BT$69,$G$33=Base!$BT$83,$G$33=Base!$BT$144,$G$33=Base!$BT$210),IF(AND(C39>0,D39>0),MTTF!CL6,\"\"),\"\")","v":""},null,null,null,0,0,null,0,0,null,0,0,null,null,{"$f":"AJ38","v":{"$error":"#N/A"}},{"$error":"#N/A"},null,null,null,null,null,null,null,null,null,null,null,null,null,null,null,null,null,null,0,{"$error":"#N/A"},0,{"$error":"#N/A"},null,null,null,null,null,{"$f":"IF(C36=\"Fashion\",51,IF(C36=\"Meat\",52,IF(C36=\"Vegetable\",53,\"-\")))","v":"-"},null,null,null,null,null,null,null,null,null,null,null,null,null,null,null,null,null,{"$f":"CE38","v":{"$error":"#N/A"}},{"$error":"#N/A"},{"$error":"#N/A"},{"$error":"#N/A"},{"$error":"#N/A"},{"$error":"#N/A"},{"$error":"#N/A"},{"$error":"#N/A"},{"$error":"#N/A"},{"$error":"#N/A"},{"$error":"#N/A"},{"$error":"#N/A"},{"$error":"#N/A"},{"$f":"CR38","v":{"$error":"#N/A"}}]
[null,null,{"$f":"IF(AND(G33>0,C36>0,D36>0),D34,\"\")","v":""},null,"","","","","",{"$f":"IF(AND($G$33>0,$C$36>0,$D$36>0,$E$36>0,$G$36>0,$K$36>0),G40/H40,\"\")","v":""},"",null,null,null,null,null,null,null,null,null,{"$f":"IF(OR($G$33=Base!$BT$21,$G$33=Base!$BT$32,$G$33=Base!$BT$40,$G$33=Base!$BT$51,$G$33=Base!$BT$58,$G$33=Base!$BT$69,$G$33=Base!$BT$83,$G$33=Base!$BT$144,$G$33=Base!$BT$210),IF(AND(C40>0,D40>0),MTTF!CK7,\"\"),\"\")","v":""},{"$f":"IF(OR($G$33=Base!$BT$21,$G$33=Base!$BT$32,$G$33=Base!$BT$40,$G$33=Base!$BT$51,$G$33=Base!$BT$58,$G$33=Base!$BT$69,$G$33=Base!$BT$83,$G$33=Base!$BT$144,$G$33=Base!$BT$210),IF(AND(C40>0,D40>0),MTTF!CL7,\"\"),\"\")","v":""},null,null,null,0,0,null,0,0,null,0,0,null,null,{"$error":"#N/A"},{"$error":"#N/A"},null,null,null,null,null,null,null,null,null,null,null,null,null,null,null,null,null,null,0,{"$error":"#N/A"},0,{"$error":"#N/A"},null,null,null,null,null,null,null,null,null,null,null,null,null,null,null,null,null,null,null,null,null,null,null,{"$error":"#N/A"},{"$error":"#N/A"},{"$error":"#N/A"},{"$error":"#N/A"},{"$error":"#N/A"},{"$error":"#N/A"},{"$error":"#N/A"},{"$error":"#N/A"},{"$error":"#N/A"},{"$error":"#N/A"},{"$error":"#N/A"},{"$error":"#N/A"},{"$error":"#N/A"},{"$f":"CR39","v":{"$error":"#N/A"}}]
[null,null,{"$f":"IF(AND(G33>0,C36>0,D36>0),(2*C40+C43)/3,\"\")","v":""},null,"","","","","","","",null,null,null,null,null,null,null,null,null,{"$f":"IF(OR($G$33=Base!$BT$21,$G$33=Base!$BT$32,$G$33=Base!$BT$40,$G$33=Base!$BT$51,$G$33=Base!$BT$58,$G$33=Base!$BT$69,$G$33=Base!$BT$83,$G$33=Base!$BT$144,$G$33=Base!$BT$210),IF(AND(C41>0,D41>0),MTTF!CK8,\"\"),\"\")","v":""},{"$f":"IF(OR($G$33=Base!$BT$21,$G$33=Base!$BT$32,$G$33=Base!$BT$40,$G$33=Base!$BT$51,$G$33=Base!$BT$58,$G$33=Base!$BT$69,$G$33=Base!$BT$83,$G$33=Base!$BT$144,$G$33=Base!$BT$210),IF(AND(C41>0,D41>0),MTTF!CL8,\"\"),\"\")","v":""},null,null,null,0,0,null,0,0,null,0,0,null,null,{"$error":"#N/A"},{"$error":"#N/A"},null,null,null,null,null,null,null,null,null,null,null,null,null,null,null,null,null,null,0,{"$error":"#N/A"},0,{"$error":"#N/A"},null,null,null,null,null,null,null,null,null,null,null,null,null,null,null,null,null,null,null,null,null,null,null,{"$error":"#N/A"},{"$error":"#N/A"},{"$error":"#N/A"},{"$error":"#N/A"},{"$error":"#N/A"},{"$error":"#N/A"},{"$error":"#N/A"},{"$error":"#N/A"},{"$error":"#N/A"},{"$error":"#N/A"},{"$error":"#N/A"},{"$error":"#N/A"},{"$error":"#N/A"},{"$f":"CR40","v":{"$error":"#N/A"}}]
[null,null,{"$f":"IF(AND(G33>0,C36>0,D36>0),(C40+2*C43)/3,\"\")","v":""},null,"","","","","","","",null,null,null,null,null,null,null,null,null,{"$f":"IF(OR($G$33=Base!$BT$21,$G$33=Base!$BT$32,$G$33=Base!$BT$40,$G$33=Base!$BT$51,$G$33=Base!$BT$58,$G$33=Base!$BT$69,$G$33=Base!$BT$83,$G$33=Base!$BT$144,$G$33=Base!$BT$210),IF(AND(C42>0,D42>0),MTTF!CK9,\"\"),\"\")","v":""},{"$f":"IF(OR($G$33=Base!$BT$21,$G$33=Base!$BT$32,$G$33=Base!$BT$40,$G$33=Base!$BT$51,$G$33=Base!$BT$58,$G$33=Base!$BT$69,$G$33=Base!$BT$83,$G$33=Base!$BT$144,$G$33=Base!$BT$210),IF(AND(C42>0,D42>0),MTTF!CL9,\"\"),\"\")","v":""},null,null,null,0,0,null,0,0,null,0,0,null,null,{"$error":"#N/A"},{"$error":"#N/A"},null,null,null,null,null,null,null,null,null,null,null,null,null,null,null,null,null,null,0,{"$error":"#N/A"},0,{"$error":"#N/A"},null,null,null,null,null,null,null,null,null,null,null,null,null,null,null,null,null,null,null,null,null,null,null,{"$error":"#N/A"},{"$error":"#N/A"},{"$error":"#N/A"},{"$error":"#N/A"},{"$error":"#N/A"},{"$error":"#N/A"},{"$error":"#N/A"},{"$error":"#N/A"},{"$error":"#N/A"},{"$error":"#N/A"},{"$error":"#N/A"},{"$error":"#N/A"},{"$error":"#N/A"},{"$f":"CR41","v":{"$error":"#N/A"}}]
[null,null,{"$f":"IF(AND(G33>0,C36>0,D36>0),F34,\"\")","v":""},null,"","","","","","","",null,null,null,null,null,null,null,null,null,{"$f":"IF(OR($G$33=Base!$BT$21,$G$33=Base!$BT$32,$G$33=Base!$BT$40,$G$33=Base!$BT$51,$G$33=Base!$BT$58,$G$33=Base!$BT$69,$G$33=Base!$BT$83,$G$33=Base!$BT$144,$G$33=Base!$BT$210),IF(AND(C43>0,D43>0),MTTF!CK10,\"\"),\"\")","v":""},{"$f":"IF(OR($G$33=Base!$BT$21,$G$33=Base!$BT$32,$G$33=Base!$BT$40,$G$33=Base!$BT$51,$G$33=Base!$BT$58,$G$33=Base!$BT$69,$G$33=Base!$BT$83,$G$33=Base!$BT$144,$G$33=Base!$BT$210),IF(AND(C43>0,D43>0),MTTF!CL10,\"\"),\"\")","v":""},null,null,null,0,0,null,0,0,null,0,0,null,null,{"$f":"AJ39","v":{"$error":"#N/A"}},{"$f":"AK39","v":{"$error":"#N/A"}},null,null,null,null,null,null,null,null,null,null,null,null,null,null,null,null,null,null,0,{"$error":"#N/A"},0,{"$error":"#N/A"},null,null,null,null,null,null,null,null,null,null,null,null,null,null,null,null,null,null,null,null,null,null,null,{"$f":"CE39","v":{"$error":"#N/A"}},{"$error":"#N/A"},{"$error":"#N/A"},{"$error":"#N/A"},{"$error":"#N/A"},{"$f":"CJ42","v":{"$error":"#N/A"}},{"$error":"#N/A"},{"$error":"#N/A"},{"$error":"#N/A"},{"$error":"#N/A"},{"$error":"#N/A"},{"$error":"#N/A"},{"$f":"CQ42","v":{"$error":"#N/A"}},{"$error":"#N/A"}]
[]
[null,"Manual Input","Maker",null,"Type",null,"LED",null,null,{"$f":"IF(AND(G46>0,K49>0),\"∑LES =\",\"\")","v":""},{"$f":"IF(AND(G46>0,K49>0),BG45*K49,\"\")","v":""},null,null,null,null,null,null,null,null,null,null,null,null,null,null,null,null,null,null,null,null,null,null,null,null,null,{"$f":"VLOOKUP(G46,Base!C:I,2,FALSE)","v":{"$error":"#N/A"}},null,null,null,null,null,null,null,null,null,null,null,null,null,null,null,null,null,null,null,{"$f":"VLOOKUP(G46,Base!C:I,5,FALSE)","v":{"$error":"#N/A"}},null,{"$f":"VLOOKUP(G46,Base!C:I,Base!H3,FALSE)","v":{"$error":"#N/A"}}]
[null,null,null,null,null,null,null,null,null,{"$f":"IF(AND(G46>0,K49>0),BG46,\"\")","v":""},null,null,null,null,null,null,null,null,null,null,null,null,null,null,null,null,null,null,null,null,null,null,null,null,null,null,null,null,null,null,null,null,null,null,null,null,null,null,null,null,null,null,null,null,null,null,null,null,{"$f":"VLOOKUP(G46,Base!C:Q,Base!Q3,FALSE)","v":{"$error":"#N/A"}}]
[null,null,"IF_sort. =",{"$f":"IF(G46>0,AK45,\"\")","v":""},"IF_max. =",{"$f":"IF(G46>0,BG47,\"\")","v":""},"Tj_sort.",{"$f":"IF(AND(G46=Base!C58,D49=90),85,IF(G46>0,VLOOKUP(G46,Base!C:I,7,FALSE),\"\"))","v":""},null,"Tj_max. =",{"$f":"IF(G46>0,BE47,\"\")","v":""},null,null,null,null,null,null,null,null,null,null,null,null,null,null,null,null,null,null,null,null,null,null,null,null,null,{"$f":"H47","v":""},{"$f":"AK47-(AK45*AJ50*BE45)","v":{"$error":"#VALUE!"}},null,null,null,null,null,null,null,null,null,null,null,null,null,null,null,null,null,null,{"$f":"VLOOKUP(G46,Base!C:I,4,FALSE)","v":{"$error":"#N/A"}},null,{"$f":"VLOOKUP(G46,Base!C:I,3,FALSE)","v":{"$error":"#N/A"}}]
[null,null,"CCT","CRI","Vf [V] - Manual",null,"Flux [lm] - Manual",null,null,"Price","# of LED",null,"Y-asix"]
[]
[null,null,"Current\n[A]","Ts\n(℃)","TJ\n(℃)","VF /LED\n(V) ","∑Flux\n[㏐]","∑Power\n(W) ","Flux/Area\n[lm/LES]","Efficacy\n(Lm/W)",{"$f":"K11","v":"Lm/$"},null,null,null,null,null,null,null,null,null,null,null,null,null,null,null,null,null,null,null,null,null,null,null,null,{"$f":"AJ51","v":0},{"$f":"AK51","v":0},null,null,null,null,null,null,null,null,null,null,null,null,null,null,null,null,null,null,null,null,null,null,null,null,null,null,null,null,null,null,null,null,null,null,null,null,null,null,null,null,null,null,null,null,null,{"$f":"CE51","v":{"$error":"#N/A"}},{"$f":"CF51","v":{"$error":"#N/A"}},{"$error":"#N/A"},{"$error":"#N/A"},{"$error":"#N/A"},{"$error":"#N/A"},{"$error":"#N/A"},{"$error":"#N/A"},{"$error":"#N/A"},{"$error":"#N/A"},{"$error":"#N/A"},{"$error":"#N/A"},{"$error":"#N/A"},{"$error":"#N/A"}]
[null,null,{"$f":"IF(AND(G46>0,C49>0,D49>0),C52/2,\"\")","v":""},null,{"$f":"IF(AND($G$46>0,$C$49>0,$D$49>0,C51>0,$E$49>0),IF(D51>0,D51+F51*C51*$BE$45,$AK$47),\"\")","v":""},{"$f":"IF(AND($G$46>0,$C$49>0,$D$49>0,$E$49>0),(D51-$AL$47)*BD51+AJ51*BE51,\"\")","v":""},{"$f":"IF(AND($G$46>0,$C$49>0,$D$49>0,C51>0,$E$49>0,$G$49>0,$K$49>0),(((E51-$AK$47)*BF51+1)*AK51*BG51)*$K$49,\"\")","v":""},{"$f":"IF(AND($G$46>0,$C$49>0,$D$49>0,$E$49>0,$K$49>0),F51*C51*$K$49,\"\")","v":""},{"$f":"IF(AND($G$46>0,$C$49>0,$D$49>0,$E$49>0,$K$49>0,$G$49>0),G51/$K$45,\"\")","v":""},{"$f":"IF(AND($G$46>0,$C$49>0,$D$49>0,$E$49>0,$G$49>0,$K$49>0),G51/H51,\"\")","v":""},{"$f":"IF(AND($G$46>0,$C$49>0,$D$49>0,C51>0,$J$49>0,$E$49>0,$G$49>0,$K$49>0),IF($K$11=\"Lm/$\",G51/($J$49*$K$49),$J$49*$K$49/G51),\"\")","v":""},null,null,null,null,null,null,null,null,null,null,null,null,null,null,{"$f":"IF(AND($G$46>0,$C$49>0,$D$49>0,$E$49>0,$G$49>0),IF($M$13=$Y$8,C51,IF($M$13=$Y$9,D51,IF($M$13=$Y$11,F51,IF($M$13=$Y$12,G51,IF($M$13=$Y$10,E51,IF($M$13=$Y$13,H51,IF($M$13=$Y$15,J51,IF($M$13=$Y$16,K51,IF($M$13=$Y$14,I51,\"\"))))))))),0)","v":0},{"$f":"IF(AND($G$46>0,$C$49>0,$D$49>0,$E$49>0,$G$49>0),IF($R$22=$Y$8,C51,IF($R$22=$Y$9,D51,IF($R$22=$Y$11,F51,IF($R$22=$Y$12,G51,IF($R$22=$Y$10,E51,IF($R$22=$Y$13,H51,IF($R$22=$Y$15,J51,IF($R$22=$Y$16,K51,IF($R$22=$Y$14,I51,\"\"))))))))),0)","v":0},null,{"$f":"IF(AND($G$46>0,$C$49>0,$D$49>0,$E$49>0,$G$49>0),IF($M$30=$Y$8,C51,IF($M$30=$Y$9,D51,IF($M$30=$Y$11,F51,IF($M$30=$Y$12,G51,IF($M$30=$Y$10,E51,IF($M$30=$Y$13,H51,IF($M$30=$Y$15,J51,IF($M$30=$Y$16,K51,IF($M$30=$Y$14,I51,\"\"))))))))),0)","v":0},{"$f":"IF(AND($G$46>0,$C$49>0,$D$49>0,$E$49>0,$G$49>0),IF($R$38=$Y$8,C51,IF($R$38=$Y$9,D51,IF($R$38=$Y$11,F51,IF($R$38=$Y$12,G51,IF($R$38=$Y$10,E51,IF($R$38=$Y$13,H51,IF($R$38=$Y$15,J51,IF($R$38=$Y$16,K51,IF($R$38=$Y$14,I51,\"\"))))))))),0)","v":0},null,{"$f":"IF(AND($G$46>0,$C$49>0,$D$49>0,$E$49>0,$G$49>0),IF($M$49=$Y$8,C51,IF($M$49=$Y$9,D51,IF($M$49=$Y$11,F51,IF($M$49=$Y$12,G51,IF($M$49=$Y$10,E51,IF($M$49=$Y$13,H51,IF($M$49=$Y$15,J51,IF($M$49=$Y$16,K51,IF($M$49=$Y$14,I51,\"\"))))))))),0)","v":0},{"$f":"IF(AND($G$46>0,$C$49>0,$D$49>0,$E$49>0,$G$49>0),IF($R$55=$Y$8,C51,IF($R$55=$Y$9,D51,IF($R$55=$Y$11,F51,IF($R$55=$Y$12,G51,IF($R$55=$Y$10,E51,IF($R$55=$Y$13,H51,IF($R$55=$Y$15,J51,IF($R$55=$Y$16,K51,IF($R$55=$Y$14,I51,\"\"))))))))),0)","v":0},null,null,{"$f":"E49","v":0},{"$f":"G49","v":0},null,{"$f":"VLOOKUP(BN51,Base!$CL:$DQ,Base!$DK$3,FALSE)","v":{"$error":"#N/A"}},{"$f":"VLOOKUP(BN51,Base!$CL:$DQ,Base!$DL$3,FALSE)","v":{"$error":"#N/A"}},{"$f":"VLOOKUP(BN51,Base!$CL:$DQ,Base!$DM$3,FALSE)","v":{"$error":"#N/A"}},{"$f":"VLOOKUP(BN51,Base!$CL:$DQ,Base!$DN$3,FALSE)","v":{"$error":"#N/A"}},{"$f":"VLOOKUP(BN51,Base!$CL:$DQ,Base!$DO$3,FALSE)","v":{"$error":"#N/A"}},{"$f":"VLOOKUP(BN51,Base!$CL:$DQ,Base!$DP$3,FALSE)","v":{"$error":"#N/A"}},{"$f":"VLOOKUP(BN51,Base!$CL:$DQ,Base!$DQ$3,FALSE)","v":{"$error":"#N/A"}},null,{"$f":"VLOOKUP($BN$51,Base!$CL:$DC,Base!CV$3,FALSE)","v":{"$error":"#N/A"}},{"$f":"VLOOKUP($BN$51,Base!$CL:$DC,Base!CW$3,FALSE)","v":{"$error":"#N/A"}},{"$f":"VLOOKUP($BN$51,Base!$CL:$DC,Base!CX$3,FALSE)","v":{"$error":"#N/A"}},{"$f":"VLOOKUP($BN$51,Base!$CL:$DC,Base!CY$3,FALSE)","v":{"$error":"#N/A"}},{"$f":"VLOOKUP($BN$51,Base!$CL:$DC,Base!CZ$3,FALSE)","v":{"$error":"#N/A"}},{"$f":"VLOOKUP($BN$51,Base!$CL:$DC,Base!DA$3,FALSE)","v":{"$error":"#N/A"}},{"$f":"VLOOKUP($BN$51,Base!$CL:$DC,Base!DB$3,FALSE)","v":{"$error":"#N/A"}},{"$f":"VLOOKUP($BN$51,Base!$CL:$DC,Base!DC$3,FALSE)","v":{"$error":"#N/A"}},null,{"$f":"IF(D51>0,CP51*C51^2+CQ51*C51+CR51,0)","v":0},{"$f":"IF(AND(C51<=$BG$47,C51>0),CL51*C51^3+CM51*C51^2+CN51*C51+CO51,\"-\")","v":{"$error":"#N/A"}},{"$f":"IF(D51>0,CI51*C51^2+CJ51*C51+CK51,0)","v":0},{"$f":"IF(AND(C51<=$BG$47,C51>0),CE51*C51^3+CF51*C51^2+CG51*C51+CH51,\"-\")","v":{"$error":"#N/A"}},null,null,null,{"$f":"IF($G$46>0,VLOOKUP($G$46,Base!$BT:$BU,Base!BU3,FALSE),0)","v":0},{"$f":"BK51*IF(OR(C49=\"Fashion\",C49=\"Meat\",C49=\"Vegetable\"),79,C49)","v":0},{"$f":"IF(D49=\"Fashion_White\",68,IF(D49=\"Fashion_Color\",69,D49))","v":0},{"$f":"IF(BM51=\"Special\",BK51*BM52*79+BM52+79,BK51*C49*BM51+C49+BM51)","v":0},null,{"$f":"VLOOKUP($G$46,Base!$BT:$CF,Base!BX$3,FALSE)","v":{"$error":"#N/A"}},{"$f":"VLOOKUP($G$46,Base!$BT:$CF,Base!BY$3,FALSE)","v":{"$error":"#N/A"}},{"$f":"VLOOKUP($G$46,Base!$BT:$CF,Base!BZ$3,FALSE)","v":{"$error":"#N/A"}},{"$f":"VLOOKUP($G$46,Base!$BT:$CF,Base!CA$3,FALSE)","v":{"$error":"#N/A"}},{"$f":"VLOOKUP($G$46,Base!$BT:$CF,Base!CB$3,FALSE)","v":{"$error":"#N/A"}},{"$f":"VLOOKUP($G$46,Base!$BT:$CF,Base!CC$3,FALSE)","v":{"$error":"#N/A"}},{"$f":"VLOOKUP($G$46,Base!$BT:$CF,Base!CD$3,FALSE)","v":{"$error":"#N/A"}},{"$f":"VLOOKUP($G$46,Base!$BT:$CF,Base!CE$3,FALSE)","v":{"$error":"#N/A"}},{"$f":"VLOOKUP($G$46,Base!$BT:$CF,Base!CF$3,FALSE)","v":{"$error":"#N/A"}},null,{"$f":"VLOOKUP($BL$51,Base!$CG:$CK,Base!CH3,FALSE)","v":{"$error":"#N/A"}},{"$f":"VLOOKUP($BL$51,Base!$CG:$CK,Base!CI3,FALSE)","v":{"$error":"#N/A"}},{"$f":"VLOOKUP($BL$51,Base!$CG:$CK,Base!CJ3,FALSE)","v":{"$error":"#N/A"}},{"$f":"VLOOKUP($BL$51,Base!$CG:$CK,Base!CK3,FALSE)","v":{"$error":"#N/A"}},null,{"$f":"VLOOKUP(BN51,Base!$CL:$EE,Base!$DR$3,FALSE)","v":{"$error":"#N/A"}},{"$f":"VLOOKUP(BN51,Base!$CL:$EE,Base!$DS$3,FALSE)","v":{"$error":"#N/A"}},{"$f":"VLOOKUP(BN51,Base!$CL:$EE,Base!$DT$3,FALSE)","v":{"$error":"#N/A"}},{"$f":"VLOOKUP(BN51,Base!$CL:$EE,Base!$DU$3,FALSE)","v":{"$error":"#N/A"}},{"$f":"VLOOKUP(BN51,Base!$CL:$EE,Base!$DV$3,FALSE)","v":{"$error":"#N/A"}},{"$f":"VLOOKUP(BN51,Base!$CL:$EE,Base!$DW$3,FALSE)","v":{"$error":"#N/A"}},{"$f":"VLOOKUP(BN51,Base!$CL:$EE,Base!$DX$3,FALSE)","v":{"$error":"#N/A"}},{"$f":"VLOOKUP(BN51,Base!$CL:$EE,Base!$DY$3,FALSE)","v":{"$error":"#N/A"}},{"$f":"VLOOKUP(BN51,Base!$CL:$EE,Base!$DZ$3,FALSE)","v":{"$error":"#N/A"}},{"$f":"VLOOKUP(BN51,Base!$CL:$EE,Base!$EA$3,FALSE)","v":{"$error":"#N/A"}},{"$f":"VLOOKUP(BN51,Base!$CL:$EE,Base!$EB$3,FALSE)","v":{"$error":"#N/A"}},{"$f":"VLOOKUP(BN51,Base!$CL:$EE,Base!$EC$3,FALSE)","v":{"$error":"#N/A"}},{"$f":"VLOOKUP(BN51,Base!$CL:$EE,Base!$ED$3,FALSE)","v":{"$error":"#N/A"}},{"$f":"VLOOKUP(BN51,Base!$CL:$EE,Base!$EE$3,FALSE)","v":{"$error":"#N/A"}}]
[null,null,{"$f":"IF(AND(G46>0,C49>0,D49>0),C53/2,\"\")","v":""},null,"","","","","","","",null,null,null,null,null,null,null,null,null,null,null,null,null,null,0,0,null,0,0,null,0,0,null,null,{"$f":"AJ51","v":0},0,null,null,null,null,null,null,null,null,null,null,null,null,null,null,null,null,null,null,0,{"$error":"#N/A"},0,{"$error":"#N/A"},null,null,null,null,null,{"$f":"IF(C49=\"Fashion\",51,IF(C49=\"Meat\",52,IF(C49=\"Vegetable\",53,\"-\")))","v":"-"},null,null,null,null,null,null,null,null,null,null,null,null,null,null,null,null,null,{"$f":"CE51","v":{"$error":"#N/A"}},{"$error":"#N/A"},{"$error":"#N/A"},{"$error":"#N/A"},{"$error":"#N/A"},{"$error":"#N/A"},{"$error":"#N/A"},{"$error":"#N/A"},{"$error":"#N/A"},{"$error":"#N/A"},{"$error":"#N/A"},{"$error":"#N/A"},{"$error":"#N/A"},{"$f":"CR51","v":{"$error":"#N/A"}}]
[null,null,{"$f":"IF(AND(G46>0,C49>0,D49>0),D47,\"\")","v":""},null,"","","","","",{"$f":"IF(AND($G$46>0,$C$49>0,$D$49>0,$E$49>0,$G$49>0,$K$49>0),G53/H53,\"\")","v":""},"",null,null,null,null,null,null,null,null,null,null,null,null,null,null,0,0,null,0,0,null,0,0,null,null,0,0,null,null,null,null,null,null,null,null,null,null,null,null,null,null,null,null,null,null,0,{"$error":"#N/A"},0,{"$error":"#N/A"},null,null,null,null,null,null,null,null,null,null,null,null,null,null,null,null,null,null,null,null,null,null,null,{"$error":"#N/A"},{"$error":"#N/A"},{"$error":"#N/A"},{"$error":"#N/A"},{"$error":"#N/A"},{"$error":"#N/A"},{"$error":"#N/A"},{"$error":"#N/A"},{"$error":"#N/A"},{"$error":"#N/A"},{"$error":"#N/A"},{"$error":"#N/A"},{"$error":"#N/A"},{"$f":"CR52","v":{"$error":"#N/A"}}]
[null,null,{"$f":"IF(AND(G46>0,C49>0,D49>0),(2*C53+C56)/3,\"\")","v":""},null,"","","","","","","",null,null,null,null,null,null,null,null,null,null,null,null,null,null,0,0,null,0,0,null,0,0,null,null,0,0,null,null,null,null,null,null,null,null,null,null,null,null,null,null,null,null,null,null,0,{"$error":"#N/A"},0,{"$error":"#N/A"},null,null,null,null,null,null,null,null,null,null,null,null,null,null,null,null,null,null,null,null,null,null,null,{"$error":"#N/A"},{"$error":"#N/A"},{"$error":"#N/A"},{"$error":"#N/A"},{"$error":"#N/A"},{"$error":"#N/A"},{"$error":"#N/A"},{"$error":"#N/A"},{"$error":"#N/A"},{"$error":"#N/A"},{"$error":"#N/A"},{"$error":"#N/A"},{"$error":"#N/A"},{"$f":"CR53","v":{"$error":"#N/A"}}]
[null,null,{"$f":"IF(AND(G46>0,C49>0,D49>0),(C53+2*C56)/3,\"\")","v":""},null,"","","","","","","",null,null,null,null,null,"X-asix",null,null,null,null,null,null,null,null,0,0,null,0,0,null,0,0,null,null,0,0,null,null,null,null,null,null,null,null,null,null,null,null,null,null,null,null,null,null,0,{"$error":"#N/A"},0,{"$error":"#N/A"},null,null,null,null,null,null,null,null,null,null,null,null,null,null,null,null,null,null,null,null,null,null,null,{"$error":"#N/A"},{"$error":"#N/A"},{"$error":"#N/A"},{"$error":"#N/A"},{"$error":"#N/A"},{"$error":"#N/A"},{"$error":"#N/A"},{"$error":"#N/A"},{"$error":"#N/A"},{"$error":"#N/A"},{"$error":"#N/A"},{"$error":"#N/A"},{"$error":"#N/A"},{"$f":"CR54","v":{"$error":"#N/A"}}]
[null,null,{"$f":"IF(AND(G46>0,C49>0,D49>0),F47,\"\")","v":""},null,"","","","","","","",null,null,null,null,null,null,null,null,null,null,null,null,null,null,0,0,null,0,0,null,0,0,null,null,{"$f":"AJ52","v":0},{"$f":"AK52","v":0},null,null,null,null,null,null,null,null,null,null,null,null,null,null,null,null,null,null,0,{"$error":"#N/A"},0,{"$error":"#N/A"},null,null,null,null,null,null,null,null,null,null,null,null,null,null,null,null,null,null,null,null,null,null,null,{"$f":"CE52","v":{"$error":"#N/A"}},{"$f":"CF52","v":{"$error":"#N/A"}},{"$f":"CG52","v":{"$error":"#N/A"}},{"$f":"CH52","v":{"$error":"#N/A"}},{"$f":"CI52","v":{"$error":"#N/A"}},{"$f":"CJ55","v":{"$error":"#N/A"}},{"$f":"CK52","v":{"$error":"#N/A"}},{"$error":"#N/A"},{"$error":"#N/A"},{"$error":"#N/A"},{"$error":"#N/A"},{"$error":"#N/A"},{"$f":"CQ55","v":{"$error":"#N/A"}},{"$f":"CR52","v":{"$error":"#N/A"}}]
[]
[]
[]
[null,null,null,null,null,null,null,null,null,null,null,null,null,null,null,null,null,null,null,null,null,null,null,null,null,null,null,null,null,null,null,null,null,null,null,"Maker"]
[null,null,null,null,null,null,null,null,null,null,null,null,null,null,null,null,null,null,null,null,null,null,null,null,null,null,null,null,null,null,null,null,null,null,null,null,null,null,"Maker",null,null,null,null,null,null,null,null,"Type","LED Code"]
[null,null,null,null,null,null,null,null,null,null,null,null,null,null,null,null,null,null,null,null,null,null,null,null,null,null,null,null,null,null,null,null,null,null,null,{"$f":"[1]Base!C19","v":"Samsung LED"},null,{"$f":"B6","v":"LED - A"},{"$f":"VLOOKUP($C$7,Base!$C:$D,2,FALSE)","v":{"$error":"#N/A"}},{"$f":"VLOOKUP($C$7,Base!$C:$P,Base!E$2,FALSE)","v":{"$error":"#N/A"}},{"$f":"VLOOKUP($C$7,Base!$C:$P,Base!F$2,FALSE)","v":{"$error":"#N/A"}},{"$f":"VLOOKUP($C$7,Base!$C:$P,Base!G$2,FALSE)","v":{"$error":"#N/A"}},{"$f":"VLOOKUP($C$7,Base!$C:$P,Base!H$2,FALSE)","v":{"$error":"#N/A"}},{"$f":"VLOOKUP($C$7,Base!$C:$P,Base!I$2,FALSE)","v":{"$error":"#N/A"}},{"$f":"VLOOKUP($C$7,Base!$C:$P,Base!J$2,FALSE)","v":{"$error":"#N/A"}},{"$f":"VLOOKUP($C$7,Base!$C:$P,Base!K$2,FALSE)","v":{"$error":"#N/A"}},{"$f":"VLOOKUP($C$7,Base!$C:$P,Base!L$2,FALSE)","v":{"$error":"#N/A"}},{"$f":"VLOOKUP(E7,Base!$G$5:$H$17,2,FALSE)","v":{"$error":"#N/A"}},{"$f":"AM62*AV62+AV62","v":{"$error":"#N/A"}},null,{"$f":"HLOOKUP($AW$62,Base!$AA:$AF,Base!E$2,FALSE)","v":{"$error":"#N/A"}},{"$f":"HLOOKUP($AW$62,Base!$AA:$AF,Base!F$2,FALSE)","v":{"$error":"#N/A"}},{"$f":"HLOOKUP($AW$62,Base!$AA:$AF,Base!G$2,FALSE)","v":{"$error":"#N/A"}},{"$f":"HLOOKUP($AW$62,Base!$AA:$AF,Base!H$2,FALSE)","v":{"$error":"#N/A"}},{"$f":"HLOOKUP($AW$62,Base!$AA:$AF,Base!I$2,FALSE)","v":{"$error":"#N/A"}},{"$f":"HLOOKUP($AW$62,Base!$AA:$AF,Base!J$2,FALSE)","v":{"$error":"#N/A"}},{"$f":"HLOOKUP($AW$62,Base!$AA:$AF,Base!K$2,FALSE)","v":{"$error":"#N/A"}},{"$f":"HLOOKUP($AW$62,Base!$AA:$AF,Base!L$2,FALSE)","v":{"$error":"#N/A"}},{"$f":"HLOOKUP($AW$62,Base!$AA:$AF,Base!M$2,FALSE)","v":{"$error":"#N/A"}},{"$f":"HLOOKUP($AW$62,Base!$AA:$AF,Base!N$2,FALSE)","v":{"$error":"#N/A"}},{"$f":"HLOOKUP($AW$62,Base!$AA:$AF,Base!O$2,FALSE)","v":{"$error":"#N/A"}},{"$f":"HLOOKUP($AW$62,Base!$AA:$AF,Base!P$2,FALSE)","v":{"$error":"#N/A"}},{"$f":"HLOOKUP($AW$62,Base!$AA:$AF,Base!Q$2,FALSE)","v":{"$error":"#N/A"}},{"$f":"HLOOKUP($AW$62,Base!$AA:$AF,Base!R$2,FALSE)","v":{"$error":"#N/A"}},{"$f":"HLOOKUP($AW$62,Base!$AA:$AF,Base!S$2,FALSE)","v":{"$error":"#N/A"}},{"$f":"HLOOKUP($AW$62,Base!$AA:$AF,Base!T$2,FALSE)","v":{"$error":"#N/A"}},{"$f":"HLOOKUP($AW$62,Base!$AA:$AF,Base!U$2,FALSE)","v":{"$error":"#N/A"}},{"$f":"HLOOKUP($AW$62,Base!$AA:$AF,Base!V$2,FALSE)","v":{"$error":"#N/A"}},{"$f":"HLOOKUP($AW$62,Base!$AA:$AF,Base!W$2,FALSE)","v":{"$error":"#N/A"}},{"$f":"HLOOKUP($AW$62,Base!$AA:$AF,Base!X$2,FALSE)","v":{"$error":"#N/A"}},{"$f":"HLOOKUP($AW$62,Base!$AA:$AF,Base!Y$2,FALSE)","v":{"$error":"#N/A"}},{"$f":"HLOOKUP($AW$62,Base!$AA:$AF,Base!Z$2,FALSE)","v":{"$error":"#N/A"}},{"$f":"HLOOKUP($AW$62,Base!$AA:$AF,Base!AA$2,FALSE)","v":{"$error":"#N/A"}},{"$f":"HLOOKUP($AW$62,Base!$AA:$AF,Base!AB$2,FALSE)","v":{"$error":"#N/A"}},{"$f":"HLOOKUP($AW$62,Base!$AA:$AF,Base!AC$2,FALSE)","v":{"$error":"#N/A"}},{"$f":"HLOOKUP($AW$62,Base!$AA:$AF,Base!AD$2,FALSE)","v":{"$error":"#N/A"}},{"$f":"HLOOKUP($AW$62,Base!$AA:$AF,Base!AE$2,FALSE)","v":{"$error":"#N/A"}},{"$f":"HLOOKUP($AW$62,Base!$AA:$AF,Base!AF$2,FALSE)","v":{"$error":"#N/A"}},{"$f":"HLOOKUP($AW$62,Base!$AA:$AF,Base!AG$2,FALSE)","v":{"$error":"#N/A"}},{"$f":"HLOOKUP($AW$62,Base!$AA:$AF,Base!AH$2,FALSE)","v":{"$error":"#N/A"}},{"$f":"HLOOKUP($AW$62,Base!$AA:$AF,Base!AI$2,FALSE)","v":{"$error":"#N/A"}},{"$f":"HLOOKUP($AW$62,Base!$AA:$AF,Base!AJ$2,FALSE)","v":{"$error":"#N/A"}},{"$f":"HLOOKUP($AW$62,Base!$AA:$AF,Base!AK$2,FALSE)","v":{"$error":"#N/A"}},{"$f":"HLOOKUP($AW$62,Base!$AA:$AF,Base!AL$2,FALSE)","v":{"$error":"#N/A"}},{"$f":"HLOOKUP($AW$62,Base!$AA:$AF,Base!AM$2,FALSE)","v":{"$error":"#N/A"}},{"$f":"HLOOKUP($AW$62,Base!$AA:$AF,Base!AN$2,FALSE)","v":{"$error":"#N/A"}},{"$f":"HLOOKUP($AW$62,Base!$AA:$AF,Base!AO$2,FALSE)","v":{"$error":"#N/A"}},{"$f":"HLOOKUP($AW$62,Base!$AA:$AF,Base!AP$2,FALSE)","v":{"$error":"#N/A"}},{"$f":"HLOOKUP($AW$62,Base!$AA:$AF,Base!AQ$2,FALSE)","v":{"$error":"#N/A"}},{"$f":"HLOOKUP($AW$62,Base!$AA:$AF,Base!AR$2,FALSE)","v":{"$error":"#N/A"}},{"$f":"HLOOKUP($AW$62,Base!$AA:$AF,Base!AS$2,FALSE)","v":{"$error":"#N/A"}},{"$f":"HLOOKUP($AW$62,Base!$AA:$AF,Base!AT$2,FALSE)","v":{"$error":"#N/A"}},{"$f":"HLOOKUP($AW$62,Base!$AA:$AF,Base!AU$2,FALSE)","v":{"$error":"#N/A"}},{"$f":"HLOOKUP($AW$62,Base!$AA:$AF,Base!AV$2,FALSE)","v":{"$error":"#N/A"}},{"$f":"HLOOKUP($AW$62,Base!$AA:$AF,Base!AW$2,FALSE)","v":{"$error":"#N/A"}},{"$f":"HLOOKUP($AW$62,Base!$AA:$AF,Base!AX$2,FALSE)","v":{"$error":"#N/A"}},{"$f":"HLOOKUP($AW$62,Base!$AA:$AF,Base!AY$2,FALSE)","v":{"$error":"#N/A"}},{"$f":"HLOOKUP($AW$62,Base!$AA:$AF,Base!AZ$2,FALSE)","v":{"$error":"#N/A"}},{"$f":"HLOOKUP($AW$62,Base!$AA:$AF,Base!BA$2,FALSE)","v":{"$error":"#N/A"}},{"$f":"HLOOKUP($AW$62,Base!$AA:$AF,Base!BB$2,FALSE)","v":{"$error":"#N/A"}},{"$f":"HLOOKUP($AW$62,Base!$AA:$AF,Base!BC$2,FALSE)","v":{"$error":"#N/A"}},{"$f":"HLOOKUP($AW$62,Base!$AA:$AF,Base!BD$2,FALSE)","v":{"$error":"#N/A"}},{"$f":"HLOOKUP($AW$62,Base!$AA:$AF,Base!BE$2,FALSE)","v":{"$error":"#N/A"}},{"$f":"HLOOKUP($AW$62,Base!$AA:$AF,Base!BF$2,FALSE)","v":{"$error":"#N/A"}},{"$f":"HLOOKUP($AW$62,Base!$AA:$AF,Base!BG$2,FALSE)","v":{"$error":"#N/A"}},{"$f":"HLOOKUP($AW$62,Base!$AA:$AF,Base!BH$2,FALSE)","v":{"$error":"#N/A"}},{"$f":"HLOOKUP($AW$62,Base!$AA:$AF,Base!BI$2,FALSE)","v":{"$error":"#N/A"}},{"$f":"HLOOKUP($AW$62,Base!$AA:$AF,Base!BJ$2,FALSE)","v":{"$error":"#N/A"}},{"$f":"HLOOKUP($AW$62,Base!$AA:$AF,Base!BK$2,FALSE)","v":{"$error":"#N/A"}},{"$f":"HLOOKUP($AW$62,Base!$AA:$AF,Base!BL$2,FALSE)","v":{"$error":"#N/A"}},{"$f":"HLOOKUP($AW$62,Base!$AA:$AF,Base!BM$2,FALSE)","v":{"$error":"#N/A"}},{"$f":"HLOOKUP($AW$62,Base!$AA:$AF,Base!BN$2,FALSE)","v":{"$error":"#N/A"}},{"$f":"HLOOKUP($AW$62,Base!$AA:$AF,Base!BO$2,FALSE)","v":{"$error":"#N/A"}},{"$f":"HLOOKUP($AW$62,Base!$AA:$AF,Base!BP$2,FALSE)","v":{"$error":"#N/A"}},{"$f":"HLOOKUP($AW$62,Base!$AA:$AF,Base!BQ$2,FALSE)","v":{"$error":"#N/A"}},{"$f":"HLOOKUP($AW$62,Base!$AA:$AF,Base!BR$2,FALSE)","v":{"$error":"#N/A"}},{"$f":"HLOOKUP($AW$62,Base!$AA:$AF,Base!BS$2,FALSE)","v":{"$error":"#N/A"}},{"$f":"HLOOKUP($AW$62,Base!$AA:$AF,Base!BT$2,FALSE)","v":{"$error":"#N/A"}},{"$f":"HLOOKUP($AW$62,Base!$AA:$AF,Base!BU$2,FALSE)","v":{"$error":"#N/A"}},{"$f":"HLOOKUP($AW$62,Base!$AA:$AF,Base!BV$2,FALSE)","v":{"$error":"#N/A"}},{"$f":"HLOOKUP($AW$62,Base!$AA:$AF,Base!BW$2,FALSE)","v":{"$error":"#N/A"}},{"$f":"HLOOKUP($AW$62,Base!$AA:$AF,Base!BX$2,FALSE)","v":{"$error":"#N/A"}},{"$f":"HLOOKUP($AW$62,Base!$AA:$AF,Base!BY$2,FALSE)","v":{"$error":"#N/A"}},{"$f":"HLOOKUP($AW$62,Base!$AA:$AF,Base!BZ$2,FALSE)","v":{"$error":"#N/A"}},{"$f":"HLOOKUP($AW$62,Base!$AA:$AF,Base!CA$2,FALSE)","v":{"$error":"#N/A"}},{"$f":"HLOOKUP($AW$62,Base!$AA:$AF,Base!CB$2,FALSE)","v":{"$error":"#N/A"}},{"$f":"HLOOKUP($AW$62,Base!$AA:$AF,Base!CC$2,FALSE)","v":{"$error":"#N/A"}},{"$f":"HLOOKUP($AW$62,Base!$AA:$AF,Base!CD$2,FALSE)","v":{"$error":"#N/A"}},{"$f":"HLOOKUP($AW$62,Base!$AA:$AF,Base!CE$2,FALSE)","v":{"$error":"#N/A"}},{"$f":"HLOOKUP($AW$62,Base!$AA:$AF,Base!CF$2,FALSE)","v":{"$error":"#N/A"}},{"$f":"HLOOKUP($AW$62,Base!$AA:$AF,Base!CG$2,FALSE)","v":{"$error":"#N/A"}},{"$f":"HLOOKUP($AW$62,Base!$AA:$AF,Base!CH$2,FALSE)","v":{"$error":"#N/A"}},{"$f":"HLOOKUP($AW$62,Base!$AA:$AF,Base!CI$2,FALSE)","v":{"$error":"#N/A"}},{"$f":"HLOOKUP($AW$62,Base!$AA:$AF,Base!CJ$2,FALSE)","v":{"$error":"#N/A"}},{"$f":"HLOOKUP($AW$62,Base!$AA:$AF,Base!CK$2,FALSE)","v":{"$error":"#N/A"}},{"$f":"HLOOKUP($AW$62,Base!$AA:$AF,Base!CL$2,FALSE)","v":{"$error":"#N/A"}},{"$f":"HLOOKUP($AW$62,Base!$AA:$AF,Base!CM$2,FALSE)","v":{"$error":"#N/A"}},{"$f":"HLOOKUP($AW$62,Base!$AA:$AF,Base!CN$2,FALSE)","v":{"$error":"#N/A"}},{"$f":"HLOOKUP($AW$62,Base!$AA:$AF,Base!CO$2,FALSE)","v":{"$error":"#N/A"}},{"$f":"HLOOKUP($AW$62,Base!$AA:$AF,Base!CP$2,FALSE)","v":{"$error":"#N/A"}},{"$f":"HLOOKUP($AW$62,Base!$AA:$AF,Base!CQ$2,FALSE)","v":{"$error":"#N/A"}},{"$f":"HLOOKUP($AW$62,Base!$AA:$AF,Base!CR$2,FALSE)","v":{"$error":"#N/A"}},{"$f":"HLOOKUP($AW$62,Base!$AA:$AF,Base!CS$2,FALSE)","v":{"$error":"#N/A"}},{"$f":"HLOOKUP($AW$62,Base!$AA:$AF,Base!CT$2,FALSE)","v":{"$error":"#N/A"}},{"$f":"HLOOKUP($AW$62,Base!$AA:$AF,Base!CU$2,FALSE)","v":{"$error":"#N/A"}},{"$f":"HLOOKUP($AW$62,Base!$AA:$AF,Base!CV$2,FALSE)","v":{"$error":"#N/A"}},{"$f":"HLOOKUP($AW$62,Base!$AA:$AF,Base!CW$2,FALSE)","v":{"$error":"#N/A"}},{"$f":"HLOOKUP($AW$62,Base!$AA:$AF,Base!CX$2,FALSE)","v":{"$error":"#N/A"}},{"$f":"HLOOKUP($AW$62,Base!$AA:$AF,Base!CY$2,FALSE)","v":{"$error":"#N/A"}},{"$f":"HLOOKUP($AW$62,Base!$AA:$AF,Base!CZ$2,FALSE)","v":{"$error":"#N/A"}},{"$f":"HLOOKUP($AW$62,Base!$AA:$AF,Base!DA$2,FALSE)","v":{"$error":"#N/A"}},{"$f":"HLOOKUP($AW$62,Base!$AA:$AF,Base!DB$2,FALSE)","v":{"$error":"#N/A"}},{"$f":"HLOOKUP($AW$62,Base!$AA:$AF,Base!DC$2,FALSE)","v":{"$error":"#N/A"}},{"$f":"HLOOKUP($AW$62,Base!$AA:$AF,Base!DD$2,FALSE)","v":{"$error":"#N/A"}},{"$f":"HLOOKUP($AW$62,Base!$AA:$AF,Base!DE$2,FALSE)","v":{"$error":"#N/A"}},{"$f":"HLOOKUP($AW$62,Base!$AA:$AF,Base!DF$2,FALSE)","v":{"$error":"#N/A"}},{"$f":"HLOOKUP($AW$62,Base!$AA:$AF,Base!DG$2,FALSE)","v":{"$error":"#N/A"}},{"$f":"HLOOKUP($AW$62,Base!$AA:$AF,Base!DH$2,FALSE)","v":{"$error":"#N/A"}},{"$f":"HLOOKUP($AW$62,Base!$AA:$AF,Base!DI$2,FALSE)","v":{"$error":"#N/A"}},{"$f":"HLOOKUP($AW$62,Base!$AA:$AF,Base!DJ$2,FALSE)","v":{"$error":"#N/A"}},{"$f":"HLOOKUP($AW$62,Base!$AA:$AF,Base!DK$2,FALSE)","v":{"$error":"#N/A"}},{"$f":"HLOOKUP($AW$62,Base!$AA:$AF,Base!DL$2,FALSE)","v":{"$error":"#N/A"}},{"$f":"HLOOKUP($AW$62,Base!$AA:$AF,Base!DM$2,FALSE)","v":{"$error":"#N/A"}},{"$f":"HLOOKUP($AW$62,Base!$AA:$AF,Base!DN$2,FALSE)","v":{"$error":"#N/A"}},{"$f":"HLOOKUP($AW$62,Base!$AA:$AF,Base!DO$2,FALSE)","v":{"$error":"#N/A"}},{"$f":"HLOOKUP($AW$62,Base!$AA:$AF,Base!DP$2,FALSE)","v":{"$error":"#N/A"}},{"$f":"HLOOKUP($AW$62,Base!$AA:$AF,Base!DQ$2,FALSE)","v":{"$error":"#N/A"}},{"$f":"HLOOKUP($AW$62,Base!$AA:$AF,Base!DR$2,FALSE)","v":{"$error":"#N/A"}},{"$f":"HLOOKUP($AW$62,Base!$AA:$AF,Base!DS$2,FALSE)","v":{"$error":"#N/A"}},{"$f":"HLOOKUP($AW$62,Base!$AA:$AF,Base!DT$2,FALSE)","v":{"$error":"#N/A"}},{"$f":"HLOOKUP($AW$62,Base!$AA:$AF,Base!DU$2,FALSE)","v":{"$error":"#N/A"}},{"$f":"HLOOKUP($AW$62,Base!$AA:$AF,Base!DV$2,FALSE)","v":{"$error":"#N/A"}},{"$f":"HLOOKUP($AW$62,Base!$AA:$AF,Base!DW$2,FALSE)","v":{"$error":"#N/A"}},{"$f":"HLOOKUP($AW$62,Base!$AA:$AF,Base!DX$2,FALSE)","v":{"$error":"#N/A"}},{"$f":"HLOOKUP($AW$62,Base!$AA:$AF,Base!DY$2,FALSE)","v":{"$error":"#N/A"}},{"$f":"HLOOKUP($AW$62,Base!$AA:$AF,Base!DZ$2,FALSE)","v":{"$error":"#N/A"}},{"$f":"HLOOKUP($AW$62,Base!$AA:$AF,Base!EA$2,FALSE)","v":{"$error":"#N/A"}},{"$f":"HLOOKUP($AW$62,Base!$AA:$AF,Base!EB$2,FALSE)","v":{"$error":"#N/A"}},{"$f":"HLOOKUP($AW$62,Base!$AA:$AF,Base!EC$2,FALSE)","v":{"$error":"#N/A"}},{"$f":"HLOOKUP($AW$62,Base!$AA:$AF,Base!ED$2,FALSE)","v":{"$error":"#N/A"}}]
[null,null,null,null,null,null,null,null,null,null,null,null,null,null,null,null,null,null,null,null,null,null,null,null,null,null,null,null,null,null,null,null,null,null,null,"-",null,{"$f":"B19","v":"LED - B"},{"$f":"VLOOKUP($C$20,Base!$C:$P,Base!D$2,FALSE)","v":{"$error":"#N/A"}},{"$f":"VLOOKUP($C$20,Base!$C:$P,Base!E$2,FALSE)","v":{"$error":"#N/A"}},{"$f":"VLOOKUP($C$20,Base!$C:$P,Base!F$2,FALSE)","v":{"$error":"#N/A"}},{"$f":"VLOOKUP($C$20,Base!$C:$P,Base!G$2,FALSE)","v":{"$error":"#N/A"}},{"$f":"VLOOKUP($C$20,Base!$C:$P,Base!H$2,FALSE)","v":{"$error":"#N/A"}},{"$f":"VLOOKUP($C$20,Base!$C:$P,Base!I$2,FALSE)","v":{"$error":"#N/A"}},{"$f":"VLOOKUP($C$20,Base!$C:$P,Base!J$2,FALSE)","v":{"$error":"#N/A"}},{"$f":"VLOOKUP($C$20,Base!$C:$P,Base!K$2,FALSE)","v":{"$error":"#N/A"}},{"$f":"VLOOKUP($C$20,Base!$C:$P,Base!L$2,FALSE)","v":{"$error":"#N/A"}},{"$f":"VLOOKUP(E20,Base!$G$5:$H$17,2,FALSE)","v":{"$error":"#N/A"}},{"$f":"AM63*AV63+AV63","v":{"$error":"#N/A"}},null,{"$f":"HLOOKUP($AW$63,Base!$AA:$AF,Base!E$2,FALSE)","v":{"$error":"#N/A"}},{"$f":"HLOOKUP($AW$63,Base!$AA:$AF,Base!F$2,FALSE)","v":{"$error":"#N/A"}},{"$f":"HLOOKUP($AW$63,Base!$AA:$AF,Base!G$2,FALSE)","v":{"$error":"#N/A"}},{"$f":"HLOOKUP($AW$63,Base!$AA:$AF,Base!H$2,FALSE)","v":{"$error":"#N/A"}},{"$f":"HLOOKUP($AW$63,Base!$AA:$AF,Base!I$2,FALSE)","v":{"$error":"#N/A"}},{"$f":"HLOOKUP($AW$63,Base!$AA:$AF,Base!J$2,FALSE)","v":{"$error":"#N/A"}},{"$f":"HLOOKUP($AW$63,Base!$AA:$AF,Base!K$2,FALSE)","v":{"$error":"#N/A"}},{"$f":"HLOOKUP($AW$63,Base!$AA:$AF,Base!L$2,FALSE)","v":{"$error":"#N/A"}},{"$f":"HLOOKUP($AW$63,Base!$AA:$AF,Base!M$2,FALSE)","v":{"$error":"#N/A"}},{"$f":"HLOOKUP($AW$63,Base!$AA:$AF,Base!N$2,FALSE)","v":{"$error":"#N/A"}},{"$f":"HLOOKUP($AW$63,Base!$AA:$AF,Base!O$2,FALSE)","v":{"$error":"#N/A"}},{"$f":"HLOOKUP($AW$63,Base!$AA:$AF,Base!P$2,FALSE)","v":{"$error":"#N/A"}},{"$f":"HLOOKUP($AW$63,Base!$AA:$AF,Base!Q$2,FALSE)","v":{"$error":"#N/A"}},{"$f":"HLOOKUP($AW$63,Base!$AA:$AF,Base!R$2,FALSE)","v":{"$error":"#N/A"}},{"$f":"HLOOKUP($AW$63,Base!$AA:$AF,Base!S$2,FALSE)","v":{"$error":"#N/A"}},{"$f":"HLOOKUP($AW$63,Base!$AA:$AF,Base!T$2,FALSE)","v":{"$error":"#N/A"}},{"$f":"HLOOKUP($AW$63,Base!$AA:$AF,Base!U$2,FALSE)","v":{"$error":"#N/A"}},{"$f":"HLOOKUP($AW$63,Base!$AA:$AF,Base!V$2,FALSE)","v":{"$error":"#N/A"}},{"$f":"HLOOKUP($AW$63,Base!$AA:$AF,Base!W$2,FALSE)","v":{"$error":"#N/A"}},{"$f":"HLOOKUP($AW$63,Base!$AA:$AF,Base!X$2,FALSE)","v":{"$error":"#N/A"}},{"$f":"HLOOKUP($AW$63,Base!$AA:$AF,Base!Y$2,FALSE)","v":{"$error":"#N/A"}},{"$f":"HLOOKUP($AW$63,Base!$AA:$AF,Base!Z$2,FALSE)","v":{"$error":"#N/A"}},{"$f":"HLOOKUP($AW$63,Base!$AA:$AF,Base!AA$2,FALSE)","v":{"$error":"#N/A"}},{"$f":"HLOOKUP($AW$63,Base!$AA:$AF,Base!AB$2,FALSE)","v":{"$error":"#N/A"}},{"$f":"HLOOKUP($AW$63,Base!$AA:$AF,Base!AC$2,FALSE)","v":{"$error":"#N/A"}},{"$f":"HLOOKUP($AW$63,Base!$AA:$AF,Base!AD$2,FALSE)","v":{"$error":"#N/A"}},{"$f":"HLOOKUP($AW$63,Base!$AA:$AF,Base!AE$2,FALSE)","v":{"$error":"#N/A"}},{"$f":"HLOOKUP($AW$63,Base!$AA:$AF,Base!AF$2,FALSE)","v":{"$error":"#N/A"}},{"$f":"HLOOKUP($AW$63,Base!$AA:$AF,Base!AG$2,FALSE)","v":{"$error":"#N/A"}},{"$f":"HLOOKUP($AW$63,Base!$AA:$AF,Base!AH$2,FALSE)","v":{"$error":"#N/A"}},{"$f":"HLOOKUP($AW$63,Base!$AA:$AF,Base!AI$2,FALSE)","v":{"$error":"#N/A"}},{"$f":"HLOOKUP($AW$63,Base!$AA:$AF,Base!AJ$2,FALSE)","v":{"$error":"#N/A"}},{"$f":"HLOOKUP($AW$63,Base!$AA:$AF,Base!AK$2,FALSE)","v":{"$error":"#N/A"}},{"$f":"HLOOKUP($AW$63,Base!$AA:$AF,Base!AL$2,FALSE)","v":{"$error":"#N/A"}},{"$f":"HLOOKUP($AW$63,Base!$AA:$AF,Base!AM$2,FALSE)","v":{"$error":"#N/A"}},{"$f":"HLOOKUP($AW$63,Base!$AA:$AF,Base!AN$2,FALSE)","v":{"$error":"#N/A"}},{"$f":"HLOOKUP($AW$63,Base!$AA:$AF,Base!AO$2,FALSE)","v":{"$error":"#N/A"}},{"$f":"HLOOKUP($AW$63,Base!$AA:$AF,Base!AP$2,FALSE)","v":{"$error":"#N/A"}},{"$f":"HLOOKUP($AW$63,Base!$AA:$AF,Base!AQ$2,FALSE)","v":{"$error":"#N/A"}},{"$f":"HLOOKUP($AW$63,Base!$AA:$AF,Base!AR$2,FALSE)","v":{"$error":"#N/A"}},{"$f":"HLOOKUP($AW$63,Base!$AA:$AF,Base!AS$2,FALSE)","v":{"$error":"#N/A"}},{"$f":"HLOOKUP($AW$63,Base!$AA:$AF,Base!AT$2,FALSE)","v":{"$error":"#N/A"}},{"$f":"HLOOKUP($AW$63,Base!$AA:$AF,Base!AU$2,FALSE)","v":{"$error":"#N/A"}},{"$f":"HLOOKUP($AW$63,Base!$AA:$AF,Base!AV$2,FALSE)","v":{"$error":"#N/A"}},{"$f":"HLOOKUP($AW$63,Base!$AA:$AF,Base!AW$2,FALSE)","v":{"$error":"#N/A"}},{"$f":"HLOOKUP($AW$63,Base!$AA:$AF,Base!AX$2,FALSE)","v":{"$error":"#N/A"}},{"$f":"HLOOKUP($AW$63,Base!$AA:$AF,Base!AY$2,FALSE)","v":{"$error":"#N/A"}},{"$f":"HLOOKUP($AW$63,Base!$AA:$AF,Base!AZ$2,FALSE)","v":{"$error":"#N/A"}},{"$f":"HLOOKUP($AW$63,Base!$AA:$AF,Base!BA$2,FALSE)","v":{"$error":"#N/A"}},{"$f":"HLOOKUP($AW$63,Base!$AA:$AF,Base!BB$2,FALSE)","v":{"$error":"#N/A"}},{"$f":"HLOOKUP($AW$63,Base!$AA:$AF,Base!BC$2,FALSE)","v":{"$error":"#N/A"}},{"$f":"HLOOKUP($AW$63,Base!$AA:$AF,Base!BD$2,FALSE)","v":{"$error":"#N/A"}},{"$f":"HLOOKUP($AW$63,Base!$AA:$AF,Base!BE$2,FALSE)","v":{"$error":"#N/A"}},{"$f":"HLOOKUP($AW$63,Base!$AA:$AF,Base!BF$2,FALSE)","v":{"$error":"#N/A"}},{"$f":"HLOOKUP($AW$63,Base!$AA:$AF,Base!BG$2,FALSE)","v":{"$error":"#N/A"}},{"$f":"HLOOKUP($AW$63,Base!$AA:$AF,Base!BH$2,FALSE)","v":{"$error":"#N/A"}},{"$f":"HLOOKUP($AW$63,Base!$AA:$AF,Base!BI$2,FALSE)","v":{"$error":"#N/A"}},{"$f":"HLOOKUP($AW$63,Base!$AA:$AF,Base!BJ$2,FALSE)","v":{"$error":"#N/A"}},{"$f":"HLOOKUP($AW$63,Base!$AA:$AF,Base!BK$2,FALSE)","v":{"$error":"#N/A"}},{"$f":"HLOOKUP($AW$63,Base!$AA:$AF,Base!BL$2,FALSE)","v":{"$error":"#N/A"}},{"$f":"HLOOKUP($AW$63,Base!$AA:$AF,Base!BM$2,FALSE)","v":{"$error":"#N/A"}},{"$f":"HLOOKUP($AW$63,Base!$AA:$AF,Base!BN$2,FALSE)","v":{"$error":"#N/A"}},{"$f":"HLOOKUP($AW$63,Base!$AA:$AF,Base!BO$2,FALSE)","v":{"$error":"#N/A"}},{"$f":"HLOOKUP($AW$63,Base!$AA:$AF,Base!BP$2,FALSE)","v":{"$error":"#N/A"}},{"$f":"HLOOKUP($AW$63,Base!$AA:$AF,Base!BQ$2,FALSE)","v":{"$error":"#N/A"}},{"$f":"HLOOKUP($AW$63,Base!$AA:$AF,Base!BR$2,FALSE)","v":{"$error":"#N/A"}},{"$f":"HLOOKUP($AW$63,Base!$AA:$AF,Base!BS$2,FALSE)","v":{"$error":"#N/A"}},{"$f":"HLOOKUP($AW$63,Base!$AA:$AF,Base!BT$2,FALSE)","v":{"$error":"#N/A"}},{"$f":"HLOOKUP($AW$63,Base!$AA:$AF,Base!BU$2,FALSE)","v":{"$error":"#N/A"}},{"$f":"HLOOKUP($AW$63,Base!$AA:$AF,Base!BV$2,FALSE)","v":{"$error":"#N/A"}},{"$f":"HLOOKUP($AW$63,Base!$AA:$AF,Base!BW$2,FALSE)","v":{"$error":"#N/A"}},{"$f":"HLOOKUP($AW$63,Base!$AA:$AF,Base!BX$2,FALSE)","v":{"$error":"#N/A"}},{"$f":"HLOOKUP($AW$63,Base!$AA:$AF,Base!BY$2,FALSE)","v":{"$error":"#N/A"}},{"$f":"HLOOKUP($AW$63,Base!$AA:$AF,Base!BZ$2,FALSE)","v":{"$error":"#N/A"}},{"$f":"HLOOKUP($AW$63,Base!$AA:$AF,Base!CA$2,FALSE)","v":{"$error":"#N/A"}},{"$f":"HLOOKUP($AW$63,Base!$AA:$AF,Base!CB$2,FALSE)","v":{"$error":"#N/A"}},{"$f":"HLOOKUP($AW$63,Base!$AA:$AF,Base!CC$2,FALSE)","v":{"$error":"#N/A"}},{"$f":"HLOOKUP($AW$63,Base!$AA:$AF,Base!CD$2,FALSE)","v":{"$error":"#N/A"}},{"$f":"HLOOKUP($AW$63,Base!$AA:$AF,Base!CE$2,FALSE)","v":{"$error":"#N/A"}},{"$f":"HLOOKUP($AW$63,Base!$AA:$AF,Base!CF$2,FALSE)","v":{"$error":"#N/A"}},{"$f":"HLOOKUP($AW$63,Base!$AA:$AF,Base!CG$2,FALSE)","v":{"$error":"#N/A"}},{"$f":"HLOOKUP($AW$63,Base!$AA:$AF,Base!CH$2,FALSE)","v":{"$error":"#N/A"}},{"$f":"HLOOKUP($AW$63,Base!$AA:$AF,Base!CI$2,FALSE)","v":{"$error":"#N/A"}},{"$f":"HLOOKUP($AW$63,Base!$AA:$AF,Base!CJ$2,FALSE)","v":{"$error":"#N/A"}},{"$f":"HLOOKUP($AW$63,Base!$AA:$AF,Base!CK$2,FALSE)","v":{"$error":"#N/A"}},{"$f":"HLOOKUP($AW$63,Base!$AA:$AF,Base!CL$2,FALSE)","v":{"$error":"#N/A"}},{"$f":"HLOOKUP($AW$63,Base!$AA:$AF,Base!CM$2,FALSE)","v":{"$error":"#N/A"}},{"$f":"HLOOKUP($AW$63,Base!$AA:$AF,Base!CN$2,FALSE)","v":{"$error":"#N/A"}},{"$f":"HLOOKUP($AW$63,Base!$AA:$AF,Base!CO$2,FALSE)","v":{"$error":"#N/A"}},{"$f":"HLOOKUP($AW$63,Base!$AA:$AF,Base!CP$2,FALSE)","v":{"$error":"#N/A"}},{"$f":"HLOOKUP($AW$63,Base!$AA:$AF,Base!CQ$2,FALSE)","v":{"$error":"#N/A"}},{"$f":"HLOOKUP($AW$63,Base!$AA:$AF,Base!CR$2,FALSE)","v":{"$error":"#N/A"}},{"$f":"HLOOKUP($AW$63,Base!$AA:$AF,Base!CS$2,FALSE)","v":{"$error":"#N/A"}},{"$f":"HLOOKUP($AW$63,Base!$AA:$AF,Base!CT$2,FALSE)","v":{"$error":"#N/A"}},{"$f":"HLOOKUP($AW$63,Base!$AA:$AF,Base!CU$2,FALSE)","v":{"$error":"#N/A"}},{"$f":"HLOOKUP($AW$63,Base!$AA:$AF,Base!CV$2,FALSE)","v":{"$error":"#N/A"}},{"$f":"HLOOKUP($AW$63,Base!$AA:$AF,Base!CW$2,FALSE)","v":{"$error":"#N/A"}},{"$f":"HLOOKUP($AW$63,Base!$AA:$AF,Base!CX$2,FALSE)","v":{"$error":"#N/A"}},{"$f":"HLOOKUP($AW$63,Base!$AA:$AF,Base!CY$2,FALSE)","v":{"$error":"#N/A"}},{"$f":"HLOOKUP($AW$63,Base!$AA:$AF,Base!CZ$2,FALSE)","v":{"$error":"#N/A"}},{"$f":"HLOOKUP($AW$63,Base!$AA:$AF,Base!DA$2,FALSE)","v":{"$error":"#N/A"}},{"$f":"HLOOKUP($AW$63,Base!$AA:$AF,Base!DB$2,FALSE)","v":{"$error":"#N/A"}},{"$f":"HLOOKUP($AW$63,Base!$AA:$AF,Base!DC$2,FALSE)","v":{"$error":"#N/A"}},{"$f":"HLOOKUP($AW$63,Base!$AA:$AF,Base!DD$2,FALSE)","v":{"$error":"#N/A"}},{"$f":"HLOOKUP($AW$63,Base!$AA:$AF,Base!DE$2,FALSE)","v":{"$error":"#N/A"}},{"$f":"HLOOKUP($AW$63,Base!$AA:$AF,Base!DF$2,FALSE)","v":{"$error":"#N/A"}},{"$f":"HLOOKUP($AW$63,Base!$AA:$AF,Base!DG$2,FALSE)","v":{"$error":"#N/A"}},{"$f":"HLOOKUP($AW$63,Base!$AA:$AF,Base!DH$2,FALSE)","v":{"$error":"#N/A"}},{"$f":"HLOOKUP($AW$63,Base!$AA:$AF,Base!DI$2,FALSE)","v":{"$error":"#N/A"}},{"$f":"HLOOKUP($AW$63,Base!$AA:$AF,Base!DJ$2,FALSE)","v":{"$error":"#N/A"}},{"$f":"HLOOKUP($AW$63,Base!$AA:$AF,Base!DK$2,FALSE)","v":{"$error":"#N/A"}},{"$f":"HLOOKUP($AW$63,Base!$AA:$AF,Base!DL$2,FALSE)","v":{"$error":"#N/A"}},{"$f":"HLOOKUP($AW$63,Base!$AA:$AF,Base!DM$2,FALSE)","v":{"$error":"#N/A"}},{"$f":"HLOOKUP($AW$63,Base!$AA:$AF,Base!DN$2,FALSE)","v":{"$error":"#N/A"}},{"$f":"HLOOKUP($AW$63,Base!$AA:$AF,Base!DO$2,FALSE)","v":{"$error":"#N/A"}},{"$f":"HLOOKUP($AW$63,Base!$AA:$AF,Base!DP$2,FALSE)","v":{"$error":"#N/A"}},{"$f":"HLOOKUP($AW$63,Base!$AA:$AF,Base!DQ$2,FALSE)","v":{"$error":"#N/A"}},{"$f":"HLOOKUP($AW$63,Base!$AA:$AF,Base!DR$2,FALSE)","v":{"$error":"#N/A"}},{"$f":"HLOOKUP($AW$63,Base!$AA:$AF,Base!DS$2,FALSE)","v":{"$error":"#N/A"}},{"$f":"HLOOKUP($AW$63,Base!$AA:$AF,Base!DT$2,FALSE)","v":{"$error":"#N/A"}},{"$f":"HLOOKUP($AW$63,Base!$AA:$AF,Base!DU$2,FALSE)","v":{"$error":"#N/A"}},{"$f":"HLOOKUP($AW$63,Base!$AA:$AF,Base!DV$2,FALSE)","v":{"$error":"#N/A"}},{"$f":"HLOOKUP($AW$63,Base!$AA:$AF,Base!DW$2,FALSE)","v":{"$error":"#N/A"}},{"$f":"HLOOKUP($AW$63,Base!$AA:$AF,Base!DX$2,FALSE)","v":{"$error":"#N/A"}},{"$f":"HLOOKUP($AW$63,Base!$AA:$AF,Base!DY$2,FALSE)","v":{"$error":"#N/A"}},{"$f":"HLOOKUP($AW$63,Base!$AA:$AF,Base!DZ$2,FALSE)","v":{"$error":"#N/A"}},{"$f":"HLOOKUP($AW$63,Base!$AA:$AF,Base!EA$2,FALSE)","v":{"$error":"#N/A"}},{"$f":"HLOOKUP($AW$63,Base!$AA:$AF,Base!EB$2,FALSE)","v":{"$error":"#N/A"}},{"$f":"HLOOKUP($AW$63,Base!$AA:$AF,Base!EC$2,FALSE)","v":{"$error":"#N/A"}},{"$f":"HLOOKUP($AW$63,Base!$AA:$AF,Base!ED$2,FALSE)","v":{"$error":"#N/A"}}]
[null,null,null,null,null,null,null,null,null,null,null,null,null,null,null,null,null,null,null,null,null,null,null,null,null,null,null,null,null,null,null,null,null,null,null,"-",null,{"$f":"B32","v":"LED - C"},{"$f":"VLOOKUP($C$33,Base!$C:$P,Base!D$2,FALSE)","v":{"$error":"#N/A"}},{"$f":"VLOOKUP($C$33,Base!$C:$P,Base!E$2,FALSE)","v":{"$error":"#N/A"}},{"$f":"VLOOKUP($C$33,Base!$C:$P,Base!F$2,FALSE)","v":{"$error":"#N/A"}},{"$f":"VLOOKUP($C$33,Base!$C:$P,Base!G$2,FALSE)","v":{"$error":"#N/A"}},{"$f":"VLOOKUP($C$33,Base!$C:$P,Base!H$2,FALSE)","v":{"$error":"#N/A"}},{"$f":"VLOOKUP($C$33,Base!$C:$P,Base!I$2,FALSE)","v":{"$error":"#N/A"}},{"$f":"VLOOKUP($C$33,Base!$C:$P,Base!J$2,FALSE)","v":{"$error":"#N/A"}},{"$f":"VLOOKUP($C$33,Base!$C:$P,Base!K$2,FALSE)","v":{"$error":"#N/A"}},{"$f":"VLOOKUP($C$33,Base!$C:$P,Base!L$2,FALSE)","v":{"$error":"#N/A"}},{"$f":"VLOOKUP(E33,Base!$G$5:$H$17,2,FALSE)","v":{"$error":"#N/A"}},{"$f":"AM64*AV64+AV64","v":{"$error":"#N/A"}},null,{"$f":"HLOOKUP($AW$64,Base!$AA:$AF,Base!E$2,FALSE)","v":{"$error":"#N/A"}},{"$f":"HLOOKUP($AW$64,Base!$AA:$AF,Base!F$2,FALSE)","v":{"$error":"#N/A"}},{"$f":"HLOOKUP($AW$64,Base!$AA:$AF,Base!G$2,FALSE)","v":{"$error":"#N/A"}},{"$f":"HLOOKUP($AW$64,Base!$AA:$AF,Base!H$2,FALSE)","v":{"$error":"#N/A"}},{"$f":"HLOOKUP($AW$64,Base!$AA:$AF,Base!I$2,FALSE)","v":{"$error":"#N/A"}},{"$f":"HLOOKUP($AW$64,Base!$AA:$AF,Base!J$2,FALSE)","v":{"$error":"#N/A"}},{"$f":"HLOOKUP($AW$64,Base!$AA:$AF,Base!K$2,FALSE)","v":{"$error":"#N/A"}},{"$f":"HLOOKUP($AW$64,Base!$AA:$AF,Base!L$2,FALSE)","v":{"$error":"#N/A"}},{"$f":"HLOOKUP($AW$64,Base!$AA:$AF,Base!M$2,FALSE)","v":{"$error":"#N/A"}},{"$f":"HLOOKUP($AW$64,Base!$AA:$AF,Base!N$2,FALSE)","v":{"$error":"#N/A"}},{"$f":"HLOOKUP($AW$64,Base!$AA:$AF,Base!O$2,FALSE)","v":{"$error":"#N/A"}},{"$f":"HLOOKUP($AW$64,Base!$AA:$AF,Base!P$2,FALSE)","v":{"$error":"#N/A"}},{"$f":"HLOOKUP($AW$64,Base!$AA:$AF,Base!Q$2,FALSE)","v":{"$error":"#N/A"}},{"$f":"HLOOKUP($AW$64,Base!$AA:$AF,Base!R$2,FALSE)","v":{"$error":"#N/A"}},{"$f":"HLOOKUP($AW$64,Base!$AA:$AF,Base!S$2,FALSE)","v":{"$error":"#N/A"}},{"$f":"HLOOKUP($AW$64,Base!$AA:$AF,Base!T$2,FALSE)","v":{"$error":"#N/A"}},{"$f":"HLOOKUP($AW$64,Base!$AA:$AF,Base!U$2,FALSE)","v":{"$error":"#N/A"}},{"$f":"HLOOKUP($AW$64,Base!$AA:$AF,Base!V$2,FALSE)","v":{"$error":"#N/A"}},{"$f":"HLOOKUP($AW$64,Base!$AA:$AF,Base!W$2,FALSE)","v":{"$error":"#N/A"}},{"$f":"HLOOKUP($AW$64,Base!$AA:$AF,Base!X$2,FALSE)","v":{"$error":"#N/A"}},{"$f":"HLOOKUP($AW$64,Base!$AA:$AF,Base!Y$2,FALSE)","v":{"$error":"#N/A"}},{"$f":"HLOOKUP($AW$64,Base!$AA:$AF,Base!Z$2,FALSE)","v":{"$error":"#N/A"}},{"$f":"HLOOKUP($AW$64,Base!$AA:$AF,Base!AA$2,FALSE)","v":{"$error":"#N/A"}},{"$f":"HLOOKUP($AW$64,Base!$AA:$AF,Base!AB$2,FALSE)","v":{"$error":"#N/A"}},{"$f":"HLOOKUP($AW$64,Base!$AA:$AF,Base!AC$2,FALSE)","v":{"$error":"#N/A"}},{"$f":"HLOOKUP($AW$64,Base!$AA:$AF,Base!AD$2,FALSE)","v":{"$error":"#N/A"}},{"$f":"HLOOKUP($AW$64,Base!$AA:$AF,Base!AE$2,FALSE)","v":{"$error":"#N/A"}},{"$f":"HLOOKUP($AW$64,Base!$AA:$AF,Base!AF$2,FALSE)","v":{"$error":"#N/A"}},{"$f":"HLOOKUP($AW$64,Base!$AA:$AF,Base!AG$2,FALSE)","v":{"$error":"#N/A"}},{"$f":"HLOOKUP($AW$64,Base!$AA:$AF,Base!AH$2,FALSE)","v":{"$error":"#N/A"}},{"$f":"HLOOKUP($AW$64,Base!$AA:$AF,Base!AI$2,FALSE)","v":{"$error":"#N/A"}},{"$f":"HLOOKUP($AW$64,Base!$AA:$AF,Base!AJ$2,FALSE)","v":{"$error":"#N/A"}},{"$f":"HLOOKUP($AW$64,Base!$AA:$AF,Base!AK$2,FALSE)","v":{"$error":"#N/A"}},{"$f":"HLOOKUP($AW$64,Base!$AA:$AF,Base!AL$2,FALSE)","v":{"$error":"#N/A"}},{"$f":"HLOOKUP($AW$64,Base!$AA:$AF,Base!AM$2,FALSE)","v":{"$error":"#N/A"}},{"$f":"HLOOKUP($AW$64,Base!$AA:$AF,Base!AN$2,FALSE)","v":{"$error":"#N/A"}},{"$f":"HLOOKUP($AW$64,Base!$AA:$AF,Base!AO$2,FALSE)","v":{"$error":"#N/A"}},{"$f":"HLOOKUP($AW$64,Base!$AA:$AF,Base!AP$2,FALSE)","v":{"$error":"#N/A"}},{"$f":"HLOOKUP($AW$64,Base!$AA:$AF,Base!AQ$2,FALSE)","v":{"$error":"#N/A"}},{"$f":"HLOOKUP($AW$64,Base!$AA:$AF,Base!AR$2,FALSE)","v":{"$error":"#N/A"}},{"$f":"HLOOKUP($AW$64,Base!$AA:$AF,Base!AS$2,FALSE)","v":{"$error":"#N/A"}},{"$f":"HLOOKUP($AW$64,Base!$AA:$AF,Base!AT$2,FALSE)","v":{"$error":"#N/A"}},{"$f":"HLOOKUP($AW$64,Base!$AA:$AF,Base!AU$2,FALSE)","v":{"$error":"#N/A"}},{"$f":"HLOOKUP($AW$64,Base!$AA:$AF,Base!AV$2,FALSE)","v":{"$error":"#N/A"}},{"$f":"HLOOKUP($AW$64,Base!$AA:$AF,Base!AW$2,FALSE)","v":{"$error":"#N/A"}},{"$f":"HLOOKUP($AW$64,Base!$AA:$AF,Base!AX$2,FALSE)","v":{"$error":"#N/A"}},{"$f":"HLOOKUP($AW$64,Base!$AA:$AF,Base!AY$2,FALSE)","v":{"$error":"#N/A"}},{"$f":"HLOOKUP($AW$64,Base!$AA:$AF,Base!AZ$2,FALSE)","v":{"$error":"#N/A"}},{"$f":"HLOOKUP($AW$64,Base!$AA:$AF,Base!BA$2,FALSE)","v":{"$error":"#N/A"}},{"$f":"HLOOKUP($AW$64,Base!$AA:$AF,Base!BB$2,FALSE)","v":{"$error":"#N/A"}},{"$f":"HLOOKUP($AW$64,Base!$AA:$AF,Base!BC$2,FALSE)","v":{"$error":"#N/A"}},{"$f":"HLOOKUP($AW$64,Base!$AA:$AF,Base!BD$2,FALSE)","v":{"$error":"#N/A"}},{"$f":"HLOOKUP($AW$64,Base!$AA:$AF,Base!BE$2,FALSE)","v":{"$error":"#N/A"}},{"$f":"HLOOKUP($AW$64,Base!$AA:$AF,Base!BF$2,FALSE)","v":{"$error":"#N/A"}},{"$f":"HLOOKUP($AW$64,Base!$AA:$AF,Base!BG$2,FALSE)","v":{"$error":"#N/A"}},{"$f":"HLOOKUP($AW$64,Base!$AA:$AF,Base!BH$2,FALSE)","v":{"$error":"#N/A"}},{"$f":"HLOOKUP($AW$64,Base!$AA:$AF,Base!BI$2,FALSE)","v":{"$error":"#N/A"}},{"$f":"HLOOKUP($AW$64,Base!$AA:$AF,Base!BJ$2,FALSE)","v":{"$error":"#N/A"}},{"$f":"HLOOKUP($AW$64,Base!$AA:$AF,Base!BK$2,FALSE)","v":{"$error":"#N/A"}},{"$f":"HLOOKUP($AW$64,Base!$AA:$AF,Base!BL$2,FALSE)","v":{"$error":"#N/A"}},{"$f":"HLOOKUP($AW$64,Base!$AA:$AF,Base!BM$2,FALSE)","v":{"$error":"#N/A"}},{"$f":"HLOOKUP($AW$64,Base!$AA:$AF,Base!BN$2,FALSE)","v":{"$error":"#N/A"}},{"$f":"HLOOKUP($AW$64,Base!$AA:$AF,Base!BO$2,FALSE)","v":{"$error":"#N/A"}},{"$f":"HLOOKUP($AW$64,Base!$AA:$AF,Base!BP$2,FALSE)","v":{"$error":"#N/A"}},{"$f":"HLOOKUP($AW$64,Base!$AA:$AF,Base!BQ$2,FALSE)","v":{"$error":"#N/A"}},{"$f":"HLOOKUP($AW$64,Base!$AA:$AF,Base!BR$2,FALSE)","v":{"$error":"#N/A"}},{"$f":"HLOOKUP($AW$64,Base!$AA:$AF,Base!BS$2,FALSE)","v":{"$error":"#N/A"}},{"$f":"HLOOKUP($AW$64,Base!$AA:$AF,Base!BT$2,FALSE)","v":{"$error":"#N/A"}},{"$f":"HLOOKUP($AW$64,Base!$AA:$AF,Base!BU$2,FALSE)","v":{"$error":"#N/A"}},{"$f":"HLOOKUP($AW$64,Base!$AA:$AF,Base!BV$2,FALSE)","v":{"$error":"#N/A"}},{"$f":"HLOOKUP($AW$64,Base!$AA:$AF,Base!BW$2,FALSE)","v":{"$error":"#N/A"}},{"$f":"HLOOKUP($AW$64,Base!$AA:$AF,Base!BX$2,FALSE)","v":{"$error":"#N/A"}},{"$f":"HLOOKUP($AW$64,Base!$AA:$AF,Base!BY$2,FALSE)","v":{"$error":"#N/A"}},{"$f":"HLOOKUP($AW$64,Base!$AA:$AF,Base!BZ$2,FALSE)","v":{"$error":"#N/A"}},{"$f":"HLOOKUP($AW$64,Base!$AA:$AF,Base!CA$2,FALSE)","v":{"$error":"#N/A"}},{"$f":"HLOOKUP($AW$64,Base!$AA:$AF,Base!CB$2,FALSE)","v":{"$error":"#N/A"}},{"$f":"HLOOKUP($AW$64,Base!$AA:$AF,Base!CC$2,FALSE)","v":{"$error":"#N/A"}},{"$f":"HLOOKUP($AW$64,Base!$AA:$AF,Base!CD$2,FALSE)","v":{"$error":"#N/A"}},{"$f":"HLOOKUP($AW$64,Base!$AA:$AF,Base!CE$2,FALSE)","v":{"$error":"#N/A"}},{"$f":"HLOOKUP($AW$64,Base!$AA:$AF,Base!CF$2,FALSE)","v":{"$error":"#N/A"}},{"$f":"HLOOKUP($AW$64,Base!$AA:$AF,Base!CG$2,FALSE)","v":{"$error":"#N/A"}},{"$f":"HLOOKUP($AW$64,Base!$AA:$AF,Base!CH$2,FALSE)","v":{"$error":"#N/A"}},{"$f":"HLOOKUP($AW$64,Base!$AA:$AF,Base!CI$2,FALSE)","v":{"$error":"#N/A"}},{"$f":"HLOOKUP($AW$64,Base!$AA:$AF,Base!CJ$2,FALSE)","v":{"$error":"#N/A"}},{"$f":"HLOOKUP($AW$64,Base!$AA:$AF,Base!CK$2,FALSE)","v":{"$error":"#N/A"}},{"$f":"HLOOKUP($AW$64,Base!$AA:$AF,Base!CL$2,FALSE)","v":{"$error":"#N/A"}},{"$f":"HLOOKUP($AW$64,Base!$AA:$AF,Base!CM$2,FALSE)","v":{"$error":"#N/A"}},{"$f":"HLOOKUP($AW$64,Base!$AA:$AF,Base!CN$2,FALSE)","v":{"$error":"#N/A"}},{"$f":"HLOOKUP($AW$64,Base!$AA:$AF,Base!CO$2,FALSE)","v":{"$error":"#N/A"}},{"$f":"HLOOKUP($AW$64,Base!$AA:$AF,Base!CP$2,FALSE)","v":{"$error":"#N/A"}},{"$f":"HLOOKUP($AW$64,Base!$AA:$AF,Base!CQ$2,FALSE)","v":{"$error":"#N/A"}},{"$f":"HLOOKUP($AW$64,Base!$AA:$AF,Base!CR$2,FALSE)","v":{"$error":"#N/A"}},{"$f":"HLOOKUP($AW$64,Base!$AA:$AF,Base!CS$2,FALSE)","v":{"$error":"#N/A"}},{"$f":"HLOOKUP($AW$64,Base!$AA:$AF,Base!CT$2,FALSE)","v":{"$error":"#N/A"}},{"$f":"HLOOKUP($AW$64,Base!$AA:$AF,Base!CU$2,FALSE)","v":{"$error":"#N/A"}},{"$f":"HLOOKUP($AW$64,Base!$AA:$AF,Base!CV$2,FALSE)","v":{"$error":"#N/A"}},{"$f":"HLOOKUP($AW$64,Base!$AA:$AF,Base!CW$2,FALSE)","v":{"$error":"#N/A"}},{"$f":"HLOOKUP($AW$64,Base!$AA:$AF,Base!CX$2,FALSE)","v":{"$error":"#N/A"}},{"$f":"HLOOKUP($AW$64,Base!$AA:$AF,Base!CY$2,FALSE)","v":{"$error":"#N/A"}},{"$f":"HLOOKUP($AW$64,Base!$AA:$AF,Base!CZ$2,FALSE)","v":{"$error":"#N/A"}},{"$f":"HLOOKUP($AW$64,Base!$AA:$AF,Base!DA$2,FALSE)","v":{"$error":"#N/A"}},{"$f":"HLOOKUP($AW$64,Base!$AA:$AF,Base!DB$2,FALSE)","v":{"$error":"#N/A"}},{"$f":"HLOOKUP($AW$64,Base!$AA:$AF,Base!DC$2,FALSE)","v":{"$error":"#N/A"}},{"$f":"HLOOKUP($AW$64,Base!$AA:$AF,Base!DD$2,FALSE)","v":{"$error":"#N/A"}},{"$f":"HLOOKUP($AW$64,Base!$AA:$AF,Base!DE$2,FALSE)","v":{"$error":"#N/A"}},{"$f":"HLOOKUP($AW$64,Base!$AA:$AF,Base!DF$2,FALSE)","v":{"$error":"#N/A"}},{"$f":"HLOOKUP($AW$64,Base!$AA:$AF,Base!DG$2,FALSE)","v":{"$error":"#N/A"}},{"$f":"HLOOKUP($AW$64,Base!$AA:$AF,Base!DH$2,FALSE)","v":{"$error":"#N/A"}},{"$f":"HLOOKUP($AW$64,Base!$AA:$AF,Base!DI$2,FALSE)","v":{"$error":"#N/A"}},{"$f":"HLOOKUP($AW$64,Base!$AA:$AF,Base!DJ$2,FALSE)","v":{"$error":"#N/A"}},{"$f":"HLOOKUP($AW$64,Base!$AA:$AF,Base!DK$2,FALSE)","v":{"$error":"#N/A"}},{"$f":"HLOOKUP($AW$64,Base!$AA:$AF,Base!DL$2,FALSE)","v":{"$error":"#N/A"}},{"$f":"HLOOKUP($AW$64,Base!$AA:$AF,Base!DM$2,FALSE)","v":{"$error":"#N/A"}},{"$f":"HLOOKUP($AW$64,Base!$AA:$AF,Base!DN$2,FALSE)","v":{"$error":"#N/A"}},{"$f":"HLOOKUP($AW$64,Base!$AA:$AF,Base!DO$2,FALSE)","v":{"$error":"#N/A"}},{"$f":"HLOOKUP($AW$64,Base!$AA:$AF,Base!DP$2,FALSE)","v":{"$error":"#N/A"}},{"$f":"HLOOKUP($AW$64,Base!$AA:$AF,Base!DQ$2,FALSE)","v":{"$error":"#N/A"}},{"$f":"HLOOKUP($AW$64,Base!$AA:$AF,Base!DR$2,FALSE)","v":{"$error":"#N/A"}},{"$f":"HLOOKUP($AW$64,Base!$AA:$AF,Base!DS$2,FALSE)","v":{"$error":"#N/A"}},{"$f":"HLOOKUP($AW$64,Base!$AA:$AF,Base!DT$2,FALSE)","v":{"$error":"#N/A"}},{"$f":"HLOOKUP($AW$64,Base!$AA:$AF,Base!DU$2,FALSE)","v":{"$error":"#N/A"}},{"$f":"HLOOKUP($AW$64,Base!$AA:$AF,Base!DV$2,FALSE)","v":{"$error":"#N/A"}},{"$f":"HLOOKUP($AW$64,Base!$AA:$AF,Base!DW$2,FALSE)","v":{"$error":"#N/A"}},{"$f":"HLOOKUP($AW$64,Base!$AA:$AF,Base!DX$2,FALSE)","v":{"$error":"#N/A"}},{"$f":"HLOOKUP($AW$64,Base!$AA:$AF,Base!DY$2,FALSE)","v":{"$error":"#N/A"}},{"$f":"HLOOKUP($AW$64,Base!$AA:$AF,Base!DZ$2,FALSE)","v":{"$error":"#N/A"}},{"$f":"HLOOKUP($AW$64,Base!$AA:$AF,Base!EA$2,FALSE)","v":{"$error":"#N/A"}},{"$f":"HLOOKUP($AW$64,Base!$AA:$AF,Base!EB$2,FALSE)","v":{"$error":"#N/A"}},{"$f":"HLOOKUP($AW$64,Base!$AA:$AF,Base!EC$2,FALSE)","v":{"$error":"#N/A"}},{"$f":"HLOOKUP($AW$64,Base!$AA:$AF,Base!ED$2,FALSE)","v":{"$error":"#N/A"}}]
[null,null,null,null,null,null,null,null,null,null,null,null,null,null,null,null,null,null,null,null,null,null,null,null,null,null,null,null,null,null,null,null,null,null,null,"-",null,{"$f":"B45","v":"Manual Input"},{"$f":"VLOOKUP($C$46,Base!$C:$P,Base!D$2,FALSE)","v":{"$error":"#N/A"}},{"$f":"VLOOKUP($C$46,Base!$C:$P,Base!E$2,FALSE)","v":{"$error":"#N/A"}},{"$f":"VLOOKUP($C$46,Base!$C:$P,Base!F$2,FALSE)","v":{"$error":"#N/A"}},{"$f":"VLOOKUP($C$46,Base!$C:$P,Base!G$2,FALSE)","v":{"$error":"#N/A"}},{"$f":"VLOOKUP($C$46,Base!$C:$P,Base!H$2,FALSE)","v":{"$error":"#N/A"}},{"$f":"VLOOKUP($C$46,Base!$C:$P,Base!I$2,FALSE)","v":{"$error":"#N/A"}},{"$f":"VLOOKUP($C$46,Base!$C:$P,Base!J$2,FALSE)","v":{"$error":"#N/A"}},{"$f":"VLOOKUP($C$46,Base!$C:$P,Base!K$2,FALSE)","v":{"$error":"#N/A"}},{"$f":"VLOOKUP($C$46,Base!$C:$P,Base!L$2,FALSE)","v":{"$error":"#N/A"}},{"$f":"VLOOKUP(E46,Base!$G$5:$H$17,2,FALSE)","v":{"$error":"#N/A"}},{"$f":"AM65*AV65+AV65","v":{"$error":"#N/A"}},null,{"$f":"HLOOKUP($AW$65,Base!$AA:$AF,Base!E$2,FALSE)","v":{"$error":"#N/A"}},{"$f":"HLOOKUP($AW$65,Base!$AA:$AF,Base!F$2,FALSE)","v":{"$error":"#N/A"}},{"$f":"HLOOKUP($AW$65,Base!$AA:$AF,Base!G$2,FALSE)","v":{"$error":"#N/A"}},{"$f":"HLOOKUP($AW$65,Base!$AA:$AF,Base!H$2,FALSE)","v":{"$error":"#N/A"}},{"$f":"HLOOKUP($AW$65,Base!$AA:$AF,Base!I$2,FALSE)","v":{"$error":"#N/A"}},{"$f":"HLOOKUP($AW$65,Base!$AA:$AF,Base!J$2,FALSE)","v":{"$error":"#N/A"}},{"$f":"HLOOKUP($AW$65,Base!$AA:$AF,Base!K$2,FALSE)","v":{"$error":"#N/A"}},{"$f":"HLOOKUP($AW$65,Base!$AA:$AF,Base!L$2,FALSE)","v":{"$error":"#N/A"}},{"$f":"HLOOKUP($AW$65,Base!$AA:$AF,Base!M$2,FALSE)","v":{"$error":"#N/A"}},{"$f":"HLOOKUP($AW$65,Base!$AA:$AF,Base!N$2,FALSE)","v":{"$error":"#N/A"}},{"$f":"HLOOKUP($AW$65,Base!$AA:$AF,Base!O$2,FALSE)","v":{"$error":"#N/A"}},{"$f":"HLOOKUP($AW$65,Base!$AA:$AF,Base!P$2,FALSE)","v":{"$error":"#N/A"}},{"$f":"HLOOKUP($AW$65,Base!$AA:$AF,Base!Q$2,FALSE)","v":{"$error":"#N/A"}},{"$f":"HLOOKUP($AW$65,Base!$AA:$AF,Base!R$2,FALSE)","v":{"$error":"#N/A"}},{"$f":"HLOOKUP($AW$65,Base!$AA:$AF,Base!S$2,FALSE)","v":{"$error":"#N/A"}},{"$f":"HLOOKUP($AW$65,Base!$AA:$AF,Base!T$2,FALSE)","v":{"$error":"#N/A"}},{"$f":"HLOOKUP($AW$65,Base!$AA:$AF,Base!U$2,FALSE)","v":{"$error":"#N/A"}},{"$f":"HLOOKUP($AW$65,Base!$AA:$AF,Base!V$2,FALSE)","v":{"$error":"#N/A"}},{"$f":"HLOOKUP($AW$65,Base!$AA:$AF,Base!W$2,FALSE)","v":{"$error":"#N/A"}},{"$f":"HLOOKUP($AW$65,Base!$AA:$AF,Base!X$2,FALSE)","v":{"$error":"#N/A"}},{"$f":"HLOOKUP($AW$65,Base!$AA:$AF,Base!Y$2,FALSE)","v":{"$error":"#N/A"}},{"$f":"HLOOKUP($AW$65,Base!$AA:$AF,Base!Z$2,FALSE)","v":{"$error":"#N/A"}},{"$f":"HLOOKUP($AW$65,Base!$AA:$AF,Base!AA$2,FALSE)","v":{"$error":"#N/A"}},{"$f":"HLOOKUP($AW$65,Base!$AA:$AF,Base!AB$2,FALSE)","v":{"$error":"#N/A"}},{"$f":"HLOOKUP($AW$65,Base!$AA:$AF,Base!AC$2,FALSE)","v":{"$error":"#N/A"}},{"$f":"HLOOKUP($AW$65,Base!$AA:$AF,Base!AD$2,FALSE)","v":{"$error":"#N/A"}},{"$f":"HLOOKUP($AW$65,Base!$AA:$AF,Base!AE$2,FALSE)","v":{"$error":"#N/A"}},{"$f":"HLOOKUP($AW$65,Base!$AA:$AF,Base!AF$2,FALSE)","v":{"$error":"#N/A"}},{"$f":"HLOOKUP($AW$65,Base!$AA:$AF,Base!AG$2,FALSE)","v":{"$error":"#N/A"}},{"$f":"HLOOKUP($AW$65,Base!$AA:$AF,Base!AH$2,FALSE)","v":{"$error":"#N/A"}},{"$f":"HLOOKUP($AW$65,Base!$AA:$AF,Base!AI$2,FALSE)","v":{"$error":"#N/A"}},{"$f":"HLOOKUP($AW$65,Base!$AA:$AF,Base!AJ$2,FALSE)","v":{"$error":"#N/A"}},{"$f":"HLOOKUP($AW$65,Base!$AA:$AF,Base!AK$2,FALSE)","v":{"$error":"#N/A"}},{"$f":"HLOOKUP($AW$65,Base!$AA:$AF,Base!AL$2,FALSE)","v":{"$error":"#N/A"}},{"$f":"HLOOKUP($AW$65,Base!$AA:$AF,Base!AM$2,FALSE)","v":{"$error":"#N/A"}},{"$f":"HLOOKUP($AW$65,Base!$AA:$AF,Base!AN$2,FALSE)","v":{"$error":"#N/A"}},{"$f":"HLOOKUP($AW$65,Base!$AA:$AF,Base!AO$2,FALSE)","v":{"$error":"#N/A"}},{"$f":"HLOOKUP($AW$65,Base!$AA:$AF,Base!AP$2,FALSE)","v":{"$error":"#N/A"}},{"$f":"HLOOKUP($AW$65,Base!$AA:$AF,Base!AQ$2,FALSE)","v":{"$error":"#N/A"}},{"$f":"HLOOKUP($AW$65,Base!$AA:$AF,Base!AR$2,FALSE)","v":{"$error":"#N/A"}},{"$f":"HLOOKUP($AW$65,Base!$AA:$AF,Base!AS$2,FALSE)","v":{"$error":"#N/A"}},{"$f":"HLOOKUP($AW$65,Base!$AA:$AF,Base!AT$2,FALSE)","v":{"$error":"#N/A"}},{"$f":"HLOOKUP($AW$65,Base!$AA:$AF,Base!AU$2,FALSE)","v":{"$error":"#N/A"}},{"$f":"HLOOKUP($AW$65,Base!$AA:$AF,Base!AV$2,FALSE)","v":{"$error":"#N/A"}},{"$f":"HLOOKUP($AW$65,Base!$AA:$AF,Base!AW$2,FALSE)","v":{"$error":"#N/A"}},{"$f":"HLOOKUP($AW$65,Base!$AA:$AF,Base!AX$2,FALSE)","v":{"$error":"#N/A"}},{"$f":"HLOOKUP($AW$65,Base!$AA:$AF,Base!AY$2,FALSE)","v":{"$error":"#N/A"}},{"$f":"HLOOKUP($AW$65,Base!$AA:$AF,Base!AZ$2,FALSE)","v":{"$error":"#N/A"}},{"$f":"HLOOKUP($AW$65,Base!$AA:$AF,Base!BA$2,FALSE)","v":{"$error":"#N/A"}},{"$f":"HLOOKUP($AW$65,Base!$AA:$AF,Base!BB$2,FALSE)","v":{"$error":"#N/A"}},{"$f":"HLOOKUP($AW$65,Base!$AA:$AF,Base!BC$2,FALSE)","v":{"$error":"#N/A"}},{"$f":"HLOOKUP($AW$65,Base!$AA:$AF,Base!BD$2,FALSE)","v":{"$error":"#N/A"}},{"$f":"HLOOKUP($AW$65,Base!$AA:$AF,Base!BE$2,FALSE)","v":{"$error":"#N/A"}},{"$f":"HLOOKUP($AW$65,Base!$AA:$AF,Base!BF$2,FALSE)","v":{"$error":"#N/A"}},{"$f":"HLOOKUP($AW$65,Base!$AA:$AF,Base!BG$2,FALSE)","v":{"$error":"#N/A"}},{"$f":"HLOOKUP($AW$65,Base!$AA:$AF,Base!BH$2,FALSE)","v":{"$error":"#N/A"}},{"$f":"HLOOKUP($AW$65,Base!$AA:$AF,Base!BI$2,FALSE)","v":{"$error":"#N/A"}},{"$f":"HLOOKUP($AW$65,Base!$AA:$AF,Base!BJ$2,FALSE)","v":{"$error":"#N/A"}},{"$f":"HLOOKUP($AW$65,Base!$AA:$AF,Base!BK$2,FALSE)","v":{"$error":"#N/A"}},{"$f":"HLOOKUP($AW$65,Base!$AA:$AF,Base!BL$2,FALSE)","v":{"$error":"#N/A"}},{"$f":"HLOOKUP($AW$65,Base!$AA:$AF,Base!BM$2,FALSE)","v":{"$error":"#N/A"}},{"$f":"HLOOKUP($AW$65,Base!$AA:$AF,Base!BN$2,FALSE)","v":{"$error":"#N/A"}},{"$f":"HLOOKUP($AW$65,Base!$AA:$AF,Base!BO$2,FALSE)","v":{"$error":"#N/A"}},{"$f":"HLOOKUP($AW$65,Base!$AA:$AF,Base!BP$2,FALSE)","v":{"$error":"#N/A"}},{"$f":"HLOOKUP($AW$65,Base!$AA:$AF,Base!BQ$2,FALSE)","v":{"$error":"#N/A"}},{"$f":"HLOOKUP($AW$65,Base!$AA:$AF,Base!BR$2,FALSE)","v":{"$error":"#N/A"}},{"$f":"HLOOKUP($AW$65,Base!$AA:$AF,Base!BS$2,FALSE)","v":{"$error":"#N/A"}},{"$f":"HLOOKUP($AW$65,Base!$AA:$AF,Base!BT$2,FALSE)","v":{"$error":"#N/A"}},{"$f":"HLOOKUP($AW$65,Base!$AA:$AF,Base!BU$2,FALSE)","v":{"$error":"#N/A"}},{"$f":"HLOOKUP($AW$65,Base!$AA:$AF,Base!BV$2,FALSE)","v":{"$error":"#N/A"}},{"$f":"HLOOKUP($AW$65,Base!$AA:$AF,Base!BW$2,FALSE)","v":{"$error":"#N/A"}},{"$f":"HLOOKUP($AW$65,Base!$AA:$AF,Base!BX$2,FALSE)","v":{"$error":"#N/A"}},{"$f":"HLOOKUP($AW$65,Base!$AA:$AF,Base!BY$2,FALSE)","v":{"$error":"#N/A"}},{"$f":"HLOOKUP($AW$65,Base!$AA:$AF,Base!BZ$2,FALSE)","v":{"$error":"#N/A"}},{"$f":"HLOOKUP($AW$65,Base!$AA:$AF,Base!CA$2,FALSE)","v":{"$error":"#N/A"}},{"$f":"HLOOKUP($AW$65,Base!$AA:$AF,Base!CB$2,FALSE)","v":{"$error":"#N/A"}},{"$f":"HLOOKUP($AW$65,Base!$AA:$AF,Base!CC$2,FALSE)","v":{"$error":"#N/A"}},{"$f":"HLOOKUP($AW$65,Base!$AA:$AF,Base!CD$2,FALSE)","v":{"$error":"#N/A"}},{"$f":"HLOOKUP($AW$65,Base!$AA:$AF,Base!CE$2,FALSE)","v":{"$error":"#N/A"}},{"$f":"HLOOKUP($AW$65,Base!$AA:$AF,Base!CF$2,FALSE)","v":{"$error":"#N/A"}},{"$f":"HLOOKUP($AW$65,Base!$AA:$AF,Base!CG$2,FALSE)","v":{"$error":"#N/A"}},{"$f":"HLOOKUP($AW$65,Base!$AA:$AF,Base!CH$2,FALSE)","v":{"$error":"#N/A"}},{"$f":"HLOOKUP($AW$65,Base!$AA:$AF,Base!CI$2,FALSE)","v":{"$error":"#N/A"}},{"$f":"HLOOKUP($AW$65,Base!$AA:$AF,Base!CJ$2,FALSE)","v":{"$error":"#N/A"}},{"$f":"HLOOKUP($AW$65,Base!$AA:$AF,Base!CK$2,FALSE)","v":{"$error":"#N/A"}},{"$f":"HLOOKUP($AW$65,Base!$AA:$AF,Base!CL$2,FALSE)","v":{"$error":"#N/A"}},{"$f":"HLOOKUP($AW$65,Base!$AA:$AF,Base!CM$2,FALSE)","v":{"$error":"#N/A"}},{"$f":"HLOOKUP($AW$65,Base!$AA:$AF,Base!CN$2,FALSE)","v":{"$error":"#N/A"}},{"$f":"HLOOKUP($AW$65,Base!$AA:$AF,Base!CO$2,FALSE)","v":{"$error":"#N/A"}},{"$f":"HLOOKUP($AW$65,Base!$AA:$AF,Base!CP$2,FALSE)","v":{"$error":"#N/A"}},{"$f":"HLOOKUP($AW$65,Base!$AA:$AF,Base!CQ$2,FALSE)","v":{"$error":"#N/A"}},{"$f":"HLOOKUP($AW$65,Base!$AA:$AF,Base!CR$2,FALSE)","v":{"$error":"#N/A"}},{"$f":"HLOOKUP($AW$65,Base!$AA:$AF,Base!CS$2,FALSE)","v":{"$error":"#N/A"}},{"$f":"HLOOKUP($AW$65,Base!$AA:$AF,Base!CT$2,FALSE)","v":{"$error":"#N/A"}},{"$f":"HLOOKUP($AW$65,Base!$AA:$AF,Base!CU$2,FALSE)","v":{"$error":"#N/A"}},{"$f":"HLOOKUP($AW$65,Base!$AA:$AF,Base!CV$2,FALSE)","v":{"$error":"#N/A"}},{"$f":"HLOOKUP($AW$65,Base!$AA:$AF,Base!CW$2,FALSE)","v":{"$error":"#N/A"}},{"$f":"HLOOKUP($AW$65,Base!$AA:$AF,Base!CX$2,FALSE)","v":{"$error":"#N/A"}},{"$f":"HLOOKUP($AW$65,Base!$AA:$AF,Base!CY$2,FALSE)","v":{"$error":"#N/A"}},{"$f":"HLOOKUP($AW$65,Base!$AA:$AF,Base!CZ$2,FALSE)","v":{"$error":"#N/A"}},{"$f":"HLOOKUP($AW$65,Base!$AA:$AF,Base!DA$2,FALSE)","v":{"$error":"#N/A"}},{"$f":"HLOOKUP($AW$65,Base!$AA:$AF,Base!DB$2,FALSE)","v":{"$error":"#N/A"}},{"$f":"HLOOKUP($AW$65,Base!$AA:$AF,Base!DC$2,FALSE)","v":{"$error":"#N/A"}},{"$f":"HLOOKUP($AW$65,Base!$AA:$AF,Base!DD$2,FALSE)","v":{"$error":"#N/A"}},{"$f":"HLOOKUP($AW$65,Base!$AA:$AF,Base!DE$2,FALSE)","v":{"$error":"#N/A"}},{"$f":"HLOOKUP($AW$65,Base!$AA:$AF,Base!DF$2,FALSE)","v":{"$error":"#N/A"}},{"$f":"HLOOKUP($AW$65,Base!$AA:$AF,Base!DG$2,FALSE)","v":{"$error":"#N/A"}},{"$f":"HLOOKUP($AW$65,Base!$AA:$AF,Base!DH$2,FALSE)","v":{"$error":"#N/A"}},{"$f":"HLOOKUP($AW$65,Base!$AA:$AF,Base!DI$2,FALSE)","v":{"$error":"#N/A"}},{"$f":"HLOOKUP($AW$65,Base!$AA:$AF,Base!DJ$2,FALSE)","v":{"$error":"#N/A"}},{"$f":"HLOOKUP($AW$65,Base!$AA:$AF,Base!DK$2,FALSE)","v":{"$error":"#N/A"}},{"$f":"HLOOKUP($AW$65,Base!$AA:$AF,Base!DL$2,FALSE)","v":{"$error":"#N/A"}},{"$f":"HLOOKUP($AW$65,Base!$AA:$AF,Base!DM$2,FALSE)","v":{"$error":"#N/A"}},{"$f":"HLOOKUP($AW$65,Base!$AA:$AF,Base!DN$2,FALSE)","v":{"$error":"#N/A"}},{"$f":"HLOOKUP($AW$65,Base!$AA:$AF,Base!DO$2,FALSE)","v":{"$error":"#N/A"}},{"$f":"HLOOKUP($AW$65,Base!$AA:$AF,Base!DP$2,FALSE)","v":{"$error":"#N/A"}},{"$f":"HLOOKUP($AW$65,Base!$AA:$AF,Base!DQ$2,FALSE)","v":{"$error":"#N/A"}},{"$f":"HLOOKUP($AW$65,Base!$AA:$AF,Base!DR$2,FALSE)","v":{"$error":"#N/A"}},{"$f":"HLOOKUP($AW$65,Base!$AA:$AF,Base!DS$2,FALSE)","v":{"$error":"#N/A"}},{"$f":"HLOOKUP($AW$65,Base!$AA:$AF,Base!DT$2,FALSE)","v":{"$error":"#N/A"}},{"$f":"HLOOKUP($AW$65,Base!$AA:$AF,Base!DU$2,FALSE)","v":{"$error":"#N/A"}},{"$f":"HLOOKUP($AW$65,Base!$AA:$AF,Base!DV$2,FALSE)","v":{"$error":"#N/A"}},{"$f":"HLOOKUP($AW$65,Base!$AA:$AF,Base!DW$2,FALSE)","v":{"$error":"#N/A"}},{"$f":"HLOOKUP($AW$65,Base!$AA:$AF,Base!DX$2,FALSE)","v":{"$error":"#N/A"}},{"$f":"HLOOKUP($AW$65,Base!$AA:$AF,Base!DY$2,FALSE)","v":{"$error":"#N/A"}},{"$f":"HLOOKUP($AW$65,Base!$AA:$AF,Base!DZ$2,FALSE)","v":{"$error":"#N/A"}},{"$f":"HLOOKUP($AW$65,Base!$AA:$AF,Base!EA$2,FALSE)","v":{"$error":"#N/A"}},{"$f":"HLOOKUP($AW$65,Base!$AA:$AF,Base!EB$2,FALSE)","v":{"$error":"#N/A"}},{"$f":"HLOOKUP($AW$65,Base!$AA:$AF,Base!EC$2,FALSE)","v":{"$error":"#N/A"}},{"$f":"HLOOKUP($AW$65,Base!$AA:$AF,Base!ED$2,FALSE)","v":{"$error":"#N/A"}}]
[null,null,null,null,null,null,null,null,null,null,null,null,null,null,null,null,null,null,null,null,null,null,null,null,null,null,null,null,null,null,null,null,null,null,null,"-"]
[null,null,null,null,null,null,null,null,null,null,null,null,null,null,null,null,null,null,null,null,null,null,null,null,null,null,null,null,null,null,null,null,null,null,null,"-"]
[null,null,null,null,null,null,null,null,null,null,null,null,null,null,null,null,null,null,null,null,null,null,null,null,null,null,null,null,null,null,null,null,null,null,null,"-"]
[null,null,null,null,null,null,null,null,null,null,null,null,null,null,null,null,null,null,null,null,null,null,null,null,null,null,null,null,null,null,null,null,null,null,null,"-"]
[null,null,null,null,null,null,null,null,null,null,null,null,null,null,null,null,null,null,null,null,null,null,null,null,null,null,null,null,null,null,null,null,null,null,null,"-"]
[null,null,null,null,null,null,null,null,null,null,null,null,null,null,null,null,null,null,null,null,null,null,null,null,null,null,null,null,null,null,null,null,null,null,null,"-"]
[null,null,null,null,null,null,null,null,null,null,null,null,null,null,null,null,null,null,null,null,null,null,null,null,null,null,null,null,null,null,null,null,null,null,null,"-"]
[]
[]
[]
[]
[]
[]
[]
[]
[]
[]
[]
[]
[]
[]
[]
[]
[]
[]
[]
[]
[]
[]
[]
[]
[]
[]
[]
[null,null,null,null,null,null,null,null,null,null,null,null,null,null,null,null,null,null,null,null,null,null,null,null,null,null,null,null,null,null,null,null,null,null,null,null,null,null,null,null,null,null,null,null,null,null,null,null,null,null,null,null,null,null,null,null,null,null,null,null,null,null,null,null,null,null,null,null,null,null,null,null,null,null,null,null,null,null,null,null,null,null,null,null,null,null,null,null,null,null,null,null,null,null,null,null,null,null,null,null,null,null,null,null,"Group-1","Group-2","LED","Sorting_IF","Start","End","Tj_max.","Rth(j-s)","Sorting_Tj ","CRI","CCT","Flux","Flux_rank","Vf","Vf_rank","x^3","x^2","x","a","x^2","x","a","x^3","x^2","x","a","x^2","x","a"]
[null,null,null,null,null,null,null,null,null,null,null,null,null,null,null,null,null,null,null,null,null,null,null,null,null,null,null,null,null,null,null,null,null,null,null,null,null,null,null,null,null,null,null,null,null,null,null,null,null,null,null,null,null,null,null,null,null,null,null,null,null,null,null,null,null,null,null,null,null,null,null,null,null,null,null,null,null,null,null,null,null,null,null,null,null,null,null,null,null,null,null,null,null,null,null,null,null,null,null,null,null,null,null,null,"MP_LED",2835,"LM281B",0.15,null,0.16,115,25,25,80,2700,55.3,"S2 (53.3-57.3)",3.05,"A3 (3.0-3.1)",-54.113,6.8182,6.7878999999999996,1.0999999999999999E-2,0,0,-1.8333333333333331E-3,3.8530000000000002,-2.0678000000000001,1.3126,0.83660000000000001,0,0,-1.2500000000000031E-3]
[null,null,null,null,null,null,null,null,null,null,null,null,null,null,null,null,null,null,null,null,null,null,null,null,null,null,null,null,null,null,null,null,null,null,null,null,null,null,null,null,null,null,null,null,null,null,null,null,null,null,null,null,null,null,null,null,null,null,null,null,null,null,null,null,null,null,null,null,null,null,null,null,null,null,null,null,null,null,null,null,null,null,null,null,null,null,null,null,null,null,null,null,null,null,null,null,null,null,null,null,null,null,null,null,"MP_LED",2835,"LM281B",0.15,null,0.16,115,25,25,80,2700,59.3,"S3 (57.3-61.3)",3.05,"A3 (3.0-3.1)",-54.113,6.8182,6.7878999999999996,1.0999999999999999E-2,0,0,-1.8333333333333331E-3,3.8530000000000002,-2.0678000000000001,1.3126,0.83660000000000001,0,0,-1.2500000000000031E-3]
[null,null,null,null,null,null,null,null,null,null,null,null,null,null,null,null,null,null,null,null,null,null,null,null,null,null,null,null,null,null,null,null,null,null,null,null,null,null,null,null,null,null,null,null,null,null,null,null,null,null,null,null,null,null,null,null,null,null,null,null,null,null,null,null,null,null,null,null,null,null,null,null,null,null,null,null,null,null,null,null,null,null,null,null,null,null,null,null,null,null,null,null,null,null,null,null,null,null,null,null,null,null,null,null,"MP_LED",2835,"LM281B",0.15,null,0.16,115,25,25,80,2700,63.3,"S4 (61.3-65.3)",3.05,"A3 (3.0-3.1)",-54.113,6.8182,6.7878999999999996,1.0999999999999999E-2,0,0,-1.8333333333333331E-3,3.8530000000000002,-2.0678000000000001,1.3126,0.83660000000000001,0,0,-1.2500000000000031E-3]
[null,null,null,null,null,null,null,null,null,null,null,null,null,null,null,null,null,null,null,null,null,null,null,null,null,null,null,null,null,null,null,null,null,null,null,null,null,null,null,null,null,null,null,null,null,null,null,null,null,null,null,null,null,null,null,null,null,null,null,null,null,null,null,null,null,null,null,null,null,null,null,null,null,null,null,null,null,null,null,null,null,null,null,null,null,null,null,null,null,null,null,null,null,null,null,null,null,null,null,null,null,null,null,null,"MP_LED",2835,"LM281B",0.15,null,0.16,115,25,25,90,2700,45,"S2 (43-47)",3.05,"A3 (3.0-3.1)",-54.113,6.8182,6.7878999999999996,1.0999999999999999E-2,0,0,-1.8333333333333331E-3,3.8530000000000002,-2.0678000000000001,1.3126,0.83660000000000001,0,0,-1.2500000000000031E-3]
[null,null,null,null,null,null,null,null,null,null,null,null,null,null,null,null,null,null,null,null,null,null,null,null,null,null,null,null,null,null,null,null,null,null,null,null,null,null,null,null,null,null,null,null,null,null,null,null,null,null,null,null,null,null,null,null,null,null,null,null,null,null,null,null,null,null,null,null,null,null,null,null,null,null,null,null,null,null,null,null,null,null,null,null,null,null,null,null,null,null,null,null,null,null,null,null,null,null,null,null,null,null,null,null,"MP_LED",2835,"LM281B",0.15,null,0.16,115,25,25,90,2700,49,"S3 (47-51)",3.05,"A3 (3.0-3.1)",-54.113,6.8182,6.7878999999999996,1.0999999999999999E-2,0,0,-1.8333333333333331E-3,3.8530000000000002,-2.0678000000000001,1.3126,0.83660000000000001,0,0,-1.2500000000000031E-3]
[null,null,null,null,null,null,null,null,null,null,null,null,null,null,null,null,null,null,null,null,null,null,null,null,null,null,null,null,null,null,null,null,null,null,null,null,null,null,null,null,null,null,null,null,null,null,null,null,null,null,null,null,null,null,null,null,null,null,null,null,null,null,null,null,null,null,null,null,null,null,null,null,null,null,null,null,null,null,null,null,null,null,null,null,null,null,null,null,null,null,null,null,null,null,null,null,null,null,null,null,null,null,null,null,"MP_LED",2835,"LM281B",0.15,null,0.16,115,25,25,90,2700,53,"S4 (51-55)",3.05,"A3 (3.0-3.1)",-54.113,6.8182,6.7878999999999996,1.0999999999999999E-2,0,0,-1.8333333333333331E-3,3.8530000000000002,-2.0678000000000001,1.3126,0.83660000000000001,0,0,-1.2500000000000031E-3]
[null,null,null,null,null,null,null,null,null,null,null,null,null,null,null,null,null,null,null,null,null,null,null,null,null,null,null,null,null,null,null,null,null,null,null,null,null,null,null,null,null,null,null,null,null,null,null,null,null,null,null,null,null,null,null,null,null,null,null,null,null,null,null,null,null,null,null,null,null,null,null,null,null,null,null,null,null,null,null,null,null,null,null,null,null,null,null,null,null,null,null,null,null,null,null,null,null,null,null,null,null,null,null,null,"MP_LED",2835,"LM281B",0.15,null,0.16,115,25,25,80,3000,56.3,"S2 (54.3-58.3)",3.05,"A3 (3.0-3.1)",-54.113,6.8182,6.7878999999999996,1.0999999999999999E-2,0,0,-1.8333333333333331E-3,3.8530000000000002,-2.0678000000000001,1.3126,0.83660000000000001,0,0,-1.2500000000000031E-3]
[null,null,null,null,null,null,null,null,null,null,null,null,null,null,null,null,null,null,null,null,null,null,null,null,null,null,null,null,null,null,null,null,null,null,null,null,null,null,null,null,null,null,null,null,null,null,null,null,null,null,null,null,null,null,null,null,null,null,null,null,null,null,null,null,null,null,null,null,null,null,null,null,null,null,null,null,null,null,null,null,null,null,null,null,null,null,null,null,null,null,null,null,null,null,null,null,null,null,null,null,null,null,null,null,"MP_LED",2835,"LM281B",0.15,null,0.16,115,25,25,80,3000,60.3,"S3 (58.3-62.3)",3.05,"A3 (3.0-3.1)",-54.113,6.8182,6.7878999999999996,1.0999999999999999E-2,0,0,-1.8333333333333331E-3,3.8530000000000002,-2.0678000000000001,1.3126,0.83660000000000001,0,0,-1.2500000000000031E-3]
[null,null,null,null,null,null,null,null,null,null,null,null,null,null,null,null,null,null,null,null,null,null,null,null,null,null,null,null,null,null,null,null,null,null,null,null,null,null,null,null,null,null,null,null,null,null,null,null,null,null,null,null,null,null,null,null,null,null,null,null,null,null,null,null,null,null,null,null,null,null,null,null,null,null,null,null,null,null,null,null,null,null,null,null,null,null,null,null,null,null,null,null,null,null,null,null,null,null,null,null,null,null,null,null,"MP_LED",2835,"LM281B",0.15,null,0.16,115,25,25,80,3000,64.3,"S4 (62.3-66.3)",3.05,"A3 (3.0-3.1)",-54.113,6.8182,6.7878999999999996,1.0999999999999999E-2,0,0,-1.8333333333333331E-3,3.8530000000000002,-2.0678000000000001,1.3126,0.83660000000000001,0,0,-1.2500000000000031E-3]
[null,null,null,null,null,null,null,null,null,null,null,null,null,null,null,null,null,null,null,null,null,null,null,null,null,null,null,null,null,null,null,null,null,null,null,null,null,null,null,null,null,null,null,null,null,null,null,null,null,null,null,null,null,null,null,null,null,null,null,null,null,null,null,null,null,null,null,null,null,null,null,null,null,null,null,null,null,null,null,null,null,null,null,null,null,null,null,null,null,null,null,null,null,null,null,null,null,null,null,null,null,null,null,null,"MP_LED",2835,"LM281B",0.15,null,0.16,115,25,25,90,3000,49,"S2 (47-51)",3.05,"A3 (3.0-3.1)",-54.113,6.8182,6.7878999999999996,1.0999999999999999E-2,0,0,-1.8333333333333331E-3,3.8530000000000002,-2.0678000000000001,1.3126,0.83660000000000001,0,0,-1.2500000000000031E-3]
[null,null,null,null,null,null,null,null,null,null,null,null,null,null,null,null,null,null,null,null,null,null,null,null,null,null,null,null,null,null,null,null,null,null,null,null,null,null,null,null,null,null,null,null,null,null,null,null,null,null,null,null,null,null,null,null,null,null,null,null,null,null,null,null,null,null,null,null,null,null,null,null,null,null,null,null,null,null,null,null,null,null,null,null,null,null,null,null,null,null,null,null,null,null,null,null,null,null,null,null,null,null,null,null,"MP_LED",2835,"LM281B",0.15,null,0.16,115,25,25,90,3000,53,"S3 (51-55)",3.05,"A3 (3.0-3.1)",-54.113,6.8182,6.7878999999999996,1.0999999999999999E-2,0,0,-1.8333333333333331E-3,3.8530000000000002,-2.0678000000000001,1.3126,0.83660000000000001,0,0,-1.2500000000000031E-3]
[null,null,null,null,null,null,null,null,null,null,null,null,null,null,null,null,null,null,null,null,null,null,null,null,null,null,null,null,null,null,null,null,null,null,null,null,null,null,null,null,null,null,null,null,null,null,null,null,null,null,null,null,null,null,null,null,null,null,null,null,null,null,null,null,null,null,null,null,null,null,null,null,null,null,null,null,null,null,null,null,null,null,null,null,null,null,null,null,null,null,null,null,null,null,null,null,null,null,null,null,null,null,null,null,"MP_LED",2835,"LM281B",0.15,null,0.16,115,25,25,90,3000,57,"S4 (55-59)",3.05,"A3 (3.0-3.1)",-54.113,6.8182,6.7878999999999996,1.0999999999999999E-2,0,0,-1.8333333333333331E-3,3.8530000000000002,-2.0678000000000001,1.3126,0.83660000000000001,0,0,-1.2500000000000031E-3]
[null,null,null,null,null,null,null,null,null,null,null,null,null,null,null,null,null,null,null,null,null,null,null,null,null,null,null,null,null,null,null,null,null,null,null,null,null,null,null,null,null,null,null,null,null,null,null,null,null,null,null,null,null,null,null,null,null,null,null,null,null,null,null,null,null,null,null,null,null,null,null,null,null,null,null,null,null,null,null,null,null,null,null,null,null,null,null,null,null,null,null,null,null,null,null,null,null,null,null,null,null,null,null,null,"MP_LED",2835,"LM281B",0.15,null,0.16,115,25,25,80,3500,57.3,"S2 (55.3-59.3)",3.05,"A3 (3.0-3.1)",-54.113,6.8182,6.7878999999999996,1.0999999999999999E-2,0,0,-1.8333333333333331E-3,3.8530000000000002,-2.0678000000000001,1.3126,0.83660000000000001,0,0,-1.2500000000000031E-3]
[null,null,null,null,null,null,null,null,null,null,null,null,null,null,null,null,null,null,null,null,null,null,null,null,null,null,null,null,null,null,null,null,null,null,null,null,null,null,null,null,null,null,null,null,null,null,null,null,null,null,null,null,null,null,null,null,null,null,null,null,null,null,null,null,null,null,null,null,null,null,null,null,null,null,null,null,null,null,null,null,null,null,null,null,null,null,null,null,null,null,null,null,null,null,null,null,null,null,null,null,null,null,null,null,"MP_LED",2835,"LM281B",0.15,null,0.16,115,25,25,80,3500,61.3,"S3 (59.3-63.3)",3.05,"A3 (3.0-3.1)",-54.113,6.8182,6.7878999999999996,1.0999999999999999E-2,0,0,-1.8333333333333331E-3,3.8530000000000002,-2.0678000000000001,1.3126,0.83660000000000001,0,0,-1.2500000000000031E-3]
[null,null,null,null,null,null,null,null,null,null,null,null,null,null,null,null,null,null,null,null,null,null,null,null,null,null,null,null,null,null,null,null,null,null,null,null,null,null,null,null,null,null,null,null,null,null,null,null,null,null,null,null,null,null,null,null,null,null,null,null,null,null,null,null,null,null,null,null,null,null,null,null,null,null,null,null,null,null,null,null,null,null,null,null,null,null,null,null,null,null,null,null,null,null,null,null,null,null,null,null,null,null,null,null,"MP_LED",2835,"LM281B",0.15,null,0.16,115,25,25,80,3500,65.3,"S4 (63.3-67.3)",3.05,"A3 (3.0-3.1)",-54.113,6.8182,6.7878999999999996,1.0999999999999999E-2,0,0,-1.8333333333333331E-3,3.8530000000000002,-2.0678000000000001,1.3126,0.83660000000000001,0,0,-1.2500000000000031E-3]
[null,null,null,null,null,null,null,null,null,null,null,null,null,null,null,null,null,null,null,null,null,null,null,null,null,null,null,null,null,null,null,null,null,null,null,null,null,null,null,null,null,null,null,null,null,null,null,null,null,null,null,null,null,null,null,null,null,null,null,null,null,null,null,null,null,null,null,null,null,null,null,null,null,null,null,null,null,null,null,null,null,null,null,null,null,null,null,null,null,null,null,null,null,null,null,null,null,null,null,null,null,null,null,null,"MP_LED",2835,"LM281B",0.15,null,0.16,115,25,25,90,3500,50,"S2 (48-52)",3.05,"A3 (3.0-3.1)",-54.113,6.8182,6.7878999999999996,1.0999999999999999E-2,0,0,-1.8333333333333331E-3,3.8530000000000002,-2.0678000000000001,1.3126,0.83660000000000001,0,0,-1.2500000000000031E-3]
[null,null,null,null,null,null,null,null,null,null,null,null,null,null,null,null,null,null,null,null,null,null,null,null,null,null,null,null,null,null,null,null,null,null,null,null,null,null,null,null,null,null,null,null,null,null,null,null,null,null,null,null,null,null,null,null,null,null,null,null,null,null,null,null,null,null,null,null,null,null,null,null,null,null,null,null,null,null,null,null,null,null,null,null,null,null,null,null,null,null,null,null,null,null,null,null,null,null,null,null,null,null,null,null,"MP_LED",2835,"LM281B",0.15,null,0.16,115,25,25,90,3500,54,"S3 (52-56)",3.05,"A3 (3.0-3.1)",-54.113,6.8182,6.7878999999999996,1.0999999999999999E-2,0,0,-1.8333333333333331E-3,3.8530000000000002,-2.0678000000000001,1.3126,0.83660000000000001,0,0,-1.2500000000000031E-3]
[null,null,null,null,null,null,null,null,null,null,null,null,null,null,null,null,null,null,null,null,null,null,null,null,null,null,null,null,null,null,null,null,null,null,null,null,null,null,null,null,null,null,null,null,null,null,null,null,null,null,null,null,null,null,null,null,null,null,null,null,null,null,null,null,null,null,null,null,null,null,null,null,null,null,null,null,null,null,null,null,null,null,null,null,null,null,null,null,null,null,null,null,null,null,null,null,null,null,null,null,null,null,null,null,"MP_LED",2835,"LM281B",0.15,null,0.16,115,25,25,90,3500,58,"S4 (56-60)",3.05,"A3 (3.0-3.1)",-54.113,6.8182,6.7878999999999996,1.0999999999999999E-2,0,0,-1.8333333333333331E-3,3.8530000000000002,-2.0678000000000001,1.3126,0.83660000000000001,0,0,-1.2500000000000031E-3]
[null,null,null,null,null,null,null,null,null,null,null,null,null,null,null,null,null,null,null,null,null,null,null,null,null,null,null,null,null,null,null,null,null,null,null,null,null,null,null,null,null,null,null,null,null,null,null,null,null,null,null,null,null,null,null,null,null,null,null,null,null,null,null,null,null,null,null,null,null,null,null,null,null,null,null,null,null,null,null,null,null,null,null,null,null,null,null,null,null,null,null,null,null,null,null,null,null,null,null,null,null,null,null,null,"MP_LED",2835,"LM281B",0.15,null,0.16,115,25,25,80,4000,59.3,"S2 (57.3-61.3)",3.05,"A3 (3.0-3.1)",-54.113,6.8182,6.7878999999999996,1.0999999999999999E-2,0,0,-1.8333333333333331E-3,3.8530000000000002,-2.0678000000000001,1.3126,0.83660000000000001,0,0,-1.2500000000000031E-3]
[null,null,null,null,null,null,null,null,null,null,null,null,null,null,null,null,null,null,null,null,null,null,null,null,null,null,null,null,null,null,null,null,null,null,null,null,null,null,null,null,null,null,null,null,null,null,null,null,null,null,null,null,null,null,null,null,null,null,null,null,null,null,null,null,null,null,null,null,null,null,null,null,null,null,null,null,null,null,null,null,null,null,null,null,null,null,null,null,null,null,null,null,null,null,null,null,null,null,null,null,null,null,null,null,"MP_LED",2835,"LM281B",0.15,null,0.16,115,25,25,80,4000,63.3,"S3 (61.3-65.3)",3.05,"A3 (3.0-3.1)",-54.113,6.8182,6.7878999999999996,1.0999999999999999E-2,0,0,-1.8333333333333331E-3,3.8530000000000002,-2.0678000000000001,1.3126,0.83660000000000001,0,0,-1.2500000000000031E-3]
[null,null,null,null,null,null,null,null,null,null,null,null,null,null,null,null,null,null,null,null,null,null,null,null,null,null,null,null,null,null,null,null,null,null,null,null,null,null,null,null,null,null,null,null,null,null,null,null,null,null,null,null,null,null,null,null,null,null,null,null,null,null,null,null,null,null,null,null,null,null,null,null,null,null,null,null,null,null,null,null,null,null,null,null,null,null,null,null,null,null,null,null,null,null,null,null,null,null,null,null,null,null,null,null,"MP_LED",2835,"LM281B",0.15,null,0.16,115,25,25,80,4000,67.3,"S4 (65.3-69.3)",3.05,"A3 (3.0-3.1)",-54.113,6.8182,6.7878999999999996,1.0999999999999999E-2,0,0,-1.8333333333333331E-3,3.8530000000000002,-2.0678000000000001,1.3126,0.83660000000000001,0,0,-1.2500000000000031E-3]
[null,null,null,null,null,null,null,null,null,null,null,null,null,null,null,null,null,null,null,null,null,null,null,null,null,null,null,null,null,null,null,null,null,null,null,null,null,null,null,null,null,null,null,null,null,null,null,null,null,null,null,null,null,null,null,null,null,null,null,null,null,null,null,null,null,null,null,null,null,null,null,null,null,null,null,null,null,null,null,null,null,null,null,null,null,null,null,null,null,null,null,null,null,null,null,null,null,null,null,null,null,null,null,null,"MP_LED",2835,"LM281B",0.15,null,0.16,115,25,25,90,4000,51,"S2 (49-53)",3.05,"A3 (3.0-3.1)",-54.113,6.8182,6.7878999999999996,1.0999999999999999E-2,0,0,-1.8333333333333331E-3,3.8530000000000002,-2.0678000000000001,1.3126,0.83660000000000001,0,0,-1.2500000000000031E-3]
[null,null,null,null,null,null,null,null,null,null,null,null,null,null,null,null,null,null,null,null,null,null,null,null,null,null,null,null,null,null,null,null,null,null,null,null,null,null,null,null,null,null,null,null,null,null,null,null,null,null,null,null,null,null,null,null,null,null,null,null,null,null,null,null,null,null,null,null,null,null,null,null,null,null,null,null,null,null,null,null,null,null,null,null,null,null,null,null,null,null,null,null,null,null,null,null,null,null,null,null,null,null,null,null,"MP_LED",2835,"LM281B",0.15,null,0.16,115,25,25,90,4000,55,"S3 (53-57)",3.05,"A3 (3.0-3.1)",-54.113,6.8182,6.7878999999999996,1.0999999999999999E-2,0,0,-1.8333333333333331E-3,3.8530000000000002,-2.0678000000000001,1.3126,0.83660000000000001,0,0,-1.2500000000000031E-3]
[null,null,null,null,null,null,null,null,null,null,null,null,null,null,null,null,null,null,null,null,null,null,null,null,null,null,null,null,null,null,null,null,null,null,null,null,null,null,null,null,null,null,null,null,null,null,null,null,null,null,null,null,null,null,null,null,null,null,null,null,null,null,null,null,null,null,null,null,null,null,null,null,null,null,null,null,null,null,null,null,null,null,null,null,null,null,null,null,null,null,null,null,null,null,null,null,null,null,null,null,null,null,null,null,"MP_LED",2835,"LM281B",0.15,null,0.16,115,25,25,90,4000,59,"S4 (57-61)",3.05,"A3 (3.0-3.1)",-54.113,6.8182,6.7878999999999996,1.0999999999999999E-2,0,0,-1.8333333333333331E-3,3.8530000000000002,-2.0678000000000001,1.3126,0.83660000000000001,0,0,-1.2500000000000031E-3]
[null,null,null,null,null,null,null,null,null,null,null,null,null,null,null,null,null,null,null,null,null,null,null,null,null,null,null,null,null,null,null,null,null,null,null,null,null,null,null,null,null,null,null,null,null,null,null,null,null,null,null,null,null,null,null,null,null,null,null,null,null,null,null,null,null,null,null,null,null,null,null,null,null,null,null,null,null,null,null,null,null,null,null,null,null,null,null,null,null,null,null,null,null,null,null,null,null,null,null,null,null,null,null,null,"MP_LED",2835,"LM281B",0.15,null,0.16,115,25,25,80,5000,61.3,"S2 (59.3-63.3)",3.05,"A3 (3.0-3.1)",-54.113,6.8182,6.7878999999999996,1.0999999999999999E-2,0,0,-1.8333333333333331E-3,3.8530000000000002,-2.0678000000000001,1.3126,0.83660000000000001,0,0,-1.2500000000000031E-3]
[null,null,null,null,null,null,null,null,null,null,null,null,null,null,null,null,null,null,null,null,null,null,null,null,null,null,null,null,null,null,null,null,null,null,null,null,null,null,null,null,null,null,null,null,null,null,null,null,null,null,null,null,null,null,null,null,null,null,null,null,null,null,null,null,null,null,null,null,null,null,null,null,null,null,null,null,null,null,null,null,null,null,null,null,null,null,null,null,null,null,null,null,null,null,null,null,null,null,null,null,null,null,null,null,"MP_LED",2835,"LM281B",0.15,null,0.16,115,25,25,80,5000,65.3,"S3 (63.3-67.3)",3.05,"A3 (3.0-3.1)",-54.113,6.8182,6.7878999999999996,1.0999999999999999E-2,0,0,-1.8333333333333331E-3,3.8530000000000002,-2.0678000000000001,1.3126,0.83660000000000001,0,0,-1.2500000000000031E-3]
[null,null,null,null,null,null,null,null,null,null,null,null,null,null,null,null,null,null,null,null,null,null,null,null,null,null,null,null,null,null,null,null,null,null,null,null,null,null,null,null,null,null,null,null,null,null,null,null,null,null,null,null,null,null,null,null,null,null,null,null,null,null,null,null,null,null,null,null,null,null,null,null,null,null,null,null,null,null,null,null,null,null,null,null,null,null,null,null,null,null,null,null,null,null,null,null,null,null,null,null,null,null,null,null,"MP_LED",2835,"LM281B",0.15,null,0.16,115,25,25,80,5000,69.3,"S4 (67.3-71.3)",3.05,"A3 (3.0-3.1)",-54.113,6.8182,6.7878999999999996,1.0999999999999999E-2,0,0,-1.8333333333333331E-3,3.8530000000000002,-2.0678000000000001,1.3126,0.83660000000000001,0,0,-1.2500000000000031E-3]
[null,null,null,null,null,null,null,null,null,null,null,null,null,null,null,null,null,null,null,null,null,null,null,null,null,null,null,null,null,null,null,null,null,null,null,null,null,null,null,null,null,null,null,null,null,null,null,null,null,null,null,null,null,null,null,null,null,null,null,null,null,null,null,null,null,null,null,null,null,null,null,null,null,null,null,null,null,null,null,null,null,null,null,null,null,null,null,null,null,null,null,null,null,null,null,null,null,null,null,null,null,null,null,null,"MP_LED",2835,"LM281B",0.15,null,0.16,115,25,25,90,5000,53,"S2 (51-55)",3.05,"A3 (3.0-3.1)",-54.113,6.8182,6.7878999999999996,1.0999999999999999E-2,0,0,-1.8333333333333331E-3,3.8530000000000002,-2.0678000000000001,1.3126,0.83660000000000001,0,0,-1.2500000000000031E-3]
[null,null,null,null,null,null,null,null,null,null,null,null,null,null,null,null,null,null,null,null,null,null,null,null,null,null,null,null,null,null,null,null,null,null,null,null,null,null,null,null,null,null,null,null,null,null,null,null,null,null,null,null,null,null,null,null,null,null,null,null,null,null,null,null,null,null,null,null,null,null,null,null,null,null,null,null,null,null,null,null,null,null,null,null,null,null,null,null,null,null,null,null,null,null,null,null,null,null,null,null,null,null,null,null,"MP_LED",2835,"LM281B",0.15,null,0.16,115,25,25,90,5000,57,"S3 (55-59)",3.05,"A3 (3.0-3.1)",-54.113,6.8182,6.7878999999999996,1.0999999999999999E-2,0,0,-1.8333333333333331E-3,3.8530000000000002,-2.0678000000000001,1.3126,0.83660000000000001,0,0,-1.2500000000000031E-3]
[null,null,null,null,null,null,null,null,null,null,null,null,null,null,null,null,null,null,null,null,null,null,null,null,null,null,null,null,null,null,null,null,null,null,null,null,null,null,null,null,null,null,null,null,null,null,null,null,null,null,null,null,null,null,null,null,null,null,null,null,null,null,null,null,null,null,null,null,null,null,null,null,null,null,null,null,null,null,null,null,null,null,null,null,null,null,null,null,null,null,null,null,null,null,null,null,null,null,null,null,null,null,null,null,"MP_LED",2835,"LM281B",0.15,null,0.16,115,25,25,90,5000,61,"S4 (59-63)",3.05,"A3 (3.0-3.1)",-54.113,6.8182,6.7878999999999996,1.0999999999999999E-2,0,0,-1.8333333333333331E-3,3.8530000000000002,-2.0678000000000001,1.3126,0.83660000000000001,0,0,-1.2500000000000031E-3]
[null,null,null,null,null,null,null,null,null,null,null,null,null,null,null,null,null,null,null,null,null,null,null,null,null,null,null,null,null,null,null,null,null,null,null,null,null,null,null,null,null,null,null,null,null,null,null,null,null,null,null,null,null,null,null,null,null,null,null,null,null,null,null,null,null,null,null,null,null,null,null,null,null,null,null,null,null,null,null,null,null,null,null,null,null,null,null,null,null,null,null,null,null,null,null,null,null,null,null,null,null,null,null,null,"MP_LED",2835,"LM281B",0.15,null,0.16,115,25,25,80,5700,60.3,"S2 (58.3-62.3)",3.05,"A3 (3.0-3.1)",-54.113,6.8182,6.7878999999999996,1.0999999999999999E-2,0,0,-1.8333333333333331E-3,3.8530000000000002,-2.0678000000000001,1.3126,0.83660000000000001,0,0,-1.2500000000000031E-3]
[null,null,null,null,null,null,null,null,null,null,null,null,null,null,null,null,null,null,null,null,null,null,null,null,null,null,null,null,null,null,null,null,null,null,null,null,null,null,null,null,null,null,null,null,null,null,null,null,null,null,null,null,null,null,null,null,null,null,null,null,null,null,null,null,null,null,null,null,null,null,null,null,null,null,null,null,null,null,null,null,null,null,null,null,null,null,null,null,null,null,null,null,null,null,null,null,null,null,null,null,null,null,null,null,"MP_LED",2835,"LM281B",0.15,null,0.16,115,25,25,80,5700,64.3,"S3 (62.3-66.3)",3.05,"A3 (3.0-3.1)",-54.113,6.8182,6.7878999999999996,1.0999999999999999E-2,0,0,-1.8333333333333331E-3,3.8530000000000002,-2.0678000000000001,1.3126,0.83660000000000001,0,0,-1.2500000000000031E-3]
[null,null,null,null,null,null,null,null,null,null,null,null,null,null,null,null,null,null,null,null,null,null,null,null,null,null,null,null,null,null,null,null,null,null,null,null,null,null,null,null,null,null,null,null,null,null,null,null,null,null,null,null,null,null,null,null,null,null,null,null,null,null,null,null,null,null,null,null,null,null,null,null,null,null,null,null,null,null,null,null,null,null,null,null,null,null,null,null,null,null,null,null,null,null,null,null,null,null,null,null,null,null,null,null,"MP_LED",2835,"LM281B",0.15,null,0.16,115,25,25,80,5700,68.3,"S4 (66.3-70.3)",3.05,"A3 (3.0-3.1)",-54.113,6.8182,6.7878999999999996,1.0999999999999999E-2,0,0,-1.8333333333333331E-3,3.8530000000000002,-2.0678000000000001,1.3126,0.83660000000000001,0,0,-1.2500000000000031E-3]
[null,null,null,null,null,null,null,null,null,null,null,null,null,null,null,null,null,null,null,null,null,null,null,null,null,null,null,null,null,null,null,null,null,null,null,null,null,null,null,null,null,null,null,null,null,null,null,null,null,null,null,null,null,null,null,null,null,null,null,null,null,null,null,null,null,null,null,null,null,null,null,null,null,null,null,null,null,null,null,null,null,null,null,null,null,null,null,null,null,null,null,null,null,null,null,null,null,null,null,null,null,null,null,null,"MP_LED",2835,"LM281B",0.15,null,0.16,115,25,25,90,5700,52,"S2 (50-54)",3.05,"A3 (3.0-3.1)",-54.113,6.8182,6.7878999999999996,1.0999999999999999E-2,0,0,-1.8333333333333331E-3,3.8530000000000002,-2.0678000000000001,1.3126,0.83660000000000001,0,0,-1.2500000000000031E-3]
[null,null,null,null,null,null,null,null,null,null,null,null,null,null,null,null,null,null,null,null,null,null,null,null,null,null,null,null,null,null,null,null,null,null,null,null,null,null,null,null,null,null,null,null,null,null,null,null,null,null,null,null,null,null,null,null,null,null,null,null,null,null,null,null,null,null,null,null,null,null,null,null,null,null,null,null,null,null,null,null,null,null,null,null,null,null,null,null,null,null,null,null,null,null,null,null,null,null,null,null,null,null,null,null,"MP_LED",2835,"LM281B",0.15,null,0.16,115,25,25,90,5700,56,"S3 (54-58)",3.05,"A3 (3.0-3.1)",-54.113,6.8182,6.7878999999999996,1.0999999999999999E-2,0,0,-1.8333333333333331E-3,3.8530000000000002,-2.0678000000000001,1.3126,0.83660000000000001,0,0,-1.2500000000000031E-3]
[null,null,null,null,null,null,null,null,null,null,null,null,null,null,null,null,null,null,null,null,null,null,null,null,null,null,null,null,null,null,null,null,null,null,null,null,null,null,null,null,null,null,null,null,null,null,null,null,null,null,null,null,null,null,null,null,null,null,null,null,null,null,null,null,null,null,null,null,null,null,null,null,null,null,null,null,null,null,null,null,null,null,null,null,null,null,null,null,null,null,null,null,null,null,null,null,null,null,null,null,null,null,null,null,"MP_LED",2835,"LM281B",0.15,null,0.16,115,25,25,90,5700,60,"S4 (58-62)",3.05,"A3 (3.0-3.1)",-54.113,6.8182,6.7878999999999996,1.0999999999999999E-2,0,0,-1.8333333333333331E-3,3.8530000000000002,-2.0678000000000001,1.3126,0.83660000000000001,0,0,-1.2500000000000031E-3]
[null,null,null,null,null,null,null,null,null,null,null,null,null,null,null,null,null,null,null,null,null,null,null,null,null,null,null,null,null,null,null,null,null,null,null,null,null,null,null,null,null,null,null,null,null,null,null,null,null,null,null,null,null,null,null,null,null,null,null,null,null,null,null,null,null,null,null,null,null,null,null,null,null,null,null,null,null,null,null,null,null,null,null,null,null,null,null,null,null,null,null,null,null,null,null,null,null,null,null,null,null,null,null,null,"MP_LED",2835,"LM281B",0.15,null,0.16,115,25,25,80,6500,59.3,"S2 (57.3-61.3)",3.05,"A3 (3.0-3.1)",-54.113,6.8182,6.7878999999999996,1.0999999999999999E-2,0,0,-1.8333333333333331E-3,3.8530000000000002,-2.0678000000000001,1.3126,0.83660000000000001,0,0,-1.2500000000000031E-3]
[null,null,null,null,null,null,null,null,null,null,null,null,null,null,null,null,null,null,null,null,null,null,null,null,null,null,null,null,null,null,null,null,null,null,null,null,null,null,null,null,null,null,null,null,null,null,null,null,null,null,null,null,null,null,null,null,null,null,null,null,null,null,null,null,null,null,null,null,null,null,null,null,null,null,null,null,null,null,null,null,null,null,null,null,null,null,null,null,null,null,null,null,null,null,null,null,null,null,null,null,null,null,null,null,"MP_LED",2835,"LM281B",0.15,null,0.16,115,25,25,80,6500,63.3,"S3 (61.3-65.3)",3.05,"A3 (3.0-3.1)",-54.113,6.8182,6.7878999999999996,1.0999999999999999E-2,0,0,-1.8333333333333331E-3,3.8530000000000002,-2.0678000000000001,1.3126,0.83660000000000001,0,0,-1.2500000000000031E-3]
[null,null,null,null,null,null,null,null,null,null,null,null,null,null,null,null,null,null,null,null,null,null,null,null,null,null,null,null,null,null,null,null,null,null,null,null,null,null,null,null,null,null,null,null,null,null,null,null,null,null,null,null,null,null,null,null,null,null,null,null,null,null,null,null,null,null,null,null,null,null,null,null,null,null,null,null,null,null,null,null,null,null,null,null,null,null,null,null,null,null,null,null,null,null,null,null,null,null,null,null,null,null,null,null,"MP_LED",2835,"LM281B",0.15,null,0.16,115,25,25,80,6500,67.3,"S4 (65.3-69.3)",3.05,"A3 (3.0-3.1)",-54.113,6.8182,6.7878999999999996,1.0999999999999999E-2,0,0,-1.8333333333333331E-3,3.8530000000000002,-2.0678000000000001,1.3126,0.83660000000000001,0,0,-1.2500000000000031E-3]
[null,null,null,null,null,null,null,null,null,null,null,null,null,null,null,null,null,null,null,null,null,null,null,null,null,null,null,null,null,null,null,null,null,null,null,null,null,null,null,null,null,null,null,null,null,null,null,null,null,null,null,null,null,null,null,null,null,null,null,null,null,null,null,null,null,null,null,null,null,null,null,null,null,null,null,null,null,null,null,null,null,null,null,null,null,null,null,null,null,null,null,null,null,null,null,null,null,null,null,null,null,null,null,null,"MP_LED",2835,"LM281B",0.15,null,0.16,115,25,25,90,6500,51,"S2 (49-53)",3.05,"A3 (3.0-3.1)",-54.113,6.8182,6.7878999999999996,1.0999999999999999E-2,0,0,-1.8333333333333331E-3,3.8530000000000002,-2.0678000000000001,1.3126,0.83660000000000001,0,0,-1.2500000000000031E-3]
[null,null,null,null,null,null,null,null,null,null,null,null,null,null,null,null,null,null,null,null,null,null,null,null,null,null,null,null,null,null,null,null,null,null,null,null,null,null,null,null,null,null,null,null,null,null,null,null,null,null,null,null,null,null,null,null,null,null,null,null,null,null,null,null,null,null,null,null,null,null,null,null,null,null,null,null,null,null,null,null,null,null,null,null,null,null,null,null,null,null,null,null,null,null,null,null,null,null,null,null,null,null,null,null,"MP_LED",2835,"LM281B",0.15,null,0.16,115,25,25,90,6500,55,"S3 (53-57)",3.05,"A3 (3.0-3.1)",-54.113,6.8182,6.7878999999999996,1.0999999999999999E-2,0,0,-1.8333333333333331E-3,3.8530000000000002,-2.0678000000000001,1.3126,0.83660000000000001,0,0,-1.2500000000000031E-3]
[null,null,null,null,null,null,null,null,null,null,null,null,null,null,null,null,null,null,null,null,null,null,null,null,null,null,null,null,null,null,null,null,null,null,null,null,null,null,null,null,null,null,null,null,null,null,null,null,null,null,null,null,null,null,null,null,null,null,null,null,null,null,null,null,null,null,null,null,null,null,null,null,null,null,null,null,null,null,null,null,null,null,null,null,null,null,null,null,null,null,null,null,null,null,null,null,null,null,null,null,null,null,null,null,"MP_LED",2835,"LM281B",0.15,null,0.16,115,25,25,90,6500,59,"S4 (57-61)",3.05,"A3 (3.0-3.1)",-54.113,6.8182,6.7878999999999996,1.0999999999999999E-2,0,0,-1.8333333333333331E-3,3.8530000000000002,-2.0678000000000001,1.3126,0.83660000000000001,0,0,-1.2500000000000031E-3]
[null,null,null,null,null,null,null,null,null,null,null,null,null,null,null,null,null,null,null,null,null,null,null,null,null,null,null,null,null,null,null,null,null,null,null,null,null,null,null,null,null,null,null,null,null,null,null,null,null,null,null,null,null,null,null,null,null,null,null,null,null,null,null,null,null,null,null,null,null,null,null,null,null,null,null,null,null,null,null,null,null,null,null,null,null,null,null,null,null,null,null,null,null,null,null,null,null,null,null,null,null,null,null,null,"MP_LED",2835,"LM281B plus",0.15,null,0.16,115,25,25,80,2700,54.5,"SA (52.5-56.5)",2.95,"A2 (2.9-3.0)",-29.303999999999998,-1.3187,7.5216000000000003,2.9999999999999997E-4,0,0,-1.6666666666666663E-3,18.468,-6.4606000000000003,1.3379000000000001,0.88229999999999997,0,0,-1.0000000000000009E-3]
[null,null,null,null,null,null,null,null,null,null,null,null,null,null,null,null,null,null,null,null,null,null,null,null,null,null,null,null,null,null,null,null,null,null,null,null,null,null,null,null,null,null,null,null,null,null,null,null,null,null,null,null,null,null,null,null,null,null,null,null,null,null,null,null,null,null,null,null,null,null,null,null,null,null,null,null,null,null,null,null,null,null,null,null,null,null,null,null,null,null,null,null,null,null,null,null,null,null,null,null,null,null,null,null,"MP_LED",2835,"LM281B plus",0.15,null,0.16,115,25,25,80,2700,58.5,"SC (56.5-60.5)",2.95,"A2 (2.9-3.0)",-29.303999999999998,-1.3187,7.5216000000000003,2.9999999999999997E-4,0,0,-1.6666666666666663E-3,18.468,-6.4606000000000003,1.3379000000000001,0.88229999999999997,0,0,-1.0000000000000009E-3]
[null,null,null,null,null,null,null,null,null,null,null,null,null,null,null,null,null,null,null,null,null,null,null,null,null,null,null,null,null,null,null,null,null,null,null,null,null,null,null,null,null,null,null,null,null,null,null,null,null,null,null,null,null,null,null,null,null,null,null,null,null,null,null,null,null,null,null,null,null,null,null,null,null,null,null,null,null,null,null,null,null,null,null,null,null,null,null,null,null,null,null,null,null,null,null,null,null,null,null,null,null,null,null,null,"MP_LED",2835,"LM281B plus",0.15,null,0.16,115,25,25,80,2700,62.5,"SE (60.5-64.5)",2.95,"A2 (2.9-3.0)",-29.303999999999998,-1.3187,7.5216000000000003,2.9999999999999997E-4,0,0,-1.6666666666666663E-3,18.468,-6.4606000000000003,1.3379000000000001,0.88229999999999997,0,0,-1.0000000000000009E-3]
[null,null,null,null,null,null,null,null,null,null,null,null,null,null,null,null,null,null,null,null,null,null,null,null,null,null,null,null,null,null,null,null,null,null,null,null,null,null,null,null,null,null,null,null,null,null,null,null,null,null,null,null,null,null,null,null,null,null,null,null,null,null,null,null,null,null,null,null,null,null,null,null,null,null,null,null,null,null,null,null,null,null,null,null,null,null,null,null,null,null,null,null,null,null,null,null,null,null,null,null,null,null,null,null,"MP_LED",2835,"LM281B plus",0.15,null,0.16,115,25,25,80,2700,66.5,"SG (64.5-68.5)",2.95,"A2 (2.9-3.0)",-29.303999999999998,-1.3187,7.5216000000000003,2.9999999999999997E-4,0,0,-1.6666666666666663E-3,18.468,-6.4606000000000003,1.3379000000000001,0.88229999999999997,0,0,-1.0000000000000009E-3]
[null,null,null,null,null,null,null,null,null,null,null,null,null,null,null,null,null,null,null,null,null,null,null,null,null,null,null,null,null,null,null,null,null,null,null,null,null,null,null,null,null,null,null,null,null,null,null,null,null,null,null,null,null,null,null,null,null,null,null,null,null,null,null,null,null,null,null,null,null,null,null,null,null,null,null,null,null,null,null,null,null,null,null,null,null,null,null,null,null,null,null,null,null,null,null,null,null,null,null,null,null,null,null,null,"MP_LED",2835,"LM281B plus",0.15,null,0.16,115,25,25,80,2700,{"$f":"AVERAGE(70.5,74.5)","v":72.5},"SJ (70.5-74.5)",2.95,"A2 (2.9-3.0)",-29.303999999999998,-1.3187,7.5216000000000003,2.9999999999999997E-4,0,0,-1.6666666666666663E-3,18.468,-6.4606000000000003,1.3379000000000001,0.88229999999999997,0,0,-1.0000000000000009E-3]
[null,null,null,null,null,null,null,null,null,null,null,null,null,null,null,null,null,null,null,null,null,null,null,null,null,null,null,null,null,null,null,null,null,null,null,null,null,null,null,null,null,null,null,null,null,null,null,null,null,null,null,null,null,null,null,null,null,null,null,null,null,null,null,null,null,null,null,null,null,null,null,null,null,null,null,null,null,null,null,null,null,null,null,null,null,null,null,null,null,null,null,null,null,null,null,null,null,null,null,null,null,null,null,null,"MP_LED",2835,"LM281B plus",0.15,null,0.16,115,25,25,90,2700,45.25,"SA (43.5-47.0)",2.95,"A2 (2.9-3.0)",-29.303999999999998,-1.3187,7.5216000000000003,2.9999999999999997E-4,0,0,-1.6666666666666663E-3,18.468,-6.4606000000000003,1.3379000000000001,0.88229999999999997,0,0,-1.0000000000000009E-3]
[null,null,null,null,null,null,null,null,null,null,null,null,null,null,null,null,null,null,null,null,null,null,null,null,null,null,null,null,null,null,null,null,null,null,null,null,null,null,null,null,null,null,null,null,null,null,null,null,null,null,null,null,null,null,null,null,null,null,null,null,null,null,null,null,null,null,null,null,null,null,null,null,null,null,null,null,null,null,null,null,null,null,null,null,null,null,null,null,null,null,null,null,null,null,null,null,null,null,null,null,null,null,null,null,"MP_LED",2835,"LM281B plus",0.15,null,0.16,115,25,25,90,2700,48.75,"SC (47.0-50.5)",2.95,"A2 (2.9-3.0)",-29.303999999999998,-1.3187,7.5216000000000003,2.9999999999999997E-4,0,0,-1.6666666666666663E-3,18.468,-6.4606000000000003,1.3379000000000001,0.88229999999999997,0,0,-1.0000000000000009E-3]
[null,null,null,null,null,null,null,null,null,null,null,null,null,null,null,null,null,null,null,null,null,null,null,null,null,null,null,null,null,null,null,null,null,null,null,null,null,null,null,null,null,null,null,null,null,null,null,null,null,null,null,null,null,null,null,null,null,null,null,null,null,null,null,null,null,null,null,null,null,null,null,null,null,null,null,null,null,null,null,null,null,null,null,null,null,null,null,null,null,null,null,null,null,null,null,null,null,null,null,null,null,null,null,null,"MP_LED",2835,"LM281B plus",0.15,null,0.16,115,25,25,90,2700,52.25,"SE (50.5-54.0)",2.95,"A2 (2.9-3.0)",-29.303999999999998,-1.3187,7.5216000000000003,2.9999999999999997E-4,0,0,-1.6666666666666663E-3,18.468,-6.4606000000000003,1.3379000000000001,0.88229999999999997,0,0,-1.0000000000000009E-3]
[null,null,null,null,null,null,null,null,null,null,null,null,null,null,null,null,null,null,null,null,null,null,null,null,null,null,null,null,null,null,null,null,null,null,null,null,null,null,null,null,null,null,null,null,null,null,null,null,null,null,null,null,null,null,null,null,null,null,null,null,null,null,null,null,null,null,null,null,null,null,null,null,null,null,null,null,null,null,null,null,null,null,null,null,null,null,null,null,null,null,null,null,null,null,null,null,null,null,null,null,null,null,null,null,"MP_LED",2835,"LM281B plus",0.15,null,0.16,115,25,25,90,2700,55.75,"SG (54-57.5)",2.95,"A2 (2.9-3.0)",-29.303999999999998,-1.3187,7.5216000000000003,2.9999999999999997E-4,0,0,-1.6666666666666663E-3,18.468,-6.4606000000000003,1.3379000000000001,0.88229999999999997,0,0,-1.0000000000000009E-3]
[null,null,null,null,null,null,null,null,null,null,null,null,null,null,null,null,null,null,null,null,null,null,null,null,null,null,null,null,null,null,null,null,null,null,null,null,null,null,null,null,null,null,null,null,null,null,null,null,null,null,null,null,null,null,null,null,null,null,null,null,null,null,null,null,null,null,null,null,null,null,null,null,null,null,null,null,null,null,null,null,null,null,null,null,null,null,null,null,null,null,null,null,null,null,null,null,null,null,null,null,null,null,null,null,"MP_LED",2835,"LM281B plus",0.15,null,0.16,115,25,25,80,3000,56.5,"SA (54.5-58.5)",2.95,"A2 (2.9-3.0)",-29.303999999999998,-1.3187,7.5216000000000003,2.9999999999999997E-4,0,0,-1.6666666666666663E-3,18.468,-6.4606000000000003,1.3379000000000001,0.88229999999999997,0,0,-1.0000000000000009E-3]
[null,null,null,null,null,null,null,null,null,null,null,null,null,null,null,null,null,null,null,null,null,null,null,null,null,null,null,null,null,null,null,null,null,null,null,null,null,null,null,null,null,null,null,null,null,null,null,null,null,null,null,null,null,null,null,null,null,null,null,null,null,null,null,null,null,null,null,null,null,null,null,null,null,null,null,null,null,null,null,null,null,null,null,null,null,null,null,null,null,null,null,null,null,null,null,null,null,null,null,null,null,null,null,null,"MP_LED",2835,"LM281B plus",0.15,null,0.16,115,25,25,80,3000,60.5,"SC (58.5-62.5)",2.95,"A2 (2.9-3.0)",-29.303999999999998,-1.3187,7.5216000000000003,2.9999999999999997E-4,0,0,-1.6666666666666663E-3,18.468,-6.4606000000000003,1.3379000000000001,0.88229999999999997,0,0,-1.0000000000000009E-3]
[null,null,null,null,null,null,null,null,null,null,null,null,null,null,null,null,null,null,null,null,null,null,null,null,null,null,null,null,null,null,null,null,null,null,null,null,null,null,null,null,null,null,null,null,null,null,null,null,null,null,null,null,null,null,null,null,null,null,null,null,null,null,null,null,null,null,null,null,null,null,null,null,null,null,null,null,null,null,null,null,null,null,null,null,null,null,null,null,null,null,null,null,null,null,null,null,null,null,null,null,null,null,null,null,"MP_LED",2835,"LM281B plus",0.15,null,0.16,115,25,25,80,3000,64.5,"SE (62.5-66.5)",2.95,"A2 (2.9-3.0)",-29.303999999999998,-1.3187,7.5216000000000003,2.9999999999999997E-4,0,0,-1.6666666666666663E-3,18.468,-6.4606000000000003,1.3379000000000001,0.88229999999999997,0,0,-1.0000000000000009E-3]
[null,null,null,null,null,null,null,null,null,null,null,null,null,null,null,null,null,null,null,null,null,null,null,null,null,null,null,null,null,null,null,null,null,null,null,null,null,null,null,null,null,null,null,null,null,null,null,null,null,null,null,null,null,null,null,null,null,null,null,null,null,null,null,null,null,null,null,null,null,null,null,null,null,null,null,null,null,null,null,null,null,null,null,null,null,null,null,null,null,null,null,null,null,null,null,null,null,null,null,null,null,null,null,null,"MP_LED",2835,"LM281B plus",0.15,null,0.16,115,25,25,80,3000,68.5,"SG (66.5-70.5)",2.95,"A2 (2.9-3.0)",-29.303999999999998,-1.3187,7.5216000000000003,2.9999999999999997E-4,0,0,-1.6666666666666663E-3,18.468,-6.4606000000000003,1.3379000000000001,0.88229999999999997,0,0,-1.0000000000000009E-3]
[null,null,null,null,null,null,null,null,null,null,null,null,null,null,null,null,null,null,null,null,null,null,null,null,null,null,null,null,null,null,null,null,null,null,null,null,null,null,null,null,null,null,null,null,null,null,null,null,null,null,null,null,null,null,null,null,null,null,null,null,null,null,null,null,null,null,null,null,null,null,null,null,null,null,null,null,null,null,null,null,null,null,null,null,null,null,null,null,null,null,null,null,null,null,null,null,null,null,null,null,null,null,null,null,"MP_LED",2835,"LM281B plus",0.15,null,0.16,115,25,25,80,3000,{"$f":"AVERAGE(72.5,76.5)","v":74.5},"SJ (72.5-76.5)",2.95,"A2 (2.9-3.0)",-29.303999999999998,-1.3187,7.5216000000000003,2.9999999999999997E-4,0,0,-1.6666666666666663E-3,18.468,-6.4606000000000003,1.3379000000000001,0.88229999999999997,0,0,-1.0000000000000009E-3]
[null,null,null,null,null,null,null,null,null,null,null,null,null,null,null,null,null,null,null,null,null,null,null,null,null,null,null,null,null,null,null,null,null,null,null,null,null,null,null,null,null,null,null,null,null,null,null,null,null,null,null,null,null,null,null,null,null,null,null,null,null,null,null,null,null,null,null,null,null,null,null,null,null,null,null,null,null,null,null,null,null,null,null,null,null,null,null,null,null,null,null,null,null,null,null,null,null,null,null,null,null,null,null,null,"MP_LED",2835,"LM281B plus",0.15,null,0.16,115,25,25,90,3000,49.75,"SA (48-51.5)",2.95,"A2 (2.9-3.0)",-29.303999999999998,-1.3187,7.5216000000000003,2.9999999999999997E-4,0,0,-1.6666666666666663E-3,18.468,-6.4606000000000003,1.3379000000000001,0.88229999999999997,0,0,-1.0000000000000009E-3]
[null,null,null,null,null,null,null,null,null,null,null,null,null,null,null,null,null,null,null,null,null,null,null,null,null,null,null,null,null,null,null,null,null,null,null,null,null,null,null,null,null,null,null,null,null,null,null,null,null,null,null,null,null,null,null,null,null,null,null,null,null,null,null,null,null,null,null,null,null,null,null,null,null,null,null,null,null,null,null,null,null,null,null,null,null,null,null,null,null,null,null,null,null,null,null,null,null,null,null,null,null,null,null,null,"MP_LED",2835,"LM281B plus",0.15,null,0.16,115,25,25,90,3000,53.25,"SC (51.5-55.0)",2.95,"A2 (2.9-3.0)",-29.303999999999998,-1.3187,7.5216000000000003,2.9999999999999997E-4,0,0,-1.6666666666666663E-3,18.468,-6.4606000000000003,1.3379000000000001,0.88229999999999997,0,0,-1.0000000000000009E-3]
[null,null,null,null,null,null,null,null,null,null,null,null,null,null,null,null,null,null,null,null,null,null,null,null,null,null,null,null,null,null,null,null,null,null,null,null,null,null,null,null,null,null,null,null,null,null,null,null,null,null,null,null,null,null,null,null,null,null,null,null,null,null,null,null,null,null,null,null,null,null,null,null,null,null,null,null,null,null,null,null,null,null,null,null,null,null,null,null,null,null,null,null,null,null,null,null,null,null,null,null,null,null,null,null,"MP_LED",2835,"LM281B plus",0.15,null,0.16,115,25,25,90,3000,56.75,"SE (55.0-58.5)",2.95,"A2 (2.9-3.0)",-29.303999999999998,-1.3187,7.5216000000000003,2.9999999999999997E-4,0,0,-1.6666666666666663E-3,18.468,-6.4606000000000003,1.3379000000000001,0.88229999999999997,0,0,-1.0000000000000009E-3]
[null,null,null,null,null,null,null,null,null,null,null,null,null,null,null,null,null,null,null,null,null,null,null,null,null,null,null,null,null,null,null,null,null,null,null,null,null,null,null,null,null,null,null,null,null,null,null,null,null,null,null,null,null,null,null,null,null,null,null,null,null,null,null,null,null,null,null,null,null,null,null,null,null,null,null,null,null,null,null,null,null,null,null,null,null,null,null,null,null,null,null,null,null,null,null,null,null,null,null,null,null,null,null,null,"MP_LED",2835,"LM281B plus",0.15,null,0.16,115,25,25,90,3000,60.25,"SG (58.5-62.0)",2.95,"A2 (2.9-3.0)",-29.303999999999998,-1.3187,7.5216000000000003,2.9999999999999997E-4,0,0,-1.6666666666666663E-3,18.468,-6.4606000000000003,1.3379000000000001,0.88229999999999997,0,0,-1.0000000000000009E-3]
[null,null,null,null,null,null,null,null,null,null,null,null,null,null,null,null,null,null,null,null,null,null,null,null,null,null,null,null,null,null,null,null,null,null,null,null,null,null,null,null,null,null,null,null,null,null,null,null,null,null,null,null,null,null,null,null,null,null,null,null,null,null,null,null,null,null,null,null,null,null,null,null,null,null,null,null,null,null,null,null,null,null,null,null,null,null,null,null,null,null,null,null,null,null,null,null,null,null,null,null,null,null,null,null,"MP_LED",2835,"LM281B plus",0.15,null,0.16,115,25,25,80,3500,57.5,"SA (55.5-59.5)",2.95,"A2 (2.9-3.0)",-29.303999999999998,-1.3187,7.5216000000000003,2.9999999999999997E-4,0,0,-1.6666666666666663E-3,18.468,-6.4606000000000003,1.3379000000000001,0.88229999999999997,0,0,-1.0000000000000009E-3]
[null,null,null,null,null,null,null,null,null,null,null,null,null,null,null,null,null,null,null,null,null,null,null,null,null,null,null,null,null,null,null,null,null,null,null,null,null,null,null,null,null,null,null,null,null,null,null,null,null,null,null,null,null,null,null,null,null,null,null,null,null,null,null,null,null,null,null,null,null,null,null,null,null,null,null,null,null,null,null,null,null,null,null,null,null,null,null,null,null,null,null,null,null,null,null,null,null,null,null,null,null,null,null,null,"MP_LED",2835,"LM281B plus",0.15,null,0.16,115,25,25,80,3500,61.5,"SC (59.5-63.5)",2.95,"A2 (2.9-3.0)",-29.303999999999998,-1.3187,7.5216000000000003,2.9999999999999997E-4,0,0,-1.6666666666666663E-3,18.468,-6.4606000000000003,1.3379000000000001,0.88229999999999997,0,0,-1.0000000000000009E-3]
[null,null,null,null,null,null,null,null,null,null,null,null,null,null,null,null,null,null,null,null,null,null,null,null,null,null,null,null,null,null,null,null,null,null,null,null,null,null,null,null,null,null,null,null,null,null,null,null,null,null,null,null,null,null,null,null,null,null,null,null,null,null,null,null,null,null,null,null,null,null,null,null,null,null,null,null,null,null,null,null,null,null,null,null,null,null,null,null,null,null,null,null,null,null,null,null,null,null,null,null,null,null,null,null,"MP_LED",2835,"LM281B plus",0.15,null,0.16,115,25,25,80,3500,65.5,"SE (63.5-67.5)",2.95,"A2 (2.9-3.0)",-29.303999999999998,-1.3187,7.5216000000000003,2.9999999999999997E-4,0,0,-1.6666666666666663E-3,18.468,-6.4606000000000003,1.3379000000000001,0.88229999999999997,0,0,-1.0000000000000009E-3]
[null,null,null,null,null,null,null,null,null,null,null,null,null,null,null,null,null,null,null,null,null,null,null,null,null,null,null,null,null,null,null,null,null,null,null,null,null,null,null,null,null,null,null,null,null,null,null,null,null,null,null,null,null,null,null,null,null,null,null,null,null,null,null,null,null,null,null,null,null,null,null,null,null,null,null,null,null,null,null,null,null,null,null,null,null,null,null,null,null,null,null,null,null,null,null,null,null,null,null,null,null,null,null,null,"MP_LED",2835,"LM281B plus",0.15,null,0.16,115,25,25,80,3500,69.5,"SG (67.5-71.5)",2.95,"A2 (2.9-3.0)",-29.303999999999998,-1.3187,7.5216000000000003,2.9999999999999997E-4,0,0,-1.6666666666666663E-3,18.468,-6.4606000000000003,1.3379000000000001,0.88229999999999997,0,0,-1.0000000000000009E-3]
[null,null,null,null,null,null,null,null,null,null,null,null,null,null,null,null,null,null,null,null,null,null,null,null,null,null,null,null,null,null,null,null,null,null,null,null,null,null,null,null,null,null,null,null,null,null,null,null,null,null,null,null,null,null,null,null,null,null,null,null,null,null,null,null,null,null,null,null,null,null,null,null,null,null,null,null,null,null,null,null,null,null,null,null,null,null,null,null,null,null,null,null,null,null,null,null,null,null,null,null,null,null,null,null,"MP_LED",2835,"LM281B plus",0.15,null,0.16,115,25,25,80,3500,{"$f":"AVERAGE(73.5,77.5)","v":75.5},"SJ (73.5-77.5)",2.95,"A2 (2.9-3.0)",-29.303999999999998,-1.3187,7.5216000000000003,2.9999999999999997E-4,0,0,-1.6666666666666663E-3,18.468,-6.4606000000000003,1.3379000000000001,0.88229999999999997,0,0,-1.0000000000000009E-3]
[null,null,null,null,null,null,null,null,null,null,null,null,null,null,null,null,null,null,null,null,null,null,null,null,null,null,null,null,null,null,null,null,null,null,null,null,null,null,null,null,null,null,null,null,null,null,null,null,null,null,null,null,null,null,null,null,null,null,null,null,null,null,null,null,null,null,null,null,null,null,null,null,null,null,null,null,null,null,null,null,null,null,null,null,null,null,null,null,null,null,null,null,null,null,null,null,null,null,null,null,null,null,null,null,"MP_LED",2835,"LM281B plus",0.15,null,0.16,115,25,25,90,3500,49.25,"SA (47.5-51.0)",2.95,"A2 (2.9-3.0)",-29.303999999999998,-1.3187,7.5216000000000003,2.9999999999999997E-4,0,0,-1.6666666666666663E-3,18.468,-6.4606000000000003,1.3379000000000001,0.88229999999999997,0,0,-1.0000000000000009E-3]
[null,null,null,null,null,null,null,null,null,null,null,null,null,null,null,null,null,null,null,null,null,null,null,null,null,null,null,null,null,null,null,null,null,null,null,null,null,null,null,null,null,null,null,null,null,null,null,null,null,null,null,null,null,null,null,null,null,null,null,null,null,null,null,null,null,null,null,null,null,null,null,null,null,null,null,null,null,null,null,null,null,null,null,null,null,null,null,null,null,null,null,null,null,null,null,null,null,null,null,null,null,null,null,null,"MP_LED",2835,"LM281B plus",0.15,null,0.16,115,25,25,90,3500,52.75,"SC (51.0-54.5)",2.95,"A2 (2.9-3.0)",-29.303999999999998,-1.3187,7.5216000000000003,2.9999999999999997E-4,0,0,-1.6666666666666663E-3,18.468,-6.4606000000000003,1.3379000000000001,0.88229999999999997,0,0,-1.0000000000000009E-3]
[null,null,null,null,null,null,null,null,null,null,null,null,null,null,null,null,null,null,null,null,null,null,null,null,null,null,null,null,null,null,null,null,null,null,null,null,null,null,null,null,null,null,null,null,null,null,null,null,null,null,null,null,null,null,null,null,null,null,null,null,null,null,null,null,null,null,null,null,null,null,null,null,null,null,null,null,null,null,null,null,null,null,null,null,null,null,null,null,null,null,null,null,null,null,null,null,null,null,null,null,null,null,null,null,"MP_LED",2835,"LM281B plus",0.15,null,0.16,115,25,25,90,3500,56.25,"SE (54.5-58.0)",2.95,"A2 (2.9-3.0)",-29.303999999999998,-1.3187,7.5216000000000003,2.9999999999999997E-4,0,0,-1.6666666666666663E-3,18.468,-6.4606000000000003,1.3379000000000001,0.88229999999999997,0,0,-1.0000000000000009E-3]
[null,null,null,null,null,null,null,null,null,null,null,null,null,null,null,null,null,null,null,null,null,null,null,null,null,null,null,null,null,null,null,null,null,null,null,null,null,null,null,null,null,null,null,null,null,null,null,null,null,null,null,null,null,null,null,null,null,null,null,null,null,null,null,null,null,null,null,null,null,null,null,null,null,null,null,null,null,null,null,null,null,null,null,null,null,null,null,null,null,null,null,null,null,null,null,null,null,null,null,null,null,null,null,null,"MP_LED",2835,"LM281B plus",0.15,null,0.16,115,25,25,90,3500,59.75,"SG (58.0-61.5)",2.95,"A2 (2.9-3.0)",-29.303999999999998,-1.3187,7.5216000000000003,2.9999999999999997E-4,0,0,-1.6666666666666663E-3,18.468,-6.4606000000000003,1.3379000000000001,0.88229999999999997,0,0,-1.0000000000000009E-3]
[null,null,null,null,null,null,null,null,null,null,null,null,null,null,null,null,null,null,null,null,null,null,null,null,null,null,null,null,null,null,null,null,null,null,null,null,null,null,null,null,null,null,null,null,null,null,null,null,null,null,null,null,null,null,null,null,null,null,null,null,null,null,null,null,null,null,null,null,null,null,null,null,null,null,null,null,null,null,null,null,null,null,null,null,null,null,null,null,null,null,null,null,null,null,null,null,null,null,null,null,null,null,null,null,"MP_LED",2835,"LM281B plus",0.15,null,0.16,115,25,25,80,4000,60,"SA (58.0-62.0)",2.95,"A2 (2.9-3.0)",-29.303999999999998,-1.3187,7.5216000000000003,2.9999999999999997E-4,0,0,-1.6666666666666663E-3,18.468,-6.4606000000000003,1.3379000000000001,0.88229999999999997,0,0,-1.0000000000000009E-3]
[null,null,null,null,null,null,null,null,null,null,null,null,null,null,null,null,null,null,null,null,null,null,null,null,null,null,null,null,null,null,null,null,null,null,null,null,null,null,null,null,null,null,null,null,null,null,null,null,null,null,null,null,null,null,null,null,null,null,null,null,null,null,null,null,null,null,null,null,null,null,null,null,null,null,null,null,null,null,null,null,null,null,null,null,null,null,null,null,null,null,null,null,null,null,null,null,null,null,null,null,null,null,null,null,"MP_LED",2835,"LM281B plus",0.15,null,0.16,115,25,25,80,4000,64,"SC (62.0-66.0)",2.95,"A2 (2.9-3.0)",-29.303999999999998,-1.3187,7.5216000000000003,2.9999999999999997E-4,0,0,-1.6666666666666663E-3,18.468,-6.4606000000000003,1.3379000000000001,0.88229999999999997,0,0,-1.0000000000000009E-3]
[null,null,null,null,null,null,null,null,null,null,null,null,null,null,null,null,null,null,null,null,null,null,null,null,null,null,null,null,null,null,null,null,null,null,null,null,null,null,null,null,null,null,null,null,null,null,null,null,null,null,null,null,null,null,null,null,null,null,null,null,null,null,null,null,null,null,null,null,null,null,null,null,null,null,null,null,null,null,null,null,null,null,null,null,null,null,null,null,null,null,null,null,null,null,null,null,null,null,null,null,null,null,null,null,"MP_LED",2835,"LM281B plus",0.15,null,0.16,115,25,25,80,4000,68,"SE (66.0-70.0)",2.95,"A2 (2.9-3.0)",-29.303999999999998,-1.3187,7.5216000000000003,2.9999999999999997E-4,0,0,-1.6666666666666663E-3,18.468,-6.4606000000000003,1.3379000000000001,0.88229999999999997,0,0,-1.0000000000000009E-3]
[null,null,null,null,null,null,null,null,null,null,null,null,null,null,null,null,null,null,null,null,null,null,null,null,null,null,null,null,null,null,null,null,null,null,null,null,null,null,null,null,null,null,null,null,null,null,null,null,null,null,null,null,null,null,null,null,null,null,null,null,null,null,null,null,null,null,null,null,null,null,null,null,null,null,null,null,null,null,null,null,null,null,null,null,null,null,null,null,null,null,null,null,null,null,null,null,null,null,null,null,null,null,null,null,"MP_LED",2835,"LM281B plus",0.15,null,0.16,115,25,25,80,4000,72,"SG (70.0-74.0)",2.95,"A2 (2.9-3.0)",-29.303999999999998,-1.3187,7.5216000000000003,2.9999999999999997E-4,0,0,-1.6666666666666663E-3,18.468,-6.4606000000000003,1.3379000000000001,0.88229999999999997,0,0,-1.0000000000000009E-3]
[null,null,null,null,null,null,null,null,null,null,null,null,null,null,null,null,null,null,null,null,null,null,null,null,null,null,null,null,null,null,null,null,null,null,null,null,null,null,null,null,null,null,null,null,null,null,null,null,null,null,null,null,null,null,null,null,null,null,null,null,null,null,null,null,null,null,null,null,null,null,null,null,null,null,null,null,null,null,null,null,null,null,null,null,null,null,null,null,null,null,null,null,null,null,null,null,null,null,null,null,null,null,null,null,"MP_LED",2835,"LM281B plus",0.15,null,0.16,115,25,25,80,4000,{"$f":"AVERAGE(76,80)","v":78},"SJ (76.0-80.0)",2.95,"A2 (2.9-3.0)",-29.303999999999998,-1.3187,7.5216000000000003,2.9999999999999997E-4,0,0,-1.6666666666666663E-3,18.468,-6.4606000000000003,1.3379000000000001,0.88229999999999997,0,0,-1.0000000000000009E-3]
[null,null,null,null,null,null,null,null,null,null,null,null,null,null,null,null,null,null,null,null,null,null,null,null,null,null,null,null,null,null,null,null,null,null,null,null,null,null,null,null,null,null,null,null,null,null,null,null,null,null,null,null,null,null,null,null,null,null,null,null,null,null,null,null,null,null,null,null,null,null,null,null,null,null,null,null,null,null,null,null,null,null,null,null,null,null,null,null,null,null,null,null,null,null,null,null,null,null,null,null,null,null,null,null,"MP_LED",2835,"LM281B plus",0.15,null,0.16,115,25,25,90,4000,50.75,"SA (49.0-52.5)",2.95,"A2 (2.9-3.0)",-29.303999999999998,-1.3187,7.5216000000000003,2.9999999999999997E-4,0,0,-1.6666666666666663E-3,18.468,-6.4606000000000003,1.3379000000000001,0.88229999999999997,0,0,-1.0000000000000009E-3]
[null,null,null,null,null,null,null,null,null,null,null,null,null,null,null,null,null,null,null,null,null,null,null,null,null,null,null,null,null,null,null,null,null,null,null,null,null,null,null,null,null,null,null,null,null,null,null,null,null,null,null,null,null,null,null,null,null,null,null,null,null,null,null,null,null,null,null,null,null,null,null,null,null,null,null,null,null,null,null,null,null,null,null,null,null,null,null,null,null,null,null,null,null,null,null,null,null,null,null,null,null,null,null,null,"MP_LED",2835,"LM281B plus",0.15,null,0.16,115,25,25,90,4000,54.25,"SC (52.5-56.0)",2.95,"A2 (2.9-3.0)",-29.303999999999998,-1.3187,7.5216000000000003,2.9999999999999997E-4,0,0,-1.6666666666666663E-3,18.468,-6.4606000000000003,1.3379000000000001,0.88229999999999997,0,0,-1.0000000000000009E-3]
[null,null,null,null,null,null,null,null,null,null,null,null,null,null,null,null,null,null,null,null,null,null,null,null,null,null,null,null,null,null,null,null,null,null,null,null,null,null,null,null,null,null,null,null,null,null,null,null,null,null,null,null,null,null,null,null,null,null,null,null,null,null,null,null,null,null,null,null,null,null,null,null,null,null,null,null,null,null,null,null,null,null,null,null,null,null,null,null,null,null,null,null,null,null,null,null,null,null,null,null,null,null,null,null,"MP_LED",2835,"LM281B plus",0.15,null,0.16,115,25,25,90,4000,57.75,"SE (56.0-59.5)",2.95,"A2 (2.9-3.0)",-29.303999999999998,-1.3187,7.5216000000000003,2.9999999999999997E-4,0,0,-1.6666666666666663E-3,18.468,-6.4606000000000003,1.3379000000000001,0.88229999999999997,0,0,-1.0000000000000009E-3]
[null,null,null,null,null,null,null,null,null,null,null,null,null,null,null,null,null,null,null,null,null,null,null,null,null,null,null,null,null,null,null,null,null,null,null,null,null,null,null,null,null,null,null,null,null,null,null,null,null,null,null,null,null,null,null,null,null,null,null,null,null,null,null,null,null,null,null,null,null,null,null,null,null,null,null,null,null,null,null,null,null,null,null,null,null,null,null,null,null,null,null,null,null,null,null,null,null,null,null,null,null,null,null,null,"MP_LED",2835,"LM281B plus",0.15,null,0.16,115,25,25,90,4000,61.25,"SG (59.5-63.0)",2.95,"A2 (2.9-3.0)",-29.303999999999998,-1.3187,7.5216000000000003,2.9999999999999997E-4,0,0,-1.6666666666666663E-3,18.468,-6.4606000000000003,1.3379000000000001,0.88229999999999997,0,0,-1.0000000000000009E-3]
[null,null,null,null,null,null,null,null,null,null,null,null,null,null,null,null,null,null,null,null,null,null,null,null,null,null,null,null,null,null,null,null,null,null,null,null,null,null,null,null,null,null,null,null,null,null,null,null,null,null,null,null,null,null,null,null,null,null,null,null,null,null,null,null,null,null,null,null,null,null,null,null,null,null,null,null,null,null,null,null,null,null,null,null,null,null,null,null,null,null,null,null,null,null,null,null,null,null,null,null,null,null,null,null,"MP_LED",2835,"LM281B plus",0.15,null,0.16,115,25,25,80,5000,61,"SA (59.0-63.0)",2.95,"A2 (2.9-3.0)",-29.303999999999998,-1.3187,7.5216000000000003,2.9999999999999997E-4,0,0,-1.6666666666666663E-3,18.468,-6.4606000000000003,1.3379000000000001,0.88229999999999997,0,0,-1.0000000000000009E-3]
[null,null,null,null,null,null,null,null,null,null,null,null,null,null,null,null,null,null,null,null,null,null,null,null,null,null,null,null,null,null,null,null,null,null,null,null,null,null,null,null,null,null,null,null,null,null,null,null,null,null,null,null,null,null,null,null,null,null,null,null,null,null,null,null,null,null,null,null,null,null,null,null,null,null,null,null,null,null,null,null,null,null,null,null,null,null,null,null,null,null,null,null,null,null,null,null,null,null,null,null,null,null,null,null,"MP_LED",2835,"LM281B plus",0.15,null,0.16,115,25,25,80,5000,65,"SC (63.0-67.0)",2.95,"A2 (2.9-3.0)",-29.303999999999998,-1.3187,7.5216000000000003,2.9999999999999997E-4,0,0,-1.6666666666666663E-3,18.468,-6.4606000000000003,1.3379000000000001,0.88229999999999997,0,0,-1.0000000000000009E-3]
[null,null,null,null,null,null,null,null,null,null,null,null,null,null,null,null,null,null,null,null,null,null,null,null,null,null,null,null,null,null,null,null,null,null,null,null,null,null,null,null,null,null,null,null,null,null,null,null,null,null,null,null,null,null,null,null,null,null,null,null,null,null,null,null,null,null,null,null,null,null,null,null,null,null,null,null,null,null,null,null,null,null,null,null,null,null,null,null,null,null,null,null,null,null,null,null,null,null,null,null,null,null,null,null,"MP_LED",2835,"LM281B plus",0.15,null,0.16,115,25,25,80,5000,69,"SE (67.0-71.0)",2.95,"A2 (2.9-3.0)",-29.303999999999998,-1.3187,7.5216000000000003,2.9999999999999997E-4,0,0,-1.6666666666666663E-3,18.468,-6.4606000000000003,1.3379000000000001,0.88229999999999997,0,0,-1.0000000000000009E-3]
[null,null,null,null,null,null,null,null,null,null,null,null,null,null,null,null,null,null,null,null,null,null,null,null,null,null,null,null,null,null,null,null,null,null,null,null,null,null,null,null,null,null,null,null,null,null,null,null,null,null,null,null,null,null,null,null,null,null,null,null,null,null,null,null,null,null,null,null,null,null,null,null,null,null,null,null,null,null,null,null,null,null,null,null,null,null,null,null,null,null,null,null,null,null,null,null,null,null,null,null,null,null,null,null,"MP_LED",2835,"LM281B plus",0.15,null,0.16,115,25,25,80,5000,73,"SG (71.0-75.0)",2.95,"A2 (2.9-3.0)",-29.303999999999998,-1.3187,7.5216000000000003,2.9999999999999997E-4,0,0,-1.6666666666666663E-3,18.468,-6.4606000000000003,1.3379000000000001,0.88229999999999997,0,0,-1.0000000000000009E-3]
[null,null,null,null,null,null,null,null,null,null,null,null,null,null,null,null,null,null,null,null,null,null,null,null,null,null,null,null,null,null,null,null,null,null,null,null,null,null,null,null,null,null,null,null,null,null,null,null,null,null,null,null,null,null,null,null,null,null,null,null,null,null,null,null,null,null,null,null,null,null,null,null,null,null,null,null,null,null,null,null,null,null,null,null,null,null,null,null,null,null,null,null,null,null,null,null,null,null,null,null,null,null,null,null,"MP_LED",2835,"LM281B plus",0.15,null,0.16,115,25,25,80,5000,{"$f":"AVERAGE(77,81)","v":79},"SJ (77.0-81.0)",2.95,"A2 (2.9-3.0)",-29.303999999999998,-1.3187,7.5216000000000003,2.9999999999999997E-4,0,0,-1.6666666666666663E-3,18.468,-6.4606000000000003,1.3379000000000001,0.88229999999999997,0,0,-1.0000000000000009E-3]
[null,null,null,null,null,null,null,null,null,null,null,null,null,null,null,null,null,null,null,null,null,null,null,null,null,null,null,null,null,null,null,null,null,null,null,null,null,null,null,null,null,null,null,null,null,null,null,null,null,null,null,null,null,null,null,null,null,null,null,null,null,null,null,null,null,null,null,null,null,null,null,null,null,null,null,null,null,null,null,null,null,null,null,null,null,null,null,null,null,null,null,null,null,null,null,null,null,null,null,null,null,null,null,null,"MP_LED",2835,"LM281B plus",0.15,null,0.16,115,25,25,90,5000,51.75,"SA (50.0-53.5)",2.95,"A2 (2.9-3.0)",-29.303999999999998,-1.3187,7.5216000000000003,2.9999999999999997E-4,0,0,-1.6666666666666663E-3,18.468,-6.4606000000000003,1.3379000000000001,0.88229999999999997,0,0,-1.0000000000000009E-3]
[null,null,null,null,null,null,null,null,null,null,null,null,null,null,null,null,null,null,null,null,null,null,null,null,null,null,null,null,null,null,null,null,null,null,null,null,null,null,null,null,null,null,null,null,null,null,null,null,null,null,null,null,null,null,null,null,null,null,null,null,null,null,null,null,null,null,null,null,null,null,null,null,null,null,null,null,null,null,null,null,null,null,null,null,null,null,null,null,null,null,null,null,null,null,null,null,null,null,null,null,null,null,null,null,"MP_LED",2835,"LM281B plus",0.15,null,0.16,115,25,25,90,5000,55.25,"SC (53.5-57.0)",2.95,"A2 (2.9-3.0)",-29.303999999999998,-1.3187,7.5216000000000003,2.9999999999999997E-4,0,0,-1.6666666666666663E-3,18.468,-6.4606000000000003,1.3379000000000001,0.88229999999999997,0,0,-1.0000000000000009E-3]
[null,null,null,null,null,null,null,null,null,null,null,null,null,null,null,null,null,null,null,null,null,null,null,null,null,null,null,null,null,null,null,null,null,null,null,null,null,null,null,null,null,null,null,null,null,null,null,null,null,null,null,null,null,null,null,null,null,null,null,null,null,null,null,null,null,null,null,null,null,null,null,null,null,null,null,null,null,null,null,null,null,null,null,null,null,null,null,null,null,null,null,null,null,null,null,null,null,null,null,null,null,null,null,null,"MP_LED",2835,"LM281B plus",0.15,null,0.16,115,25,25,90,5000,58.75,"SE (57.0-60.5)",2.95,"A2 (2.9-3.0)",-29.303999999999998,-1.3187,7.5216000000000003,2.9999999999999997E-4,0,0,-1.6666666666666663E-3,18.468,-6.4606000000000003,1.3379000000000001,0.88229999999999997,0,0,-1.0000000000000009E-3]
[null,null,null,null,null,null,null,null,null,null,null,null,null,null,null,null,null,null,null,null,null,null,null,null,null,null,null,null,null,null,null,null,null,null,null,null,null,null,null,null,null,null,null,null,null,null,null,null,null,null,null,null,null,null,null,null,null,null,null,null,null,null,null,null,null,null,null,null,null,null,null,null,null,null,null,null,null,null,null,null,null,null,null,null,null,null,null,null,null,null,null,null,null,null,null,null,null,null,null,null,null,null,null,null,"MP_LED",2835,"LM281B plus",0.15,null,0.16,115,25,25,90,5000,62.25,"SG (60.5-64.0)",2.95,"A2 (2.9-3.0)",-29.303999999999998,-1.3187,7.5216000000000003,2.9999999999999997E-4,0,0,-1.6666666666666663E-3,18.468,-6.4606000000000003,1.3379000000000001,0.88229999999999997,0,0,-1.0000000000000009E-3]
[null,null,null,null,null,null,null,null,null,null,null,null,null,null,null,null,null,null,null,null,null,null,null,null,null,null,null,null,null,null,null,null,null,null,null,null,null,null,null,null,null,null,null,null,null,null,null,null,null,null,null,null,null,null,null,null,null,null,null,null,null,null,null,null,null,null,null,null,null,null,null,null,null,null,null,null,null,null,null,null,null,null,null,null,null,null,null,null,null,null,null,null,null,null,null,null,null,null,null,null,null,null,null,null,"MP_LED",2835,"LM281B plus",0.15,null,0.16,115,25,25,80,5700,60.5,"SA (58.5-62.5)",2.95,"A2 (2.9-3.0)",-29.303999999999998,-1.3187,7.5216000000000003,2.9999999999999997E-4,0,0,-1.6666666666666663E-3,18.468,-6.4606000000000003,1.3379000000000001,0.88229999999999997,0,0,-1.0000000000000009E-3]
[null,null,null,null,null,null,null,null,null,null,null,null,null,null,null,null,null,null,null,null,null,null,null,null,null,null,null,null,null,null,null,null,null,null,null,null,null,null,null,null,null,null,null,null,null,null,null,null,null,null,null,null,null,null,null,null,null,null,null,null,null,null,null,null,null,null,null,null,null,null,null,null,null,null,null,null,null,null,null,null,null,null,null,null,null,null,null,null,null,null,null,null,null,null,null,null,null,null,null,null,null,null,null,null,"MP_LED",2835,"LM281B plus",0.15,null,0.16,115,25,25,80,5700,64.5,"SC (62.5-66.5)",2.95,"A2 (2.9-3.0)",-29.303999999999998,-1.3187,7.5216000000000003,2.9999999999999997E-4,0,0,-1.6666666666666663E-3,18.468,-6.4606000000000003,1.3379000000000001,0.88229999999999997,0,0,-1.0000000000000009E-3]
[null,null,null,null,null,null,null,null,null,null,null,null,null,null,null,null,null,null,null,null,null,null,null,null,null,null,null,null,null,null,null,null,null,null,null,null,null,null,null,null,null,null,null,null,null,null,null,null,null,null,null,null,null,null,null,null,null,null,null,null,null,null,null,null,null,null,null,null,null,null,null,null,null,null,null,null,null,null,null,null,null,null,null,null,null,null,null,null,null,null,null,null,null,null,null,null,null,null,null,null,null,null,null,null,"MP_LED",2835,"LM281B plus",0.15,null,0.16,115,25,25,80,5700,68.5,"SE (66.5-70.5)",2.95,"A2 (2.9-3.0)",-29.303999999999998,-1.3187,7.5216000000000003,2.9999999999999997E-4,0,0,-1.6666666666666663E-3,18.468,-6.4606000000000003,1.3379000000000001,0.88229999999999997,0,0,-1.0000000000000009E-3]
[null,null,null,null,null,null,null,null,null,null,null,null,null,null,null,null,null,null,null,null,null,null,null,null,null,null,null,null,null,null,null,null,null,null,null,null,null,null,null,null,null,null,null,null,null,null,null,null,null,null,null,null,null,null,null,null,null,null,null,null,null,null,null,null,null,null,null,null,null,null,null,null,null,null,null,null,null,null,null,null,null,null,null,null,null,null,null,null,null,null,null,null,null,null,null,null,null,null,null,null,null,null,null,null,"MP_LED",2835,"LM281B plus",0.15,null,0.16,115,25,25,80,5700,72.5,"SG (70.5-74.5)",2.95,"A2 (2.9-3.0)",-29.303999999999998,-1.3187,7.5216000000000003,2.9999999999999997E-4,0,0,-1.6666666666666663E-3,18.468,-6.4606000000000003,1.3379000000000001,0.88229999999999997,0,0,-1.0000000000000009E-3]
[null,null,null,null,null,null,null,null,null,null,null,null,null,null,null,null,null,null,null,null,null,null,null,null,null,null,null,null,null,null,null,null,null,null,null,null,null,null,null,null,null,null,null,null,null,null,null,null,null,null,null,null,null,null,null,null,null,null,null,null,null,null,null,null,null,null,null,null,null,null,null,null,null,null,null,null,null,null,null,null,null,null,null,null,null,null,null,null,null,null,null,null,null,null,null,null,null,null,null,null,null,null,null,null,"MP_LED",2835,"LM281B plus",0.15,null,0.16,115,25,25,80,5700,{"$f":"AVERAGE(76.5,80.5)","v":78.5},"SJ (76.5-80.5)",2.95,"A2 (2.9-3.0)",-29.303999999999998,-1.3187,7.5216000000000003,2.9999999999999997E-4,0,0,-1.6666666666666663E-3,18.468,-6.4606000000000003,1.3379000000000001,0.88229999999999997,0,0,-1.0000000000000009E-3]
[null,null,null,null,null,null,null,null,null,null,null,null,null,null,null,null,null,null,null,null,null,null,null,null,null,null,null,null,null,null,null,null,null,null,null,null,null,null,null,null,null,null,null,null,null,null,null,null,null,null,null,null,null,null,null,null,null,null,null,null,null,null,null,null,null,null,null,null,null,null,null,null,null,null,null,null,null,null,null,null,null,null,null,null,null,null,null,null,null,null,null,null,null,null,null,null,null,null,null,null,null,null,null,null,"MP_LED",2835,"LM281B plus",0.15,null,0.16,115,25,25,90,5700,51.75,"SA (50.0-53.5)",2.95,"A2 (2.9-3.0)",-29.303999999999998,-1.3187,7.5216000000000003,2.9999999999999997E-4,0,0,-1.6666666666666663E-3,18.468,-6.4606000000000003,1.3379000000000001,0.88229999999999997,0,0,-1.0000000000000009E-3]
[null,null,null,null,null,null,null,null,null,null,null,null,null,null,null,null,null,null,null,null,null,null,null,null,null,null,null,null,null,null,null,null,null,null,null,null,null,null,null,null,null,null,null,null,null,null,null,null,null,null,null,null,null,null,null,null,null,null,null,null,null,null,null,null,null,null,null,null,null,null,null,null,null,null,null,null,null,null,null,null,null,null,null,null,null,null,null,null,null,null,null,null,null,null,null,null,null,null,null,null,null,null,null,null,"MP_LED",2835,"LM281B plus",0.15,null,0.16,115,25,25,90,5700,55.25,"SC (53.5-57.0)",2.95,"A2 (2.9-3.0)",-29.303999999999998,-1.3187,7.5216000000000003,2.9999999999999997E-4,0,0,-1.6666666666666663E-3,18.468,-6.4606000000000003,1.3379000000000001,0.88229999999999997,0,0,-1.0000000000000009E-3]
[null,null,null,null,null,null,null,null,null,null,null,null,null,null,null,null,null,null,null,null,null,null,null,null,null,null,null,null,null,null,null,null,null,null,null,null,null,null,null,null,null,null,null,null,null,null,null,null,null,null,null,null,null,null,null,null,null,null,null,null,null,null,null,null,null,null,null,null,null,null,null,null,null,null,null,null,null,null,null,null,null,null,null,null,null,null,null,null,null,null,null,null,null,null,null,null,null,null,null,null,null,null,null,null,"MP_LED",2835,"LM281B plus",0.15,null,0.16,115,25,25,90,5700,58.75,"SE (57.0-60.5)",2.95,"A2 (2.9-3.0)",-29.303999999999998,-1.3187,7.5216000000000003,2.9999999999999997E-4,0,0,-1.6666666666666663E-3,18.468,-6.4606000000000003,1.3379000000000001,0.88229999999999997,0,0,-1.0000000000000009E-3]
[null,null,null,null,null,null,null,null,null,null,null,null,null,null,null,null,null,null,null,null,null,null,null,null,null,null,null,null,null,null,null,null,null,null,null,null,null,null,null,null,null,null,null,null,null,null,null,null,null,null,null,null,null,null,null,null,null,null,null,null,null,null,null,null,null,null,null,null,null,null,null,null,null,null,null,null,null,null,null,null,null,null,null,null,null,null,null,null,null,null,null,null,null,null,null,null,null,null,null,null,null,null,null,null,"MP_LED",2835,"LM281B plus",0.15,null,0.16,115,25,25,90,5700,62.25,"SG (60.5-64.0)",2.95,"A2 (2.9-3.0)",-29.303999999999998,-1.3187,7.5216000000000003,2.9999999999999997E-4,0,0,-1.6666666666666663E-3,18.468,-6.4606000000000003,1.3379000000000001,0.88229999999999997,0,0,-1.0000000000000009E-3]
[null,null,null,null,null,null,null,null,null,null,null,null,null,null,null,null,null,null,null,null,null,null,null,null,null,null,null,null,null,null,null,null,null,null,null,null,null,null,null,null,null,null,null,null,null,null,null,null,null,null,null,null,null,null,null,null,null,null,null,null,null,null,null,null,null,null,null,null,null,null,null,null,null,null,null,null,null,null,null,null,null,null,null,null,null,null,null,null,null,null,null,null,null,null,null,null,null,null,null,null,null,null,null,null,"MP_LED",2835,"LM281B plus",0.15,null,0.16,115,25,25,80,6500,60,"SA (58.0-62.0)",2.95,"A2 (2.9-3.0)",-29.303999999999998,-1.3187,7.5216000000000003,2.9999999999999997E-4,0,0,-1.6666666666666663E-3,18.468,-6.4606000000000003,1.3379000000000001,0.88229999999999997,0,0,-1.0000000000000009E-3]
[null,null,null,null,null,null,null,null,null,null,null,null,null,null,null,null,null,null,null,null,null,null,null,null,null,null,null,null,null,null,null,null,null,null,null,null,null,null,null,null,null,null,null,null,null,null,null,null,null,null,null,null,null,null,null,null,null,null,null,null,null,null,null,null,null,null,null,null,null,null,null,null,null,null,null,null,null,null,null,null,null,null,null,null,null,null,null,null,null,null,null,null,null,null,null,null,null,null,null,null,null,null,null,null,"MP_LED",2835,"LM281B plus",0.15,null,0.16,115,25,25,80,6500,64,"SC (62.0-66.0)",2.95,"A2 (2.9-3.0)",-29.303999999999998,-1.3187,7.5216000000000003,2.9999999999999997E-4,0,0,-1.6666666666666663E-3,18.468,-6.4606000000000003,1.3379000000000001,0.88229999999999997,0,0,-1.0000000000000009E-3]
[null,null,null,null,null,null,null,null,null,null,null,null,null,null,null,null,null,null,null,null,null,null,null,null,null,null,null,null,null,null,null,null,null,null,null,null,null,null,null,null,null,null,null,null,null,null,null,null,null,null,null,null,null,null,null,null,null,null,null,null,null,null,null,null,null,null,null,null,null,null,null,null,null,null,null,null,null,null,null,null,null,null,null,null,null,null,null,null,null,null,null,null,null,null,null,null,null,null,null,null,null,null,null,null,"MP_LED",2835,"LM281B plus",0.15,null,0.16,115,25,25,80,6500,68,"SE (66.0-70.0)",2.95,"A2 (2.9-3.0)",-29.303999999999998,-1.3187,7.5216000000000003,2.9999999999999997E-4,0,0,-1.6666666666666663E-3,18.468,-6.4606000000000003,1.3379000000000001,0.88229999999999997,0,0,-1.0000000000000009E-3]
[null,null,null,null,null,null,null,null,null,null,null,null,null,null,null,null,null,null,null,null,null,null,null,null,null,null,null,null,null,null,null,null,null,null,null,null,null,null,null,null,null,null,null,null,null,null,null,null,null,null,null,null,null,null,null,null,null,null,null,null,null,null,null,null,null,null,null,null,null,null,null,null,null,null,null,null,null,null,null,null,null,null,null,null,null,null,null,null,null,null,null,null,null,null,null,null,null,null,null,null,null,null,null,null,"MP_LED",2835,"LM281B plus",0.15,null,0.16,115,25,25,80,6500,72,"SG (70.0-74.0)",2.95,"A2 (2.9-3.0)",-29.303999999999998,-1.3187,7.5216000000000003,2.9999999999999997E-4,0,0,-1.6666666666666663E-3,18.468,-6.4606000000000003,1.3379000000000001,0.88229999999999997,0,0,-1.0000000000000009E-3]
[null,null,null,null,null,null,null,null,null,null,null,null,null,null,null,null,null,null,null,null,null,null,null,null,null,null,null,null,null,null,null,null,null,null,null,null,null,null,null,null,null,null,null,null,null,null,null,null,null,null,null,null,null,null,null,null,null,null,null,null,null,null,null,null,null,null,null,null,null,null,null,null,null,null,null,null,null,null,null,null,null,null,null,null,null,null,null,null,null,null,null,null,null,null,null,null,null,null,null,null,null,null,null,null,"MP_LED",2835,"LM281B plus",0.15,null,0.16,115,25,25,80,6500,{"$f":"AVERAGE(77,81)","v":79},"SJ (77.0-81.0)",2.95,"A2 (2.9-3.0)",-29.303999999999998,-1.3187,7.5216000000000003,2.9999999999999997E-4,0,0,-1.6666666666666663E-3,18.468,-6.4606000000000003,1.3379000000000001,0.88229999999999997,0,0,-1.0000000000000009E-3]
[null,null,null,null,null,null,null,null,null,null,null,null,null,null,null,null,null,null,null,null,null,null,null,null,null,null,null,null,null,null,null,null,null,null,null,null,null,null,null,null,null,null,null,null,null,null,null,null,null,null,null,null,null,null,null,null,null,null,null,null,null,null,null,null,null,null,null,null,null,null,null,null,null,null,null,null,null,null,null,null,null,null,null,null,null,null,null,null,null,null,null,null,null,null,null,null,null,null,null,null,null,null,null,null,"MP_LED",2835,"LM281B plus",0.15,null,0.16,115,25,25,90,6500,50.75,"SA (49.0-52.5)",2.95,"A2 (2.9-3.0)",-29.303999999999998,-1.3187,7.5216000000000003,2.9999999999999997E-4,0,0,-1.6666666666666663E-3,18.468,-6.4606000000000003,1.3379000000000001,0.88229999999999997,0,0,-1.0000000000000009E-3]
[null,null,null,null,null,null,null,null,null,null,null,null,null,null,null,null,null,null,null,null,null,null,null,null,null,null,null,null,null,null,null,null,null,null,null,null,null,null,null,null,null,null,null,null,null,null,null,null,null,null,null,null,null,null,null,null,null,null,null,null,null,null,null,null,null,null,null,null,null,null,null,null,null,null,null,null,null,null,null,null,null,null,null,null,null,null,null,null,null,null,null,null,null,null,null,null,null,null,null,null,null,null,null,null,"MP_LED",2835,"LM281B plus",0.15,null,0.16,115,25,25,90,6500,54.25,"SC (52.5-56.0)",2.95,"A2 (2.9-3.0)",-29.303999999999998,-1.3187,7.5216000000000003,2.9999999999999997E-4,0,0,-1.6666666666666663E-3,18.468,-6.4606000000000003,1.3379000000000001,0.88229999999999997,0,0,-1.0000000000000009E-3]
[null,null,null,null,null,null,null,null,null,null,null,null,null,null,null,null,null,null,null,null,null,null,null,null,null,null,null,null,null,null,null,null,null,null,null,null,null,null,null,null,null,null,null,null,null,null,null,null,null,null,null,null,null,null,null,null,null,null,null,null,null,null,null,null,null,null,null,null,null,null,null,null,null,null,null,null,null,null,null,null,null,null,null,null,null,null,null,null,null,null,null,null,null,null,null,null,null,null,null,null,null,null,null,null,"MP_LED",2835,"LM281B plus",0.15,null,0.16,115,25,25,90,6500,57.75,"SE (56.0-59.5)",2.95,"A2 (2.9-3.0)",-29.303999999999998,-1.3187,7.5216000000000003,2.9999999999999997E-4,0,0,-1.6666666666666663E-3,18.468,-6.4606000000000003,1.3379000000000001,0.88229999999999997,0,0,-1.0000000000000009E-3]
[null,null,null,null,null,null,null,null,null,null,null,null,null,null,null,null,null,null,null,null,null,null,null,null,null,null,null,null,null,null,null,null,null,null,null,null,null,null,null,null,null,null,null,null,null,null,null,null,null,null,null,null,null,null,null,null,null,null,null,null,null,null,null,null,null,null,null,null,null,null,null,null,null,null,null,null,null,null,null,null,null,null,null,null,null,null,null,null,null,null,null,null,null,null,null,null,null,null,null,null,null,null,null,null,"MP_LED",2835,"LM281B plus",0.15,null,0.16,115,25,25,90,6500,61.25,"SG (59.5-63.0)",2.95,"A2 (2.9-3.0)",-29.303999999999998,-1.3187,7.5216000000000003,2.9999999999999997E-4,0,0,-1.6666666666666663E-3,18.468,-6.4606000000000003,1.3379000000000001,0.88229999999999997,0,0,-1.0000000000000009E-3]
[null,null,null,null,null,null,null,null,null,null,null,null,null,null,null,null,null,null,null,null,null,null,null,null,null,null,null,null,null,null,null,null,null,null,null,null,null,null,null,null,null,null,null,null,null,null,null,null,null,null,null,null,null,null,null,null,null,null,null,null,null,null,null,null,null,null,null,null,null,null,null,null,null,null,null,null,null,null,null,null,null,null,null,null,null,null,null,null,null,null,null,null,null,null,null,null,null,null,null,null,null,null,null,null,"MP_LED",2835,"LM281BA",0.06,null,7.0000000000000007E-2,115,25,25,80,2700,21,"S1 (20-22)",3.05,"A3 (3.0-3.1)",666.67,-130,22.433,-2.1999999999999999E-2,0,0,-1.8333333333333331E-3,220.75,-43.045999999999999,4.117,0.86029999999999995,0,0,-1.2500000000000031E-3]
[null,null,null,null,null,null,null,null,null,null,null,null,null,null,null,null,null,null,null,null,null,null,null,null,null,null,null,null,null,null,null,null,null,null,null,null,null,null,null,null,null,null,null,null,null,null,null,null,null,null,null,null,null,null,null,null,null,null,null,null,null,null,null,null,null,null,null,null,null,null,null,null,null,null,null,null,null,null,null,null,null,null,null,null,null,null,null,null,null,null,null,null,null,null,null,null,null,null,null,null,null,null,null,null,"MP_LED",2835,"LM281BA",0.06,null,7.0000000000000007E-2,115,25,25,80,2700,22.5,"S2 (21.5-23.5)",3.05,"A3 (3.0-3.1)",666.67,-130,22.433,-2.1999999999999999E-2,0,0,-1.8333333333333331E-3,220.75,-43.045999999999999,4.117,0.86029999999999995,0,0,-1.2500000000000031E-3]
[null,null,null,null,null,null,null,null,null,null,null,null,null,null,null,null,null,null,null,null,null,null,null,null,null,null,null,null,null,null,null,null,null,null,null,null,null,null,null,null,null,null,null,null,null,null,null,null,null,null,null,null,null,null,null,null,null,null,null,null,null,null,null,null,null,null,null,null,null,null,null,null,null,null,null,null,null,null,null,null,null,null,null,null,null,null,null,null,null,null,null,null,null,null,null,null,null,null,null,null,null,null,null,null,"MP_LED",2835,"LM281BA",0.06,null,7.0000000000000007E-2,115,25,25,80,3000,21,"S1 (20-22)",3.05,"A3 (3.0-3.1)",666.67,-130,22.433,-2.1999999999999999E-2,0,0,-1.8333333333333331E-3,220.75,-43.045999999999999,4.117,0.86029999999999995,0,0,-1.2500000000000031E-3]
[null,null,null,null,null,null,null,null,null,null,null,null,null,null,null,null,null,null,null,null,null,null,null,null,null,null,null,null,null,null,null,null,null,null,null,null,null,null,null,null,null,null,null,null,null,null,null,null,null,null,null,null,null,null,null,null,null,null,null,null,null,null,null,null,null,null,null,null,null,null,null,null,null,null,null,null,null,null,null,null,null,null,null,null,null,null,null,null,null,null,null,null,null,null,null,null,null,null,null,null,null,null,null,null,"MP_LED",2835,"LM281BA",0.06,null,7.0000000000000007E-2,115,25,25,80,3000,22.5,"S2 (21.5-23.5)",3.05,"A3 (3.0-3.1)",666.67,-130,22.433,-2.1999999999999999E-2,0,0,-1.8333333333333331E-3,220.75,-43.045999999999999,4.117,0.86029999999999995,0,0,-1.2500000000000031E-3]
[null,null,null,null,null,null,null,null,null,null,null,null,null,null,null,null,null,null,null,null,null,null,null,null,null,null,null,null,null,null,null,null,null,null,null,null,null,null,null,null,null,null,null,null,null,null,null,null,null,null,null,null,null,null,null,null,null,null,null,null,null,null,null,null,null,null,null,null,null,null,null,null,null,null,null,null,null,null,null,null,null,null,null,null,null,null,null,null,null,null,null,null,null,null,null,null,null,null,null,null,null,null,null,null,"MP_LED",2835,"LM281BA",0.06,null,7.0000000000000007E-2,115,25,25,80,3500,21,"S1 (20-22)",3.05,"A3 (3.0-3.1)",666.67,-130,22.433,-2.1999999999999999E-2,0,0,-1.8333333333333331E-3,220.75,-43.045999999999999,4.117,0.86029999999999995,0,0,-1.2500000000000031E-3]
[null,null,null,null,null,null,null,null,null,null,null,null,null,null,null,null,null,null,null,null,null,null,null,null,null,null,null,null,null,null,null,null,null,null,null,null,null,null,null,null,null,null,null,null,null,null,null,null,null,null,null,null,null,null,null,null,null,null,null,null,null,null,null,null,null,null,null,null,null,null,null,null,null,null,null,null,null,null,null,null,null,null,null,null,null,null,null,null,null,null,null,null,null,null,null,null,null,null,null,null,null,null,null,null,"MP_LED",2835,"LM281BA",0.06,null,7.0000000000000007E-2,115,25,25,80,3500,22.5,"S2 (21.5-23.5)",3.05,"A3 (3.0-3.1)",666.67,-130,22.433,-2.1999999999999999E-2,0,0,-1.8333333333333331E-3,220.75,-43.045999999999999,4.117,0.86029999999999995,0,0,-1.2500000000000031E-3]
[null,null,null,null,null,null,null,null,null,null,null,null,null,null,null,null,null,null,null,null,null,null,null,null,null,null,null,null,null,null,null,null,null,null,null,null,null,null,null,null,null,null,null,null,null,null,null,null,null,null,null,null,null,null,null,null,null,null,null,null,null,null,null,null,null,null,null,null,null,null,null,null,null,null,null,null,null,null,null,null,null,null,null,null,null,null,null,null,null,null,null,null,null,null,null,null,null,null,null,null,null,null,null,null,"MP_LED",2835,"LM281BA",0.06,null,7.0000000000000007E-2,115,25,25,80,4000,23,"S1 (22-24)",3.05,"A3 (3.0-3.1)",666.67,-130,22.433,-2.1999999999999999E-2,0,0,-1.8333333333333331E-3,220.75,-43.045999999999999,4.117,0.86029999999999995,0,0,-1.2500000000000031E-3]
[null,null,null,null,null,null,null,null,null,null,null,null,null,null,null,null,null,null,null,null,null,null,null,null,null,null,null,null,null,null,null,null,null,null,null,null,null,null,null,null,null,null,null,null,null,null,null,null,null,null,null,null,null,null,null,null,null,null,null,null,null,null,null,null,null,null,null,null,null,null,null,null,null,null,null,null,null,null,null,null,null,null,null,null,null,null,null,null,null,null,null,null,null,null,null,null,null,null,null,null,null,null,null,null,"MP_LED",2835,"LM281BA",0.06,null,7.0000000000000007E-2,115,25,25,80,4000,24.5,"S2 (23.5-25.5)",3.05,"A3 (3.0-3.1)",666.67,-130,22.433,-2.1999999999999999E-2,0,0,-1.8333333333333331E-3,220.75,-43.045999999999999,4.117,0.86029999999999995,0,0,-1.2500000000000031E-3]
[null,null,null,null,null,null,null,null,null,null,null,null,null,null,null,null,null,null,null,null,null,null,null,null,null,null,null,null,null,null,null,null,null,null,null,null,null,null,null,null,null,null,null,null,null,null,null,null,null,null,null,null,null,null,null,null,null,null,null,null,null,null,null,null,null,null,null,null,null,null,null,null,null,null,null,null,null,null,null,null,null,null,null,null,null,null,null,null,null,null,null,null,null,null,null,null,null,null,null,null,null,null,null,null,"MP_LED",2835,"LM281BA",0.06,null,7.0000000000000007E-2,115,25,25,80,5000,23,"S1 (22-24)",3.05,"A3 (3.0-3.1)",666.67,-130,22.433,-2.1999999999999999E-2,0,0,-1.8333333333333331E-3,220.75,-43.045999999999999,4.117,0.86029999999999995,0,0,-1.2500000000000031E-3]
[null,null,null,null,null,null,null,null,null,null,null,null,null,null,null,null,null,null,null,null,null,null,null,null,null,null,null,null,null,null,null,null,null,null,null,null,null,null,null,null,null,null,null,null,null,null,null,null,null,null,null,null,null,null,null,null,null,null,null,null,null,null,null,null,null,null,null,null,null,null,null,null,null,null,null,null,null,null,null,null,null,null,null,null,null,null,null,null,null,null,null,null,null,null,null,null,null,null,null,null,null,null,null,null,"MP_LED",2835,"LM281BA",0.06,null,7.0000000000000007E-2,115,25,25,80,5000,24.5,"S2 (23.5-25.5)",3.05,"A3 (3.0-3.1)",666.67,-130,22.433,-2.1999999999999999E-2,0,0,-1.8333333333333331E-3,220.75,-43.045999999999999,4.117,0.86029999999999995,0,0,-1.2500000000000031E-3]
[null,null,null,null,null,null,null,null,null,null,null,null,null,null,null,null,null,null,null,null,null,null,null,null,null,null,null,null,null,null,null,null,null,null,null,null,null,null,null,null,null,null,null,null,null,null,null,null,null,null,null,null,null,null,null,null,null,null,null,null,null,null,null,null,null,null,null,null,null,null,null,null,null,null,null,null,null,null,null,null,null,null,null,null,null,null,null,null,null,null,null,null,null,null,null,null,null,null,null,null,null,null,null,null,"MP_LED",2835,"LM281BA",0.06,null,7.0000000000000007E-2,115,25,25,80,5700,23,"S1 (22-24)",3.05,"A3 (3.0-3.1)",666.67,-130,22.433,-2.1999999999999999E-2,0,0,-1.8333333333333331E-3,220.75,-43.045999999999999,4.117,0.86029999999999995,0,0,-1.2500000000000031E-3]
[null,null,null,null,null,null,null,null,null,null,null,null,null,null,null,null,null,null,null,null,null,null,null,null,null,null,null,null,null,null,null,null,null,null,null,null,null,null,null,null,null,null,null,null,null,null,null,null,null,null,null,null,null,null,null,null,null,null,null,null,null,null,null,null,null,null,null,null,null,null,null,null,null,null,null,null,null,null,null,null,null,null,null,null,null,null,null,null,null,null,null,null,null,null,null,null,null,null,null,null,null,null,null,null,"MP_LED",2835,"LM281BA",0.06,null,7.0000000000000007E-2,115,25,25,80,5700,24.5,"S2 (23.5-25.5)",3.05,"A3 (3.0-3.1)",666.67,-130,22.433,-2.1999999999999999E-2,0,0,-1.8333333333333331E-3,220.75,-43.045999999999999,4.117,0.86029999999999995,0,0,-1.2500000000000031E-3]
[null,null,null,null,null,null,null,null,null,null,null,null,null,null,null,null,null,null,null,null,null,null,null,null,null,null,null,null,null,null,null,null,null,null,null,null,null,null,null,null,null,null,null,null,null,null,null,null,null,null,null,null,null,null,null,null,null,null,null,null,null,null,null,null,null,null,null,null,null,null,null,null,null,null,null,null,null,null,null,null,null,null,null,null,null,null,null,null,null,null,null,null,null,null,null,null,null,null,null,null,null,null,null,null,"MP_LED",2835,"LM281BA",0.06,null,7.0000000000000007E-2,115,25,25,80,6500,23,"S1 (22-24)",3.05,"A3 (3.0-3.1)",666.67,-130,22.433,-2.1999999999999999E-2,0,0,-1.8333333333333331E-3,220.75,-43.045999999999999,4.117,0.86029999999999995,0,0,-1.2500000000000031E-3]
[null,null,null,null,null,null,null,null,null,null,null,null,null,null,null,null,null,null,null,null,null,null,null,null,null,null,null,null,null,null,null,null,null,null,null,null,null,null,null,null,null,null,null,null,null,null,null,null,null,null,null,null,null,null,null,null,null,null,null,null,null,null,null,null,null,null,null,null,null,null,null,null,null,null,null,null,null,null,null,null,null,null,null,null,null,null,null,null,null,null,null,null,null,null,null,null,null,null,null,null,null,null,null,null,"MP_LED",2835,"LM281BA",0.06,null,7.0000000000000007E-2,115,25,25,80,6500,24.5,"S2 (23.5-25.5)",3.05,"A3 (3.0-3.1)",666.67,-130,22.433,-2.1999999999999999E-2,0,0,-1.8333333333333331E-3,220.75,-43.045999999999999,4.117,0.86029999999999995,0,0,-1.2500000000000031E-3]
[null,null,null,null,null,null,null,null,null,null,null,null,null,null,null,null,null,null,null,null,null,null,null,null,null,null,null,null,null,null,null,null,null,null,null,null,null,null,null,null,null,null,null,null,null,null,null,null,null,null,null,null,null,null,null,null,null,null,null,null,null,null,null,null,null,null,null,null,null,null,null,null,null,null,null,null,null,null,null,null,null,null,null,null,null,null,null,null,null,null,null,null,null,null,null,null,null,null,null,null,null,null,null,null,"MP_LED",2835,"LM281BA plus",0.06,null,7.0000000000000007E-2,115,25,25,80,2700,22,"S2 (21.0-23.0)",3.05,"A3 (3.0-3.1)",666.67,-130,22.433,-2.1999999999999999E-2,0,0,-1.8333333333333331E-3,220.75,-43.045999999999999,4.117,0.86029999999999995,0,0,-1.2500000000000031E-3]
[null,null,null,null,null,null,null,null,null,null,null,null,null,null,null,null,null,null,null,null,null,null,null,null,null,null,null,null,null,null,null,null,null,null,null,null,null,null,null,null,null,null,null,null,null,null,null,null,null,null,null,null,null,null,null,null,null,null,null,null,null,null,null,null,null,null,null,null,null,null,null,null,null,null,null,null,null,null,null,null,null,null,null,null,null,null,null,null,null,null,null,null,null,null,null,null,null,null,null,null,null,null,null,null,"MP_LED",2835,"LM281BA plus",0.06,null,7.0000000000000007E-2,115,25,25,80,2700,24,"S3 (23.0-25.0)",3.05,"A3 (3.0-3.1)",666.67,-130,22.433,-2.1999999999999999E-2,0,0,-1.8333333333333331E-3,220.75,-43.045999999999999,4.117,0.86029999999999995,0,0,-1.2500000000000031E-3]
[null,null,null,null,null,null,null,null,null,null,null,null,null,null,null,null,null,null,null,null,null,null,null,null,null,null,null,null,null,null,null,null,null,null,null,null,null,null,null,null,null,null,null,null,null,null,null,null,null,null,null,null,null,null,null,null,null,null,null,null,null,null,null,null,null,null,null,null,null,null,null,null,null,null,null,null,null,null,null,null,null,null,null,null,null,null,null,null,null,null,null,null,null,null,null,null,null,null,null,null,null,null,null,null,"MP_LED",2835,"LM281BA plus",0.06,null,7.0000000000000007E-2,115,25,25,90,2700,18.75,"S2 (18.0-19.5)",3.05,"A3 (3.0-3.1)",666.67,-130,22.433,-2.1999999999999999E-2,0,0,-1.8333333333333331E-3,220.75,-43.045999999999999,4.117,0.86029999999999995,0,0,-1.2500000000000031E-3]
[null,null,null,null,null,null,null,null,null,null,null,null,null,null,null,null,null,null,null,null,null,null,null,null,null,null,null,null,null,null,null,null,null,null,null,null,null,null,null,null,null,null,null,null,null,null,null,null,null,null,null,null,null,null,null,null,null,null,null,null,null,null,null,null,null,null,null,null,null,null,null,null,null,null,null,null,null,null,null,null,null,null,null,null,null,null,null,null,null,null,null,null,null,null,null,null,null,null,null,null,null,null,null,null,"MP_LED",2835,"LM281BA plus",0.06,null,7.0000000000000007E-2,115,25,25,90,2700,20.25,"S3 (19.5-21.0)",3.05,"A3 (3.0-3.1)",666.67,-130,22.433,-2.1999999999999999E-2,0,0,-1.8333333333333331E-3,220.75,-43.045999999999999,4.117,0.86029999999999995,0,0,-1.2500000000000031E-3]
[null,null,null,null,null,null,null,null,null,null,null,null,null,null,null,null,null,null,null,null,null,null,null,null,null,null,null,null,null,null,null,null,null,null,null,null,null,null,null,null,null,null,null,null,null,null,null,null,null,null,null,null,null,null,null,null,null,null,null,null,null,null,null,null,null,null,null,null,null,null,null,null,null,null,null,null,null,null,null,null,null,null,null,null,null,null,null,null,null,null,null,null,null,null,null,null,null,null,null,null,null,null,null,null,"MP_LED",2835,"LM281BA plus",0.06,null,7.0000000000000007E-2,115,25,25,80,3000,22.5,"S2 (21.5-23.5)",3.05,"A3 (3.0-3.1)",666.67,-130,22.433,-2.1999999999999999E-2,0,0,-1.8333333333333331E-3,220.75,-43.045999999999999,4.117,0.86029999999999995,0,0,-1.2500000000000031E-3]
[null,null,null,null,null,null,null,null,null,null,null,null,null,null,null,null,null,null,null,null,null,null,null,null,null,null,null,null,null,null,null,null,null,null,null,null,null,null,null,null,null,null,null,null,null,null,null,null,null,null,null,null,null,null,null,null,null,null,null,null,null,null,null,null,null,null,null,null,null,null,null,null,null,null,null,null,null,null,null,null,null,null,null,null,null,null,null,null,null,null,null,null,null,null,null,null,null,null,null,null,null,null,null,null,"MP_LED",2835,"LM281BA plus",0.06,null,7.0000000000000007E-2,115,25,25,80,3000,24.5,"S3 (23.5-25.5)",3.05,"A3 (3.0-3.1)",666.67,-130,22.433,-2.1999999999999999E-2,0,0,-1.8333333333333331E-3,220.75,-43.045999999999999,4.117,0.86029999999999995,0,0,-1.2500000000000031E-3]
[null,null,null,null,null,null,null,null,null,null,null,null,null,null,null,null,null,null,null,null,null,null,null,null,null,null,null,null,null,null,null,null,null,null,null,null,null,null,null,null,null,null,null,null,null,null,null,null,null,null,null,null,null,null,null,null,null,null,null,null,null,null,null,null,null,null,null,null,null,null,null,null,null,null,null,null,null,null,null,null,null,null,null,null,null,null,null,null,null,null,null,null,null,null,null,null,null,null,null,null,null,null,null,null,"MP_LED",2835,"LM281BA plus",0.06,null,7.0000000000000007E-2,115,25,25,90,3000,19.25,"S2 (18.5-20.0)",3.05,"A3 (3.0-3.1)",666.67,-130,22.433,-2.1999999999999999E-2,0,0,-1.8333333333333331E-3,220.75,-43.045999999999999,4.117,0.86029999999999995,0,0,-1.2500000000000031E-3]
[null,null,null,null,null,null,null,null,null,null,null,null,null,null,null,null,null,null,null,null,null,null,null,null,null,null,null,null,null,null,null,null,null,null,null,null,null,null,null,null,null,null,null,null,null,null,null,null,null,null,null,null,null,null,null,null,null,null,null,null,null,null,null,null,null,null,null,null,null,null,null,null,null,null,null,null,null,null,null,null,null,null,null,null,null,null,null,null,null,null,null,null,null,null,null,null,null,null,null,null,null,null,null,null,"MP_LED",2835,"LM281BA plus",0.06,null,7.0000000000000007E-2,115,25,25,90,3000,20.75,"S3 (20.0-21.5)",3.05,"A3 (3.0-3.1)",666.67,-130,22.433,-2.1999999999999999E-2,0,0,-1.8333333333333331E-3,220.75,-43.045999999999999,4.117,0.86029999999999995,0,0,-1.2500000000000031E-3]
[null,null,null,null,null,null,null,null,null,null,null,null,null,null,null,null,null,null,null,null,null,null,null,null,null,null,null,null,null,null,null,null,null,null,null,null,null,null,null,null,null,null,null,null,null,null,null,null,null,null,null,null,null,null,null,null,null,null,null,null,null,null,null,null,null,null,null,null,null,null,null,null,null,null,null,null,null,null,null,null,null,null,null,null,null,null,null,null,null,null,null,null,null,null,null,null,null,null,null,null,null,null,null,null,"MP_LED",2835,"LM281BA plus",0.06,null,7.0000000000000007E-2,115,25,25,80,3500,23.5,"S2 (22.5-24.5)",3.05,"A3 (3.0-3.1)",666.67,-130,22.433,-2.1999999999999999E-2,0,0,-1.8333333333333331E-3,220.75,-43.045999999999999,4.117,0.86029999999999995,0,0,-1.2500000000000031E-3]
[null,null,null,null,null,null,null,null,null,null,null,null,null,null,null,null,null,null,null,null,null,null,null,null,null,null,null,null,null,null,null,null,null,null,null,null,null,null,null,null,null,null,null,null,null,null,null,null,null,null,null,null,null,null,null,null,null,null,null,null,null,null,null,null,null,null,null,null,null,null,null,null,null,null,null,null,null,null,null,null,null,null,null,null,null,null,null,null,null,null,null,null,null,null,null,null,null,null,null,null,null,null,null,null,"MP_LED",2835,"LM281BA plus",0.06,null,7.0000000000000007E-2,115,25,25,80,3500,25.5,"S3 (24.5-26.5)",3.05,"A3 (3.0-3.1)",666.67,-130,22.433,-2.1999999999999999E-2,0,0,-1.8333333333333331E-3,220.75,-43.045999999999999,4.117,0.86029999999999995,0,0,-1.2500000000000031E-3]
[null,null,null,null,null,null,null,null,null,null,null,null,null,null,null,null,null,null,null,null,null,null,null,null,null,null,null,null,null,null,null,null,null,null,null,null,null,null,null,null,null,null,null,null,null,null,null,null,null,null,null,null,null,null,null,null,null,null,null,null,null,null,null,null,null,null,null,null,null,null,null,null,null,null,null,null,null,null,null,null,null,null,null,null,null,null,null,null,null,null,null,null,null,null,null,null,null,null,null,null,null,null,null,null,"MP_LED",2835,"LM281BA plus",0.06,null,7.0000000000000007E-2,115,25,25,90,3500,19.75,"S2 (19.0-20.5)",3.05,"A3 (3.0-3.1)",666.67,-130,22.433,-2.1999999999999999E-2,0,0,-1.8333333333333331E-3,220.75,-43.045999999999999,4.117,0.86029999999999995,0,0,-1.2500000000000031E-3]
[null,null,null,null,null,null,null,null,null,null,null,null,null,null,null,null,null,null,null,null,null,null,null,null,null,null,null,null,null,null,null,null,null,null,null,null,null,null,null,null,null,null,null,null,null,null,null,null,null,null,null,null,null,null,null,null,null,null,null,null,null,null,null,null,null,null,null,null,null,null,null,null,null,null,null,null,null,null,null,null,null,null,null,null,null,null,null,null,null,null,null,null,null,null,null,null,null,null,null,null,null,null,null,null,"MP_LED",2835,"LM281BA plus",0.06,null,7.0000000000000007E-2,115,25,25,90,3500,22.25,"S3 (21.5-23.0)",3.05,"A3 (3.0-3.1)",666.67,-130,22.433,-2.1999999999999999E-2,0,0,-1.8333333333333331E-3,220.75,-43.045999999999999,4.117,0.86029999999999995,0,0,-1.2500000000000031E-3]
[null,null,null,null,null,null,null,null,null,null,null,null,null,null,null,null,null,null,null,null,null,null,null,null,null,null,null,null,null,null,null,null,null,null,null,null,null,null,null,null,null,null,null,null,null,null,null,null,null,null,null,null,null,null,null,null,null,null,null,null,null,null,null,null,null,null,null,null,null,null,null,null,null,null,null,null,null,null,null,null,null,null,null,null,null,null,null,null,null,null,null,null,null,null,null,null,null,null,null,null,null,null,null,null,"MP_LED",2835,"LM281BA plus",0.06,null,7.0000000000000007E-2,115,25,25,80,4000,24,"S2 (23.0-25.0)",3.05,"A3 (3.0-3.1)",666.67,-130,22.433,-2.1999999999999999E-2,0,0,-1.8333333333333331E-3,220.75,-43.045999999999999,4.117,0.86029999999999995,0,0,-1.2500000000000031E-3]
[null,null,null,null,null,null,null,null,null,null,null,null,null,null,null,null,null,null,null,null,null,null,null,null,null,null,null,null,null,null,null,null,null,null,null,null,null,null,null,null,null,null,null,null,null,null,null,null,null,null,null,null,null,null,null,null,null,null,null,null,null,null,null,null,null,null,null,null,null,null,null,null,null,null,null,null,null,null,null,null,null,null,null,null,null,null,null,null,null,null,null,null,null,null,null,null,null,null,null,null,null,null,null,null,"MP_LED",2835,"LM281BA plus",0.06,null,7.0000000000000007E-2,115,25,25,80,4000,26,"S3 (25.0-27.0)",3.05,"A3 (3.0-3.1)",666.67,-130,22.433,-2.1999999999999999E-2,0,0,-1.8333333333333331E-3,220.75,-43.045999999999999,4.117,0.86029999999999995,0,0,-1.2500000000000031E-3]
[null,null,null,null,null,null,null,null,null,null,null,null,null,null,null,null,null,null,null,null,null,null,null,null,null,null,null,null,null,null,null,null,null,null,null,null,null,null,null,null,null,null,null,null,null,null,null,null,null,null,null,null,null,null,null,null,null,null,null,null,null,null,null,null,null,null,null,null,null,null,null,null,null,null,null,null,null,null,null,null,null,null,null,null,null,null,null,null,null,null,null,null,null,null,null,null,null,null,null,null,null,null,null,null,"MP_LED",2835,"LM281BA plus",0.06,null,7.0000000000000007E-2,115,25,25,90,4000,20.25,"S2 (19.5-21.0)",3.05,"A3 (3.0-3.1)",666.67,-130,22.433,-2.1999999999999999E-2,0,0,-1.8333333333333331E-3,220.75,-43.045999999999999,4.117,0.86029999999999995,0,0,-1.2500000000000031E-3]
[null,null,null,null,null,null,null,null,null,null,null,null,null,null,null,null,null,null,null,null,null,null,null,null,null,null,null,null,null,null,null,null,null,null,null,null,null,null,null,null,null,null,null,null,null,null,null,null,null,null,null,null,null,null,null,null,null,null,null,null,null,null,null,null,null,null,null,null,null,null,null,null,null,null,null,null,null,null,null,null,null,null,null,null,null,null,null,null,null,null,null,null,null,null,null,null,null,null,null,null,null,null,null,null,"MP_LED",2835,"LM281BA plus",0.06,null,7.0000000000000007E-2,115,25,25,90,4000,21.75,"S3 (21.0-22.5)",3.05,"A3 (3.0-3.1)",666.67,-130,22.433,-2.1999999999999999E-2,0,0,-1.8333333333333331E-3,220.75,-43.045999999999999,4.117,0.86029999999999995,0,0,-1.2500000000000031E-3]
[null,null,null,null,null,null,null,null,null,null,null,null,null,null,null,null,null,null,null,null,null,null,null,null,null,null,null,null,null,null,null,null,null,null,null,null,null,null,null,null,null,null,null,null,null,null,null,null,null,null,null,null,null,null,null,null,null,null,null,null,null,null,null,null,null,null,null,null,null,null,null,null,null,null,null,null,null,null,null,null,null,null,null,null,null,null,null,null,null,null,null,null,null,null,null,null,null,null,null,null,null,null,null,null,"MP_LED",2835,"LM281BA plus",0.06,null,7.0000000000000007E-2,115,25,25,80,5000,24.5,"S2 (23.5-25.5)",3.05,"A3 (3.0-3.1)",666.67,-130,22.433,-2.1999999999999999E-2,0,0,-1.8333333333333331E-3,220.75,-43.045999999999999,4.117,0.86029999999999995,0,0,-1.2500000000000031E-3]
[null,null,null,null,null,null,null,null,null,null,null,null,null,null,null,null,null,null,null,null,null,null,null,null,null,null,null,null,null,null,null,null,null,null,null,null,null,null,null,null,null,null,null,null,null,null,null,null,null,null,null,null,null,null,null,null,null,null,null,null,null,null,null,null,null,null,null,null,null,null,null,null,null,null,null,null,null,null,null,null,null,null,null,null,null,null,null,null,null,null,null,null,null,null,null,null,null,null,null,null,null,null,null,null,"MP_LED",2835,"LM281BA plus",0.06,null,7.0000000000000007E-2,115,25,25,80,5000,26.5,"S3 (25.5-27.5)",3.05,"A3 (3.0-3.1)",666.67,-130,22.433,-2.1999999999999999E-2,0,0,-1.8333333333333331E-3,220.75,-43.045999999999999,4.117,0.86029999999999995,0,0,-1.2500000000000031E-3]
[null,null,null,null,null,null,null,null,null,null,null,null,null,null,null,null,null,null,null,null,null,null,null,null,null,null,null,null,null,null,null,null,null,null,null,null,null,null,null,null,null,null,null,null,null,null,null,null,null,null,null,null,null,null,null,null,null,null,null,null,null,null,null,null,null,null,null,null,null,null,null,null,null,null,null,null,null,null,null,null,null,null,null,null,null,null,null,null,null,null,null,null,null,null,null,null,null,null,null,null,null,null,null,null,"MP_LED",2835,"LM281BA plus",0.06,null,7.0000000000000007E-2,115,25,25,90,5000,20.75,"S2 (20.0-21.5)",3.05,"A3 (3.0-3.1)",666.67,-130,22.433,-2.1999999999999999E-2,0,0,-1.8333333333333331E-3,220.75,-43.045999999999999,4.117,0.86029999999999995,0,0,-1.2500000000000031E-3]
[null,null,null,null,null,null,null,null,null,null,null,null,null,null,null,null,null,null,null,null,null,null,null,null,null,null,null,null,null,null,null,null,null,null,null,null,null,null,null,null,null,null,null,null,null,null,null,null,null,null,null,null,null,null,null,null,null,null,null,null,null,null,null,null,null,null,null,null,null,null,null,null,null,null,null,null,null,null,null,null,null,null,null,null,null,null,null,null,null,null,null,null,null,null,null,null,null,null,null,null,null,null,null,null,"MP_LED",2835,"LM281BA plus",0.06,null,7.0000000000000007E-2,115,25,25,90,5000,22.25,"S3 (21.5-23.0)",3.05,"A3 (3.0-3.1)",666.67,-130,22.433,-2.1999999999999999E-2,0,0,-1.8333333333333331E-3,220.75,-43.045999999999999,4.117,0.86029999999999995,0,0,-1.2500000000000031E-3]
[null,null,null,null,null,null,null,null,null,null,null,null,null,null,null,null,null,null,null,null,null,null,null,null,null,null,null,null,null,null,null,null,null,null,null,null,null,null,null,null,null,null,null,null,null,null,null,null,null,null,null,null,null,null,null,null,null,null,null,null,null,null,null,null,null,null,null,null,null,null,null,null,null,null,null,null,null,null,null,null,null,null,null,null,null,null,null,null,null,null,null,null,null,null,null,null,null,null,null,null,null,null,null,null,"MP_LED",2835,"LM281BA plus",0.06,null,7.0000000000000007E-2,115,25,25,80,5700,24.5,"S2 (23.5-25.5)",3.05,"A3 (3.0-3.1)",666.67,-130,22.433,-2.1999999999999999E-2,0,0,-1.8333333333333331E-3,220.75,-43.045999999999999,4.117,0.86029999999999995,0,0,-1.2500000000000031E-3]
[null,null,null,null,null,null,null,null,null,null,null,null,null,null,null,null,null,null,null,null,null,null,null,null,null,null,null,null,null,null,null,null,null,null,null,null,null,null,null,null,null,null,null,null,null,null,null,null,null,null,null,null,null,null,null,null,null,null,null,null,null,null,null,null,null,null,null,null,null,null,null,null,null,null,null,null,null,null,null,null,null,null,null,null,null,null,null,null,null,null,null,null,null,null,null,null,null,null,null,null,null,null,null,null,"MP_LED",2835,"LM281BA plus",0.06,null,7.0000000000000007E-2,115,25,25,80,5700,26.5,"S3 (25.5-27.5)",3.05,"A3 (3.0-3.1)",666.67,-130,22.433,-2.1999999999999999E-2,0,0,-1.8333333333333331E-3,220.75,-43.045999999999999,4.117,0.86029999999999995,0,0,-1.2500000000000031E-3]
[null,null,null,null,null,null,null,null,null,null,null,null,null,null,null,null,null,null,null,null,null,null,null,null,null,null,null,null,null,null,null,null,null,null,null,null,null,null,null,null,null,null,null,null,null,null,null,null,null,null,null,null,null,null,null,null,null,null,null,null,null,null,null,null,null,null,null,null,null,null,null,null,null,null,null,null,null,null,null,null,null,null,null,null,null,null,null,null,null,null,null,null,null,null,null,null,null,null,null,null,null,null,null,null,"MP_LED",2835,"LM281BA plus",0.06,null,7.0000000000000007E-2,115,25,25,90,5700,20.75,"S2 (20.0-21.5)",3.05,"A3 (3.0-3.1)",666.67,-130,22.433,-2.1999999999999999E-2,0,0,-1.8333333333333331E-3,220.75,-43.045999999999999,4.117,0.86029999999999995,0,0,-1.2500000000000031E-3]
[null,null,null,null,null,null,null,null,null,null,null,null,null,null,null,null,null,null,null,null,null,null,null,null,null,null,null,null,null,null,null,null,null,null,null,null,null,null,null,null,null,null,null,null,null,null,null,null,null,null,null,null,null,null,null,null,null,null,null,null,null,null,null,null,null,null,null,null,null,null,null,null,null,null,null,null,null,null,null,null,null,null,null,null,null,null,null,null,null,null,null,null,null,null,null,null,null,null,null,null,null,null,null,null,"MP_LED",2835,"LM281BA plus",0.06,null,7.0000000000000007E-2,115,25,25,90,5700,22.25,"S3 (21.5-23.0)",3.05,"A3 (3.0-3.1)",666.67,-130,22.433,-2.1999999999999999E-2,0,0,-1.8333333333333331E-3,220.75,-43.045999999999999,4.117,0.86029999999999995,0,0,-1.2500000000000031E-3]
[null,null,null,null,null,null,null,null,null,null,null,null,null,null,null,null,null,null,null,null,null,null,null,null,null,null,null,null,null,null,null,null,null,null,null,null,null,null,null,null,null,null,null,null,null,null,null,null,null,null,null,null,null,null,null,null,null,null,null,null,null,null,null,null,null,null,null,null,null,null,null,null,null,null,null,null,null,null,null,null,null,null,null,null,null,null,null,null,null,null,null,null,null,null,null,null,null,null,null,null,null,null,null,null,"MP_LED",2835,"LM281BA plus",0.06,null,7.0000000000000007E-2,115,25,25,80,6500,24,"S2 (23.0-25.0)",3.05,"A3 (3.0-3.1)",666.67,-130,22.433,-2.1999999999999999E-2,0,0,-1.8333333333333331E-3,220.75,-43.045999999999999,4.117,0.86029999999999995,0,0,-1.2500000000000031E-3]
[null,null,null,null,null,null,null,null,null,null,null,null,null,null,null,null,null,null,null,null,null,null,null,null,null,null,null,null,null,null,null,null,null,null,null,null,null,null,null,null,null,null,null,null,null,null,null,null,null,null,null,null,null,null,null,null,null,null,null,null,null,null,null,null,null,null,null,null,null,null,null,null,null,null,null,null,null,null,null,null,null,null,null,null,null,null,null,null,null,null,null,null,null,null,null,null,null,null,null,null,null,null,null,null,"MP_LED",2835,"LM281BA plus",0.06,null,7.0000000000000007E-2,115,25,25,80,6500,26,"S3 (25.0-27.0)",3.05,"A3 (3.0-3.1)",666.67,-130,22.433,-2.1999999999999999E-2,0,0,-1.8333333333333331E-3,220.75,-43.045999999999999,4.117,0.86029999999999995,0,0,-1.2500000000000031E-3]
[null,null,null,null,null,null,null,null,null,null,null,null,null,null,null,null,null,null,null,null,null,null,null,null,null,null,null,null,null,null,null,null,null,null,null,null,null,null,null,null,null,null,null,null,null,null,null,null,null,null,null,null,null,null,null,null,null,null,null,null,null,null,null,null,null,null,null,null,null,null,null,null,null,null,null,null,null,null,null,null,null,null,null,null,null,null,null,null,null,null,null,null,null,null,null,null,null,null,null,null,null,null,null,null,"MP_LED",2835,"LM281BA plus",0.06,null,7.0000000000000007E-2,115,25,25,90,6500,20.25,"S2 (19.5-21.0)",3.05,"A3 (3.0-3.1)",666.67,-130,22.433,-2.1999999999999999E-2,0,0,-1.8333333333333331E-3,220.75,-43.045999999999999,4.117,0.86029999999999995,0,0,-1.2500000000000031E-3]
[null,null,null,null,null,null,null,null,null,null,null,null,null,null,null,null,null,null,null,null,null,null,null,null,null,null,null,null,null,null,null,null,null,null,null,null,null,null,null,null,null,null,null,null,null,null,null,null,null,null,null,null,null,null,null,null,null,null,null,null,null,null,null,null,null,null,null,null,null,null,null,null,null,null,null,null,null,null,null,null,null,null,null,null,null,null,null,null,null,null,null,null,null,null,null,null,null,null,null,null,null,null,null,null,"MP_LED",2835,"LM281BA plus",0.06,null,7.0000000000000007E-2,115,25,25,90,6500,21.75,"S3 (21.0-22.5)",3.05,"A3 (3.0-3.1)",666.67,-130,22.433,-2.1999999999999999E-2,0,0,-1.8333333333333331E-3,220.75,-43.045999999999999,4.117,0.86029999999999995,0,0,-1.2500000000000031E-3]
[null,null,null,null,null,null,null,null,null,null,null,null,null,null,null,null,null,null,null,null,null,null,null,null,null,null,null,null,null,null,null,null,null,null,null,null,null,null,null,null,null,null,null,null,null,null,null,null,null,null,null,null,null,null,null,null,null,null,null,null,null,null,null,null,null,null,null,null,null,null,null,null,null,null,null,null,null,null,null,null,null,null,null,null,null,null,null,null,null,null,null,null,null,null,null,null,null,null,null,null,null,null,null,null,"MP_LED",2835,"LM281BZ plus",0.15,null,0.16,115,25,25,80,2700,51.3,"SA (49.3-53.3)",3.05,"A3 (3.0-3.1)",-29.303999999999998,-1.3187,7.5216000000000003,2.9999999999999997E-4,0,0,-1.6666666666666663E-3,18.468,-6.4606000000000003,1.3379000000000001,0.88229999999999997,0,0,-1.0000000000000009E-3]
[null,null,null,null,null,null,null,null,null,null,null,null,null,null,null,null,null,null,null,null,null,null,null,null,null,null,null,null,null,null,null,null,null,null,null,null,null,null,null,null,null,null,null,null,null,null,null,null,null,null,null,null,null,null,null,null,null,null,null,null,null,null,null,null,null,null,null,null,null,null,null,null,null,null,null,null,null,null,null,null,null,null,null,null,null,null,null,null,null,null,null,null,null,null,null,null,null,null,null,null,null,null,null,null,"MP_LED",2835,"LM281BZ plus",0.15,null,0.16,115,25,25,80,2700,55.3,"SC (53.3-57.3)",3.05,"A3 (3.0-3.1)",-29.303999999999998,-1.3187,7.5216000000000003,2.9999999999999997E-4,0,0,-1.6666666666666663E-3,18.468,-6.4606000000000003,1.3379000000000001,0.88229999999999997,0,0,-1.0000000000000009E-3]
[null,null,null,null,null,null,null,null,null,null,null,null,null,null,null,null,null,null,null,null,null,null,null,null,null,null,null,null,null,null,null,null,null,null,null,null,null,null,null,null,null,null,null,null,null,null,null,null,null,null,null,null,null,null,null,null,null,null,null,null,null,null,null,null,null,null,null,null,null,null,null,null,null,null,null,null,null,null,null,null,null,null,null,null,null,null,null,null,null,null,null,null,null,null,null,null,null,null,null,null,null,null,null,null,"MP_LED",2835,"LM281BZ plus",0.15,null,0.16,115,25,25,80,2700,59.3,"SE (57.3-61.3)",3.05,"A3 (3.0-3.1)",-29.303999999999998,-1.3187,7.5216000000000003,2.9999999999999997E-4,0,0,-1.6666666666666663E-3,18.468,-6.4606000000000003,1.3379000000000001,0.88229999999999997,0,0,-1.0000000000000009E-3]
[null,null,null,null,null,null,null,null,null,null,null,null,null,null,null,null,null,null,null,null,null,null,null,null,null,null,null,null,null,null,null,null,null,null,null,null,null,null,null,null,null,null,null,null,null,null,null,null,null,null,null,null,null,null,null,null,null,null,null,null,null,null,null,null,null,null,null,null,null,null,null,null,null,null,null,null,null,null,null,null,null,null,null,null,null,null,null,null,null,null,null,null,null,null,null,null,null,null,null,null,null,null,null,null,"MP_LED",2835,"LM281BZ plus",0.15,null,0.16,115,25,25,90,2700,42.75,"SA (41.0-44.5)",3.05,"A3 (3.0-3.1)",-29.303999999999998,-1.3187,7.5216000000000003,2.9999999999999997E-4,0,0,-1.6666666666666663E-3,18.468,-6.4606000000000003,1.3379000000000001,0.88229999999999997,0,0,-1.0000000000000009E-3]
[null,null,null,null,null,null,null,null,null,null,null,null,null,null,null,null,null,null,null,null,null,null,null,null,null,null,null,null,null,null,null,null,null,null,null,null,null,null,null,null,null,null,null,null,null,null,null,null,null,null,null,null,null,null,null,null,null,null,null,null,null,null,null,null,null,null,null,null,null,null,null,null,null,null,null,null,null,null,null,null,null,null,null,null,null,null,null,null,null,null,null,null,null,null,null,null,null,null,null,null,null,null,null,null,"MP_LED",2835,"LM281BZ plus",0.15,null,0.16,115,25,25,90,3000,47.25,"SC (45.5-49.0)",3.05,"A3 (3.0-3.1)",-29.303999999999998,-1.3187,7.5216000000000003,2.9999999999999997E-4,0,0,-1.6666666666666663E-3,18.468,-6.4606000000000003,1.3379000000000001,0.88229999999999997,0,0,-1.0000000000000009E-3]
[null,null,null,null,null,null,null,null,null,null,null,null,null,null,null,null,null,null,null,null,null,null,null,null,null,null,null,null,null,null,null,null,null,null,null,null,null,null,null,null,null,null,null,null,null,null,null,null,null,null,null,null,null,null,null,null,null,null,null,null,null,null,null,null,null,null,null,null,null,null,null,null,null,null,null,null,null,null,null,null,null,null,null,null,null,null,null,null,null,null,null,null,null,null,null,null,null,null,null,null,null,null,null,null,"MP_LED",2835,"LM281BZ plus",0.15,null,0.16,115,25,25,90,3500,51.25,"SE (49.5-53.0)",3.05,"A3 (3.0-3.1)",-29.303999999999998,-1.3187,7.5216000000000003,2.9999999999999997E-4,0,0,-1.6666666666666663E-3,18.468,-6.4606000000000003,1.3379000000000001,0.88229999999999997,0,0,-1.0000000000000009E-3]
[null,null,null,null,null,null,null,null,null,null,null,null,null,null,null,null,null,null,null,null,null,null,null,null,null,null,null,null,null,null,null,null,null,null,null,null,null,null,null,null,null,null,null,null,null,null,null,null,null,null,null,null,null,null,null,null,null,null,null,null,null,null,null,null,null,null,null,null,null,null,null,null,null,null,null,null,null,null,null,null,null,null,null,null,null,null,null,null,null,null,null,null,null,null,null,null,null,null,null,null,null,null,null,null,"MP_LED",2835,"LM281BZ plus",0.15,null,0.16,115,25,25,90,4000,57.25,"SG (55.5-59.0)",3.05,"A3 (3.0-3.1)",-29.303999999999998,-1.3187,7.5216000000000003,2.9999999999999997E-4,0,0,-1.6666666666666663E-3,18.468,-6.4606000000000003,1.3379000000000001,0.88229999999999997,0,0,-1.0000000000000009E-3]
[null,null,null,null,null,null,null,null,null,null,null,null,null,null,null,null,null,null,null,null,null,null,null,null,null,null,null,null,null,null,null,null,null,null,null,null,null,null,null,null,null,null,null,null,null,null,null,null,null,null,null,null,null,null,null,null,null,null,null,null,null,null,null,null,null,null,null,null,null,null,null,null,null,null,null,null,null,null,null,null,null,null,null,null,null,null,null,null,null,null,null,null,null,null,null,null,null,null,null,null,null,null,null,null,"MP_LED",2835,"LM281BZ plus",0.15,null,0.16,115,25,25,80,5700,56.3,"SA (54.3-58.3)",3.05,"A3 (3.0-3.1)",-29.303999999999998,-1.3187,7.5216000000000003,2.9999999999999997E-4,0,0,-1.6666666666666663E-3,18.468,-6.4606000000000003,1.3379000000000001,0.88229999999999997,0,0,-1.0000000000000009E-3]
[null,null,null,null,null,null,null,null,null,null,null,null,null,null,null,null,null,null,null,null,null,null,null,null,null,null,null,null,null,null,null,null,null,null,null,null,null,null,null,null,null,null,null,null,null,null,null,null,null,null,null,null,null,null,null,null,null,null,null,null,null,null,null,null,null,null,null,null,null,null,null,null,null,null,null,null,null,null,null,null,null,null,null,null,null,null,null,null,null,null,null,null,null,null,null,null,null,null,null,null,null,null,null,null,"MP_LED",2835,"LM281BZ plus",0.15,null,0.16,115,25,25,80,6500,59.3,"SC (57.3-61.3)",3.05,"A3 (3.0-3.1)",-29.303999999999998,-1.3187,7.5216000000000003,2.9999999999999997E-4,0,0,-1.6666666666666663E-3,18.468,-6.4606000000000003,1.3379000000000001,0.88229999999999997,0,0,-1.0000000000000009E-3]
[null,null,null,null,null,null,null,null,null,null,null,null,null,null,null,null,null,null,null,null,null,null,null,null,null,null,null,null,null,null,null,null,null,null,null,null,null,null,null,null,null,null,null,null,null,null,null,null,null,null,null,null,null,null,null,null,null,null,null,null,null,null,null,null,null,null,null,null,null,null,null,null,null,null,null,null,null,null,null,null,null,null,null,null,null,null,null,null,null,null,null,null,null,null,null,null,null,null,null,null,null,null,null,null,"MP_LED",2835,"LM281C",6.5000000000000002E-2,null,0.16,115,25,25,80,2700,31,"S4 (30.0-32.0)",2.95,"A2 (2.9-3.0)",9.9611000000000001,-13.846,16.27,-1.8E-3,0,0,-2.1062271062271044E-3,10.853999999999999,-4.4260000000000002,1.427,0.92290000000000005,0,0,-1.5E-3]
[null,null,null,null,null,null,null,null,null,null,null,null,null,null,null,null,null,null,null,null,null,null,null,null,null,null,null,null,null,null,null,null,null,null,null,null,null,null,null,null,null,null,null,null,null,null,null,null,null,null,null,null,null,null,null,null,null,null,null,null,null,null,null,null,null,null,null,null,null,null,null,null,null,null,null,null,null,null,null,null,null,null,null,null,null,null,null,null,null,null,null,null,null,null,null,null,null,null,null,null,null,null,null,null,"MP_LED",2835,"LM281C",6.5000000000000002E-2,null,0.16,115,25,25,80,3500,28,"S2 (27.0-29.0)",2.95,"A2 (2.9-3.0)",9.9611000000000001,-13.846,16.27,-1.8E-3,0,0,-2.1062271062271044E-3,10.853999999999999,-4.4260000000000002,1.427,0.92290000000000005,0,0,-1.5E-3]
[null,null,null,null,null,null,null,null,null,null,null,null,null,null,null,null,null,null,null,null,null,null,null,null,null,null,null,null,null,null,null,null,null,null,null,null,null,null,null,null,null,null,null,null,null,null,null,null,null,null,null,null,null,null,null,null,null,null,null,null,null,null,null,null,null,null,null,null,null,null,null,null,null,null,null,null,null,null,null,null,null,null,null,null,null,null,null,null,null,null,null,null,null,null,null,null,null,null,null,null,null,null,null,null,"MP_LED",2835,"LM281C",6.5000000000000002E-2,null,0.16,115,25,25,80,5000,32,"S3 (31.0-33.0)",2.95,"A2 (2.9-3.0)",9.9611000000000001,-13.846,16.27,-1.8E-3,0,0,-2.1062271062271044E-3,10.853999999999999,-4.4260000000000002,1.427,0.92290000000000005,0,0,-1.5E-3]
[null,null,null,null,null,null,null,null,null,null,null,null,null,null,null,null,null,null,null,null,null,null,null,null,null,null,null,null,null,null,null,null,null,null,null,null,null,null,null,null,null,null,null,null,null,null,null,null,null,null,null,null,null,null,null,null,null,null,null,null,null,null,null,null,null,null,null,null,null,null,null,null,null,null,null,null,null,null,null,null,null,null,null,null,null,null,null,null,null,null,null,null,null,null,null,null,null,null,null,null,null,null,null,null,"MP_LED",2835,"LM282B (6V)",0.15,null,0.16,115,15,25,80,2700,105.5,"S2 (103-108)",6.15,"G2 (6.0-6.3)",-28.408999999999999,-1.4205000000000001,7.4885999999999999,4.4999999999999997E-3,0,0,-1.8333333333333331E-3,7.1889000000000003,-2.5160999999999998,1.2279,0.84819999999999995,0,0,-1.899999999999998E-3]
[null,null,null,null,null,null,null,null,null,null,null,null,null,null,null,null,null,null,null,null,null,null,null,null,null,null,null,null,null,null,null,null,null,null,null,null,null,null,null,null,null,null,null,null,null,null,null,null,null,null,null,null,null,null,null,null,null,null,null,null,null,null,null,null,null,null,null,null,null,null,null,null,null,null,null,null,null,null,null,null,null,null,null,null,null,null,null,null,null,null,null,null,null,null,null,null,null,null,null,null,null,null,null,null,"MP_LED",2835,"LM282B (6V)",0.15,null,0.16,115,15,25,80,3000,112.5,"S3 (110-115)",6.15,"G2 (6.0-6.3)",-28.408999999999999,-1.4205000000000001,7.4885999999999999,4.4999999999999997E-3,0,0,-1.8333333333333331E-3,7.1889000000000003,-2.5160999999999998,1.2279,0.84819999999999995,0,0,-1.899999999999998E-3]
[null,null,null,null,null,null,null,null,null,null,null,null,null,null,null,null,null,null,null,null,null,null,null,null,null,null,null,null,null,null,null,null,null,null,null,null,null,null,null,null,null,null,null,null,null,null,null,null,null,null,null,null,null,null,null,null,null,null,null,null,null,null,null,null,null,null,null,null,null,null,null,null,null,null,null,null,null,null,null,null,null,null,null,null,null,null,null,null,null,null,null,null,null,null,null,null,null,null,null,null,null,null,null,null,"MP_LED",2835,"LM282B (6V)",0.15,null,0.16,115,15,25,80,3500,120.5,"S4 (118-123)",6.15,"G2 (6.0-6.3)",-28.408999999999999,-1.4205000000000001,7.4885999999999999,4.4999999999999997E-3,0,0,-1.8333333333333331E-3,7.1889000000000003,-2.5160999999999998,1.2279,0.84819999999999995,0,0,-1.899999999999998E-3]
[null,null,null,null,null,null,null,null,null,null,null,null,null,null,null,null,null,null,null,null,null,null,null,null,null,null,null,null,null,null,null,null,null,null,null,null,null,null,null,null,null,null,null,null,null,null,null,null,null,null,null,null,null,null,null,null,null,null,null,null,null,null,null,null,null,null,null,null,null,null,null,null,null,null,null,null,null,null,null,null,null,null,null,null,null,null,null,null,null,null,null,null,null,null,null,null,null,null,null,null,null,null,null,null,"MP_LED",2835,"LM282B (6V)",0.15,null,0.16,115,15,25,90,4000,99.5,"S1 (97-102)",6.15,"G2 (6.0-6.3)",-28.408999999999999,-1.4205000000000001,7.4885999999999999,4.4999999999999997E-3,0,0,-1.8333333333333331E-3,7.1889000000000003,-2.5160999999999998,1.2279,0.84819999999999995,0,0,-1.899999999999998E-3]
[null,null,null,null,null,null,null,null,null,null,null,null,null,null,null,null,null,null,null,null,null,null,null,null,null,null,null,null,null,null,null,null,null,null,null,null,null,null,null,null,null,null,null,null,null,null,null,null,null,null,null,null,null,null,null,null,null,null,null,null,null,null,null,null,null,null,null,null,null,null,null,null,null,null,null,null,null,null,null,null,null,null,null,null,null,null,null,null,null,null,null,null,null,null,null,null,null,null,null,null,null,null,null,null,"MP_LED",2835,"LM282B (6V)",0.15,null,0.16,115,15,25,90,5000,106.5,"S2 (104-109)",6.15,"G2 (6.0-6.3)",-28.408999999999999,-1.4205000000000001,7.4885999999999999,4.4999999999999997E-3,0,0,-1.8333333333333331E-3,7.1889000000000003,-2.5160999999999998,1.2279,0.84819999999999995,0,0,-1.899999999999998E-3]
[null,null,null,null,null,null,null,null,null,null,null,null,null,null,null,null,null,null,null,null,null,null,null,null,null,null,null,null,null,null,null,null,null,null,null,null,null,null,null,null,null,null,null,null,null,null,null,null,null,null,null,null,null,null,null,null,null,null,null,null,null,null,null,null,null,null,null,null,null,null,null,null,null,null,null,null,null,null,null,null,null,null,null,null,null,null,null,null,null,null,null,null,null,null,null,null,null,null,null,null,null,null,null,null,"MP_LED",2835,"LM282B (6V)",0.15,null,0.16,115,15,25,90,5000,116.5,"S4 (114-119)",6.15,"G2 (6.0-6.3)",-28.408999999999999,-1.4205000000000001,7.4885999999999999,4.4999999999999997E-3,0,0,-1.8333333333333331E-3,7.1889000000000003,-2.5160999999999998,1.2279,0.84819999999999995,0,0,-1.899999999999998E-3]
[null,null,null,null,null,null,null,null,null,null,null,null,null,null,null,null,null,null,null,null,null,null,null,null,null,null,null,null,null,null,null,null,null,null,null,null,null,null,null,null,null,null,null,null,null,null,null,null,null,null,null,null,null,null,null,null,null,null,null,null,null,null,null,null,null,null,null,null,null,null,null,null,null,null,null,null,null,null,null,null,null,null,null,null,null,null,null,null,null,null,null,null,null,null,null,null,null,null,null,null,null,null,null,null,"MP_LED",2835,"LM282B (6V)",0.15,null,0.16,115,15,25,80,6500,107.5,"S1 (105-110)",6.15,"G2 (6.0-6.3)",-28.408999999999999,-1.4205000000000001,7.4885999999999999,4.4999999999999997E-3,0,0,-1.8333333333333331E-3,7.1889000000000003,-2.5160999999999998,1.2279,0.84819999999999995,0,0,-1.899999999999998E-3]
[null,null,null,null,null,null,null,null,null,null,null,null,null,null,null,null,null,null,null,null,null,null,null,null,null,null,null,null,null,null,null,null,null,null,null,null,null,null,null,null,null,null,null,null,null,null,null,null,null,null,null,null,null,null,null,null,null,null,null,null,null,null,null,null,null,null,null,null,null,null,null,null,null,null,null,null,null,null,null,null,null,null,null,null,null,null,null,null,null,null,null,null,null,null,null,null,null,null,null,null,null,null,null,null,"MP_LED",2835,"LM282B plus (6V)",0.15,null,0.16,115,15,25,80,2700,118,"SB (113-123)",6.15,"G2 (6.0-6.3)",4.5788000000000002,-12.5,8.5449000000000002,-1.5900000000000001E-2,0,0,-1.8333333333333331E-3,-5.8608000000000002,1E-10,1.2225999999999999,0.83640000000000003,0,0,-2.0000000000000018E-3]
[null,null,null,null,null,null,null,null,null,null,null,null,null,null,null,null,null,null,null,null,null,null,null,null,null,null,null,null,null,null,null,null,null,null,null,null,null,null,null,null,null,null,null,null,null,null,null,null,null,null,null,null,null,null,null,null,null,null,null,null,null,null,null,null,null,null,null,null,null,null,null,null,null,null,null,null,null,null,null,null,null,null,null,null,null,null,null,null,null,null,null,null,null,null,null,null,null,null,null,null,null,null,null,null,"MP_LED",2835,"LM282B plus (6V)",0.15,null,0.16,115,15,25,90,3500,96,"SA (92-100)",6.15,"G2 (6.0-6.3)",4.5788000000000002,-12.5,8.5449000000000002,-1.5900000000000001E-2,0,0,-1.8333333333333331E-3,-5.8608000000000002,1E-10,1.2225999999999999,0.83640000000000003,0,0,-2.0000000000000018E-3]
[null,null,null,null,null,null,null,null,null,null,null,null,null,null,null,null,null,null,null,null,null,null,null,null,null,null,null,null,null,null,null,null,null,null,null,null,null,null,null,null,null,null,null,null,null,null,null,null,null,null,null,null,null,null,null,null,null,null,null,null,null,null,null,null,null,null,null,null,null,null,null,null,null,null,null,null,null,null,null,null,null,null,null,null,null,null,null,null,null,null,null,null,null,null,null,null,null,null,null,null,null,null,null,null,"MP_LED",2835,"LM282B plus (6V)",0.15,null,0.16,115,15,25,90,5000,109,"SB (105-113)",6.15,"G2 (6.0-6.3)",4.5788000000000002,-12.5,8.5449000000000002,-1.5900000000000001E-2,0,0,-1.8333333333333331E-3,-5.8608000000000002,1E-10,1.2225999999999999,0.83640000000000003,0,0,-2.0000000000000018E-3]
[null,null,null,null,null,null,null,null,null,null,null,null,null,null,null,null,null,null,null,null,null,null,null,null,null,null,null,null,null,null,null,null,null,null,null,null,null,null,null,null,null,null,null,null,null,null,null,null,null,null,null,null,null,null,null,null,null,null,null,null,null,null,null,null,null,null,null,null,null,null,null,null,null,null,null,null,null,null,null,null,null,null,null,null,null,null,null,null,null,null,null,null,null,null,null,null,null,null,null,null,null,null,null,null,"MP_LED",2835,"LM283B (9V)",0.1,null,0.11,125,15,25,80,2700,100.5,"S1 (98-103)",9.25,"G1 (9.1-9.4)",76.388999999999996,-35.625,12.952999999999999,-1.54E-2,0,0,-1.8333333333333331E-3,-41.069000000000003,5.7123999999999997,1.2351000000000001,0.86040000000000005,0,0,-5.9999999999999906E-3]
[null,null,null,null,null,null,null,null,null,null,null,null,null,null,null,null,null,null,null,null,null,null,null,null,null,null,null,null,null,null,null,null,null,null,null,null,null,null,null,null,null,null,null,null,null,null,null,null,null,null,null,null,null,null,null,null,null,null,null,null,null,null,null,null,null,null,null,null,null,null,null,null,null,null,null,null,null,null,null,null,null,null,null,null,null,null,null,null,null,null,null,null,null,null,null,null,null,null,null,null,null,null,null,null,"MP_LED",2835,"LM283B (9V)",0.1,null,0.11,125,15,25,80,3000,107.5,"S2 (105-110)",9.25,"G1 (9.1-9.4)",76.388999999999996,-35.625,12.952999999999999,-1.54E-2,0,0,-1.8333333333333331E-3,-41.069000000000003,5.7123999999999997,1.2351000000000001,0.86040000000000005,0,0,-5.9999999999999906E-3]
[null,null,null,null,null,null,null,null,null,null,null,null,null,null,null,null,null,null,null,null,null,null,null,null,null,null,null,null,null,null,null,null,null,null,null,null,null,null,null,null,null,null,null,null,null,null,null,null,null,null,null,null,null,null,null,null,null,null,null,null,null,null,null,null,null,null,null,null,null,null,null,null,null,null,null,null,null,null,null,null,null,null,null,null,null,null,null,null,null,null,null,null,null,null,null,null,null,null,null,null,null,null,null,null,"MP_LED",2835,"LM283B (9V)",0.1,null,0.11,125,15,25,80,3500,115.5,"S3 (113-118)",9.25,"G1 (9.1-9.4)",76.388999999999996,-35.625,12.952999999999999,-1.54E-2,0,0,-1.8333333333333331E-3,-41.069000000000003,5.7123999999999997,1.2351000000000001,0.86040000000000005,0,0,-5.9999999999999906E-3]
[null,null,null,null,null,null,null,null,null,null,null,null,null,null,null,null,null,null,null,null,null,null,null,null,null,null,null,null,null,null,null,null,null,null,null,null,null,null,null,null,null,null,null,null,null,null,null,null,null,null,null,null,null,null,null,null,null,null,null,null,null,null,null,null,null,null,null,null,null,null,null,null,null,null,null,null,null,null,null,null,null,null,null,null,null,null,null,null,null,null,null,null,null,null,null,null,null,null,null,null,null,null,null,null,"MP_LED",2835,"LM283B (9V)",0.1,null,0.11,125,15,25,90,4000,97.5,"S1 (95-100)",9.25,"G1 (9.1-9.4)",76.388999999999996,-35.625,12.952999999999999,-1.54E-2,0,0,-1.8333333333333331E-3,-41.069000000000003,5.7123999999999997,1.2351000000000001,0.86040000000000005,0,0,-5.9999999999999906E-3]
[null,null,null,null,null,null,null,null,null,null,null,null,null,null,null,null,null,null,null,null,null,null,null,null,null,null,null,null,null,null,null,null,null,null,null,null,null,null,null,null,null,null,null,null,null,null,null,null,null,null,null,null,null,null,null,null,null,null,null,null,null,null,null,null,null,null,null,null,null,null,null,null,null,null,null,null,null,null,null,null,null,null,null,null,null,null,null,null,null,null,null,null,null,null,null,null,null,null,null,null,null,null,null,null,"MP_LED",2835,"LM283B (9V)",0.1,null,0.11,125,15,25,90,4000,102.5,"S2 (100-105)",9.25,"G1 (9.1-9.4)",76.388999999999996,-35.625,12.952999999999999,-1.54E-2,0,0,-1.8333333333333331E-3,-41.069000000000003,5.7123999999999997,1.2351000000000001,0.86040000000000005,0,0,-5.9999999999999906E-3]
[null,null,null,null,null,null,null,null,null,null,null,null,null,null,null,null,null,null,null,null,null,null,null,null,null,null,null,null,null,null,null,null,null,null,null,null,null,null,null,null,null,null,null,null,null,null,null,null,null,null,null,null,null,null,null,null,null,null,null,null,null,null,null,null,null,null,null,null,null,null,null,null,null,null,null,null,null,null,null,null,null,null,null,null,null,null,null,null,null,null,null,null,null,null,null,null,null,null,null,null,null,null,null,null,"MP_LED",2835,"LM283B (9V)",0.1,null,0.11,125,15,25,90,5000,108.5,"S3 (106-111)",9.25,"G1 (9.1-9.4)",76.388999999999996,-35.625,12.952999999999999,-1.54E-2,0,0,-1.8333333333333331E-3,-41.069000000000003,5.7123999999999997,1.2351000000000001,0.86040000000000005,0,0,-5.9999999999999906E-3]
[null,null,null,null,null,null,null,null,null,null,null,null,null,null,null,null,null,null,null,null,null,null,null,null,null,null,null,null,null,null,null,null,null,null,null,null,null,null,null,null,null,null,null,null,null,null,null,null,null,null,null,null,null,null,null,null,null,null,null,null,null,null,null,null,null,null,null,null,null,null,null,null,null,null,null,null,null,null,null,null,null,null,null,null,null,null,null,null,null,null,null,null,null,null,null,null,null,null,null,null,null,null,null,null,"MP_LED",2835,"LM283B (9V)",0.1,null,0.11,125,15,25,90,5700,112.5,"S4 (110-115)",9.25,"G1 (9.1-9.4)",76.388999999999996,-35.625,12.952999999999999,-1.54E-2,0,0,-1.8333333333333331E-3,-41.069000000000003,5.7123999999999997,1.2351000000000001,0.86040000000000005,0,0,-5.9999999999999906E-3]
[null,null,null,null,null,null,null,null,null,null,null,null,null,null,null,null,null,null,null,null,null,null,null,null,null,null,null,null,null,null,null,null,null,null,null,null,null,null,null,null,null,null,null,null,null,null,null,null,null,null,null,null,null,null,null,null,null,null,null,null,null,null,null,null,null,null,null,null,null,null,null,null,null,null,null,null,null,null,null,null,null,null,null,null,null,null,null,null,null,null,null,null,null,null,null,null,null,null,null,null,null,null,null,null,"MP_LED",2835,"LM283B plus (9V)",0.1,null,0.11,125,15,25,80,2700,107,"SA (103-111)",9.25,"G1 (9.1-9.4)",76.388999999999996,-35.625,12.952999999999999,-1.54E-2,0,0,-1.8333333333333331E-3,-41.069000000000003,5.7123999999999997,1.2351000000000001,0.86040000000000005,0,0,-5.9999999999999906E-3]
[null,null,null,null,null,null,null,null,null,null,null,null,null,null,null,null,null,null,null,null,null,null,null,null,null,null,null,null,null,null,null,null,null,null,null,null,null,null,null,null,null,null,null,null,null,null,null,null,null,null,null,null,null,null,null,null,null,null,null,null,null,null,null,null,null,null,null,null,null,null,null,null,null,null,null,null,null,null,null,null,null,null,null,null,null,null,null,null,null,null,null,null,null,null,null,null,null,null,null,null,null,null,null,null,"MP_LED",2835,"LM283B plus (9V)",0.1,null,0.11,125,15,25,80,3500,122,"SB (117-127)",9.25,"G1 (9.1-9.4)",76.388999999999996,-35.625,12.952999999999999,-1.54E-2,0,0,-1.8333333333333331E-3,-41.069000000000003,5.7123999999999997,1.2351000000000001,0.86040000000000005,0,0,-5.9999999999999906E-3]
[null,null,null,null,null,null,null,null,null,null,null,null,null,null,null,null,null,null,null,null,null,null,null,null,null,null,null,null,null,null,null,null,null,null,null,null,null,null,null,null,null,null,null,null,null,null,null,null,null,null,null,null,null,null,null,null,null,null,null,null,null,null,null,null,null,null,null,null,null,null,null,null,null,null,null,null,null,null,null,null,null,null,null,null,null,null,null,null,null,null,null,null,null,null,null,null,null,null,null,null,null,null,null,null,"MP_LED",2835,"LM283B plus (9V)",0.1,null,0.11,125,15,25,80,5700,127,"SB (122-132)",9.25,"G1 (9.1-9.4)",76.388999999999996,-35.625,12.952999999999999,-1.54E-2,0,0,-1.8333333333333331E-3,-41.069000000000003,5.7123999999999997,1.2351000000000001,0.86040000000000005,0,0,-5.9999999999999906E-3]
[null,null,null,null,null,null,null,null,null,null,null,null,null,null,null,null,null,null,null,null,null,null,null,null,null,null,null,null,null,null,null,null,null,null,null,null,null,null,null,null,null,null,null,null,null,null,null,null,null,null,null,null,null,null,null,null,null,null,null,null,null,null,null,null,null,null,null,null,null,null,null,null,null,null,null,null,null,null,null,null,null,null,null,null,null,null,null,null,null,null,null,null,null,null,null,null,null,null,null,null,null,null,null,null,"MP_LED",2835,"LM283BS plus (9V)",0.06,null,7.0000000000000007E-2,115,15,25,80,2700,61.5,"S1 (59.0-64.0)",9.25,"G1 (9.1-9.4)",-416.67,-8.3332999999999995,18.375,1.7500000000000002E-2,0,0,-2.3333333333333335E-3,-27.056000000000001,-0.1804,1.0164,0.94550000000000001,0,0,-5.9999999999999906E-3]
[null,null,null,null,null,null,null,null,null,null,null,null,null,null,null,null,null,null,null,null,null,null,null,null,null,null,null,null,null,null,null,null,null,null,null,null,null,null,null,null,null,null,null,null,null,null,null,null,null,null,null,null,null,null,null,null,null,null,null,null,null,null,null,null,null,null,null,null,null,null,null,null,null,null,null,null,null,null,null,null,null,null,null,null,null,null,null,null,null,null,null,null,null,null,null,null,null,null,null,null,null,null,null,null,"MP_LED",2835,"LM286B (18V)",0.04,null,4.4999999999999998E-2,115,20,25,90,2700,67.5,"S1 (65-70)",17.5,"A3 (17-18)",1523.8,-240,32.133000000000003,1.1000000000000001E-3,0,0,-1.8333333333333331E-3,183.45,-24.765999999999998,3.6415000000000002,0.88219999999999998,0,0,-9.6000000000000078E-3]
[null,null,null,null,null,null,null,null,null,null,null,null,null,null,null,null,null,null,null,null,null,null,null,null,null,null,null,null,null,null,null,null,null,null,null,null,null,null,null,null,null,null,null,null,null,null,null,null,null,null,null,null,null,null,null,null,null,null,null,null,null,null,null,null,null,null,null,null,null,null,null,null,null,null,null,null,null,null,null,null,null,null,null,null,null,null,null,null,null,null,null,null,null,null,null,null,null,null,null,null,null,null,null,null,"MP_LED",2835,"LM286B (18V)",0.04,null,4.4999999999999998E-2,115,20,25,90,2700,72.5,"S2 (70-75)",17.5,"A3 (17-18)",1523.8,-240,32.133000000000003,1.1000000000000001E-3,0,0,-1.8333333333333331E-3,183.45,-24.765999999999998,3.6415000000000002,0.88219999999999998,0,0,-9.6000000000000078E-3]
[null,null,null,null,null,null,null,null,null,null,null,null,null,null,null,null,null,null,null,null,null,null,null,null,null,null,null,null,null,null,null,null,null,null,null,null,null,null,null,null,null,null,null,null,null,null,null,null,null,null,null,null,null,null,null,null,null,null,null,null,null,null,null,null,null,null,null,null,null,null,null,null,null,null,null,null,null,null,null,null,null,null,null,null,null,null,null,null,null,null,null,null,null,null,null,null,null,null,null,null,null,null,null,null,"MP_LED",2835,"LM286B (18V)",0.04,null,4.4999999999999998E-2,115,20,25,80,4000,97.5,"S1 (95-100)",17.5,"A3 (17-18)",1523.8,-240,32.133000000000003,1.1000000000000001E-3,0,0,-1.8333333333333331E-3,183.45,-24.765999999999998,3.6415000000000002,0.88219999999999998,0,0,-9.6000000000000078E-3]
[null,null,null,null,null,null,null,null,null,null,null,null,null,null,null,null,null,null,null,null,null,null,null,null,null,null,null,null,null,null,null,null,null,null,null,null,null,null,null,null,null,null,null,null,null,null,null,null,null,null,null,null,null,null,null,null,null,null,null,null,null,null,null,null,null,null,null,null,null,null,null,null,null,null,null,null,null,null,null,null,null,null,null,null,null,null,null,null,null,null,null,null,null,null,null,null,null,null,null,null,null,null,null,null,"MP_LED",2835,"LM286B (18V)",0.04,null,4.4999999999999998E-2,115,20,25,80,5700,102.5,"S2 (100-105)",17.5,"A3 (17-18)",1523.8,-240,32.133000000000003,1.1000000000000001E-3,0,0,-1.8333333333333331E-3,183.45,-24.765999999999998,3.6415000000000002,0.88219999999999998,0,0,-9.6000000000000078E-3]
[null,null,null,null,null,null,null,null,null,null,null,null,null,null,null,null,null,null,null,null,null,null,null,null,null,null,null,null,null,null,null,null,null,null,null,null,null,null,null,null,null,null,null,null,null,null,null,null,null,null,null,null,null,null,null,null,null,null,null,null,null,null,null,null,null,null,null,null,null,null,null,null,null,null,null,null,null,null,null,null,null,null,null,null,null,null,null,null,null,null,null,null,null,null,null,null,null,null,null,null,null,null,null,null,"MP_LED",2835,"LM281D plus ",0.15,null,0.2,115,25,25,80,2700,66.5,"SG (64.5-68.5)",2.95,"A2 (2.9-3.0)",-88.384,19.571000000000002,5.3056000000000001,6.2100000000000002E-2,0,0,-1.7499999999999996E-3,5.0000000000000003E-10,-1E-10,0.66669999999999996,0.9,0,0,-1.0000000000000009E-3]
[null,null,null,null,null,null,null,null,null,null,null,null,null,null,null,null,null,null,null,null,null,null,null,null,null,null,null,null,null,null,null,null,null,null,null,null,null,null,null,null,null,null,null,null,null,null,null,null,null,null,null,null,null,null,null,null,null,null,null,null,null,null,null,null,null,null,null,null,null,null,null,null,null,null,null,null,null,null,null,null,null,null,null,null,null,null,null,null,null,null,null,null,null,null,null,null,null,null,null,null,null,null,null,null,"MP_LED",2835,"LM281D plus ",0.15,null,0.2,115,25,25,80,3500,63.5,"SC (61.5-65.5)",2.95,"A2 (2.9-3.0)",-88.384,19.571000000000002,5.3056000000000001,6.2100000000000002E-2,0,0,-1.7499999999999996E-3,5.0000000000000003E-10,-1E-10,0.66669999999999996,0.9,0,0,-1.0000000000000009E-3]
[null,null,null,null,null,null,null,null,null,null,null,null,null,null,null,null,null,null,null,null,null,null,null,null,null,null,null,null,null,null,null,null,null,null,null,null,null,null,null,null,null,null,null,null,null,null,null,null,null,null,null,null,null,null,null,null,null,null,null,null,null,null,null,null,null,null,null,null,null,null,null,null,null,null,null,null,null,null,null,null,null,null,null,null,null,null,null,null,null,null,null,null,null,null,null,null,null,null,null,null,null,null,null,null,"MP_LED",2835,"LM281D plus ",0.15,null,0.2,115,25,25,90,4000,55.75,"SC (54.0-57.5)",2.95,"A2 (2.9-3.0)",-88.384,19.571000000000002,5.3056000000000001,6.2100000000000002E-2,0,0,-1.7499999999999996E-3,5.0000000000000003E-10,-1E-10,0.66669999999999996,0.9,0,0,-1.0000000000000009E-3]
[null,null,null,null,null,null,null,null,null,null,null,null,null,null,null,null,null,null,null,null,null,null,null,null,null,null,null,null,null,null,null,null,null,null,null,null,null,null,null,null,null,null,null,null,null,null,null,null,null,null,null,null,null,null,null,null,null,null,null,null,null,null,null,null,null,null,null,null,null,null,null,null,null,null,null,null,null,null,null,null,null,null,null,null,null,null,null,null,null,null,null,null,null,null,null,null,null,null,null,null,null,null,null,null,"MP_LED",2835,"LM281D plus ",0.15,null,0.2,115,25,25,80,5700,66.5,"SC (64.5-68.5)",2.95,"A2 (2.9-3.0)",-88.384,19.571000000000002,5.3056000000000001,6.2100000000000002E-2,0,0,-1.7499999999999996E-3,5.0000000000000003E-10,-1E-10,0.66669999999999996,0.9,0,0,-1.0000000000000009E-3]
[null,null,null,null,null,null,null,null,null,null,null,null,null,null,null,null,null,null,null,null,null,null,null,null,null,null,null,null,null,null,null,null,null,null,null,null,null,null,null,null,null,null,null,null,null,null,null,null,null,null,null,null,null,null,null,null,null,null,null,null,null,null,null,null,null,null,null,null,null,null,null,null,null,null,null,null,null,null,null,null,null,null,null,null,null,null,null,null,null,null,null,null,null,null,null,null,null,null,null,null,null,null,null,null,"MP_LED",2835,"LM281D plus ",0.15,null,0.2,115,25,25,90,6500,55.75,"SC (54.0-57.5)",2.95,"A2 (2.9-3.0)",-88.384,19.571000000000002,5.3056000000000001,6.2100000000000002E-2,0,0,-1.7499999999999996E-3,5.0000000000000003E-10,-1E-10,0.66669999999999996,0.9,0,0,-1.0000000000000009E-3]
[null,null,null,null,null,null,null,null,null,null,null,null,null,null,null,null,null,null,null,null,null,null,null,null,null,null,null,null,null,null,null,null,null,null,null,null,null,null,null,null,null,null,null,null,null,null,null,null,null,null,null,null,null,null,null,null,null,null,null,null,null,null,null,null,null,null,null,null,null,null,null,null,null,null,null,null,null,null,null,null,null,null,null,null,null,null,null,null,null,null,null,null,null,null,null,null,null,null,null,null,null,null,null,null,"MP_LED",2835,"LM281D plus ",0.15,null,0.2,115,25,25,90,6500,59.25,"SE (57.5-61.0)",2.95,"A2 (2.9-3.0)",-88.384,19.571000000000002,5.3056000000000001,6.2100000000000002E-2,0,0,-1.7499999999999996E-3,5.0000000000000003E-10,-1E-10,0.66669999999999996,0.9,0,0,-1.0000000000000009E-3]
[null,null,null,null,null,null,null,null,null,null,null,null,null,null,null,null,null,null,null,null,null,null,null,null,null,null,null,null,null,null,null,null,null,null,null,null,null,null,null,null,null,null,null,null,null,null,null,null,null,null,null,null,null,null,null,null,null,null,null,null,null,null,null,null,null,null,null,null,null,null,null,null,null,null,null,null,null,null,null,null,null,null,null,null,null,null,null,null,null,null,null,null,null,null,null,null,null,null,null,null,null,null,null,null,"MP_LED",2835,"LM283D plus (9V)",0.1,null,0.11,125,15,25,80,3000,120.5,"SB (117-124)",9.25,"G1 (9.1-9.4)",-13.888999999999999,-16.25,11.872,-1.0800000000000001E-2,0,0,-1.9166666666666666E-3,-41.069000000000003,5.7123999999999997,1.2351000000000001,0.86040000000000005,0,0,-5.9999999999999906E-3]
[null,null,null,null,null,null,null,null,null,null,null,null,null,null,null,null,null,null,null,null,null,null,null,null,null,null,null,null,null,null,null,null,null,null,null,null,null,null,null,null,null,null,null,null,null,null,null,null,null,null,null,null,null,null,null,null,null,null,null,null,null,null,null,null,null,null,null,null,null,null,null,null,null,null,null,null,null,null,null,null,null,null,null,null,null,null,null,null,null,null,null,null,null,null,null,null,null,null,null,null,null,null,null,null,"MP_LED",2835,"LM283D plus (9V)",0.1,null,0.11,125,15,25,90,3500,107.5,"SB (104-111)",9.25,"G1 (9.1-9.4)",-13.888999999999999,-16.25,11.872,-1.0800000000000001E-2,0,0,-1.9166666666666666E-3,-41.069000000000003,5.7123999999999997,1.2351000000000001,0.86040000000000005,0,0,-5.9999999999999906E-3]
[null,null,null,null,null,null,null,null,null,null,null,null,null,null,null,null,null,null,null,null,null,null,null,null,null,null,null,null,null,null,null,null,null,null,null,null,null,null,null,null,null,null,null,null,null,null,null,null,null,null,null,null,null,null,null,null,null,null,null,null,null,null,null,null,null,null,null,null,null,null,null,null,null,null,null,null,null,null,null,null,null,null,null,null,null,null,null,null,null,null,null,null,null,null,null,null,null,null,null,null,null,null,null,null,"MP_LED",2835,"LM283D plus (9V)",0.1,null,0.11,125,15,25,80,5000,120.5,"SL (117-124)",9.25,"G1 (9.1-9.4)",-13.888999999999999,-16.25,11.872,-1.0800000000000001E-2,0,0,-1.9166666666666666E-3,-41.069000000000003,5.7123999999999997,1.2351000000000001,0.86040000000000005,0,0,-5.9999999999999906E-3]
[null,null,null,null,null,null,null,null,null,null,null,null,null,null,null,null,null,null,null,null,null,null,null,null,null,null,null,null,null,null,null,null,null,null,null,null,null,null,null,null,null,null,null,null,null,null,null,null,null,null,null,null,null,null,null,null,null,null,null,null,null,null,null,null,null,null,null,null,null,null,null,null,null,null,null,null,null,null,null,null,null,null,null,null,null,null,null,null,null,null,null,null,null,null,null,null,null,null,null,null,null,null,null,null,"MP_LED",2835,"LM283D plus (9V)",0.1,null,0.11,125,15,25,90,5700,116.5,"SM (113-120)",9.25,"G1 (9.1-9.4)",-13.888999999999999,-16.25,11.872,-1.0800000000000001E-2,0,0,-1.9166666666666666E-3,-41.069000000000003,5.7123999999999997,1.2351000000000001,0.86040000000000005,0,0,-5.9999999999999906E-3]
[null,null,null,null,null,null,null,null,null,null,null,null,null,null,null,null,null,null,null,null,null,null,null,null,null,null,null,null,null,null,null,null,null,null,null,null,null,null,null,null,null,null,null,null,null,null,null,null,null,null,null,null,null,null,null,null,null,null,null,null,null,null,null,null,null,null,null,null,null,null,null,null,null,null,null,null,null,null,null,null,null,null,null,null,null,null,null,null,null,null,null,null,null,null,null,null,null,null,null,null,null,null,null,null,"MP_LED",2835,"LM284D plus (12V)",7.4999999999999997E-2,null,0.08,125,15,25,90,2700,103.5,"SB (100-107)",11.75,"H2 (11.5-12.0)",-162.34,10.227,13.340999999999999,1.04E-2,0,0,-1.6666666666666663E-3,-211.27,21.18,1.3551,0.86839999999999995,0,0,-5.0000000000000122E-3]
[null,null,null,null,null,null,null,null,null,null,null,null,null,null,null,null,null,null,null,null,null,null,null,null,null,null,null,null,null,null,null,null,null,null,null,null,null,null,null,null,null,null,null,null,null,null,null,null,null,null,null,null,null,null,null,null,null,null,null,null,null,null,null,null,null,null,null,null,null,null,null,null,null,null,null,null,null,null,null,null,null,null,null,null,null,null,null,null,null,null,null,null,null,null,null,null,null,null,null,null,null,null,null,null,"MP_LED",2835,"LM284D plus (12V)",7.4999999999999997E-2,null,0.08,125,15,25,90,3500,113.5,"SC (110-117)",11.75,"H2 (11.5-12.0)",-162.34,10.227,13.340999999999999,1.04E-2,0,0,-1.6666666666666663E-3,-211.27,21.18,1.3551,0.86839999999999995,0,0,-5.0000000000000122E-3]
[null,null,null,null,null,null,null,null,null,null,null,null,null,null,null,null,null,null,null,null,null,null,null,null,null,null,null,null,null,null,null,null,null,null,null,null,null,null,null,null,null,null,null,null,null,null,null,null,null,null,null,null,null,null,null,null,null,null,null,null,null,null,null,null,null,null,null,null,null,null,null,null,null,null,null,null,null,null,null,null,null,null,null,null,null,null,null,null,null,null,null,null,null,null,null,null,null,null,null,null,null,null,null,null,"MP_LED",2835,"LM284D plus (12V)",7.4999999999999997E-2,null,0.08,125,15,25,80,5700,129.5,"SB (126-133)",11.75,"H2 (11.5-12.0)",-162.34,10.227,13.340999999999999,1.04E-2,0,0,-1.6666666666666663E-3,-211.27,21.18,1.3551,0.86839999999999995,0,0,-5.0000000000000122E-3]
[null,null,null,null,null,null,null,null,null,null,null,null,null,null,null,null,null,null,null,null,null,null,null,null,null,null,null,null,null,null,null,null,null,null,null,null,null,null,null,null,null,null,null,null,null,null,null,null,null,null,null,null,null,null,null,null,null,null,null,null,null,null,null,null,null,null,null,null,null,null,null,null,null,null,null,null,null,null,null,null,null,null,null,null,null,null,null,null,null,null,null,null,null,null,null,null,null,null,null,null,null,null,null,null,"MP_LED",2835,"LM284D plus (12V)",7.4999999999999997E-2,null,0.08,125,15,25,80,5700,134.5,"SC (131-138)",11.75,"H2 (11.5-12.0)",-162.34,10.227,13.340999999999999,1.04E-2,0,0,-1.6666666666666663E-3,-211.27,21.18,1.3551,0.86839999999999995,0,0,-5.0000000000000122E-3]
[null,null,null,null,null,null,null,null,null,null,null,null,null,null,null,null,null,null,null,null,null,null,null,null,null,null,null,null,null,null,null,null,null,null,null,null,null,null,null,null,null,null,null,null,null,null,null,null,null,null,null,null,null,null,null,null,null,null,null,null,null,null,null,null,null,null,null,null,null,null,null,null,null,null,null,null,null,null,null,null,null,null,null,null,null,null,null,null,null,null,null,null,null,null,null,null,null,null,null,null,null,null,null,null,"MP_LED",5630,"LM561B",6.5000000000000002E-2,null,0.18,110,16,25,80,2700,29,"S3 (28-30)",2.95,"A2 (2.9-3.0)",0,-11.983000000000001,15.781000000000001,2.4799999999999999E-2,0,0,-1.6999999999999999E-3,0,-0.54620000000000002,1.0103,0.93659999999999999,0,0,-1.8400000000000001E-3]
[null,null,null,null,null,null,null,null,null,null,null,null,null,null,null,null,null,null,null,null,null,null,null,null,null,null,null,null,null,null,null,null,null,null,null,null,null,null,null,null,null,null,null,null,null,null,null,null,null,null,null,null,null,null,null,null,null,null,null,null,null,null,null,null,null,null,null,null,null,null,null,null,null,null,null,null,null,null,null,null,null,null,null,null,null,null,null,null,null,null,null,null,null,null,null,null,null,null,null,null,null,null,null,null,"MP_LED",5630,"LM561B",6.5000000000000002E-2,null,0.18,110,16,25,90,3000,25.5,"S1 (24.5-26.5)",2.95,"A2 (2.9-3.0)",0,-24.547999999999998,18.273,-8.4099999999999994E-2,0,0,-1.64E-3,0,-0.54620000000000002,1.0103,0.93659999999999999,0,0,-1.8400000000000001E-3]
[null,null,null,null,null,null,null,null,null,null,null,null,null,null,null,null,null,null,null,null,null,null,null,null,null,null,null,null,null,null,null,null,null,null,null,null,null,null,null,null,null,null,null,null,null,null,null,null,null,null,null,null,null,null,null,null,null,null,null,null,null,null,null,null,null,null,null,null,null,null,null,null,null,null,null,null,null,null,null,null,null,null,null,null,null,null,null,null,null,null,null,null,null,null,null,null,null,null,null,null,null,null,null,null,"MP_LED",5630,"LM561B",6.5000000000000002E-2,null,0.18,110,16,25,80,4000,27,"S1 (26-28)",2.95,"A2 (2.9-3.0)",0,-11.983000000000001,15.781000000000001,2.4799999999999999E-2,0,0,-1.6999999999999999E-3,0,-0.54620000000000002,1.0103,0.93659999999999999,0,0,-1.8400000000000001E-3]
[null,null,null,null,null,null,null,null,null,null,null,null,null,null,null,null,null,null,null,null,null,null,null,null,null,null,null,null,null,null,null,null,null,null,null,null,null,null,null,null,null,null,null,null,null,null,null,null,null,null,null,null,null,null,null,null,null,null,null,null,null,null,null,null,null,null,null,null,null,null,null,null,null,null,null,null,null,null,null,null,null,null,null,null,null,null,null,null,null,null,null,null,null,null,null,null,null,null,null,null,null,null,null,null,"MP_LED",5630,"LM561B",6.5000000000000002E-2,null,0.18,110,16,25,80,5000,32,"S3 (31-33)",2.95,"A2 (2.9-3.0)",0,-11.983000000000001,15.781000000000001,2.4799999999999999E-2,0,0,-1.6999999999999999E-3,0,-0.54620000000000002,1.0103,0.93659999999999999,0,0,-1.8400000000000001E-3]
[null,null,null,null,null,null,null,null,null,null,null,null,null,null,null,null,null,null,null,null,null,null,null,null,null,null,null,null,null,null,null,null,null,null,null,null,null,null,null,null,null,null,null,null,null,null,null,null,null,null,null,null,null,null,null,null,null,null,null,null,null,null,null,null,null,null,null,null,null,null,null,null,null,null,null,null,null,null,null,null,null,null,null,null,null,null,null,null,null,null,null,null,null,null,null,null,null,null,null,null,null,null,null,null,"MP_LED",5630,"LM561B",6.5000000000000002E-2,null,0.18,110,16,25,80,6500,33,"S4 (32-34)",2.95,"A2 (2.9-3.0)",0,-11.983000000000001,15.781000000000001,2.4799999999999999E-2,0,0,-1.6999999999999999E-3,0,-0.54620000000000002,1.0103,0.93659999999999999,0,0,-1.8400000000000001E-3]
[null,null,null,null,null,null,null,null,null,null,null,null,null,null,null,null,null,null,null,null,null,null,null,null,null,null,null,null,null,null,null,null,null,null,null,null,null,null,null,null,null,null,null,null,null,null,null,null,null,null,null,null,null,null,null,null,null,null,null,null,null,null,null,null,null,null,null,null,null,null,null,null,null,null,null,null,null,null,null,null,null,null,null,null,null,null,null,null,null,null,null,null,null,null,null,null,null,null,null,null,null,null,null,null,"MP_LED",5630,"LM561B",6.5000000000000002E-2,null,0.18,110,16,25,90,3000,23.5,"SZ (22.5-24.5)",2.95,"A2 (2.9-3.0)",0,-24.547999999999998,18.273,-8.4099999999999994E-2,0,0,-1.64E-3,0,-0.54620000000000002,1.0103,0.93659999999999999,0,0,-1.8400000000000001E-3]
[null,null,null,null,null,null,null,null,null,null,null,null,null,null,null,null,null,null,null,null,null,null,null,null,null,null,null,null,null,null,null,null,null,null,null,null,null,null,null,null,null,null,null,null,null,null,null,null,null,null,null,null,null,null,null,null,null,null,null,null,null,null,null,null,null,null,null,null,null,null,null,null,null,null,null,null,null,null,null,null,null,null,null,null,null,null,null,null,null,null,null,null,null,null,null,null,null,null,null,null,null,null,null,null,"MP_LED",5630,"LM561B",6.5000000000000002E-2,null,0.18,110,16,25,80,4000,27,"S1 (26-28)",2.95,"A2 (2.9-3.0)",0,-11.983000000000001,15.781000000000001,2.4799999999999999E-2,0,0,-1.6999999999999999E-3,0,-0.54620000000000002,1.0103,0.93659999999999999,0,0,-1.8400000000000001E-3]
[null,null,null,null,null,null,null,null,null,null,null,null,null,null,null,null,null,null,null,null,null,null,null,null,null,null,null,null,null,null,null,null,null,null,null,null,null,null,null,null,null,null,null,null,null,null,null,null,null,null,null,null,null,null,null,null,null,null,null,null,null,null,null,null,null,null,null,null,null,null,null,null,null,null,null,null,null,null,null,null,null,null,null,null,null,null,null,null,null,null,null,null,null,null,null,null,null,null,null,null,null,null,null,null,"MP_LED",5630,"LM561B",6.5000000000000002E-2,null,0.18,110,16,25,80,4000,29,"S2 (28-30)",2.95,"A2 (2.9-3.0)",0,-11.983000000000001,15.781000000000001,2.4799999999999999E-2,0,0,-1.6999999999999999E-3,0,-0.54620000000000002,1.0103,0.93659999999999999,0,0,-1.8400000000000001E-3]
[null,null,null,null,null,null,null,null,null,null,null,null,null,null,null,null,null,null,null,null,null,null,null,null,null,null,null,null,null,null,null,null,null,null,null,null,null,null,null,null,null,null,null,null,null,null,null,null,null,null,null,null,null,null,null,null,null,null,null,null,null,null,null,null,null,null,null,null,null,null,null,null,null,null,null,null,null,null,null,null,null,null,null,null,null,null,null,null,null,null,null,null,null,null,null,null,null,null,null,null,null,null,null,null,"MP_LED",5630,"LM561B",6.5000000000000002E-2,null,0.18,110,16,25,80,5000,34,"S4 (33-35) ",2.95,"A2 (2.9-3.0)",0,-11.983000000000001,15.781000000000001,2.4799999999999999E-2,0,0,-1.6999999999999999E-3,0,-0.54620000000000002,1.0103,0.93659999999999999,0,0,-1.8400000000000001E-3]
[null,null,null,null,null,null,null,null,null,null,null,null,null,null,null,null,null,null,null,null,null,null,null,null,null,null,null,null,null,null,null,null,null,null,null,null,null,null,null,null,null,null,null,null,null,null,null,null,null,null,null,null,null,null,null,null,null,null,null,null,null,null,null,null,null,null,null,null,null,null,null,null,null,null,null,null,null,null,null,null,null,null,null,null,null,null,null,null,null,null,null,null,null,null,null,null,null,null,null,null,null,null,null,null,"MP_LED",5630,"LM561B",6.5000000000000002E-2,null,0.18,110,16,25,90,3000,25.5,"S1 (24.5-26.5)",2.95,"A2 (2.9-3.0)",0,-11.983000000000001,15.781000000000001,2.4799999999999999E-2,0,0,-1.6999999999999999E-3,0,-0.54620000000000002,1.0103,0.93659999999999999,0,0,-1.8400000000000001E-3]
[null,null,null,null,null,null,null,null,null,null,null,null,null,null,null,null,null,null,null,null,null,null,null,null,null,null,null,null,null,null,null,null,null,null,null,null,null,null,null,null,null,null,null,null,null,null,null,null,null,null,null,null,null,null,null,null,null,null,null,null,null,null,null,null,null,null,null,null,null,null,null,null,null,null,null,null,null,null,null,null,null,null,null,null,null,null,null,null,null,null,null,null,null,null,null,null,null,null,null,null,null,null,null,null,"MP_LED",5630,"LM561B",6.5000000000000002E-2,null,0.18,110,16,25,80,4000,27,"S1 (26-28)",2.95,"A2 (2.9-3.0)",0,-11.983000000000001,15.781000000000001,2.4799999999999999E-2,0,0,-1.6999999999999999E-3,0,-0.54620000000000002,1.0103,0.93659999999999999,0,0,-1.8400000000000001E-3]
[null,null,null,null,null,null,null,null,null,null,null,null,null,null,null,null,null,null,null,null,null,null,null,null,null,null,null,null,null,null,null,null,null,null,null,null,null,null,null,null,null,null,null,null,null,null,null,null,null,null,null,null,null,null,null,null,null,null,null,null,null,null,null,null,null,null,null,null,null,null,null,null,null,null,null,null,null,null,null,null,null,null,null,null,null,null,null,null,null,null,null,null,null,null,null,null,null,null,null,null,null,null,null,null,"MP_LED",5630,"LM561B",6.5000000000000002E-2,null,0.18,110,16,25,80,5000,32,"S3 (31-33)",2.95,"A2 (2.9-3.0)",0,-11.983000000000001,15.781000000000001,2.4799999999999999E-2,0,0,-1.6999999999999999E-3,0,-0.54620000000000002,1.0103,0.93659999999999999,0,0,-1.8400000000000001E-3]
[null,null,null,null,null,null,null,null,null,null,null,null,null,null,null,null,null,null,null,null,null,null,null,null,null,null,null,null,null,null,null,null,null,null,null,null,null,null,null,null,null,null,null,null,null,null,null,null,null,null,null,null,null,null,null,null,null,null,null,null,null,null,null,null,null,null,null,null,null,null,null,null,null,null,null,null,null,null,null,null,null,null,null,null,null,null,null,null,null,null,null,null,null,null,null,null,null,null,null,null,null,null,null,null,"MP_LED",5630,"LM561B",6.5000000000000002E-2,null,0.18,110,16,25,80,4000,33,"S4 (32-34)",2.95,"A2 (2.9-3.0)",0,-11.983000000000001,15.781000000000001,2.4799999999999999E-2,0,0,-1.6999999999999999E-3,0,-0.54620000000000002,1.0103,0.93659999999999999,0,0,-1.8400000000000001E-3]
[null,null,null,null,null,null,null,null,null,null,null,null,null,null,null,null,null,null,null,null,null,null,null,null,null,null,null,null,null,null,null,null,null,null,null,null,null,null,null,null,null,null,null,null,null,null,null,null,null,null,null,null,null,null,null,null,null,null,null,null,null,null,null,null,null,null,null,null,null,null,null,null,null,null,null,null,null,null,null,null,null,null,null,null,null,null,null,null,null,null,null,null,null,null,null,null,null,null,null,null,null,null,null,null,"MP_LED",5630,"LM561B plus",6.5000000000000002E-2,null,0.18,110,15,25,70,2700,35,"S6 (34-36)",2.95,"A2 (2.9-3.0)",-32.566000000000003,-4.2927999999999997,15.669,8.6E-3,0,0,-1.4545454545454538E-3,9.9886999999999997,-5.4893000000000001,1.7012,0.90990000000000004,0,0,-1.7181818181818188E-3]
[null,null,null,null,null,null,null,null,null,null,null,null,null,null,null,null,null,null,null,null,null,null,null,null,null,null,null,null,null,null,null,null,null,null,null,null,null,null,null,null,null,null,null,null,null,null,null,null,null,null,null,null,null,null,null,null,null,null,null,null,null,null,null,null,null,null,null,null,null,null,null,null,null,null,null,null,null,null,null,null,null,null,null,null,null,null,null,null,null,null,null,null,null,null,null,null,null,null,null,null,null,null,null,null,"MP_LED",5630,"LM561B plus",6.5000000000000002E-2,null,0.18,110,15,25,80,3000,31.5,"S4 (30.5-32.5)",2.95,"A2 (2.9-3.0)",-32.566000000000003,-4.2927999999999997,15.669,8.6E-3,0,0,-1.4545454545454538E-3,9.9886999999999997,-5.4893000000000001,1.7012,0.90990000000000004,0,0,-1.7181818181818188E-3]
[null,null,null,null,null,null,null,null,null,null,null,null,null,null,null,null,null,null,null,null,null,null,null,null,null,null,null,null,null,null,null,null,null,null,null,null,null,null,null,null,null,null,null,null,null,null,null,null,null,null,null,null,null,null,null,null,null,null,null,null,null,null,null,null,null,null,null,null,null,null,null,null,null,null,null,null,null,null,null,null,null,null,null,null,null,null,null,null,null,null,null,null,null,null,null,null,null,null,null,null,null,null,null,null,"MP_LED",5630,"LM561B plus",6.5000000000000002E-2,null,0.18,110,15,25,80,3000,33.5,"S5 (32.5-34.5)",2.95,"A2 (2.9-3.0)",-32.566000000000003,-4.2927999999999997,15.669,8.6E-3,0,0,-1.4545454545454538E-3,9.9886999999999997,-5.4893000000000001,1.7012,0.90990000000000004,0,0,-1.7181818181818188E-3]
[null,null,null,null,null,null,null,null,null,null,null,null,null,null,null,null,null,null,null,null,null,null,null,null,null,null,null,null,null,null,null,null,null,null,null,null,null,null,null,null,null,null,null,null,null,null,null,null,null,null,null,null,null,null,null,null,null,null,null,null,null,null,null,null,null,null,null,null,null,null,null,null,null,null,null,null,null,null,null,null,null,null,null,null,null,null,null,null,null,null,null,null,null,null,null,null,null,null,null,null,null,null,null,null,"MP_LED",5630,"LM561B plus",6.5000000000000002E-2,null,0.18,110,15,25,80,3500,36,"S6 (35-37)",2.95,"A2 (2.9-3.0)",-32.566000000000003,-4.2927999999999997,15.669,8.6E-3,0,0,-1.4545454545454538E-3,9.9886999999999997,-5.4893000000000001,1.7012,0.90990000000000004,0,0,-1.7181818181818188E-3]
[null,null,null,null,null,null,null,null,null,null,null,null,null,null,null,null,null,null,null,null,null,null,null,null,null,null,null,null,null,null,null,null,null,null,null,null,null,null,null,null,null,null,null,null,null,null,null,null,null,null,null,null,null,null,null,null,null,null,null,null,null,null,null,null,null,null,null,null,null,null,null,null,null,null,null,null,null,null,null,null,null,null,null,null,null,null,null,null,null,null,null,null,null,null,null,null,null,null,null,null,null,null,null,null,"MP_LED",5630,"LM561B plus",6.5000000000000002E-2,null,0.18,110,15,25,90,4000,29,"S2 (28-30)",2.95,"A2 (2.9-3.0)",-32.566000000000003,-4.2927999999999997,15.669,8.6E-3,0,0,-1.4545454545454538E-3,9.9886999999999997,-5.4893000000000001,1.7012,0.90990000000000004,0,0,-1.7181818181818188E-3]
[null,null,null,null,null,null,null,null,null,null,null,null,null,null,null,null,null,null,null,null,null,null,null,null,null,null,null,null,null,null,null,null,null,null,null,null,null,null,null,null,null,null,null,null,null,null,null,null,null,null,null,null,null,null,null,null,null,null,null,null,null,null,null,null,null,null,null,null,null,null,null,null,null,null,null,null,null,null,null,null,null,null,null,null,null,null,null,null,null,null,null,null,null,null,null,null,null,null,null,null,null,null,null,null,"MP_LED",5630,"LM561B plus",6.5000000000000002E-2,null,0.18,110,15,25,90,5000,30,"S2 (29-31)",2.95,"A2 (2.9-3.0)",-32.566000000000003,-4.2927999999999997,15.669,8.6E-3,0,0,-1.4545454545454538E-3,9.9886999999999997,-5.4893000000000001,1.7012,0.90990000000000004,0,0,-1.7181818181818188E-3]
[null,null,null,null,null,null,null,null,null,null,null,null,null,null,null,null,null,null,null,null,null,null,null,null,null,null,null,null,null,null,null,null,null,null,null,null,null,null,null,null,null,null,null,null,null,null,null,null,null,null,null,null,null,null,null,null,null,null,null,null,null,null,null,null,null,null,null,null,null,null,null,null,null,null,null,null,null,null,null,null,null,null,null,null,null,null,null,null,null,null,null,null,null,null,null,null,null,null,null,null,null,null,null,null,"MP_LED",5630,"LM561B plus",6.5000000000000002E-2,null,0.18,110,15,25,80,6500,37,"S6 (36-38)",2.95,"A2 (2.9-3.0)",-32.566000000000003,-4.2927999999999997,15.669,8.6E-3,0,0,-1.4545454545454538E-3,9.9886999999999997,-5.4893000000000001,1.7012,0.90990000000000004,0,0,-1.7181818181818188E-3]
[null,null,null,null,null,null,null,null,null,null,null,null,null,null,null,null,null,null,null,null,null,null,null,null,null,null,null,null,null,null,null,null,null,null,null,null,null,null,null,null,null,null,null,null,null,null,null,null,null,null,null,null,null,null,null,null,null,null,null,null,null,null,null,null,null,null,null,null,null,null,null,null,null,null,null,null,null,null,null,null,null,null,null,null,null,null,null,null,null,null,null,null,null,null,null,null,null,null,null,null,null,null,null,null,"MP_LED",5630,"LM561C",6.5000000000000002E-2,null,0.2,110,12,25,90,2700,29,"S3 (28-30)",2.75,"AZ (2.7-2.8)",8.4656000000000002,-11.132,15.946999999999999,8.0999999999999996E-3,0,0,-1.4999999999999994E-3,4.0708000000000002,-2.5516999999999999,1.0561,0.94099999999999995,0,0,-1.1499999999999991E-3]
[null,null,null,null,null,null,null,null,null,null,null,null,null,null,null,null,null,null,null,null,null,null,null,null,null,null,null,null,null,null,null,null,null,null,null,null,null,null,null,null,null,null,null,null,null,null,null,null,null,null,null,null,null,null,null,null,null,null,null,null,null,null,null,null,null,null,null,null,null,null,null,null,null,null,null,null,null,null,null,null,null,null,null,null,null,null,null,null,null,null,null,null,null,null,null,null,null,null,null,null,null,null,null,null,"MP_LED",5630,"LM561C",6.5000000000000002E-2,null,0.2,110,12,25,90,3000,29.5,"S3 (28.5-30.5)",2.75,"AZ (2.7-2.8)",8.4656000000000002,-11.132,15.946999999999999,8.0999999999999996E-3,0,0,-1.4999999999999994E-3,4.0708000000000002,-2.5516999999999999,1.0561,0.94099999999999995,0,0,-1.1499999999999991E-3]
[null,null,null,null,null,null,null,null,null,null,null,null,null,null,null,null,null,null,null,null,null,null,null,null,null,null,null,null,null,null,null,null,null,null,null,null,null,null,null,null,null,null,null,null,null,null,null,null,null,null,null,null,null,null,null,null,null,null,null,null,null,null,null,null,null,null,null,null,null,null,null,null,null,null,null,null,null,null,null,null,null,null,null,null,null,null,null,null,null,null,null,null,null,null,null,null,null,null,null,null,null,null,null,null,"MP_LED",5630,"LM561C",6.5000000000000002E-2,null,0.2,110,12,25,90,3500,30,"S3 (29-31)",2.75,"AZ (2.7-2.8)",8.4656000000000002,-11.132,15.946999999999999,8.0999999999999996E-3,0,0,-1.4999999999999994E-3,4.0708000000000002,-2.5516999999999999,1.0561,0.94099999999999995,0,0,-1.1499999999999991E-3]
[null,null,null,null,null,null,null,null,null,null,null,null,null,null,null,null,null,null,null,null,null,null,null,null,null,null,null,null,null,null,null,null,null,null,null,null,null,null,null,null,null,null,null,null,null,null,null,null,null,null,null,null,null,null,null,null,null,null,null,null,null,null,null,null,null,null,null,null,null,null,null,null,null,null,null,null,null,null,null,null,null,null,null,null,null,null,null,null,null,null,null,null,null,null,null,null,null,null,null,null,null,null,null,null,"MP_LED",5630,"LM561C",6.5000000000000002E-2,null,0.2,110,12,25,90,4000,29,"S2 (28-30)",2.75,"AZ (2.7-2.8)",8.4656000000000002,-11.132,15.946999999999999,8.0999999999999996E-3,0,0,-1.4999999999999994E-3,4.0708000000000002,-2.5516999999999999,1.0561,0.94099999999999995,0,0,-1.1499999999999991E-3]
[null,null,null,null,null,null,null,null,null,null,null,null,null,null,null,null,null,null,null,null,null,null,null,null,null,null,null,null,null,null,null,null,null,null,null,null,null,null,null,null,null,null,null,null,null,null,null,null,null,null,null,null,null,null,null,null,null,null,null,null,null,null,null,null,null,null,null,null,null,null,null,null,null,null,null,null,null,null,null,null,null,null,null,null,null,null,null,null,null,null,null,null,null,null,null,null,null,null,null,null,null,null,null,null,"MP_LED",5630,"LM561C",6.5000000000000002E-2,null,0.2,110,12,25,70,5000,38,"S6 (37-39)",2.75,"AZ (2.7-2.8)",8.4656000000000002,-11.132,15.946999999999999,8.0999999999999996E-3,0,0,-1.4999999999999994E-3,4.0708000000000002,-2.5516999999999999,1.0561,0.94099999999999995,0,0,-1.1499999999999991E-3]
[null,null,null,null,null,null,null,null,null,null,null,null,null,null,null,null,null,null,null,null,null,null,null,null,null,null,null,null,null,null,null,null,null,null,null,null,null,null,null,null,null,null,null,null,null,null,null,null,null,null,null,null,null,null,null,null,null,null,null,null,null,null,null,null,null,null,null,null,null,null,null,null,null,null,null,null,null,null,null,null,null,null,null,null,null,null,null,null,null,null,null,null,null,null,null,null,null,null,null,null,null,null,null,null,"MP_LED",5630,"LM561C",6.5000000000000002E-2,null,0.2,110,12,25,80,5700,37.5,"S6 (36.5-38.5)",2.75,"AZ (2.7-2.8)",8.4656000000000002,-11.132,15.946999999999999,8.0999999999999996E-3,0,0,-1.4999999999999994E-3,4.0708000000000002,-2.5516999999999999,1.0561,0.94099999999999995,0,0,-1.1499999999999991E-3]
[null,null,null,null,null,null,null,null,null,null,null,null,null,null,null,null,null,null,null,null,null,null,null,null,null,null,null,null,null,null,null,null,null,null,null,null,null,null,null,null,null,null,null,null,null,null,null,null,null,null,null,null,null,null,null,null,null,null,null,null,null,null,null,null,null,null,null,null,null,null,null,null,null,null,null,null,null,null,null,null,null,null,null,null,null,null,null,null,null,null,null,null,null,null,null,null,null,null,null,null,null,null,null,null,"MP_LED",3030,"LM302B (6V)",0.15,null,0.25,125,8,85,80,2700,110.5,"SD (106-115)",5.9,"A1 (5.8-6.0)",-13.333,9.9999999999999998E-13,6.8333000000000004,0.02,0,0,-1.6000000000000014E-3,-1.6949000000000001,9.9999999999999998E-13,0.56359999999999999,0.92120000000000002,0,0,-4.200000000000011E-3]
[null,null,null,null,null,null,null,null,null,null,null,null,null,null,null,null,null,null,null,null,null,null,null,null,null,null,null,null,null,null,null,null,null,null,null,null,null,null,null,null,null,null,null,null,null,null,null,null,null,null,null,null,null,null,null,null,null,null,null,null,null,null,null,null,null,null,null,null,null,null,null,null,null,null,null,null,null,null,null,null,null,null,null,null,null,null,null,null,null,null,null,null,null,null,null,null,null,null,null,null,null,null,null,null,"MP_LED",3030,"LM302B (6V)",0.15,null,0.25,125,8,85,70,3500,110.5,"SD (106-115)",5.9,"A1 (5.8-6.0)",-13.333,9.9999999999999998E-13,6.8333000000000004,0.02,0,0,-1.6000000000000014E-3,-1.6949000000000001,9.9999999999999998E-13,0.56359999999999999,0.92120000000000002,0,0,-4.200000000000011E-3]
[null,null,null,null,null,null,null,null,null,null,null,null,null,null,null,null,null,null,null,null,null,null,null,null,null,null,null,null,null,null,null,null,null,null,null,null,null,null,null,null,null,null,null,null,null,null,null,null,null,null,null,null,null,null,null,null,null,null,null,null,null,null,null,null,null,null,null,null,null,null,null,null,null,null,null,null,null,null,null,null,null,null,null,null,null,null,null,null,null,null,null,null,null,null,null,null,null,null,null,null,null,null,null,null,"MP_LED",3030,"LM302B (6V)",0.15,null,0.25,125,8,85,80,4000,128.5,"SF (124-133)",5.9,"A1 (5.8-6.0)",-13.333,9.9999999999999998E-13,6.8333000000000004,0.02,0,0,-1.6000000000000014E-3,-1.6949000000000001,9.9999999999999998E-13,0.56359999999999999,0.92120000000000002,0,0,-4.200000000000011E-3]
[null,null,null,null,null,null,null,null,null,null,null,null,null,null,null,null,null,null,null,null,null,null,null,null,null,null,null,null,null,null,null,null,null,null,null,null,null,null,null,null,null,null,null,null,null,null,null,null,null,null,null,null,null,null,null,null,null,null,null,null,null,null,null,null,null,null,null,null,null,null,null,null,null,null,null,null,null,null,null,null,null,null,null,null,null,null,null,null,null,null,null,null,null,null,null,null,null,null,null,null,null,null,null,null,"MP_LED",3030,"LM302B (6V)",0.15,null,0.25,125,8,85,80,5700,119.5,"SE (115-124)",5.9,"A1 (5.8-6.0)",-13.333,9.9999999999999998E-13,6.8333000000000004,0.02,0,0,-1.6000000000000014E-3,-1.6949000000000001,9.9999999999999998E-13,0.56359999999999999,0.92120000000000002,0,0,-4.200000000000011E-3]
[null,null,null,null,null,null,null,null,null,null,null,null,null,null,null,null,null,null,null,null,null,null,null,null,null,null,null,null,null,null,null,null,null,null,null,null,null,null,null,null,null,null,null,null,null,null,null,null,null,null,null,null,null,null,null,null,null,null,null,null,null,null,null,null,null,null,null,null,null,null,null,null,null,null,null,null,null,null,null,null,null,null,null,null,null,null,null,null,null,null,null,null,null,null,null,null,null,null,null,null,null,null,null,null,"MP_LED",3030,"LM302B (6V)",0.15,null,0.25,125,8,85,90,5700,83.5,"SA (79-88)",5.9,"A1 (5.8-6.0)",-13.333,9.9999999999999998E-13,6.8333000000000004,0.02,0,0,-1.6000000000000014E-3,-1.6949000000000001,9.9999999999999998E-13,0.56359999999999999,0.92120000000000002,0,0,-4.200000000000011E-3]
[null,null,null,null,null,null,null,null,null,null,null,null,null,null,null,null,null,null,null,null,null,null,null,null,null,null,null,null,null,null,null,null,null,null,null,null,null,null,null,null,null,null,null,null,null,null,null,null,null,null,null,null,null,null,null,null,null,null,null,null,null,null,null,null,null,null,null,null,null,null,null,null,null,null,null,null,null,null,null,null,null,null,null,null,null,null,null,null,null,null,null,null,null,null,null,null,null,null,null,null,null,null,null,null,"MP_LED",3030,"LM301A",0.15,null,0.5,125,7,85,90,2700,44,"SA (42-46)",2.85,"A1 (2.8-2.9)",0.69840000000000002,-3.2825000000000002,7.0338000000000003,1.6400000000000001E-2,0,0,-1.6000000000000014E-3,0.31519999999999998,-0.53590000000000004,0.52249999999999996,0.93259999999999998,0,0,-2.1000000000000055E-3]
[null,null,null,null,null,null,null,null,null,null,null,null,null,null,null,null,null,null,null,null,null,null,null,null,null,null,null,null,null,null,null,null,null,null,null,null,null,null,null,null,null,null,null,null,null,null,null,null,null,null,null,null,null,null,null,null,null,null,null,null,null,null,null,null,null,null,null,null,null,null,null,null,null,null,null,null,null,null,null,null,null,null,null,null,null,null,null,null,null,null,null,null,null,null,null,null,null,null,null,null,null,null,null,null,"MP_LED",3030,"LM301A",0.15,null,0.5,125,7,85,80,3500,60,"SE (58-62)",2.85,"A1 (2.8-2.9)",0.69840000000000002,-3.2825000000000002,7.0338000000000003,1.6400000000000001E-2,0,0,-1.6000000000000014E-3,0.31519999999999998,-0.53590000000000004,0.52249999999999996,0.93259999999999998,0,0,-2.1000000000000055E-3]
[null,null,null,null,null,null,null,null,null,null,null,null,null,null,null,null,null,null,null,null,null,null,null,null,null,null,null,null,null,null,null,null,null,null,null,null,null,null,null,null,null,null,null,null,null,null,null,null,null,null,null,null,null,null,null,null,null,null,null,null,null,null,null,null,null,null,null,null,null,null,null,null,null,null,null,null,null,null,null,null,null,null,null,null,null,null,null,null,null,null,null,null,null,null,null,null,null,null,null,null,null,null,null,null,"MP_LED",3030,"LM301A",0.15,null,0.5,125,7,85,90,4000,52,"SC (50-54)",2.85,"A1 (2.8-2.9)",0.69840000000000002,-3.2825000000000002,7.0338000000000003,1.6400000000000001E-2,0,0,-1.6000000000000014E-3,0.31519999999999998,-0.53590000000000004,0.52249999999999996,0.93259999999999998,0,0,-2.1000000000000055E-3]
[null,null,null,null,null,null,null,null,null,null,null,null,null,null,null,null,null,null,null,null,null,null,null,null,null,null,null,null,null,null,null,null,null,null,null,null,null,null,null,null,null,null,null,null,null,null,null,null,null,null,null,null,null,null,null,null,null,null,null,null,null,null,null,null,null,null,null,null,null,null,null,null,null,null,null,null,null,null,null,null,null,null,null,null,null,null,null,null,null,null,null,null,null,null,null,null,null,null,null,null,null,null,null,null,"MP_LED",3030,"LM301A",0.15,null,0.5,125,7,85,90,5700,44,"SA (42-46)",2.85,"A1 (2.8-2.9)",0.69840000000000002,-3.2825000000000002,7.0338000000000003,1.6400000000000001E-2,0,0,-1.6000000000000014E-3,0.31519999999999998,-0.53590000000000004,0.52249999999999996,0.93259999999999998,0,0,-2.1000000000000055E-3]
[null,null,null,null,null,null,null,null,null,null,null,null,null,null,null,null,null,null,null,null,null,null,null,null,null,null,null,null,null,null,null,null,null,null,null,null,null,null,null,null,null,null,null,null,null,null,null,null,null,null,null,null,null,null,null,null,null,null,null,null,null,null,null,null,null,null,null,null,null,null,null,null,null,null,null,null,null,null,null,null,null,null,null,null,null,null,null,null,null,null,null,null,null,null,null,null,null,null,null,null,null,null,null,null,"MP_LED",3030,"LM301B",6.5000000000000002E-2,null,0.2,125,7.5,25,90,2700,31,"SG (30-32)",2.75,"AZ (2.7-2.8)",10.44,-9.9062000000000001,15.996,-6.9999999999999999E-4,0,0,-1.0000000000000009E-3,11.663,-4.9410999999999996,1.0356000000000001,0.95040000000000002,0,0,-1.4999999999999976E-3]
[null,null,null,null,null,null,null,null,null,null,null,null,null,null,null,null,null,null,null,null,null,null,null,null,null,null,null,null,null,null,null,null,null,null,null,null,null,null,null,null,null,null,null,null,null,null,null,null,null,null,null,null,null,null,null,null,null,null,null,null,null,null,null,null,null,null,null,null,null,null,null,null,null,null,null,null,null,null,null,null,null,null,null,null,null,null,null,null,null,null,null,null,null,null,null,null,null,null,null,null,null,null,null,null,"MP_LED",3030,"LM301B",6.5000000000000002E-2,null,0.2,125,7.5,25,70,3500,35,"SJ (34-36)",2.75,"AZ (2.7-2.8)",10.44,-9.9062000000000001,15.996,-6.9999999999999999E-4,0,0,-1.0000000000000009E-3,11.663,-4.9410999999999996,1.0356000000000001,0.95040000000000002,0,0,-1.4999999999999976E-3]
[null,null,null,null,null,null,null,null,null,null,null,null,null,null,null,null,null,null,null,null,null,null,null,null,null,null,null,null,null,null,null,null,null,null,null,null,null,null,null,null,null,null,null,null,null,null,null,null,null,null,null,null,null,null,null,null,null,null,null,null,null,null,null,null,null,null,null,null,null,null,null,null,null,null,null,null,null,null,null,null,null,null,null,null,null,null,null,null,null,null,null,null,null,null,null,null,null,null,null,null,null,null,null,null,"MP_LED",3030,"LM301B",6.5000000000000002E-2,null,0.2,125,7.5,25,70,4000,39,"SL (38-40)",2.75,"AZ (2.7-2.8)",10.44,-9.9062000000000001,15.996,-6.9999999999999999E-4,0,0,-1.0000000000000009E-3,11.663,-4.9410999999999996,1.0356000000000001,0.95040000000000002,0,0,-1.4999999999999976E-3]
[null,null,null,null,null,null,null,null,null,null,null,null,null,null,null,null,null,null,null,null,null,null,null,null,null,null,null,null,null,null,null,null,null,null,null,null,null,null,null,null,null,null,null,null,null,null,null,null,null,null,null,null,null,null,null,null,null,null,null,null,null,null,null,null,null,null,null,null,null,null,null,null,null,null,null,null,null,null,null,null,null,null,null,null,null,null,null,null,null,null,null,null,null,null,null,null,null,null,null,null,null,null,null,null,"MP_LED",3030,"LM301B",6.5000000000000002E-2,null,0.2,125,7.5,25,80,5000,37,"SK (36-38)",2.75,"AZ (2.7-2.8)",10.44,-9.9062000000000001,15.996,-6.9999999999999999E-4,0,0,-1.0000000000000009E-3,11.663,-4.9410999999999996,1.0356000000000001,0.95040000000000002,0,0,-1.4999999999999976E-3]
[null,null,null,null,null,null,null,null,null,null,null,null,null,null,null,null,null,null,null,null,null,null,null,null,null,null,null,null,null,null,null,null,null,null,null,null,null,null,null,null,null,null,null,null,null,null,null,null,null,null,null,null,null,null,null,null,null,null,null,null,null,null,null,null,null,null,null,null,null,null,null,null,null,null,null,null,null,null,null,null,null,null,null,null,null,null,null,null,null,null,null,null,null,null,null,null,null,null,null,null,null,null,null,null,"MP_LED",3030,"LM301B",6.5000000000000002E-2,null,0.2,125,7.5,25,80,5000,39,"SL (38-40)",2.75,"AZ (2.7-2.8)",10.44,-9.9062000000000001,15.996,-6.9999999999999999E-4,0,0,-1.0000000000000009E-3,11.663,-4.9410999999999996,1.0356000000000001,0.95040000000000002,0,0,-1.4999999999999976E-3]
[null,null,null,null,null,null,null,null,null,null,null,null,null,null,null,null,null,null,null,null,null,null,null,null,null,null,null,null,null,null,null,null,null,null,null,null,null,null,null,null,null,null,null,null,null,null,null,null,null,null,null,null,null,null,null,null,null,null,null,null,null,null,null,null,null,null,null,null,null,null,null,null,null,null,null,null,null,null,null,null,null,null,null,null,null,null,null,null,null,null,null,null,null,null,null,null,null,null,null,null,null,null,null,null,"MP_LED",3030,"LM301B",6.5000000000000002E-2,null,0.2,125,7.5,25,80,5700,39,"SL (38-40)",2.75,"AZ (2.7-2.8)",10.44,-9.9062000000000001,15.996,-6.9999999999999999E-4,0,0,-1.0000000000000009E-3,11.663,-4.9410999999999996,1.0356000000000001,0.95040000000000002,0,0,-1.4999999999999976E-3]
[null,null,null,null,null,null,null,null,null,null,null,null,null,null,null,null,null,null,null,null,null,null,null,null,null,null,null,null,null,null,null,null,null,null,null,null,null,null,null,null,null,null,null,null,null,null,null,null,null,null,null,null,null,null,null,null,null,null,null,null,null,null,null,null,null,null,null,null,null,null,null,null,null,null,null,null,null,null,null,null,null,null,null,null,null,null,null,null,null,null,null,null,null,null,null,null,null,null,null,null,null,null,null,null,"MP_LED",3030,"LM301B",6.5000000000000002E-2,null,0.2,125,7.5,25,90,6500,33,"SH (32-34)",2.75,"AZ (2.7-2.8)",10.44,-9.9062000000000001,15.996,-6.9999999999999999E-4,0,0,-1.0000000000000009E-3,11.663,-4.9410999999999996,1.0356000000000001,0.95040000000000002,0,0,-1.4999999999999976E-3]
[null,null,null,null,null,null,null,null,null,null,null,null,null,null,null,null,null,null,null,null,null,null,null,null,null,null,null,null,null,null,null,null,null,null,null,null,null,null,null,null,null,null,null,null,null,null,null,null,null,null,null,null,null,null,null,null,null,null,null,null,null,null,null,null,null,null,null,null,null,null,null,null,null,null,null,null,null,null,null,null,null,null,null,null,null,null,null,null,null,null,null,null,null,null,null,null,null,null,null,null,null,null,null,null,"MP_LED",3030,"LM301Z plus",6.5000000000000002E-2,null,0.2,125,12,25,80,2700,33,"SH (32-34)",2.75,"AZ (2.7-2.8)",13.986000000000001,-10.523999999999999,16.189,-1.17E-2,0,0,-1.366666666666666E-3,18.978999999999999,-6.8299000000000003,1.357,0.93540000000000001,0,0,-1.008333333333337E-3]
[null,null,null,null,null,null,null,null,null,null,null,null,null,null,null,null,null,null,null,null,null,null,null,null,null,null,null,null,null,null,null,null,null,null,null,null,null,null,null,null,null,null,null,null,null,null,null,null,null,null,null,null,null,null,null,null,null,null,null,null,null,null,null,null,null,null,null,null,null,null,null,null,null,null,null,null,null,null,null,null,null,null,null,null,null,null,null,null,null,null,null,null,null,null,null,null,null,null,null,null,null,null,null,null,"MP_LED",3030,"LM301Z plus",6.5000000000000002E-2,null,0.2,125,12,25,90,3000,29,"SF (28-30)",2.75,"AZ (2.7-2.8)",13.986000000000001,-10.523999999999999,16.189,-1.17E-2,0,0,-1.366666666666666E-3,18.978999999999999,-6.8299000000000003,1.357,0.93540000000000001,0,0,-1.008333333333337E-3]
[null,null,null,null,null,null,null,null,null,null,null,null,null,null,null,null,null,null,null,null,null,null,null,null,null,null,null,null,null,null,null,null,null,null,null,null,null,null,null,null,null,null,null,null,null,null,null,null,null,null,null,null,null,null,null,null,null,null,null,null,null,null,null,null,null,null,null,null,null,null,null,null,null,null,null,null,null,null,null,null,null,null,null,null,null,null,null,null,null,null,null,null,null,null,null,null,null,null,null,null,null,null,null,null,"MP_LED",3030,"LM301Z plus",6.5000000000000002E-2,null,0.2,125,12,25,70,4000,35,"SJ (34-36)",2.75,"AZ (2.7-2.8)",13.986000000000001,-10.523999999999999,16.189,-1.17E-2,0,0,-1.366666666666666E-3,18.978999999999999,-6.8299000000000003,1.357,0.93540000000000001,0,0,-1.008333333333337E-3]
[null,null,null,null,null,null,null,null,null,null,null,null,null,null,null,null,null,null,null,null,null,null,null,null,null,null,null,null,null,null,null,null,null,null,null,null,null,null,null,null,null,null,null,null,null,null,null,null,null,null,null,null,null,null,null,null,null,null,null,null,null,null,null,null,null,null,null,null,null,null,null,null,null,null,null,null,null,null,null,null,null,null,null,null,null,null,null,null,null,null,null,null,null,null,null,null,null,null,null,null,null,null,null,null,"MP_LED",3030,"LM301Z plus",6.5000000000000002E-2,null,0.2,125,12,25,70,5700,35,"SJ (34-36)",2.75,"AZ (2.7-2.8)",13.986000000000001,-10.523999999999999,16.189,-1.17E-2,0,0,-1.366666666666666E-3,18.978999999999999,-6.8299000000000003,1.357,0.93540000000000001,0,0,-1.008333333333337E-3]
[null,null,null,null,null,null,null,null,null,null,null,null,null,null,null,null,null,null,null,null,null,null,null,null,null,null,null,null,null,null,null,null,null,null,null,null,null,null,null,null,null,null,null,null,null,null,null,null,null,null,null,null,null,null,null,null,null,null,null,null,null,null,null,null,null,null,null,null,null,null,null,null,null,null,null,null,null,null,null,null,null,null,null,null,null,null,null,null,null,null,null,null,null,null,null,null,null,null,null,null,null,null,null,null,"MP_LED",3030,"LM301Z plus",6.5000000000000002E-2,null,0.2,125,12,25,90,6500,31,"SG (30-32)",2.75,"AZ (2.7-2.8)",13.986000000000001,-10.523999999999999,16.189,-1.17E-2,0,0,-1.366666666666666E-3,18.978999999999999,-6.8299000000000003,1.357,0.93540000000000001,0,0,-1.008333333333337E-3]
[null,null,null,null,null,null,null,null,null,null,null,null,null,null,null,null,null,null,null,null,null,null,null,null,null,null,null,null,null,null,null,null,null,null,null,null,null,null,null,null,null,null,null,null,null,null,null,null,null,null,null,null,null,null,null,null,null,null,null,null,null,null,null,null,null,null,null,null,null,null,null,null,null,null,null,null,null,null,null,null,null,null,null,null,null,null,null,null,null,null,null,null,null,null,null,null,null,null,null,null,null,null,null,null,"MP_LED",3030,"LM302Z plus (6V)",0.15,null,0.2,125,12,25,80,2700,128.5,"SF (124-133)",6.1,"B1 (6.0-6.2)",26.667000000000002,-16,8.7332999999999998,-0.04,0,0,-1.4999999999999994E-3,4.3573000000000004,-2.2875999999999999,1.3126,0.83989999999999998,0,0,-2.2440000000000016E-3]
[null,null,null,null,null,null,null,null,null,null,null,null,null,null,null,null,null,null,null,null,null,null,null,null,null,null,null,null,null,null,null,null,null,null,null,null,null,null,null,null,null,null,null,null,null,null,null,null,null,null,null,null,null,null,null,null,null,null,null,null,null,null,null,null,null,null,null,null,null,null,null,null,null,null,null,null,null,null,null,null,null,null,null,null,null,null,null,null,null,null,null,null,null,null,null,null,null,null,null,null,null,null,null,null,"MP_LED",3030,"LM302Z plus (6V)",0.15,null,0.2,125,12,25,90,3000,119.5,"SE (115-124)",6.1,"B1 (6.0-6.2)",26.667000000000002,-16,8.7332999999999998,-0.04,0,0,-1.4999999999999994E-3,4.3573000000000004,-2.2875999999999999,1.3126,0.83989999999999998,0,0,-2.2440000000000016E-3]
[null,null,null,null,null,null,null,null,null,null,null,null,null,null,null,null,null,null,null,null,null,null,null,null,null,null,null,null,null,null,null,null,null,null,null,null,null,null,null,null,null,null,null,null,null,null,null,null,null,null,null,null,null,null,null,null,null,null,null,null,null,null,null,null,null,null,null,null,null,null,null,null,null,null,null,null,null,null,null,null,null,null,null,null,null,null,null,null,null,null,null,null,null,null,null,null,null,null,null,null,null,null,null,null,"MP_LED",3030,"LM302Z plus (6V)",0.15,null,0.2,125,12,25,80,4000,137.5,"SG (133-142)",6.1,"B1 (6.0-6.2)",26.667000000000002,-16,8.7332999999999998,-0.04,0,0,-1.4999999999999994E-3,4.3573000000000004,-2.2875999999999999,1.3126,0.83989999999999998,0,0,-2.2440000000000016E-3]
[null,null,null,null,null,null,null,null,null,null,null,null,null,null,null,null,null,null,null,null,null,null,null,null,null,null,null,null,null,null,null,null,null,null,null,null,null,null,null,null,null,null,null,null,null,null,null,null,null,null,null,null,null,null,null,null,null,null,null,null,null,null,null,null,null,null,null,null,null,null,null,null,null,null,null,null,null,null,null,null,null,null,null,null,null,null,null,null,null,null,null,null,null,null,null,null,null,null,null,null,null,null,null,null,"MP_LED",3030,"LM302Z plus (6V)",0.15,null,0.2,125,12,25,90,5000,128.5,"SF (124-133)",6.1,"B1 (6.0-6.2)",26.667000000000002,-16,8.7332999999999998,-0.04,0,0,-1.4999999999999994E-3,4.3573000000000004,-2.2875999999999999,1.3126,0.83989999999999998,0,0,-2.2440000000000016E-3]
[null,null,null,null,null,null,null,null,null,null,null,null,null,null,null,null,null,null,null,null,null,null,null,null,null,null,null,null,null,null,null,null,null,null,null,null,null,null,null,null,null,null,null,null,null,null,null,null,null,null,null,null,null,null,null,null,null,null,null,null,null,null,null,null,null,null,null,null,null,null,null,null,null,null,null,null,null,null,null,null,null,null,null,null,null,null,null,null,null,null,null,null,null,null,null,null,null,null,null,null,null,null,null,null,"MP_LED",3030,"LM302Z plus (6V)",0.15,null,0.2,125,12,25,90,6500,128.5,"SF (124-133)",6.1,"B1 (6.0-6.2)",26.667000000000002,-16,8.7332999999999998,-0.04,0,0,-1.4999999999999994E-3,4.3573000000000004,-2.2875999999999999,1.3126,0.83989999999999998,0,0,-2.2440000000000016E-3]
[null,null,null,null,null,null,null,null,null,null,null,null,null,null,null,null,null,null,null,null,null,null,null,null,null,null,null,null,null,null,null,null,null,null,null,null,null,null,null,null,null,null,null,null,null,null,null,null,null,null,null,null,null,null,null,null,null,null,null,null,null,null,null,null,null,null,null,null,null,null,null,null,null,null,null,null,null,null,null,null,null,null,null,null,null,null,null,null,null,null,null,null,null,null,null,null,null,null,null,null,null,null,null,null,"MP_LED",3030,"LM302C (6V)",6.5000000000000002E-2,null,0.15,110,8,25,80,3000,56,"SD (54-58)",5.9,"A1 (5.8-6.0)",21.617000000000001,-19.274000000000001,16.568999999999999,-1.5E-3,0,0,-1.1833333333333325E-3,10.497,-4.9314,1.4317,0.92490000000000006,0,0,-2.7533333333333411E-3]
[null,null,null,null,null,null,null,null,null,null,null,null,null,null,null,null,null,null,null,null,null,null,null,null,null,null,null,null,null,null,null,null,null,null,null,null,null,null,null,null,null,null,null,null,null,null,null,null,null,null,null,null,null,null,null,null,null,null,null,null,null,null,null,null,null,null,null,null,null,null,null,null,null,null,null,null,null,null,null,null,null,null,null,null,null,null,null,null,null,null,null,null,null,null,null,null,null,null,null,null,null,null,null,null,"MP_LED",3030,"LM302C (6V)",6.5000000000000002E-2,null,0.15,110,8,25,80,3500,60,"SE (58-62)",5.9,"A1 (5.8-6.0)",21.617000000000001,-19.274000000000001,16.568999999999999,-1.5E-3,0,0,-1.1833333333333325E-3,10.497,-4.9314,1.4317,0.92490000000000006,0,0,-2.7533333333333411E-3]
[null,null,null,null,null,null,null,null,null,null,null,null,null,null,null,null,null,null,null,null,null,null,null,null,null,null,null,null,null,null,null,null,null,null,null,null,null,null,null,null,null,null,null,null,null,null,null,null,null,null,null,null,null,null,null,null,null,null,null,null,null,null,null,null,null,null,null,null,null,null,null,null,null,null,null,null,null,null,null,null,null,null,null,null,null,null,null,null,null,null,null,null,null,null,null,null,null,null,null,null,null,null,null,null,"MP_LED",3030,"LM302C (6V)",6.5000000000000002E-2,null,0.15,110,8,25,80,4000,60,"SE (58-62)",5.9,"A1 (5.8-6.0)",21.617000000000001,-19.274000000000001,16.568999999999999,-1.5E-3,0,0,-1.1833333333333325E-3,10.497,-4.9314,1.4317,0.92490000000000006,0,0,-2.7533333333333411E-3]
[null,null,null,null,null,null,null,null,null,null,null,null,null,null,null,null,null,null,null,null,null,null,null,null,null,null,null,null,null,null,null,null,null,null,null,null,null,null,null,null,null,null,null,null,null,null,null,null,null,null,null,null,null,null,null,null,null,null,null,null,null,null,null,null,null,null,null,null,null,null,null,null,null,null,null,null,null,null,null,null,null,null,null,null,null,null,null,null,null,null,null,null,null,null,null,null,null,null,null,null,null,null,null,null,"MP_LED",3030,"LM302C (6V)",6.5000000000000002E-2,null,0.15,110,8,25,80,4000,64,"SF (62-66)",5.9,"A1 (5.8-6.0)",21.617000000000001,-19.274000000000001,16.568999999999999,-1.5E-3,0,0,-1.1833333333333325E-3,10.497,-4.9314,1.4317,0.92490000000000006,0,0,-2.7533333333333411E-3]
[null,null,null,null,null,null,null,null,null,null,null,null,null,null,null,null,null,null,null,null,null,null,null,null,null,null,null,null,null,null,null,null,null,null,null,null,null,null,null,null,null,null,null,null,null,null,null,null,null,null,null,null,null,null,null,null,null,null,null,null,null,null,null,null,null,null,null,null,null,null,null,null,null,null,null,null,null,null,null,null,null,null,null,null,null,null,null,null,null,null,null,null,null,null,null,null,null,null,null,null,null,null,null,null,"MP_LED",3030,"LM302C (6V)",6.5000000000000002E-2,null,0.15,110,8,25,80,5000,68,"SG (66-70)",5.9,"A1 (5.8-6.0)",21.617000000000001,-19.274000000000001,16.568999999999999,-1.5E-3,0,0,-1.1833333333333325E-3,10.497,-4.9314,1.4317,0.92490000000000006,0,0,-2.7533333333333411E-3]
[null,null,null,null,null,null,null,null,null,null,null,null,null,null,null,null,null,null,null,null,null,null,null,null,null,null,null,null,null,null,null,null,null,null,null,null,null,null,null,null,null,null,null,null,null,null,null,null,null,null,null,null,null,null,null,null,null,null,null,null,null,null,null,null,null,null,null,null,null,null,null,null,null,null,null,null,null,null,null,null,null,null,null,null,null,null,null,null,null,null,null,null,null,null,null,null,null,null,null,null,null,null,null,null,"MP_LED",3030,"LM302C (6V)",6.5000000000000002E-2,null,0.15,110,8,25,90,5700,56,"SD (54-58)",5.9,"A1 (5.8-6.0)",21.617000000000001,-19.274000000000001,16.568999999999999,-1.5E-3,0,0,-1.1833333333333325E-3,10.497,-4.9314,1.4317,0.92490000000000006,0,0,-2.7533333333333411E-3]
[null,null,null,null,null,null,null,null,null,null,null,null,null,null,null,null,null,null,null,null,null,null,null,null,null,null,null,null,null,null,null,null,null,null,null,null,null,null,null,null,null,null,null,null,null,null,null,null,null,null,null,null,null,null,null,null,null,null,null,null,null,null,null,null,null,null,null,null,null,null,null,null,null,null,null,null,null,null,null,null,null,null,null,null,null,null,null,null,null,null,null,null,null,null,null,null,null,null,null,null,null,null,null,null,"MP_LED",4014,"LM401B plus",0.12,null,0.16,115,25,25,80,2700,46,"S3 (44-48)",2.95,"A2 (2.9-3.0)",59.524000000000001,-23.571000000000002,10.576000000000001,-3.2599999999999997E-2,0,0,-1.7666666666666664E-3,9.1256000000000004,-3.8576000000000001,1.1496999999999999,0.90180000000000005,0,0,-1.0000000000000009E-3]
[null,null,null,null,null,null,null,null,null,null,null,null,null,null,null,null,null,null,null,null,null,null,null,null,null,null,null,null,null,null,null,null,null,null,null,null,null,null,null,null,null,null,null,null,null,null,null,null,null,null,null,null,null,null,null,null,null,null,null,null,null,null,null,null,null,null,null,null,null,null,null,null,null,null,null,null,null,null,null,null,null,null,null,null,null,null,null,null,null,null,null,null,null,null,null,null,null,null,null,null,null,null,null,null,"MP_LED",4014,"LM401B plus",0.12,null,0.16,115,25,25,80,4000,54,"S4 (52-56)",2.95,"A2 (2.9-3.0)",59.524000000000001,-23.571000000000002,10.576000000000001,-3.2599999999999997E-2,0,0,-1.7666666666666664E-3,9.1256000000000004,-3.8576000000000001,1.1496999999999999,0.90180000000000005,0,0,-1.0000000000000009E-3]
[null,null,null,null,null,null,null,null,null,null,null,null,null,null,null,null,null,null,null,null,null,null,null,null,null,null,null,null,null,null,null,null,null,null,null,null,null,null,null,null,null,null,null,null,null,null,null,null,null,null,null,null,null,null,null,null,null,null,null,null,null,null,null,null,null,null,null,null,null,null,null,null,null,null,null,null,null,null,null,null,null,null,null,null,null,null,null,null,null,null,null,null,null,null,null,null,null,null,null,null,null,null,null,null,"MP_LED",4014,"LM401B plus",0.12,null,0.16,115,25,25,80,6500,54,"S4 (52-56)",2.95,"A2 (2.9-3.0)",59.524000000000001,-23.571000000000002,10.576000000000001,-3.2599999999999997E-2,0,0,-1.7666666666666664E-3,9.1256000000000004,-3.8576000000000001,1.1496999999999999,0.90180000000000005,0,0,-1.0000000000000009E-3]
[null,null,null,null,null,null,null,null,null,null,null,null,null,null,null,null,null,null,null,null,null,null,null,null,null,null,null,null,null,null,null,null,null,null,null,null,null,null,null,null,null,null,null,null,null,null,null,null,null,null,null,null,null,null,null,null,null,null,null,null,null,null,null,null,null,null,null,null,null,null,null,null,null,null,null,null,null,null,null,null,null,null,null,null,null,null,null,null,null,null,null,null,null,null,null,null,null,null,null,null,null,null,null,null,"MP_LED",4014,"LM401BA plus",0.06,null,7.0000000000000007E-2,110,25,25,80,3000,22,"S1 (21-23)",3.05,"A3 (3.0-3.1)",-333.33,3.3332999999999999,17.8,-8.0000000000000002E-3,0,0,-2.3333333333333335E-3,-14.513,-1.4513,1.8010999999999999,0.90024999999999999,0,0,-2.6333333333333321E-3]
[null,null,null,null,null,null,null,null,null,null,null,null,null,null,null,null,null,null,null,null,null,null,null,null,null,null,null,null,null,null,null,null,null,null,null,null,null,null,null,null,null,null,null,null,null,null,null,null,null,null,null,null,null,null,null,null,null,null,null,null,null,null,null,null,null,null,null,null,null,null,null,null,null,null,null,null,null,null,null,null,null,null,null,null,null,null,null,null,null,null,null,null,null,null,null,null,null,null,null,null,null,null,null,null,"MP_LED",4014,"LM401BA plus",0.06,null,7.0000000000000007E-2,110,25,25,80,3500,25,"S2 (24-26)",3.05,"A3 (3.0-3.1)",-333.33,3.3332999999999999,17.8,-8.0000000000000002E-3,0,0,-2.3333333333333335E-3,-14.513,-1.4513,1.8010999999999999,0.90024999999999999,0,0,-2.6333333333333321E-3]
[null,null,null,null,null,null,null,null,null,null,null,null,null,null,null,null,null,null,null,null,null,null,null,null,null,null,null,null,null,null,null,null,null,null,null,null,null,null,null,null,null,null,null,null,null,null,null,null,null,null,null,null,null,null,null,null,null,null,null,null,null,null,null,null,null,null,null,null,null,null,null,null,null,null,null,null,null,null,null,null,null,null,null,null,null,null,null,null,null,null,null,null,null,null,null,null,null,null,null,null,null,null,null,null,"MP_LED",4014,"LM401BA plus",0.06,null,7.0000000000000007E-2,110,25,25,80,3500,27,"S3 (26-28)",3.05,"A3 (3.0-3.1)",-333.33,3.3332999999999999,17.8,-8.0000000000000002E-3,0,0,-2.3333333333333335E-3,-14.513,-1.4513,1.8010999999999999,0.90024999999999999,0,0,-2.6333333333333321E-3]
[null,null,null,null,null,null,null,null,null,null,null,null,null,null,null,null,null,null,null,null,null,null,null,null,null,null,null,null,null,null,null,null,null,null,null,null,null,null,null,null,null,null,null,null,null,null,null,null,null,null,null,null,null,null,null,null,null,null,null,null,null,null,null,null,null,null,null,null,null,null,null,null,null,null,null,null,null,null,null,null,null,null,null,null,null,null,null,null,null,null,null,null,null,null,null,null,null,null,null,null,null,null,null,null,"MP_LED",4014,"LM401BA plus",0.06,null,7.0000000000000007E-2,110,25,25,80,4000,30,"S4 (29-31)",3.05,"A3 (3.0-3.1)",-333.33,3.3332999999999999,17.8,-8.0000000000000002E-3,0,0,-2.3333333333333335E-3,-14.513,-1.4513,1.8010999999999999,0.90024999999999999,0,0,-2.6333333333333321E-3]
[null,null,null,null,null,null,null,null,null,null,null,null,null,null,null,null,null,null,null,null,null,null,null,null,null,null,null,null,null,null,null,null,null,null,null,null,null,null,null,null,null,null,null,null,null,null,null,null,null,null,null,null,null,null,null,null,null,null,null,null,null,null,null,null,null,null,null,null,null,null,null,null,null,null,null,null,null,null,null,null,null,null,null,null,null,null,null,null,null,null,null,null,null,null,null,null,null,null,null,null,null,null,null,null,"MP_LED",4014,"LM401BA plus",0.06,null,7.0000000000000007E-2,110,25,25,90,5000,21.55,"S1 (20.8-22.3)",3.05,"A3 (3.0-3.1)",-333.33,3.3332999999999999,17.8,-8.0000000000000002E-3,0,0,-2.3333333333333335E-3,-14.513,-1.4513,1.8010999999999999,0.90024999999999999,0,0,-2.6333333333333321E-3]
[null,null,null,null,null,null,null,null,null,null,null,null,null,null,null,null,null,null,null,null,null,null,null,null,null,null,null,null,null,null,null,null,null,null,null,null,null,null,null,null,null,null,null,null,null,null,null,null,null,null,null,null,null,null,null,null,null,null,null,null,null,null,null,null,null,null,null,null,null,null,null,null,null,null,null,null,null,null,null,null,null,null,null,null,null,null,null,null,null,null,null,null,null,null,null,null,null,null,null,null,null,null,null,null,"MP_LED",4014,"LM401BA plus",0.06,null,7.0000000000000007E-2,110,25,25,80,6500,24,"S1 (23-25)",3.05,"A3 (3.0-3.1)",-333.33,3.3332999999999999,17.8,-8.0000000000000002E-3,0,0,-2.3333333333333335E-3,-14.513,-1.4513,1.8010999999999999,0.90024999999999999,0,0,-2.6333333333333321E-3]
[null,null,null,null,null,null,null,null,null,null,null,null,null,null,null,null,null,null,null,null,null,null,null,null,null,null,null,null,null,null,null,null,null,null,null,null,null,null,null,null,null,null,null,null,null,null,null,null,null,null,null,null,null,null,null,null,null,null,null,null,null,null,null,null,null,null,null,null,null,null,null,null,null,null,null,null,null,null,null,null,null,null,null,null,null,null,null,null,null,null,null,null,null,null,null,null,null,null,null,null,null,null,null,null,"CSP","CSP","LM101A",0.15,null,0.45,125,2,85,90,2700,37,"SY (35-39)",2.8,"6A (2.7-2.9)",-0.44440000000000002,-2.7111000000000001,6.7567000000000004,4.9000000000000002E-2,0,0,-1.2499999999999992E-3,0.62160000000000004,-0.87019999999999997,0.71330000000000005,0.91049999999999998,0,0,-2.1000000000000055E-3]
[null,null,null,null,null,null,null,null,null,null,null,null,null,null,null,null,null,null,null,null,null,null,null,null,null,null,null,null,null,null,null,null,null,null,null,null,null,null,null,null,null,null,null,null,null,null,null,null,null,null,null,null,null,null,null,null,null,null,null,null,null,null,null,null,null,null,null,null,null,null,null,null,null,null,null,null,null,null,null,null,null,null,null,null,null,null,null,null,null,null,null,null,null,null,null,null,null,null,null,null,null,null,null,null,"CSP","CSP","LM101A",0.15,null,0.45,125,2,85,90,3000,37,"SY (35-39)",2.8,"6A (2.7-2.9)",-0.44440000000000002,-2.7111000000000001,6.7567000000000004,4.9000000000000002E-2,0,0,-1.2499999999999992E-3,0.62160000000000004,-0.87019999999999997,0.71330000000000005,0.91049999999999998,0,0,-2.1000000000000055E-3]
[null,null,null,null,null,null,null,null,null,null,null,null,null,null,null,null,null,null,null,null,null,null,null,null,null,null,null,null,null,null,null,null,null,null,null,null,null,null,null,null,null,null,null,null,null,null,null,null,null,null,null,null,null,null,null,null,null,null,null,null,null,null,null,null,null,null,null,null,null,null,null,null,null,null,null,null,null,null,null,null,null,null,null,null,null,null,null,null,null,null,null,null,null,null,null,null,null,null,null,null,null,null,null,null,"CSP","CSP","LM101A",0.15,null,0.45,125,2,85,90,3500,41,"SZ (39-43)",2.8,"6A (2.7-2.9)",-0.44440000000000002,-2.7111000000000001,6.7567000000000004,4.9000000000000002E-2,0,0,-1.2499999999999992E-3,0.62160000000000004,-0.87019999999999997,0.71330000000000005,0.91049999999999998,0,0,-2.1000000000000055E-3]
[null,null,null,null,null,null,null,null,null,null,null,null,null,null,null,null,null,null,null,null,null,null,null,null,null,null,null,null,null,null,null,null,null,null,null,null,null,null,null,null,null,null,null,null,null,null,null,null,null,null,null,null,null,null,null,null,null,null,null,null,null,null,null,null,null,null,null,null,null,null,null,null,null,null,null,null,null,null,null,null,null,null,null,null,null,null,null,null,null,null,null,null,null,null,null,null,null,null,null,null,null,null,null,null,"CSP","CSP","LM101A",0.15,null,0.45,125,2,85,70,5000,61,"SE (59-63)",2.8,"6A (2.7-2.9)",-0.44440000000000002,-2.7111000000000001,6.7567000000000004,4.9000000000000002E-2,0,0,-1.2499999999999992E-3,0.62160000000000004,-0.87019999999999997,0.71330000000000005,0.91049999999999998,0,0,-2.1000000000000055E-3]
[null,null,null,null,null,null,null,null,null,null,null,null,null,null,null,null,null,null,null,null,null,null,null,null,null,null,null,null,null,null,null,null,null,null,null,null,null,null,null,null,null,null,null,null,null,null,null,null,null,null,null,null,null,null,null,null,null,null,null,null,null,null,null,null,null,null,null,null,null,null,null,null,null,null,null,null,null,null,null,null,null,null,null,null,null,null,null,null,null,null,null,null,null,null,null,null,null,null,null,null,null,null,null,null,"CSP","CSP","LM101A",0.15,null,0.45,125,2,85,70,5000,65,"SF (63-67)",2.8,"6A (2.7-2.9)",-0.44440000000000002,-2.7111000000000001,6.7567000000000004,4.9000000000000002E-2,0,0,-1.2499999999999992E-3,0.62160000000000004,-0.87019999999999997,0.71330000000000005,0.91049999999999998,0,0,-2.1000000000000055E-3]
[null,null,null,null,null,null,null,null,null,null,null,null,null,null,null,null,null,null,null,null,null,null,null,null,null,null,null,null,null,null,null,null,null,null,null,null,null,null,null,null,null,null,null,null,null,null,null,null,null,null,null,null,null,null,null,null,null,null,null,null,null,null,null,null,null,null,null,null,null,null,null,null,null,null,null,null,null,null,null,null,null,null,null,null,null,null,null,null,null,null,null,null,null,null,null,null,null,null,null,null,null,null,null,null,"CSP","CSP","LM101A",0.15,null,0.45,125,2,85,80,5700,57,"SD (55-59)",2.8,"6A (2.7-2.9)",-0.44440000000000002,-2.7111000000000001,6.7567000000000004,4.9000000000000002E-2,0,0,-1.2499999999999992E-3,0.62160000000000004,-0.87019999999999997,0.71330000000000005,0.91049999999999998,0,0,-2.1000000000000055E-3]
[null,null,null,null,null,null,null,null,null,null,null,null,null,null,null,null,null,null,null,null,null,null,null,null,null,null,null,null,null,null,null,null,null,null,null,null,null,null,null,null,null,null,null,null,null,null,null,null,null,null,null,null,null,null,null,null,null,null,null,null,null,null,null,null,null,null,null,null,null,null,null,null,null,null,null,null,null,null,null,null,null,null,null,null,null,null,null,null,null,null,null,null,null,null,null,null,null,null,null,null,null,null,null,null,"CSP","CSP","LM101B",0.15,null,0.35,125,2,85,70,3000,69,"SG (67-71)",2.8,"6A (2.7-2.9)",13.333,-12,8.3666999999999998,-0.03,null,null,-1.5000000000000013E-3,-0.1799,-8.09E-2,0.48970000000000002,0.92900000000000005,null,null,-1.2973333333333354E-3]
[null,null,null,null,null,null,null,null,null,null,null,null,null,null,null,null,null,null,null,null,null,null,null,null,null,null,null,null,null,null,null,null,null,null,null,null,null,null,null,null,null,null,null,null,null,null,null,null,null,null,null,null,null,null,null,null,null,null,null,null,null,null,null,null,null,null,null,null,null,null,null,null,null,null,null,null,null,null,null,null,null,null,null,null,null,null,null,null,null,null,null,null,null,null,null,null,null,null,null,null,null,null,null,null,"CSP","CSP","LM101B",0.15,null,0.35,125,2,85,90,3000,49,"SB (47-51)",2.8,"6A (2.7-2.9)",13.333,-12,8.3666999999999998,-0.03,null,null,-1.5000000000000013E-3,-0.1799,-8.09E-2,0.48970000000000002,0.92900000000000005,null,null,-1.2973333333333354E-3]
[null,null,null,null,null,null,null,null,null,null,null,null,null,null,null,null,null,null,null,null,null,null,null,null,null,null,null,null,null,null,null,null,null,null,null,null,null,null,null,null,null,null,null,null,null,null,null,null,null,null,null,null,null,null,null,null,null,null,null,null,null,null,null,null,null,null,null,null,null,null,null,null,null,null,null,null,null,null,null,null,null,null,null,null,null,null,null,null,null,null,null,null,null,null,null,null,null,null,null,null,null,null,null,null,"CSP","CSP","LM101B",0.15,null,0.35,125,2,85,80,4000,65,"SF (63-67)",2.8,"6A (2.7-2.9)",13.333,-12,8.3666999999999998,-0.03,null,null,-1.5000000000000013E-3,-0.1799,-8.09E-2,0.48970000000000002,0.92900000000000005,null,null,-1.2973333333333354E-3]
[null,null,null,null,null,null,null,null,null,null,null,null,null,null,null,null,null,null,null,null,null,null,null,null,null,null,null,null,null,null,null,null,null,null,null,null,null,null,null,null,null,null,null,null,null,null,null,null,null,null,null,null,null,null,null,null,null,null,null,null,null,null,null,null,null,null,null,null,null,null,null,null,null,null,null,null,null,null,null,null,null,null,null,null,null,null,null,null,null,null,null,null,null,null,null,null,null,null,null,null,null,null,null,null,"CSP","CSP","LM101B",0.15,null,0.35,125,2,85,90,5000,53,"SC (51-55)",2.8,"6A (2.7-2.9)",13.333,-12,8.3666999999999998,-0.03,null,null,-1.5000000000000013E-3,-0.1799,-8.09E-2,0.48970000000000002,0.92900000000000005,null,null,-1.2973333333333354E-3]
[null,null,null,null,null,null,null,null,null,null,null,null,null,null,null,null,null,null,null,null,null,null,null,null,null,null,null,null,null,null,null,null,null,null,null,null,null,null,null,null,null,null,null,null,null,null,null,null,null,null,null,null,null,null,null,null,null,null,null,null,null,null,null,null,null,null,null,null,null,null,null,null,null,null,null,null,null,null,null,null,null,null,null,null,null,null,null,null,null,null,null,null,null,null,null,null,null,null,null,null,null,null,null,null,"CSP","CSP","LM102A (6V)",0.15,null,0.25,125,2,85,80,2700,99,"SC (95-103)",5.75,"39 (5.6-5.9)",25,-17,8.8375000000000004,-2.75E-2,0,0,-1.5000000000000013E-3,5.6306000000000003,-3.7162000000000002,1.1515,0.89190000000000003,0,0,-4.200000000000011E-3]
[null,null,null,null,null,null,null,null,null,null,null,null,null,null,null,null,null,null,null,null,null,null,null,null,null,null,null,null,null,null,null,null,null,null,null,null,null,null,null,null,null,null,null,null,null,null,null,null,null,null,null,null,null,null,null,null,null,null,null,null,null,null,null,null,null,null,null,null,null,null,null,null,null,null,null,null,null,null,null,null,null,null,null,null,null,null,null,null,null,null,null,null,null,null,null,null,null,null,null,null,null,null,null,null,"CSP","CSP","LM102A (6V)",0.15,null,0.25,125,2,85,90,3000,91,"SB (87-95)",5.75,"39 (5.6-5.9)",25,-17,8.8375000000000004,-2.75E-2,0,0,-1.5000000000000013E-3,5.6306000000000003,-3.7162000000000002,1.1515,0.89190000000000003,0,0,-4.200000000000011E-3]
[null,null,null,null,null,null,null,null,null,null,null,null,null,null,null,null,null,null,null,null,null,null,null,null,null,null,null,null,null,null,null,null,null,null,null,null,null,null,null,null,null,null,null,null,null,null,null,null,null,null,null,null,null,null,null,null,null,null,null,null,null,null,null,null,null,null,null,null,null,null,null,null,null,null,null,null,null,null,null,null,null,null,null,null,null,null,null,null,null,null,null,null,null,null,null,null,null,null,null,null,null,null,null,null,"CSP","CSP","LM102A (6V)",0.15,null,0.25,125,2,85,70,3500,107,"SD (103-111)",5.75,"39 (5.6-5.9)",25,-17,8.8375000000000004,-2.75E-2,0,0,-1.5000000000000013E-3,5.6306000000000003,-3.7162000000000002,1.1515,0.89190000000000003,0,0,-4.200000000000011E-3]
[null,null,null,null,null,null,null,null,null,null,null,null,null,null,null,null,null,null,null,null,null,null,null,null,null,null,null,null,null,null,null,null,null,null,null,null,null,null,null,null,null,null,null,null,null,null,null,null,null,null,null,null,null,null,null,null,null,null,null,null,null,null,null,null,null,null,null,null,null,null,null,null,null,null,null,null,null,null,null,null,null,null,null,null,null,null,null,null,null,null,null,null,null,null,null,null,null,null,null,null,null,null,null,null,"CSP","CSP","LM102A (6V)",0.15,null,0.25,125,2,85,80,4000,115,"SE (111-119)",5.75,"39 (5.6-5.9)",25,-17,8.8375000000000004,-2.75E-2,0,0,-1.5000000000000013E-3,5.6306000000000003,-3.7162000000000002,1.1515,0.89190000000000003,0,0,-4.200000000000011E-3]
[null,null,null,null,null,null,null,null,null,null,null,null,null,null,null,null,null,null,null,null,null,null,null,null,null,null,null,null,null,null,null,null,null,null,null,null,null,null,null,null,null,null,null,null,null,null,null,null,null,null,null,null,null,null,null,null,null,null,null,null,null,null,null,null,null,null,null,null,null,null,null,null,null,null,null,null,null,null,null,null,null,null,null,null,null,null,null,null,null,null,null,null,null,null,null,null,null,null,null,null,null,null,null,null,"CSP","CSP","LM102A (6V)",0.15,null,0.25,125,2,85,70,6500,123,"SF (119-127)",5.75,"39 (5.6-5.9)",25,-17,8.8375000000000004,-2.75E-2,0,0,-1.5000000000000013E-3,5.6306000000000003,-3.7162000000000002,1.1515,0.89190000000000003,0,0,-4.200000000000011E-3]
[null,null,null,null,null,null,null,null,null,null,null,null,null,null,null,null,null,null,null,null,null,null,null,null,null,null,null,null,null,null,null,null,null,null,null,null,null,null,null,null,null,null,null,null,null,null,null,null,null,null,null,null,null,null,null,null,null,null,null,null,null,null,null,null,null,null,null,null,null,null,null,null,null,null,null,null,null,null,null,null,null,null,null,null,null,null,null,null,null,null,null,null,null,null,null,null,null,null,null,null,null,null,null,null,"CSP","CSP","LH181A",0.35,null,1.5,150,3,85,70,3000,130,"K1 (130-140)",2.82,"Typ (2.82)",8.1600000000000006E-2,-0.82589999999999997,3.1686000000000001,-1.1299999999999999E-2,0,0,-1.6000000000000014E-3,3.6999999999999998E-2,-0.14080000000000001,0.25800000000000001,0.9254,0,0,-1.5040000000000016E-3]
[null,null,null,null,null,null,null,null,null,null,null,null,null,null,null,null,null,null,null,null,null,null,null,null,null,null,null,null,null,null,null,null,null,null,null,null,null,null,null,null,null,null,null,null,null,null,null,null,null,null,null,null,null,null,null,null,null,null,null,null,null,null,null,null,null,null,null,null,null,null,null,null,null,null,null,null,null,null,null,null,null,null,null,null,null,null,null,null,null,null,null,null,null,null,null,null,null,null,null,null,null,null,null,null,"CSP","CSP","LH181A",0.35,null,1.5,150,3,85,80,3500,130,"K1 (130-140)",2.82,"Typ (2.82)",8.1600000000000006E-2,-0.82589999999999997,3.1686000000000001,-1.1299999999999999E-2,0,0,-1.6000000000000014E-3,3.6999999999999998E-2,-0.14080000000000001,0.25800000000000001,0.9254,0,0,-1.5040000000000016E-3]
[null,null,null,null,null,null,null,null,null,null,null,null,null,null,null,null,null,null,null,null,null,null,null,null,null,null,null,null,null,null,null,null,null,null,null,null,null,null,null,null,null,null,null,null,null,null,null,null,null,null,null,null,null,null,null,null,null,null,null,null,null,null,null,null,null,null,null,null,null,null,null,null,null,null,null,null,null,null,null,null,null,null,null,null,null,null,null,null,null,null,null,null,null,null,null,null,null,null,null,null,null,null,null,null,"CSP","CSP","LH181A",0.35,null,1.5,150,3,85,70,5000,140,"M1 (140-150)",2.82,"Typ (2.82)",8.1600000000000006E-2,-0.82589999999999997,3.1686000000000001,-1.1299999999999999E-2,0,0,-1.6000000000000014E-3,3.6999999999999998E-2,-0.14080000000000001,0.25800000000000001,0.9254,0,0,-1.5040000000000016E-3]
[null,null,null,null,null,null,null,null,null,null,null,null,null,null,null,null,null,null,null,null,null,null,null,null,null,null,null,null,null,null,null,null,null,null,null,null,null,null,null,null,null,null,null,null,null,null,null,null,null,null,null,null,null,null,null,null,null,null,null,null,null,null,null,null,null,null,null,null,null,null,null,null,null,null,null,null,null,null,null,null,null,null,null,null,null,null,null,null,null,null,null,null,null,null,null,null,null,null,null,null,null,null,null,null,"CSP","CSP","LH181A",0.35,null,1.5,150,3,85,70,5700,140,"M1 (140-150)",2.82,"Typ (2.82)",8.1600000000000006E-2,-0.82589999999999997,3.1686000000000001,-1.1299999999999999E-2,0,0,-1.6000000000000014E-3,3.6999999999999998E-2,-0.14080000000000001,0.25800000000000001,0.9254,0,0,-1.5040000000000016E-3]
[null,null,null,null,null,null,null,null,null,null,null,null,null,null,null,null,null,null,null,null,null,null,null,null,null,null,null,null,null,null,null,null,null,null,null,null,null,null,null,null,null,null,null,null,null,null,null,null,null,null,null,null,null,null,null,null,null,null,null,null,null,null,null,null,null,null,null,null,null,null,null,null,null,null,null,null,null,null,null,null,null,null,null,null,null,null,null,null,null,null,null,null,null,null,null,null,null,null,null,null,null,null,null,null,"CSP","CSP","LH181A",0.35,null,1.5,150,3,85,70,6500,140,"M1 (140-150)",2.82,"Typ (2.82)",8.1600000000000006E-2,-0.82589999999999997,3.1686000000000001,-1.1299999999999999E-2,0,0,-1.6000000000000014E-3,3.6999999999999998E-2,-0.14080000000000001,0.25800000000000001,0.9254,0,0,-1.5040000000000016E-3]
[null,null,null,null,null,null,null,null,null,null,null,null,null,null,null,null,null,null,null,null,null,null,null,null,null,null,null,null,null,null,null,null,null,null,null,null,null,null,null,null,null,null,null,null,null,null,null,null,null,null,null,null,null,null,null,null,null,null,null,null,null,null,null,null,null,null,null,null,null,null,null,null,null,null,null,null,null,null,null,null,null,null,null,null,null,null,null,null,null,null,null,null,null,null,null,null,null,null,null,null,null,null,null,null,"CSP","CSP","LH181B",0.35,null,1.4,135,2,85,70,2700,160,"P1 (160-170)",2.9,"4E (2.7-3.1)",9.98E-2,-0.61040000000000005,3.0525000000000002,2.0999999999999999E-3,0,0,-1.5166666666666662E-3,4.8599999999999997E-2,-0.1628,0.29249999999999998,0.91549999999999998,0,0,-1.5040000000000016E-3]
[null,null,null,null,null,null,null,null,null,null,null,null,null,null,null,null,null,null,null,null,null,null,null,null,null,null,null,null,null,null,null,null,null,null,null,null,null,null,null,null,null,null,null,null,null,null,null,null,null,null,null,null,null,null,null,null,null,null,null,null,null,null,null,null,null,null,null,null,null,null,null,null,null,null,null,null,null,null,null,null,null,null,null,null,null,null,null,null,null,null,null,null,null,null,null,null,null,null,null,null,null,null,null,null,"CSP","CSP","LH181B",0.35,null,1.4,135,2,85,80,2700,150,"N1 (150-160)",2.9,"4E (2.7-3.1)",9.98E-2,-0.61040000000000005,3.0525000000000002,2.0999999999999999E-3,0,0,-1.5166666666666662E-3,4.8599999999999997E-2,-0.1628,0.29249999999999998,0.91549999999999998,0,0,-1.5040000000000016E-3]
[null,null,null,null,null,null,null,null,null,null,null,null,null,null,null,null,null,null,null,null,null,null,null,null,null,null,null,null,null,null,null,null,null,null,null,null,null,null,null,null,null,null,null,null,null,null,null,null,null,null,null,null,null,null,null,null,null,null,null,null,null,null,null,null,null,null,null,null,null,null,null,null,null,null,null,null,null,null,null,null,null,null,null,null,null,null,null,null,null,null,null,null,null,null,null,null,null,null,null,null,null,null,null,null,"CSP","CSP","LH181B",0.35,null,1.4,135,2,85,80,3000,150,"N1 (150-160)",2.9,"4E (2.7-3.1)",9.98E-2,-0.61040000000000005,3.0525000000000002,2.0999999999999999E-3,0,0,-1.5166666666666662E-3,4.8599999999999997E-2,-0.1628,0.29249999999999998,0.91549999999999998,0,0,-1.5040000000000016E-3]
[null,null,null,null,null,null,null,null,null,null,null,null,null,null,null,null,null,null,null,null,null,null,null,null,null,null,null,null,null,null,null,null,null,null,null,null,null,null,null,null,null,null,null,null,null,null,null,null,null,null,null,null,null,null,null,null,null,null,null,null,null,null,null,null,null,null,null,null,null,null,null,null,null,null,null,null,null,null,null,null,null,null,null,null,null,null,null,null,null,null,null,null,null,null,null,null,null,null,null,null,null,null,null,null,"CSP","CSP","LH181B",0.35,null,1.4,135,2,85,80,3500,160,"P1 (160-170)",2.9,"4E (2.7-3.1)",9.98E-2,-0.61040000000000005,3.0525000000000002,2.0999999999999999E-3,0,0,-1.5166666666666662E-3,4.8599999999999997E-2,-0.1628,0.29249999999999998,0.91549999999999998,0,0,-1.5040000000000016E-3]
[null,null,null,null,null,null,null,null,null,null,null,null,null,null,null,null,null,null,null,null,null,null,null,null,null,null,null,null,null,null,null,null,null,null,null,null,null,null,null,null,null,null,null,null,null,null,null,null,null,null,null,null,null,null,null,null,null,null,null,null,null,null,null,null,null,null,null,null,null,null,null,null,null,null,null,null,null,null,null,null,null,null,null,null,null,null,null,null,null,null,null,null,null,null,null,null,null,null,null,null,null,null,null,null,"CSP","CSP","LH181B",0.35,null,1.4,135,2,85,80,4000,160,"P1 (160-170)",2.9,"4E (2.7-3.1)",9.98E-2,-0.61040000000000005,3.0525000000000002,2.0999999999999999E-3,0,0,-1.5166666666666662E-3,4.8599999999999997E-2,-0.1628,0.29249999999999998,0.91549999999999998,0,0,-1.5040000000000016E-3]
[null,null,null,null,null,null,null,null,null,null,null,null,null,null,null,null,null,null,null,null,null,null,null,null,null,null,null,null,null,null,null,null,null,null,null,null,null,null,null,null,null,null,null,null,null,null,null,null,null,null,null,null,null,null,null,null,null,null,null,null,null,null,null,null,null,null,null,null,null,null,null,null,null,null,null,null,null,null,null,null,null,null,null,null,null,null,null,null,null,null,null,null,null,null,null,null,null,null,null,null,null,null,null,null,"CSP","CSP","LH181B",0.35,null,1.4,135,2,85,80,5000,170,"Q1 (170-180)",2.9,"4E (2.7-3.1)",9.98E-2,-0.61040000000000005,3.0525000000000002,2.0999999999999999E-3,0,0,-1.5166666666666662E-3,4.8599999999999997E-2,-0.1628,0.29249999999999998,0.91549999999999998,0,0,-1.5040000000000016E-3]
[null,null,null,null,null,null,null,null,null,null,null,null,null,null,null,null,null,null,null,null,null,null,null,null,null,null,null,null,null,null,null,null,null,null,null,null,null,null,null,null,null,null,null,null,null,null,null,null,null,null,null,null,null,null,null,null,null,null,null,null,null,null,null,null,null,null,null,null,null,null,null,null,null,null,null,null,null,null,null,null,null,null,null,null,null,null,null,null,null,null,null,null,null,null,null,null,null,null,null,null,null,null,null,null,"CSP","CSP","LH181B",0.35,null,1.4,135,2,85,80,5700,170,"Q1 (170-180)",2.9,"4E (2.7-3.1)",9.98E-2,-0.61040000000000005,3.0525000000000002,2.0999999999999999E-3,0,0,-1.5166666666666662E-3,4.8599999999999997E-2,-0.1628,0.29249999999999998,0.91549999999999998,0,0,-1.5040000000000016E-3]
[null,null,null,null,null,null,null,null,null,null,null,null,null,null,null,null,null,null,null,null,null,null,null,null,null,null,null,null,null,null,null,null,null,null,null,null,null,null,null,null,null,null,null,null,null,null,null,null,null,null,null,null,null,null,null,null,null,null,null,null,null,null,null,null,null,null,null,null,null,null,null,null,null,null,null,null,null,null,null,null,null,null,null,null,null,null,null,null,null,null,null,null,null,null,null,null,null,null,null,null,null,null,null,null,"CSP","CSP","LH231B",0.7,null,2,135,2,85,70,2700,310,"QB (310-330)",2.8,"6A (2.7-2.9)",2.0400000000000001E-2,-0.17949999999999999,1.5339,7.2500000000000004E-3,0,0,-1.5000000000000013E-3,6.8999999999999999E-3,-3.4200000000000001E-2,0.15770000000000001,0.90400000000000003,0,0,-1.4064999999999993E-3]
[null,null,null,null,null,null,null,null,null,null,null,null,null,null,null,null,null,null,null,null,null,null,null,null,null,null,null,null,null,null,null,null,null,null,null,null,null,null,null,null,null,null,null,null,null,null,null,null,null,null,null,null,null,null,null,null,null,null,null,null,null,null,null,null,null,null,null,null,null,null,null,null,null,null,null,null,null,null,null,null,null,null,null,null,null,null,null,null,null,null,null,null,null,null,null,null,null,null,null,null,null,null,null,null,"CSP","CSP","LH231B",0.7,null,2,135,2,85,90,2700,210,"JB (210-230)",2.8,"6A (2.7-2.9)",2.0400000000000001E-2,-0.17949999999999999,1.5339,7.2500000000000004E-3,0,0,-1.5000000000000013E-3,6.8999999999999999E-3,-3.4200000000000001E-2,0.15770000000000001,0.90400000000000003,0,0,-1.4064999999999993E-3]
[null,null,null,null,null,null,null,null,null,null,null,null,null,null,null,null,null,null,null,null,null,null,null,null,null,null,null,null,null,null,null,null,null,null,null,null,null,null,null,null,null,null,null,null,null,null,null,null,null,null,null,null,null,null,null,null,null,null,null,null,null,null,null,null,null,null,null,null,null,null,null,null,null,null,null,null,null,null,null,null,null,null,null,null,null,null,null,null,null,null,null,null,null,null,null,null,null,null,null,null,null,null,null,null,"CSP","CSP","LH231B",0.7,null,2,135,2,85,90,3000,210,"JB (210-230)",2.8,"6A (2.7-2.9)",2.0400000000000001E-2,-0.17949999999999999,1.5339,7.2500000000000004E-3,0,0,-1.5000000000000013E-3,6.8999999999999999E-3,-3.4200000000000001E-2,0.15770000000000001,0.90400000000000003,0,0,-1.4064999999999993E-3]
[null,null,null,null,null,null,null,null,null,null,null,null,null,null,null,null,null,null,null,null,null,null,null,null,null,null,null,null,null,null,null,null,null,null,null,null,null,null,null,null,null,null,null,null,null,null,null,null,null,null,null,null,null,null,null,null,null,null,null,null,null,null,null,null,null,null,null,null,null,null,null,null,null,null,null,null,null,null,null,null,null,null,null,null,null,null,null,null,null,null,null,null,null,null,null,null,null,null,null,null,null,null,null,null,"CSP","CSP","LH231B",0.7,null,2,135,2,85,90,3500,230,"KB (230-250)",2.8,"6A (2.7-2.9)",2.0400000000000001E-2,-0.17949999999999999,1.5339,7.2500000000000004E-3,0,0,-1.5000000000000013E-3,6.8999999999999999E-3,-3.4200000000000001E-2,0.15770000000000001,0.90400000000000003,0,0,-1.4064999999999993E-3]
[null,null,null,null,null,null,null,null,null,null,null,null,null,null,null,null,null,null,null,null,null,null,null,null,null,null,null,null,null,null,null,null,null,null,null,null,null,null,null,null,null,null,null,null,null,null,null,null,null,null,null,null,null,null,null,null,null,null,null,null,null,null,null,null,null,null,null,null,null,null,null,null,null,null,null,null,null,null,null,null,null,null,null,null,null,null,null,null,null,null,null,null,null,null,null,null,null,null,null,null,null,null,null,null,"CSP","CSP","LH231B",0.7,null,2,135,2,85,90,4000,230,"KB (230-250)",2.8,"6A (2.7-2.9)",2.0400000000000001E-2,-0.17949999999999999,1.5339,7.2500000000000004E-3,0,0,-1.5000000000000013E-3,6.8999999999999999E-3,-3.4200000000000001E-2,0.15770000000000001,0.90400000000000003,0,0,-1.4064999999999993E-3]
[null,null,null,null,null,null,null,null,null,null,null,null,null,null,null,null,null,null,null,null,null,null,null,null,null,null,null,null,null,null,null,null,null,null,null,null,null,null,null,null,null,null,null,null,null,null,null,null,null,null,null,null,null,null,null,null,null,null,null,null,null,null,null,null,null,null,null,null,null,null,null,null,null,null,null,null,null,null,null,null,null,null,null,null,null,null,null,null,null,null,null,null,null,null,null,null,null,null,null,null,null,null,null,null,"CSP","CSP","LH231B",0.7,null,2,135,2,85,70,5700,330,"RB (330-350)",2.8,"6A (2.7-2.9)",2.0400000000000001E-2,-0.17949999999999999,1.5339,7.2500000000000004E-3,0,0,-1.5000000000000013E-3,6.8999999999999999E-3,-3.4200000000000001E-2,0.15770000000000001,0.90400000000000003,0,0,-1.4064999999999993E-3]
[null,null,null,null,null,null,null,null,null,null,null,null,null,null,null,null,null,null,null,null,null,null,null,null,null,null,null,null,null,null,null,null,null,null,null,null,null,null,null,null,null,null,null,null,null,null,null,null,null,null,null,null,null,null,null,null,null,null,null,null,null,null,null,null,null,null,null,null,null,null,null,null,null,null,null,null,null,null,null,null,null,null,null,null,null,null,null,null,null,null,null,null,null,null,null,null,null,null,null,null,null,null,null,null,"HP_LED",3535,"LH351B",0.35,null,1.5,150,4,85,70,2700,140,"M1 (140-150)",2.9,"F2 (2.8-3.0)",0.14180000000000001,-0.78849999999999998,3.0956000000000001,7.1000000000000004E-3,null,-1.2999999999999999E-3,-1.1999999999999999E-3,6.7400000000000002E-2,-0.1794,0.26179999999999998,0.92749999999999999,null,null,-1.6000000000000014E-3]
[null,null,null,null,null,null,null,null,null,null,null,null,null,null,null,null,null,null,null,null,null,null,null,null,null,null,null,null,null,null,null,null,null,null,null,null,null,null,null,null,null,null,null,null,null,null,null,null,null,null,null,null,null,null,null,null,null,null,null,null,null,null,null,null,null,null,null,null,null,null,null,null,null,null,null,null,null,null,null,null,null,null,null,null,null,null,null,null,null,null,null,null,null,null,null,null,null,null,null,null,null,null,null,null,"HP_LED",3535,"LH351B",0.35,null,1.5,150,4,85,90,2700,110,"H1 (110-120)",2.9,"F2 (2.8-3.0)",0.14180000000000001,-0.78849999999999998,3.0956000000000001,7.1000000000000004E-3,null,-1.2999999999999999E-3,-1.1999999999999999E-3,6.7400000000000002E-2,-0.1794,0.26179999999999998,0.92749999999999999,null,null,-1.6000000000000014E-3]
[null,null,null,null,null,null,null,null,null,null,null,null,null,null,null,null,null,null,null,null,null,null,null,null,null,null,null,null,null,null,null,null,null,null,null,null,null,null,null,null,null,null,null,null,null,null,null,null,null,null,null,null,null,null,null,null,null,null,null,null,null,null,null,null,null,null,null,null,null,null,null,null,null,null,null,null,null,null,null,null,null,null,null,null,null,null,null,null,null,null,null,null,null,null,null,null,null,null,null,null,null,null,null,null,"HP_LED",3535,"LH351B",0.35,null,1.5,150,4,85,90,3000,100,"G1 (100-110)",2.9,"F2 (2.8-3.0)",0.14180000000000001,-0.78849999999999998,3.0956000000000001,7.1000000000000004E-3,null,-1.2999999999999999E-3,-1.1999999999999999E-3,6.7400000000000002E-2,-0.1794,0.26179999999999998,0.92749999999999999,null,null,-1.6000000000000014E-3]
[null,null,null,null,null,null,null,null,null,null,null,null,null,null,null,null,null,null,null,null,null,null,null,null,null,null,null,null,null,null,null,null,null,null,null,null,null,null,null,null,null,null,null,null,null,null,null,null,null,null,null,null,null,null,null,null,null,null,null,null,null,null,null,null,null,null,null,null,null,null,null,null,null,null,null,null,null,null,null,null,null,null,null,null,null,null,null,null,null,null,null,null,null,null,null,null,null,null,null,null,null,null,null,null,"HP_LED",3535,"LH351B",0.35,null,1.5,150,4,85,90,3000,110,"H1 (110-120)",2.9,"F2 (2.8-3.0)",0.14180000000000001,-0.78849999999999998,3.0956000000000001,7.1000000000000004E-3,null,-1.2999999999999999E-3,-1.1999999999999999E-3,6.7400000000000002E-2,-0.1794,0.26179999999999998,0.92749999999999999,null,null,-1.6000000000000014E-3]
[null,null,null,null,null,null,null,null,null,null,null,null,null,null,null,null,null,null,null,null,null,null,null,null,null,null,null,null,null,null,null,null,null,null,null,null,null,null,null,null,null,null,null,null,null,null,null,null,null,null,null,null,null,null,null,null,null,null,null,null,null,null,null,null,null,null,null,null,null,null,null,null,null,null,null,null,null,null,null,null,null,null,null,null,null,null,null,null,null,null,null,null,null,null,null,null,null,null,null,null,null,null,null,null,"HP_LED",3535,"LH351B",0.35,null,1.5,150,4,85,90,3500,120,"J1 (120-130)",2.9,"F2 (2.8-3.0)",0.14180000000000001,-0.78849999999999998,3.0956000000000001,7.1000000000000004E-3,null,-1.2999999999999999E-3,-1.1999999999999999E-3,6.7400000000000002E-2,-0.1794,0.26179999999999998,0.92749999999999999,null,null,-1.6000000000000014E-3]
[null,null,null,null,null,null,null,null,null,null,null,null,null,null,null,null,null,null,null,null,null,null,null,null,null,null,null,null,null,null,null,null,null,null,null,null,null,null,null,null,null,null,null,null,null,null,null,null,null,null,null,null,null,null,null,null,null,null,null,null,null,null,null,null,null,null,null,null,null,null,null,null,null,null,null,null,null,null,null,null,null,null,null,null,null,null,null,null,null,null,null,null,null,null,null,null,null,null,null,null,null,null,null,null,"HP_LED",3535,"LH351B",0.35,null,1.5,150,4,85,70,5000,140,"M1 (140-150)",2.9,"F2 (2.8-3.0)",0.14180000000000001,-0.78849999999999998,3.0956000000000001,7.1000000000000004E-3,null,-1.2999999999999999E-3,-1.1999999999999999E-3,6.7400000000000002E-2,-0.1794,0.26179999999999998,0.92749999999999999,null,null,-1.6000000000000014E-3]
[null,null,null,null,null,null,null,null,null,null,null,null,null,null,null,null,null,null,null,null,null,null,null,null,null,null,null,null,null,null,null,null,null,null,null,null,null,null,null,null,null,null,null,null,null,null,null,null,null,null,null,null,null,null,null,null,null,null,null,null,null,null,null,null,null,null,null,null,null,null,null,null,null,null,null,null,null,null,null,null,null,null,null,null,null,null,null,null,null,null,null,null,null,null,null,null,null,null,null,null,null,null,null,null,"HP_LED",3535,"LH351B",0.35,null,1.5,150,4,85,80,5000,150,"N1 (150-160)",2.9,"F2 (2.8-3.0)",0.14180000000000001,-0.78849999999999998,3.0956000000000001,7.1000000000000004E-3,null,-1.2999999999999999E-3,-1.1999999999999999E-3,6.7400000000000002E-2,-0.1794,0.26179999999999998,0.92749999999999999,null,null,-1.6000000000000014E-3]
[null,null,null,null,null,null,null,null,null,null,null,null,null,null,null,null,null,null,null,null,null,null,null,null,null,null,null,null,null,null,null,null,null,null,null,null,null,null,null,null,null,null,null,null,null,null,null,null,null,null,null,null,null,null,null,null,null,null,null,null,null,null,null,null,null,null,null,null,null,null,null,null,null,null,null,null,null,null,null,null,null,null,null,null,null,null,null,null,null,null,null,null,null,null,null,null,null,null,null,null,null,null,null,null,"HP_LED",3535,"LH351B",0.35,null,1.5,150,4,85,80,5700,130,"K1 (130-140)",2.9,"F2 (2.8-3.0)",0.14180000000000001,-0.78849999999999998,3.0956000000000001,7.1000000000000004E-3,null,-1.2999999999999999E-3,-1.1999999999999999E-3,6.7400000000000002E-2,-0.1794,0.26179999999999998,0.92749999999999999,null,null,-1.6000000000000014E-3]
[null,null,null,null,null,null,null,null,null,null,null,null,null,null,null,null,null,null,null,null,null,null,null,null,null,null,null,null,null,null,null,null,null,null,null,null,null,null,null,null,null,null,null,null,null,null,null,null,null,null,null,null,null,null,null,null,null,null,null,null,null,null,null,null,null,null,null,null,null,null,null,null,null,null,null,null,null,null,null,null,null,null,null,null,null,null,null,null,null,null,null,null,null,null,null,null,null,null,null,null,null,null,null,null,"HP_LED",3535,"LH351B",0.35,null,1.5,150,4,85,70,6500,170,"Q1 (170-180)",2.9,"F2 (2.8-3.0)",0.14180000000000001,-0.78849999999999998,3.0956000000000001,7.1000000000000004E-3,null,-1.2999999999999999E-3,-1.1999999999999999E-3,6.7400000000000002E-2,-0.1794,0.26179999999999998,0.92749999999999999,null,null,-1.6000000000000014E-3]
[null,null,null,null,null,null,null,null,null,null,null,null,null,null,null,null,null,null,null,null,null,null,null,null,null,null,null,null,null,null,null,null,null,null,null,null,null,null,null,null,null,null,null,null,null,null,null,null,null,null,null,null,null,null,null,null,null,null,null,null,null,null,null,null,null,null,null,null,null,null,null,null,null,null,null,null,null,null,null,null,null,null,null,null,null,null,null,null,null,null,null,null,null,null,null,null,null,null,null,null,null,null,null,null,"HP_LED",3535,"LH351C",0.7,null,2,150,3,85,90,2700,210,"JB (210-230)",2.8,"E2 (2.7-2.9)",-3.61E-2,-0.1651,1.5167999999999999,3.15E-2,0,0,-1.5625000000000001E-3,2.5999999999999999E-3,-3.6400000000000002E-2,0.16550000000000001,0.90110000000000001,0,0,-1.6666666666666681E-3]
[null,null,null,null,null,null,null,null,null,null,null,null,null,null,null,null,null,null,null,null,null,null,null,null,null,null,null,null,null,null,null,null,null,null,null,null,null,null,null,null,null,null,null,null,null,null,null,null,null,null,null,null,null,null,null,null,null,null,null,null,null,null,null,null,null,null,null,null,null,null,null,null,null,null,null,null,null,null,null,null,null,null,null,null,null,null,null,null,null,null,null,null,null,null,null,null,null,null,null,null,null,null,null,null,"HP_LED",3535,"LH351C",0.7,null,2,150,3,85,80,3500,250,"MB (250-270)",2.8,"E2 (2.7-2.9)",-3.61E-2,-0.1651,1.5167999999999999,3.15E-2,0,0,-1.5625000000000001E-3,2.5999999999999999E-3,-3.6400000000000002E-2,0.16550000000000001,0.90110000000000001,0,0,-1.6666666666666681E-3]
[null,null,null,null,null,null,null,null,null,null,null,null,null,null,null,null,null,null,null,null,null,null,null,null,null,null,null,null,null,null,null,null,null,null,null,null,null,null,null,null,null,null,null,null,null,null,null,null,null,null,null,null,null,null,null,null,null,null,null,null,null,null,null,null,null,null,null,null,null,null,null,null,null,null,null,null,null,null,null,null,null,null,null,null,null,null,null,null,null,null,null,null,null,null,null,null,null,null,null,null,null,null,null,null,"HP_LED",3535,"LH351C",0.7,null,2,150,3,85,80,3500,270,"NB (270-290)",2.8,"E2 (2.7-2.9)",-3.61E-2,-0.1651,1.5167999999999999,3.15E-2,0,0,-1.5625000000000001E-3,2.5999999999999999E-3,-3.6400000000000002E-2,0.16550000000000001,0.90110000000000001,0,0,-1.6666666666666681E-3]
[null,null,null,null,null,null,null,null,null,null,null,null,null,null,null,null,null,null,null,null,null,null,null,null,null,null,null,null,null,null,null,null,null,null,null,null,null,null,null,null,null,null,null,null,null,null,null,null,null,null,null,null,null,null,null,null,null,null,null,null,null,null,null,null,null,null,null,null,null,null,null,null,null,null,null,null,null,null,null,null,null,null,null,null,null,null,null,null,null,null,null,null,null,null,null,null,null,null,null,null,null,null,null,null,"HP_LED",3535,"LH351C",0.7,null,2,150,3,85,90,4000,230,"KB (230-250)",2.8,"E2 (2.7-2.9)",-3.61E-2,-0.1651,1.5167999999999999,3.15E-2,0,0,-1.5625000000000001E-3,2.5999999999999999E-3,-3.6400000000000002E-2,0.16550000000000001,0.90110000000000001,0,0,-1.6666666666666681E-3]
[null,null,null,null,null,null,null,null,null,null,null,null,null,null,null,null,null,null,null,null,null,null,null,null,null,null,null,null,null,null,null,null,null,null,null,null,null,null,null,null,null,null,null,null,null,null,null,null,null,null,null,null,null,null,null,null,null,null,null,null,null,null,null,null,null,null,null,null,null,null,null,null,null,null,null,null,null,null,null,null,null,null,null,null,null,null,null,null,null,null,null,null,null,null,null,null,null,null,null,null,null,null,null,null,"HP_LED",3535,"LH351C",0.7,null,2,150,3,85,80,5700,270,"NB (270-290)",2.8,"E2 (2.7-2.9)",-3.61E-2,-0.1651,1.5167999999999999,3.15E-2,0,0,-1.5625000000000001E-3,2.5999999999999999E-3,-3.6400000000000002E-2,0.16550000000000001,0.90110000000000001,0,0,-1.6666666666666681E-3]
[null,null,null,null,null,null,null,null,null,null,null,null,null,null,null,null,null,null,null,null,null,null,null,null,null,null,null,null,null,null,null,null,null,null,null,null,null,null,null,null,null,null,null,null,null,null,null,null,null,null,null,null,null,null,null,null,null,null,null,null,null,null,null,null,null,null,null,null,null,null,null,null,null,null,null,null,null,null,null,null,null,null,null,null,null,null,null,null,null,null,null,null,null,null,null,null,null,null,null,null,null,null,null,null,"HP_LED",3535,"LH351D",1.05,null,3,150,2.2000000000000002,85,80,2700,380,"S2 (380-400)",2.9,"F2 (2.8-3.0)",5.3600000000000002E-2,-0.25180000000000002,1.1618999999999999,-4.4000000000000003E-3,null,null,-1.6239316239316257E-3,6.7000000000000002E-3,-4.1500000000000002E-2,0.14779999999999999,0.88280000000000003,null,null,-1.0166666666666657E-3]
[null,null,null,null,null,null,null,null,null,null,null,null,null,null,null,null,null,null,null,null,null,null,null,null,null,null,null,null,null,null,null,null,null,null,null,null,null,null,null,null,null,null,null,null,null,null,null,null,null,null,null,null,null,null,null,null,null,null,null,null,null,null,null,null,null,null,null,null,null,null,null,null,null,null,null,null,null,null,null,null,null,null,null,null,null,null,null,null,null,null,null,null,null,null,null,null,null,null,null,null,null,null,null,null,"HP_LED",3535,"LH351D",1.05,null,3,150,2.2000000000000002,85,80,3000,380,"S2 (380-400)",2.9,"F2 (2.8-3.0)",5.3600000000000002E-2,-0.25180000000000002,1.1618999999999999,-4.4000000000000003E-3,null,null,-1.6239316239316257E-3,6.7000000000000002E-3,-4.1500000000000002E-2,0.14779999999999999,0.88280000000000003,null,null,-1.0166666666666657E-3]
[null,null,null,null,null,null,null,null,null,null,null,null,null,null,null,null,null,null,null,null,null,null,null,null,null,null,null,null,null,null,null,null,null,null,null,null,null,null,null,null,null,null,null,null,null,null,null,null,null,null,null,null,null,null,null,null,null,null,null,null,null,null,null,null,null,null,null,null,null,null,null,null,null,null,null,null,null,null,null,null,null,null,null,null,null,null,null,null,null,null,null,null,null,null,null,null,null,null,null,null,null,null,null,null,"HP_LED",3535,"LH351D",1.05,null,3,150,2.2000000000000002,85,80,3500,380,"S2 (380-400)",2.9,"F2 (2.8-3.0)",5.3600000000000002E-2,-0.25180000000000002,1.1618999999999999,-4.4000000000000003E-3,null,null,-1.6239316239316257E-3,6.7000000000000002E-3,-4.1500000000000002E-2,0.14779999999999999,0.88280000000000003,null,null,-1.0166666666666657E-3]
[null,null,null,null,null,null,null,null,null,null,null,null,null,null,null,null,null,null,null,null,null,null,null,null,null,null,null,null,null,null,null,null,null,null,null,null,null,null,null,null,null,null,null,null,null,null,null,null,null,null,null,null,null,null,null,null,null,null,null,null,null,null,null,null,null,null,null,null,null,null,null,null,null,null,null,null,null,null,null,null,null,null,null,null,null,null,null,null,null,null,null,null,null,null,null,null,null,null,null,null,null,null,null,null,"HP_LED",3535,"LH351D",1.05,null,3,150,2.2000000000000002,85,90,4000,340,"Q2 (340-360)",2.9,"F2 (2.8-3.0)",5.3600000000000002E-2,-0.25180000000000002,1.1618999999999999,-4.4000000000000003E-3,null,null,-1.6239316239316257E-3,6.7000000000000002E-3,-4.1500000000000002E-2,0.14779999999999999,0.88280000000000003,null,null,-1.0166666666666657E-3]
[null,null,null,null,null,null,null,null,null,null,null,null,null,null,null,null,null,null,null,null,null,null,null,null,null,null,null,null,null,null,null,null,null,null,null,null,null,null,null,null,null,null,null,null,null,null,null,null,null,null,null,null,null,null,null,null,null,null,null,null,null,null,null,null,null,null,null,null,null,null,null,null,null,null,null,null,null,null,null,null,null,null,null,null,null,null,null,null,null,null,null,null,null,null,null,null,null,null,null,null,null,null,null,null,"HP_LED",3535,"LH351D",1.05,null,3,150,2.2000000000000002,85,80,5000,420,"U2 (420-440)",2.9,"F2 (2.8-3.0)",5.3600000000000002E-2,-0.25180000000000002,1.1618999999999999,-4.4000000000000003E-3,null,null,-1.6239316239316257E-3,6.7000000000000002E-3,-4.1500000000000002E-2,0.14779999999999999,0.88280000000000003,null,null,-1.0166666666666657E-3]
[null,null,null,null,null,null,null,null,null,null,null,null,null,null,null,null,null,null,null,null,null,null,null,null,null,null,null,null,null,null,null,null,null,null,null,null,null,null,null,null,null,null,null,null,null,null,null,null,null,null,null,null,null,null,null,null,null,null,null,null,null,null,null,null,null,null,null,null,null,null,null,null,null,null,null,null,null,null,null,null,null,null,null,null,null,null,null,null,null,null,null,null,null,null,null,null,null,null,null,null,null,null,null,null,"HP_LED",3535,"LH351D",1.05,null,3,150,2.2000000000000002,85,80,5000,440,"V2 (440-460)",2.9,"F2 (2.8-3.0)",5.3600000000000002E-2,-0.25180000000000002,1.1618999999999999,-4.4000000000000003E-3,null,null,-1.6239316239316257E-3,6.7000000000000002E-3,-4.1500000000000002E-2,0.14779999999999999,0.88280000000000003,null,null,-1.0166666666666657E-3]
[null,null,null,null,null,null,null,null,null,null,null,null,null,null,null,null,null,null,null,null,null,null,null,null,null,null,null,null,null,null,null,null,null,null,null,null,null,null,null,null,null,null,null,null,null,null,null,null,null,null,null,null,null,null,null,null,null,null,null,null,null,null,null,null,null,null,null,null,null,null,null,null,null,null,null,null,null,null,null,null,null,null,null,null,null,null,null,null,null,null,null,null,null,null,null,null,null,null,null,null,null,null,null,null,"HP_LED",3535,"LH351D",1.05,null,3,150,2.2000000000000002,85,75,5700,420,"U2 (420-440)",2.9,"F2 (2.8-3.0)",5.3600000000000002E-2,-0.25180000000000002,1.1618999999999999,-4.4000000000000003E-3,null,null,-1.6239316239316257E-3,6.7000000000000002E-3,-4.1500000000000002E-2,0.14779999999999999,0.88280000000000003,null,null,-1.0166666666666657E-3]
[null,null,null,null,null,null,null,null,null,null,null,null,null,null,null,null,null,null,null,null,null,null,null,null,null,null,null,null,null,null,null,null,null,null,null,null,null,null,null,null,null,null,null,null,null,null,null,null,null,null,null,null,null,null,null,null,null,null,null,null,null,null,null,null,null,null,null,null,null,null,null,null,null,null,null,null,null,null,null,null,null,null,null,null,null,null,null,null,null,null,null,null,null,null,null,null,null,null,null,null,null,null,null,null,"HP_LED",3535,"LH351D",1.05,null,3,150,2.2000000000000002,85,90,6000,380,"S2 (380-400)",2.9,"F2 (2.8-3.0)",5.3600000000000002E-2,-0.25180000000000002,1.1618999999999999,-4.4000000000000003E-3,null,null,-1.6239316239316257E-3,6.7000000000000002E-3,-4.1500000000000002E-2,0.14779999999999999,0.88280000000000003,null,null,-1.0166666666666657E-3]
[null,null,null,null,null,null,null,null,null,null,null,null,null,null,null,null,null,null,null,null,null,null,null,null,null,null,null,null,null,null,null,null,null,null,null,null,null,null,null,null,null,null,null,null,null,null,null,null,null,null,null,null,null,null,null,null,null,null,null,null,null,null,null,null,null,null,null,null,null,null,null,null,null,null,null,null,null,null,null,null,null,null,null,null,null,null,null,null,null,null,null,null,null,null,null,null,null,null,null,null,null,null,null,null,"HP_LED",5050,"LH508A plus",0.64,null,0.88,125,3,25,70,2700,600,"58 (580-620)",6.1,"Typ (6.1)",7.7299999999999994E-2,-0.40620000000000001,1.7912999999999999,-2.9999999999999997E-4,0,0,-1.6871794871794854E-3,4.8399999999999999E-2,-0.1172,0.28129999999999999,0.85519999999999996,0,0,-1.999999999999987E-3]
[null,null,null,null,null,null,null,null,null,null,null,null,null,null,null,null,null,null,null,null,null,null,null,null,null,null,null,null,null,null,null,null,null,null,null,null,null,null,null,null,null,null,null,null,null,null,null,null,null,null,null,null,null,null,null,null,null,null,null,null,null,null,null,null,null,null,null,null,null,null,null,null,null,null,null,null,null,null,null,null,null,null,null,null,null,null,null,null,null,null,null,null,null,null,null,null,null,null,null,null,null,null,null,null,"HP_LED",5050,"LH508A plus",0.64,null,0.88,125,3,25,70,3000,560,"54 (540-580)",6.1,"Typ (6.1)",7.7299999999999994E-2,-0.40620000000000001,1.7912999999999999,-2.9999999999999997E-4,0,0,-1.6871794871794854E-3,4.8399999999999999E-2,-0.1172,0.28129999999999999,0.85519999999999996,0,0,-1.999999999999987E-3]
[null,null,null,null,null,null,null,null,null,null,null,null,null,null,null,null,null,null,null,null,null,null,null,null,null,null,null,null,null,null,null,null,null,null,null,null,null,null,null,null,null,null,null,null,null,null,null,null,null,null,null,null,null,null,null,null,null,null,null,null,null,null,null,null,null,null,null,null,null,null,null,null,null,null,null,null,null,null,null,null,null,null,null,null,null,null,null,null,null,null,null,null,null,null,null,null,null,null,null,null,null,null,null,null,"HP_LED",5050,"LH508A plus",0.64,null,0.88,125,3,25,80,4000,640,"62 (620-660)",6.1,"Typ (6.1)",7.7299999999999994E-2,-0.40620000000000001,1.7912999999999999,-2.9999999999999997E-4,0,0,-1.6871794871794854E-3,4.8399999999999999E-2,-0.1172,0.28129999999999999,0.85519999999999996,0,0,-1.999999999999987E-3]
[null,null,null,null,null,null,null,null,null,null,null,null,null,null,null,null,null,null,null,null,null,null,null,null,null,null,null,null,null,null,null,null,null,null,null,null,null,null,null,null,null,null,null,null,null,null,null,null,null,null,null,null,null,null,null,null,null,null,null,null,null,null,null,null,null,null,null,null,null,null,null,null,null,null,null,null,null,null,null,null,null,null,null,null,null,null,null,null,null,null,null,null,null,null,null,null,null,null,null,null,null,null,null,null,"HP_LED",5050,"LH508A plus",0.64,null,0.88,125,3,25,70,5700,680,"66 (660-700)",6.1,"Typ (6.1)",7.7299999999999994E-2,-0.40620000000000001,1.7912999999999999,-2.9999999999999997E-4,0,0,-1.6871794871794854E-3,4.8399999999999999E-2,-0.1172,0.28129999999999999,0.85519999999999996,0,0,-1.999999999999987E-3]
[null,null,null,null,null,null,null,null,null,null,null,null,null,null,null,null,null,null,null,null,null,null,null,null,null,null,null,null,null,null,null,null,null,null,null,null,null,null,null,null,null,null,null,null,null,null,null,null,null,null,null,null,null,null,null,null,null,null,null,null,null,null,null,null,null,null,null,null,null,null,null,null,null,null,null,null,null,null,null,null,null,null,null,null,null,null,null,null,null,null,null,null,null,null,null,null,null,null,null,null,null,null,null,null,"HP_LED",5050,"LH508A plus",0.64,null,0.88,125,3,25,80,6500,600,"58 (580-620)",6.1,"Typ (6.1)",7.7299999999999994E-2,-0.40620000000000001,1.7912999999999999,-2.9999999999999997E-4,0,0,-1.6871794871794854E-3,4.8399999999999999E-2,-0.1172,0.28129999999999999,0.85519999999999996,0,0,-1.999999999999987E-3]
[null,null,null,null,null,null,null,null,null,null,null,null,null,null,null,null,null,null,null,null,null,null,null,null,null,null,null,null,null,null,null,null,null,null,null,null,null,null,null,null,null,null,null,null,null,null,null,null,null,null,null,null,null,null,null,null,null,null,null,null,null,null,null,null,null,null,null,null,null,null,null,null,null,null,null,null,null,null,null,null,null,null,null,null,null,null,null,null,null,null,null,null,null,null,null,null,null,null,null,null,null,null,null,null,"HP_LED",5050,"LH508B",0.6,null,0.8,125,5,25,80,2700,480,"46 (460-500)",6.2,"Typ (6.2)",-0.72919999999999996,0.5,1.5542,4.4999999999999998E-2,0,0,-1.7777777777777781E-3,7.3899999999999993E-2,-0.1633,0.36759999999999998,0.82230000000000003,0,0,-1.6666666666666754E-3]
[null,null,null,null,null,null,null,null,null,null,null,null,null,null,null,null,null,null,null,null,null,null,null,null,null,null,null,null,null,null,null,null,null,null,null,null,null,null,null,null,null,null,null,null,null,null,null,null,null,null,null,null,null,null,null,null,null,null,null,null,null,null,null,null,null,null,null,null,null,null,null,null,null,null,null,null,null,null,null,null,null,null,null,null,null,null,null,null,null,null,null,null,null,null,null,null,null,null,null,null,null,null,null,null,"HP_LED",5050,"LH508B",0.6,null,0.8,125,5,25,80,5000,520,"50 (500-540)",6.2,"Typ (6.2)",-0.72919999999999996,0.5,1.5542,4.4999999999999998E-2,0,0,-1.7777777777777781E-3,7.3899999999999993E-2,-0.1633,0.36759999999999998,0.82230000000000003,0,0,-1.6666666666666754E-3]
[null,null,null,null,null,null,null,null,null,null,null,null,null,null,null,null,null,null,null,null,null,null,null,null,null,null,null,null,null,null,null,null,null,null,null,null,null,null,null,null,null,null,null,null,null,null,null,null,null,null,null,null,null,null,null,null,null,null,null,null,null,null,null,null,null,null,null,null,null,null,null,null,null,null,null,null,null,null,null,null,null,null,null,null,null,null,null,null,null,null,null,null,null,null,null,null,null,null,null,null,null,null,null,null,"COB","COB (D-series)","LC003D_G1",0.09,null,0.23,140,4.2,85,80,2700,413,"A9 (413)",34.6,"Typ (34.6)",0,-10.279,12.036,2.0000000000000002E-5,0,0,-1.6666666666666681E-3,0,-1.7952999999999999,1.2867999999999999,0.89870000000000005,0,0,-1.416666666666669E-2]
[null,null,null,null,null,null,null,null,null,null,null,null,null,null,null,null,null,null,null,null,null,null,null,null,null,null,null,null,null,null,null,null,null,null,null,null,null,null,null,null,null,null,null,null,null,null,null,null,null,null,null,null,null,null,null,null,null,null,null,null,null,null,null,null,null,null,null,null,null,null,null,null,null,null,null,null,null,null,null,null,null,null,null,null,null,null,null,null,null,null,null,null,null,null,null,null,null,null,null,null,null,null,null,null,"COB","COB (D-series)","LC003D_G1",0.09,null,0.23,140,4.2,85,80,3500,451,"B2 (451)",34.6,"Typ (34.6)",0,-10.279,12.036,2.0000000000000002E-5,0,0,-1.6666666666666681E-3,0,-1.7952999999999999,1.2867999999999999,0.89870000000000005,0,0,-1.416666666666669E-2]
[null,null,null,null,null,null,null,null,null,null,null,null,null,null,null,null,null,null,null,null,null,null,null,null,null,null,null,null,null,null,null,null,null,null,null,null,null,null,null,null,null,null,null,null,null,null,null,null,null,null,null,null,null,null,null,null,null,null,null,null,null,null,null,null,null,null,null,null,null,null,null,null,null,null,null,null,null,null,null,null,null,null,null,null,null,null,null,null,null,null,null,null,null,null,null,null,null,null,null,null,null,null,null,null,"COB","COB (D-series)","LC003D_G1",0.09,null,0.23,140,4.2,85,80,5700,485,"D1 (485)",34.6,"Typ (34.6)",0,-10.279,12.036,2.0000000000000002E-5,0,0,-1.6666666666666681E-3,0,-1.7952999999999999,1.2867999999999999,0.89870000000000005,0,0,-1.416666666666669E-2]
[null,null,null,null,null,null,null,null,null,null,null,null,null,null,null,null,null,null,null,null,null,null,null,null,null,null,null,null,null,null,null,null,null,null,null,null,null,null,null,null,null,null,null,null,null,null,null,null,null,null,null,null,null,null,null,null,null,null,null,null,null,null,null,null,null,null,null,null,null,null,null,null,null,null,null,null,null,null,null,null,null,null,null,null,null,null,null,null,null,null,null,null,null,null,null,null,null,null,null,null,null,null,null,null,"COB","COB (D-series)","LC006D_G1",0.18,null,0.46,140,2.4,85,90,3000,743,"E9 (743)",34.6,"Typ (34.6)",0,-2.8742999999999999,6.0730000000000004,0,0,0,-1.833333333333335E-3,0,-0.4486,0.63890000000000002,0.89953000000000005,0,0,-1.2500000000000001E-2]
[null,null,null,null,null,null,null,null,null,null,null,null,null,null,null,null,null,null,null,null,null,null,null,null,null,null,null,null,null,null,null,null,null,null,null,null,null,null,null,null,null,null,null,null,null,null,null,null,null,null,null,null,null,null,null,null,null,null,null,null,null,null,null,null,null,null,null,null,null,null,null,null,null,null,null,null,null,null,null,null,null,null,null,null,null,null,null,null,null,null,null,null,null,null,null,null,null,null,null,null,null,null,null,null,"COB","COB (D-series)","LC006D_G1",0.18,null,0.46,140,2.4,85,90,4000,824,"D1 (824)",34.6,"Typ (34.6)",0,-2.8742999999999999,6.0730000000000004,0,0,0,-1.833333333333335E-3,0,-0.4486,0.63890000000000002,0.89953000000000005,0,0,-1.2500000000000001E-2]
[null,null,null,null,null,null,null,null,null,null,null,null,null,null,null,null,null,null,null,null,null,null,null,null,null,null,null,null,null,null,null,null,null,null,null,null,null,null,null,null,null,null,null,null,null,null,null,null,null,null,null,null,null,null,null,null,null,null,null,null,null,null,null,null,null,null,null,null,null,null,null,null,null,null,null,null,null,null,null,null,null,null,null,null,null,null,null,null,null,null,null,null,null,null,null,null,null,null,null,null,null,null,null,null,"COB","COB (D-series)","LC009D_G1",0.27,null,0.69,140,1.7,85,90,2700,1038,"G8 (1038)",34.6,"Typ (34.6)",0,-1.2541,4.0220000000000002,5.4799999999999996E-3,0,0,-1.6666666666666681E-3,0,-0.14729999999999999,0.36630000000000001,0.91183999999999998,0,0,-1.2500000000000001E-2]
[null,null,null,null,null,null,null,null,null,null,null,null,null,null,null,null,null,null,null,null,null,null,null,null,null,null,null,null,null,null,null,null,null,null,null,null,null,null,null,null,null,null,null,null,null,null,null,null,null,null,null,null,null,null,null,null,null,null,null,null,null,null,null,null,null,null,null,null,null,null,null,null,null,null,null,null,null,null,null,null,null,null,null,null,null,null,null,null,null,null,null,null,null,null,null,null,null,null,null,null,null,null,null,null,"COB","COB (D-series)","LC009D_G1",0.27,null,0.69,140,1.7,85,90,2700,1090,"D1 (1090)",34.6,"Typ (34.6)",0,-1.2541,4.0220000000000002,5.4799999999999996E-3,0,0,-1.6666666666666681E-3,0,-0.14729999999999999,0.36630000000000001,0.91183999999999998,0,0,-1.2500000000000001E-2]
[null,null,null,null,null,null,null,null,null,null,null,null,null,null,null,null,null,null,null,null,null,null,null,null,null,null,null,null,null,null,null,null,null,null,null,null,null,null,null,null,null,null,null,null,null,null,null,null,null,null,null,null,null,null,null,null,null,null,null,null,null,null,null,null,null,null,null,null,null,null,null,null,null,null,null,null,null,null,null,null,null,null,null,null,null,null,null,null,null,null,null,null,null,null,null,null,null,null,null,null,null,null,null,null,"COB","COB (D-series)","LC009D_G1",0.27,null,0.69,140,1.7,85,80,4000,1347,"H2 (1347)",34.6,"Typ (34.6)",0,-1.2541,4.0220000000000002,5.4799999999999996E-3,0,0,-1.6666666666666681E-3,0,-0.14729999999999999,0.36630000000000001,0.91183999999999998,0,0,-1.2500000000000001E-2]
[null,null,null,null,null,null,null,null,null,null,null,null,null,null,null,null,null,null,null,null,null,null,null,null,null,null,null,null,null,null,null,null,null,null,null,null,null,null,null,null,null,null,null,null,null,null,null,null,null,null,null,null,null,null,null,null,null,null,null,null,null,null,null,null,null,null,null,null,null,null,null,null,null,null,null,null,null,null,null,null,null,null,null,null,null,null,null,null,null,null,null,null,null,null,null,null,null,null,null,null,null,null,null,null,"COB","COB (D-series)","LC013D_G1",0.36,null,0.92,140,1.4,85,80,3000,1757,"D1 (1757)",34.6,"Typ (34.6)",0,-1.0495000000000001,3.1581999999999999,-9.5E-4,0,0,-1.833333333333335E-3,0,-0.153,0.35449999999999998,0.89219999999999999,0,0,-1.3333333333333286E-2]
[null,null,null,null,null,null,null,null,null,null,null,null,null,null,null,null,null,null,null,null,null,null,null,null,null,null,null,null,null,null,null,null,null,null,null,null,null,null,null,null,null,null,null,null,null,null,null,null,null,null,null,null,null,null,null,null,null,null,null,null,null,null,null,null,null,null,null,null,null,null,null,null,null,null,null,null,null,null,null,null,null,null,null,null,null,null,null,null,null,null,null,null,null,null,null,null,null,null,null,null,null,null,null,null,"COB","COB (D-series)","LC013D_G1",0.36,null,0.92,140,1.4,85,80,3500,1812,"D1 (1812)",34.6,"Typ (34.6)",0,-1.0495000000000001,3.1581999999999999,-9.5E-4,0,0,-1.833333333333335E-3,0,-0.153,0.35449999999999998,0.89219999999999999,0,0,-1.3333333333333286E-2]
[null,null,null,null,null,null,null,null,null,null,null,null,null,null,null,null,null,null,null,null,null,null,null,null,null,null,null,null,null,null,null,null,null,null,null,null,null,null,null,null,null,null,null,null,null,null,null,null,null,null,null,null,null,null,null,null,null,null,null,null,null,null,null,null,null,null,null,null,null,null,null,null,null,null,null,null,null,null,null,null,null,null,null,null,null,null,null,null,null,null,null,null,null,null,null,null,null,null,null,null,null,null,null,null,"COB","COB (D-series)","LC013D_G1",0.36,null,0.92,140,1.4,85,80,5700,1772,"H6 (1772)",34.6,"Typ (34.6)",0,-1.0495000000000001,3.1581999999999999,-9.5E-4,0,0,-1.833333333333335E-3,0,-0.153,0.35449999999999998,0.89219999999999999,0,0,-1.3333333333333286E-2]
[null,null,null,null,null,null,null,null,null,null,null,null,null,null,null,null,null,null,null,null,null,null,null,null,null,null,null,null,null,null,null,null,null,null,null,null,null,null,null,null,null,null,null,null,null,null,null,null,null,null,null,null,null,null,null,null,null,null,null,null,null,null,null,null,null,null,null,null,null,null,null,null,null,null,null,null,null,null,null,null,null,null,null,null,null,null,null,null,null,null,null,null,null,null,null,null,null,null,null,null,null,null,null,null,"COB","COB (D-series)","LC016D_G1",0.45,null,1.1499999999999999,140,1.1000000000000001,85,80,3000,2291,"D1 (2291)",34.6,"Typ (34.6)",0,-0.45760000000000001,2.4195000000000002,3.8899999999999998E-3,0,0,-1.6666666666666681E-3,0,-6.0499999999999998E-2,0.23769999999999999,0.90525,0,0,-1.1666666666666714E-2]
[null,null,null,null,null,null,null,null,null,null,null,null,null,null,null,null,null,null,null,null,null,null,null,null,null,null,null,null,null,null,null,null,null,null,null,null,null,null,null,null,null,null,null,null,null,null,null,null,null,null,null,null,null,null,null,null,null,null,null,null,null,null,null,null,null,null,null,null,null,null,null,null,null,null,null,null,null,null,null,null,null,null,null,null,null,null,null,null,null,null,null,null,null,null,null,null,null,null,null,null,null,null,null,null,"COB","COB (D-series)","LC016D_G1",0.45,null,1.1499999999999999,140,1.1000000000000001,85,90,4000,1971,"H8 (1971)",34.6,"Typ (34.6)",0,-0.45760000000000001,2.4195000000000002,3.8899999999999998E-3,0,0,-1.6666666666666681E-3,0,-6.0499999999999998E-2,0.23769999999999999,0.90525,0,0,-1.1666666666666714E-2]
[null,null,null,null,null,null,null,null,null,null,null,null,null,null,null,null,null,null,null,null,null,null,null,null,null,null,null,null,null,null,null,null,null,null,null,null,null,null,null,null,null,null,null,null,null,null,null,null,null,null,null,null,null,null,null,null,null,null,null,null,null,null,null,null,null,null,null,null,null,null,null,null,null,null,null,null,null,null,null,null,null,null,null,null,null,null,null,null,null,null,null,null,null,null,null,null,null,null,null,null,null,null,null,null,"COB","COB (D-series)","LC019D_G1",0.54,null,1.38,140,1,85,80,2700,2581,"D1 (2581)",34.6,"Typ (34.6)",0,-0.33600000000000002,2.0110000000000001,1.2E-2,0,0,-1.833333333333335E-3,0,-3.2500000000000001E-2,0.19109999999999999,0.90627000000000002,0,0,-1.1666666666666714E-2]
[null,null,null,null,null,null,null,null,null,null,null,null,null,null,null,null,null,null,null,null,null,null,null,null,null,null,null,null,null,null,null,null,null,null,null,null,null,null,null,null,null,null,null,null,null,null,null,null,null,null,null,null,null,null,null,null,null,null,null,null,null,null,null,null,null,null,null,null,null,null,null,null,null,null,null,null,null,null,null,null,null,null,null,null,null,null,null,null,null,null,null,null,null,null,null,null,null,null,null,null,null,null,null,null,"COB","COB (D-series)","LC019D_G1",0.54,null,1.38,140,1,85,90,2700,2104,"H9 (2104)",34.6,"Typ (34.6)",0,-0.33600000000000002,2.0110000000000001,1.2E-2,0,0,-1.833333333333335E-3,0,-3.2500000000000001E-2,0.19109999999999999,0.90627000000000002,0,0,-1.1666666666666714E-2]
[null,null,null,null,null,null,null,null,null,null,null,null,null,null,null,null,null,null,null,null,null,null,null,null,null,null,null,null,null,null,null,null,null,null,null,null,null,null,null,null,null,null,null,null,null,null,null,null,null,null,null,null,null,null,null,null,null,null,null,null,null,null,null,null,null,null,null,null,null,null,null,null,null,null,null,null,null,null,null,null,null,null,null,null,null,null,null,null,null,null,null,null,null,null,null,null,null,null,null,null,null,null,null,null,"COB","COB (D-series)","LC019D_G1",0.54,null,1.38,140,1,85,90,4000,2454,"D1 (2454)",34.6,"Typ (34.6)",0,-0.33600000000000002,2.0110000000000001,1.2E-2,0,0,-1.833333333333335E-3,0,-3.2500000000000001E-2,0.19109999999999999,0.90627000000000002,0,0,-1.1666666666666714E-2]
[null,null,null,null,null,null,null,null,null,null,null,null,null,null,null,null,null,null,null,null,null,null,null,null,null,null,null,null,null,null,null,null,null,null,null,null,null,null,null,null,null,null,null,null,null,null,null,null,null,null,null,null,null,null,null,null,null,null,null,null,null,null,null,null,null,null,null,null,null,null,null,null,null,null,null,null,null,null,null,null,null,null,null,null,null,null,null,null,null,null,null,null,null,null,null,null,null,null,null,null,null,null,null,null,"COB","COB (D-series)","LC019D_G1",0.54,null,1.38,140,1,85,80,6500,2863,"D1 (2863)",34.6,"Typ (34.6)",0,-0.33600000000000002,2.0110000000000001,1.2E-2,0,0,-1.833333333333335E-3,0,-3.2500000000000001E-2,0.19109999999999999,0.90627000000000002,0,0,-1.1666666666666714E-2]
[null,null,null,null,null,null,null,null,null,null,null,null,null,null,null,null,null,null,null,null,null,null,null,null,null,null,null,null,null,null,null,null,null,null,null,null,null,null,null,null,null,null,null,null,null,null,null,null,null,null,null,null,null,null,null,null,null,null,null,null,null,null,null,null,null,null,null,null,null,null,null,null,null,null,null,null,null,null,null,null,null,null,null,null,null,null,null,null,null,null,null,null,null,null,null,null,null,null,null,null,null,null,null,null,"COB","COB (D-series)","LC026D_G1",0.72,null,1.84,140,1,85,80,3500,3488,"K3 (3488)",34.6,"Typ (34.6)",0,-0.1991,1.5282,2.9099999999999998E-3,0,0,-1.6666666666666681E-3,0,-2.1299999999999999E-2,0.1421,0.90873000000000004,0,0,-1.1666666666666714E-2]
[null,null,null,null,null,null,null,null,null,null,null,null,null,null,null,null,null,null,null,null,null,null,null,null,null,null,null,null,null,null,null,null,null,null,null,null,null,null,null,null,null,null,null,null,null,null,null,null,null,null,null,null,null,null,null,null,null,null,null,null,null,null,null,null,null,null,null,null,null,null,null,null,null,null,null,null,null,null,null,null,null,null,null,null,null,null,null,null,null,null,null,null,null,null,null,null,null,null,null,null,null,null,null,null,"COB","COB (D-series)","LC026D_G1",0.72,null,1.84,140,1,85,80,5000,3767,"D1 (3767)",34.6,"Typ (34.6)",0,-0.1991,1.5282,2.9099999999999998E-3,0,0,-1.6666666666666681E-3,0,-2.1299999999999999E-2,0.1421,0.90873000000000004,0,0,-1.1666666666666714E-2]
[null,null,null,null,null,null,null,null,null,null,null,null,null,null,null,null,null,null,null,null,null,null,null,null,null,null,null,null,null,null,null,null,null,null,null,null,null,null,null,null,null,null,null,null,null,null,null,null,null,null,null,null,null,null,null,null,null,null,null,null,null,null,null,null,null,null,null,null,null,null,null,null,null,null,null,null,null,null,null,null,null,null,null,null,null,null,null,null,null,null,null,null,null,null,null,null,null,null,null,null,null,null,null,null,"COB","COB (D-series)","LC040D_G1",1.08,null,2.76,140,0.8,85,80,3000,5257,"K2 (5257)",34.6,"Typ (34.6)",0,-8.1299999999999997E-2,0.99980000000000002,1.504E-2,0,0,-1.833333333333335E-3,0,-8.9999999999999993E-3,9.2700000000000005E-2,0.91037999999999997,0,0,-1.2500000000000001E-2]
[null,null,null,null,null,null,null,null,null,null,null,null,null,null,null,null,null,null,null,null,null,null,null,null,null,null,null,null,null,null,null,null,null,null,null,null,null,null,null,null,null,null,null,null,null,null,null,null,null,null,null,null,null,null,null,null,null,null,null,null,null,null,null,null,null,null,null,null,null,null,null,null,null,null,null,null,null,null,null,null,null,null,null,null,null,null,null,null,null,null,null,null,null,null,null,null,null,null,null,null,null,null,null,null,"COB","COB (D-series)","LC040D_G1",1.08,null,2.76,140,0.8,85,80,4000,5812,"D1 (5812)",34.6,"Typ (34.6)",0,-8.1299999999999997E-2,0.99980000000000002,1.504E-2,0,0,-1.833333333333335E-3,0,-8.9999999999999993E-3,9.2700000000000005E-2,0.91037999999999997,0,0,-1.2500000000000001E-2]
[null,null,null,null,null,null,null,null,null,null,null,null,null,null,null,null,null,null,null,null,null,null,null,null,null,null,null,null,null,null,null,null,null,null,null,null,null,null,null,null,null,null,null,null,null,null,null,null,null,null,null,null,null,null,null,null,null,null,null,null,null,null,null,null,null,null,null,null,null,null,null,null,null,null,null,null,null,null,null,null,null,null,null,null,null,null,null,null,null,null,null,null,null,null,null,null,null,null,null,null,null,null,null,null,"COB","COB (D-series)","LC060D_G1",1.08,null,2.76,140,0.5,85,80,2700,7277,"P9 (7277)",52,"Typ (52)",-2.46E-2,7.4999999999999997E-3,0.88500000000000001,6.6400000000000001E-2,0,0,-1.8499999999999999E-3,1.6000000000000001E-3,-2.3300000000000001E-2,0.11650000000000001,0.89929999999999999,0,0,-2.1999999999999981E-2]
[null,null,null,null,null,null,null,null,null,null,null,null,null,null,null,null,null,null,null,null,null,null,null,null,null,null,null,null,null,null,null,null,null,null,null,null,null,null,null,null,null,null,null,null,null,null,null,null,null,null,null,null,null,null,null,null,null,null,null,null,null,null,null,null,null,null,null,null,null,null,null,null,null,null,null,null,null,null,null,null,null,null,null,null,null,null,null,null,null,null,null,null,null,null,null,null,null,null,null,null,null,null,null,null,"COB","COB (D-series)","LC060D_G1",1.08,null,2.76,140,0.5,85,80,3500,7904,"Q5 (7904)",52,"Typ (52)",-2.46E-2,7.4999999999999997E-3,0.88500000000000001,6.6400000000000001E-2,0,0,-1.8499999999999999E-3,1.6000000000000001E-3,-2.3300000000000001E-2,0.11650000000000001,0.89929999999999999,0,0,-2.1999999999999981E-2]
[null,null,null,null,null,null,null,null,null,null,null,null,null,null,null,null,null,null,null,null,null,null,null,null,null,null,null,null,null,null,null,null,null,null,null,null,null,null,null,null,null,null,null,null,null,null,null,null,null,null,null,null,null,null,null,null,null,null,null,null,null,null,null,null,null,null,null,null,null,null,null,null,null,null,null,null,null,null,null,null,null,null,null,null,null,null,null,null,null,null,null,null,null,null,null,null,null,null,null,null,null,null,null,null,"COB","COB (D-series)","LC080D_G1",1.62,null,4.1399999999999997,140,0.5,85,70,3000,12084,"U5 (12084)",52,"Typ (52)",-2.06E-2,2.75E-2,0.62990000000000002,-5.0000000000000001E-3,0,0,-1.8499999999999999E-3,-1.4E-3,4.7000000000000002E-3,4.3700000000000003E-2,0.92300000000000004,0,0,-2.1999999999999981E-2]
[null,null,null,null,null,null,null,null,null,null,null,null,null,null,null,null,null,null,null,null,null,null,null,null,null,null,null,null,null,null,null,null,null,null,null,null,null,null,null,null,null,null,null,null,null,null,null,null,null,null,null,null,null,null,null,null,null,null,null,null,null,null,null,null,null,null,null,null,null,null,null,null,null,null,null,null,null,null,null,null,null,null,null,null,null,null,null,null,null,null,null,null,null,null,null,null,null,null,null,null,null,null,null,null,"COB","COB (D-series)","LC003D_G2",0.09,null,0.23,140,2.56,85,80,2700,459,"D2 (459)",34.6,"Typ (34.6)",0,-10.279,12.036,2.0000000000000002E-5,0,0,-1.6666666666666681E-3,0,-1.7952999999999999,1.2867999999999999,0.89870000000000005,0,0,-1.416666666666669E-2]
[null,null,null,null,null,null,null,null,null,null,null,null,null,null,null,null,null,null,null,null,null,null,null,null,null,null,null,null,null,null,null,null,null,null,null,null,null,null,null,null,null,null,null,null,null,null,null,null,null,null,null,null,null,null,null,null,null,null,null,null,null,null,null,null,null,null,null,null,null,null,null,null,null,null,null,null,null,null,null,null,null,null,null,null,null,null,null,null,null,null,null,null,null,null,null,null,null,null,null,null,null,null,null,null,"COB","COB (D-series)","LC003D_G2",0.09,null,0.23,140,2.56,85,90,5000,430,"D2 (430)",34.6,"Typ (34.6)",0,-10.279,12.036,2.0000000000000002E-5,0,0,-1.6666666666666681E-3,0,-1.7952999999999999,1.2867999999999999,0.89870000000000005,0,0,-1.416666666666669E-2]
[null,null,null,null,null,null,null,null,null,null,null,null,null,null,null,null,null,null,null,null,null,null,null,null,null,null,null,null,null,null,null,null,null,null,null,null,null,null,null,null,null,null,null,null,null,null,null,null,null,null,null,null,null,null,null,null,null,null,null,null,null,null,null,null,null,null,null,null,null,null,null,null,null,null,null,null,null,null,null,null,null,null,null,null,null,null,null,null,null,null,null,null,null,null,null,null,null,null,null,null,null,null,null,null,"COB","COB (D-series)","LC006D_G2",0.18,null,0.46,140,1.48,85,80,4000,1024,"D2 (1024)",34.6,"Typ (34.6)",0,-2.8742999999999999,6.0730000000000004,0,0,0,-1.833333333333335E-3,0,-0.4486,0.63890000000000002,0.89953000000000005,0,0,-1.2500000000000001E-2]
[null,null,null,null,null,null,null,null,null,null,null,null,null,null,null,null,null,null,null,null,null,null,null,null,null,null,null,null,null,null,null,null,null,null,null,null,null,null,null,null,null,null,null,null,null,null,null,null,null,null,null,null,null,null,null,null,null,null,null,null,null,null,null,null,null,null,null,null,null,null,null,null,null,null,null,null,null,null,null,null,null,null,null,null,null,null,null,null,null,null,null,null,null,null,null,null,null,null,null,null,null,null,null,null,"COB","COB (D-series)","LC009D_G2",0.27,null,0.69,140,0.99,85,80,3000,1418,"D2 (1418)",34.6,"Typ (34.6)",0,-1.2541,4.0220000000000002,5.4799999999999996E-3,0,0,-1.6666666666666681E-3,0,-0.14729999999999999,0.36630000000000001,0.91183999999999998,0,0,-1.2500000000000001E-2]
[null,null,null,null,null,null,null,null,null,null,null,null,null,null,null,null,null,null,null,null,null,null,null,null,null,null,null,null,null,null,null,null,null,null,null,null,null,null,null,null,null,null,null,null,null,null,null,null,null,null,null,null,null,null,null,null,null,null,null,null,null,null,null,null,null,null,null,null,null,null,null,null,null,null,null,null,null,null,null,null,null,null,null,null,null,null,null,null,null,null,null,null,null,null,null,null,null,null,null,null,null,null,null,null,"COB","COB (D-series)","LC009D_G2",0.27,null,0.69,140,0.99,85,90,5000,1278,"D2 (1278)",34.6,"Typ (34.6)",0,-1.2541,4.0220000000000002,5.4799999999999996E-3,0,0,-1.6666666666666681E-3,0,-0.14729999999999999,0.36630000000000001,0.91183999999999998,0,0,-1.2500000000000001E-2]
[null,null,null,null,null,null,null,null,null,null,null,null,null,null,null,null,null,null,null,null,null,null,null,null,null,null,null,null,null,null,null,null,null,null,null,null,null,null,null,null,null,null,null,null,null,null,null,null,null,null,null,null,null,null,null,null,null,null,null,null,null,null,null,null,null,null,null,null,null,null,null,null,null,null,null,null,null,null,null,null,null,null,null,null,null,null,null,null,null,null,null,null,null,null,null,null,null,null,null,null,null,null,null,null,"COB","COB (D-series)","LC013D_G2",0.36,null,0.92,140,0.85,85,90,3500,1635,"D2 (1635)",34.6,"Typ (34.6)",0,-1.0495000000000001,3.1581999999999999,-9.5E-4,0,0,-1.833333333333335E-3,0,-0.153,0.35449999999999998,0.89219999999999999,0,0,-1.3333333333333286E-2]
[null,null,null,null,null,null,null,null,null,null,null,null,null,null,null,null,null,null,null,null,null,null,null,null,null,null,null,null,null,null,null,null,null,null,null,null,null,null,null,null,null,null,null,null,null,null,null,null,null,null,null,null,null,null,null,null,null,null,null,null,null,null,null,null,null,null,null,null,null,null,null,null,null,null,null,null,null,null,null,null,null,null,null,null,null,null,null,null,null,null,null,null,null,null,null,null,null,null,null,null,null,null,null,null,"COB","COB (D-series)","LC013D_G2",0.36,null,0.92,140,0.85,85,90,4000,1670,"D2 (1670)",34.6,"Typ (34.6)",0,-1.0495000000000001,3.1581999999999999,-9.5E-4,0,0,-1.833333333333335E-3,0,-0.153,0.35449999999999998,0.89219999999999999,0,0,-1.3333333333333286E-2]
[null,null,null,null,null,null,null,null,null,null,null,null,null,null,null,null,null,null,null,null,null,null,null,null,null,null,null,null,null,null,null,null,null,null,null,null,null,null,null,null,null,null,null,null,null,null,null,null,null,null,null,null,null,null,null,null,null,null,null,null,null,null,null,null,null,null,null,null,null,null,null,null,null,null,null,null,null,null,null,null,null,null,null,null,null,null,null,null,null,null,null,null,null,null,null,null,null,null,null,null,null,null,null,null,"COB","COB (D-series)","LC016D_G2",0.45,null,1.1499999999999999,140,0.67,85,70,3000,2617,"D3 (2617)",34.6,"Typ (34.6)",0,-0.45760000000000001,2.4195000000000002,3.8899999999999998E-3,0,0,-1.6666666666666681E-3,0,-6.0499999999999998E-2,0.23769999999999999,0.90525,0,0,-1.1666666666666714E-2]
[null,null,null,null,null,null,null,null,null,null,null,null,null,null,null,null,null,null,null,null,null,null,null,null,null,null,null,null,null,null,null,null,null,null,null,null,null,null,null,null,null,null,null,null,null,null,null,null,null,null,null,null,null,null,null,null,null,null,null,null,null,null,null,null,null,null,null,null,null,null,null,null,null,null,null,null,null,null,null,null,null,null,null,null,null,null,null,null,null,null,null,null,null,null,null,null,null,null,null,null,null,null,null,null,"COB","COB (D-series)","LC016D_G2",0.45,null,1.1499999999999999,140,0.67,85,80,5000,2581,"D2 (2581)",34.6,"Typ (34.6)",0,-0.45760000000000001,2.4195000000000002,3.8899999999999998E-3,0,0,-1.6666666666666681E-3,0,-6.0499999999999998E-2,0.23769999999999999,0.90525,0,0,-1.1666666666666714E-2]
[null,null,null,null,null,null,null,null,null,null,null,null,null,null,null,null,null,null,null,null,null,null,null,null,null,null,null,null,null,null,null,null,null,null,null,null,null,null,null,null,null,null,null,null,null,null,null,null,null,null,null,null,null,null,null,null,null,null,null,null,null,null,null,null,null,null,null,null,null,null,null,null,null,null,null,null,null,null,null,null,null,null,null,null,null,null,null,null,null,null,null,null,null,null,null,null,null,null,null,null,null,null,null,null,"COB","COB (D-series)","LC019D_G2",0.54,null,1.38,140,0.6,85,80,3500,2965,"D2 (2965)",34.6,"Typ (34.6)",0,-0.33600000000000002,2.0110000000000001,1.2E-2,0,0,-1.833333333333335E-3,0,-3.2500000000000001E-2,0.19109999999999999,0.90627000000000002,0,0,-1.1666666666666714E-2]
[null,null,null,null,null,null,null,null,null,null,null,null,null,null,null,null,null,null,null,null,null,null,null,null,null,null,null,null,null,null,null,null,null,null,null,null,null,null,null,null,null,null,null,null,null,null,null,null,null,null,null,null,null,null,null,null,null,null,null,null,null,null,null,null,null,null,null,null,null,null,null,null,null,null,null,null,null,null,null,null,null,null,null,null,null,null,null,null,null,null,null,null,null,null,null,null,null,null,null,null,null,null,null,null,"COB","COB (D-series)","LC019D_G2",0.54,null,1.38,140,0.6,85,80,6500,3026,"D2 (3026)",34.6,"Typ (34.6)",0,-0.33600000000000002,2.0110000000000001,1.2E-2,0,0,-1.833333333333335E-3,0,-3.2500000000000001E-2,0.19109999999999999,0.90627000000000002,0,0,-1.1666666666666714E-2]
[null,null,null,null,null,null,null,null,null,null,null,null,null,null,null,null,null,null,null,null,null,null,null,null,null,null,null,null,null,null,null,null,null,null,null,null,null,null,null,null,null,null,null,null,null,null,null,null,null,null,null,null,null,null,null,null,null,null,null,null,null,null,null,null,null,null,null,null,null,null,null,null,null,null,null,null,null,null,null,null,null,null,null,null,null,null,null,null,null,null,null,null,null,null,null,null,null,null,null,null,null,null,null,null,"COB","COB (D-series)","LC026D_G2",0.72,null,1.84,140,0.47,85,80,4000,3950,"D2 (3950)",34.6,"Typ (34.6)",0,-0.1991,1.5282,2.9099999999999998E-3,0,0,-1.6666666666666681E-3,0,-2.1299999999999999E-2,0.1421,0.90873000000000004,0,0,-1.1666666666666714E-2]
[null,null,null,null,null,null,null,null,null,null,null,null,null,null,null,null,null,null,null,null,null,null,null,null,null,null,null,null,null,null,null,null,null,null,null,null,null,null,null,null,null,null,null,null,null,null,null,null,null,null,null,null,null,null,null,null,null,null,null,null,null,null,null,null,null,null,null,null,null,null,null,null,null,null,null,null,null,null,null,null,null,null,null,null,null,null,null,null,null,null,null,null,null,null,null,null,null,null,null,null,null,null,null,null,"COB","COB (D-series)","LC033D_G2",0.9,null,2.2999999999999998,140,0.4,85,70,3000,5014,"D2 (5014)",34.6,"Typ (34.6)",-4.0000000000000002E-4,-0.16209999999999999,1.2544,2.5999999999999999E-3,0,0,-1.3894999266754675E-3,-4.0000000000000003E-5,-2.0899999999999998E-2,0.13950000000000001,0.89139999999999997,0,0,-1.3399999999999891E-2]
[null,null,null,null,null,null,null,null,null,null,null,null,null,null,null,null,null,null,null,null,null,null,null,null,null,null,null,null,null,null,null,null,null,null,null,null,null,null,null,null,null,null,null,null,null,null,null,null,null,null,null,null,null,null,null,null,null,null,null,null,null,null,null,null,null,null,null,null,null,null,null,null,null,null,null,null,null,null,null,null,null,null,null,null,null,null,null,null,null,null,null,null,null,null,null,null,null,null,null,null,null,null,null,null,"COB","COB (D-series)","LC033D_G2",0.9,null,2.2999999999999998,140,0.4,85,80,4000,4875,"D2 (4875)",34.6,"Typ (34.6)",-4.0000000000000002E-4,-0.16209999999999999,1.2544,2.5999999999999999E-3,0,0,-1.3894999266754675E-3,-4.0000000000000003E-5,-2.0899999999999998E-2,0.13950000000000001,0.89139999999999997,0,0,-1.3399999999999891E-2]
[null,null,null,null,null,null,null,null,null,null,null,null,null,null,null,null,null,null,null,null,null,null,null,null,null,null,null,null,null,null,null,null,null,null,null,null,null,null,null,null,null,null,null,null,null,null,null,null,null,null,null,null,null,null,null,null,null,null,null,null,null,null,null,null,null,null,null,null,null,null,null,null,null,null,null,null,null,null,null,null,null,null,null,null,null,null,null,null,null,null,null,null,null,null,null,null,null,null,null,null,null,null,null,null,"COB","COB (D-series)","LC033D_G2",0.9,null,2.2999999999999998,140,0.4,85,80,5700,4916,"D2 (4916)",34.6,"Typ (34.6)",-4.0000000000000002E-4,-0.16209999999999999,1.2544,2.5999999999999999E-3,0,0,-1.3894999266754675E-3,-4.0000000000000003E-5,-2.0899999999999998E-2,0.13950000000000001,0.89139999999999997,0,0,-1.3399999999999891E-2]
[null,null,null,null,null,null,null,null,null,null,null,null,null,null,null,null,null,null,null,null,null,null,null,null,null,null,null,null,null,null,null,null,null,null,null,null,null,null,null,null,null,null,null,null,null,null,null,null,null,null,null,null,null,null,null,null,null,null,null,null,null,null,null,null,null,null,null,null,null,null,null,null,null,null,null,null,null,null,null,null,null,null,null,null,null,null,null,null,null,null,null,null,null,null,null,null,null,null,null,null,null,null,null,null,"COB","COB (D-series)","LC040D_G2",1.08,null,2.76,140,0.32,85,70,4000,6506,"D2 (6506)",34.6,"Typ (34.6)",0,-8.1299999999999997E-2,0.99980000000000002,1.504E-2,0,0,-1.833333333333335E-3,0,-8.9999999999999993E-3,9.2700000000000005E-2,0.91037999999999997,0,0,-1.2500000000000001E-2]
[null,null,null,null,null,null,null,null,null,null,null,null,null,null,null,null,null,null,null,null,null,null,null,null,null,null,null,null,null,null,null,null,null,null,null,null,null,null,null,null,null,null,null,null,null,null,null,null,null,null,null,null,null,null,null,null,null,null,null,null,null,null,null,null,null,null,null,null,null,null,null,null,null,null,null,null,null,null,null,null,null,null,null,null,null,null,null,null,null,null,null,null,null,null,null,null,null,null,null,null,null,null,null,null,"COB","COB (D-series)","LC060D_G2",1.08,null,2.76,140,0.24,85,70,3000,9225,"D2 (9225)",52,"Typ (52)",-2.46E-2,7.4999999999999997E-3,0.88500000000000001,6.6400000000000001E-2,0,0,-1.8499999999999999E-3,1.6000000000000001E-3,-2.3300000000000001E-2,0.11650000000000001,0.89929999999999999,0,0,-2.1999999999999981E-2]
[null,null,null,null,null,null,null,null,null,null,null,null,null,null,null,null,null,null,null,null,null,null,null,null,null,null,null,null,null,null,null,null,null,null,null,null,null,null,null,null,null,null,null,null,null,null,null,null,null,null,null,null,null,null,null,null,null,null,null,null,null,null,null,null,null,null,null,null,null,null,null,null,null,null,null,null,null,null,null,null,null,null,null,null,null,null,null,null,null,null,null,null,null,null,null,null,null,null,null,null,null,null,null,null,"COB","COB (D-series)","LC080D_G2",1.62,null,4.1399999999999997,140,0.16,85,80,2700,11815,"D2 (11815)",52,"Typ (52)",-2.06E-2,2.75E-2,0.62990000000000002,-5.0000000000000001E-3,0,0,-1.8499999999999999E-3,-1.4E-3,4.7000000000000002E-3,4.3700000000000003E-2,0.92300000000000004,0,0,-2.1999999999999981E-2]
[null,null,null,null,null,null,null,null,null,null,null,null,null,null,null,null,null,null,null,null,null,null,null,null,null,null,null,null,null,null,null,null,null,null,null,null,null,null,null,null,null,null,null,null,null,null,null,null,null,null,null,null,null,null,null,null,null,null,null,null,null,null,null,null,null,null,null,null,null,null,null,null,null,null,null,null,null,null,null,null,null,null,null,null,null,null,null,null,null,null,null,null,null,null,null,null,null,null,null,null,null,null,null,null,"COB","COB (D-series)","LC080D_G2",1.62,null,4.1399999999999997,140,0.16,85,80,6500,14702,"D2 (14702)",52,"Typ (52)",-2.06E-2,2.75E-2,0.62990000000000002,-5.0000000000000001E-3,0,0,-1.8499999999999999E-3,-1.4E-3,4.7000000000000002E-3,4.3700000000000003E-2,0.92300000000000004,0,0,-2.1999999999999981E-2]
[null,null,null,null,null,null,null,null,null,null,null,null,null,null,null,null,null,null,null,null,null,null,null,null,null,null,null,null,null,null,null,null,null,null,null,null,null,null,null,null,null,null,null,null,null,null,null,null,null,null,null,null,null,null,null,null,null,null,null,null,null,null,null,null,null,null,null,null,null,null,null,null,null,null,null,null,null,null,null,null,null,null,null,null,null,null,null,null,null,null,null,null,null,null,null,null,null,null,null,null,null,null,null,null,"COB","COB (Small LES)","LC010C-G2",0.3,null,0.38,140,1.5,85,80,5000,1326,"Typ (1326)",35.5,"Typ (35.5)",0.63039999999999996,-1.8029999999999999,3.8123999999999998,1.5E-3,0,0,-1.3582393859438713E-3,0.43880000000000002,-0.52329999999999999,0.51990000000000003,0.87919999999999998,0,0,-1.4350000000000069E-2]
[null,null,null,null,null,null,null,null,null,null,null,null,null,null,null,null,null,null,null,null,null,null,null,null,null,null,null,null,null,null,null,null,null,null,null,null,null,null,null,null,null,null,null,null,null,null,null,null,null,null,null,null,null,null,null,null,null,null,null,null,null,null,null,null,null,null,null,null,null,null,null,null,null,null,null,null,null,null,null,null,null,null,null,null,null,null,null,null,null,null,null,null,null,null,null,null,null,null,null,null,null,null,null,null,"COB","COB (Small LES)","LC020C-G2",0.6,null,0.92,140,0.9,85,80,3000,2674,"Typ (2674)",35.5,"Typ (35.5)",0.17100000000000001,-0.65990000000000004,2.0156000000000001,-8.7799999999999996E-3,0,0,-1.3582393859438713E-3,8.4900000000000003E-2,-0.18310000000000001,0.29149999999999998,0.87260000000000004,0,0,-1.4350000000000069E-2]
[null,null,null,null,null,null,null,null,null,null,null,null,null,null,null,null,null,null,null,null,null,null,null,null,null,null,null,null,null,null,null,null,null,null,null,null,null,null,null,null,null,null,null,null,null,null,null,null,null,null,null,null,null,null,null,null,null,null,null,null,null,null,null,null,null,null,null,null,null,null,null,null,null,null,null,null,null,null,null,null,null,null,null,null,null,null,null,null,null,null,null,null,null,null,null,null,null,null,null,null,null,null,null,null,"COB","COB (Small LES)","LC030C-G2",0.9,null,1.38,140,0.6,85,90,4000,3517,"Typ (3517)",35.5,"Typ (35.5)",4.99E-2,-0.28989999999999999,1.3391,-6.7999999999999996E-3,0,0,-1.3582393859438713E-3,2.3099999999999999E-2,-7.7399999999999997E-2,0.1895,0.87529999999999997,0,0,-1.4350000000000069E-2]
[null,null,null,null,null,null,null,null,null,null,null,null,null,null,null,null,null,null,null,null,null,null,null,null,null,null,null,null,null,null,null,null,null,null,null,null,null,null,null,null,null,null,null,null,null,null,null,null,null,null,null,null,null,null,null,null,null,null,null,null,null,null,null,null,null,null,null,null,null,null,null,null,null,null,null,null,null,null,null,null,null,null,null,null,null,null,null,null,null,null,null,null,null,null,null,null,null,null,null,null,null,null,null,null,"COB","COB (Small LES)","LC030C-G2",0.9,null,1.38,140,0.6,85,80,5000,4111,"Typ (4111)",35.5,"Typ (35.5)",4.99E-2,-0.28989999999999999,1.3391,-6.7999999999999996E-3,0,0,-1.3582393859438713E-3,2.3099999999999999E-2,-7.7399999999999997E-2,0.1895,0.87529999999999997,0,0,-1.4350000000000069E-2]
[null,null,null,null,null,null,null,null,null,null,null,null,null,null,null,null,null,null,null,null,null,null,null,null,null,null,null,null,null,null,null,null,null,null,null,null,null,null,null,null,null,null,null,null,null,null,null,null,null,null,null,null,null,null,null,null,null,null,null,null,null,null,null,null,null,null,null,null,null,null,null,null,null,null,null,null,null,null,null,null,null,null,null,null,null,null,null,null,null,null,null,null,null,null,null,null,null,null,null,null,null,null,null,null,"COB","COB (Small LES)","LC040C-G2",1.05,null,1.61,140,0.5,85,90,4000,4022,"Typ (4022)",35.5,"Typ (35.5)",1.1999999999999999E-3,-0.13850000000000001,1.1001000000000001,-3.8E-3,0,0,-1.3582393859438713E-3,1.5800000000000002E-2,-6.3299999999999995E-2,0.1774,0.86519999999999997,0,0,-1.4350000000000069E-2]
[null,null,null,null,null,null,null,null,null,null,null,null,null,null,null,null,null,null,null,null,null,null,null,null,null,null,null,null,null,null,null,null,null,null,null,null,null,null,null,null,null,null,null,null,null,null,null,null,null,null,null,null,null,null,null,null,null,null,null,null,null,null,null,null,null,null,null,null,null,null,null,null,null,null,null,null,null,null,null,null,null,null,null,null,null,null,null,null,null,null,null,null,null,null,null,null,null,null,null,null,null,null,null,null,"COB","COB (D-series)","LC003D_G3",0.09,null,0.23,150,2.4300000000000002,85,80,4000,524,"D3 (524)",33.799999999999997,"Typ (33.8)",3.5249000000000001,-10.987,12.1,-2.5999999999999999E-3,0,0,-1.3873052071455727E-3,18.399000000000001,-6.7397999999999998,1.6099000000000001,0.89624999999999999,0,0,-1.1899999999999977E-2]
[null,null,null,null,null,null,null,null,null,null,null,null,null,null,null,null,null,null,null,null,null,null,null,null,null,null,null,null,null,null,null,null,null,null,null,null,null,null,null,null,null,null,null,null,null,null,null,null,null,null,null,null,null,null,null,null,null,null,null,null,null,null,null,null,null,null,null,null,null,null,null,null,null,null,null,null,null,null,null,null,null,null,null,null,null,null,null,null,null,null,null,null,null,null,null,null,null,null,null,null,null,null,null,null,"COB","COB (D-series)","LC006D_G3",0.18,null,0.46,150,1.41,85,90,3000,851,"D3 (851)",33.799999999999997,"Typ (33.8)",0.44059999999999999,-2.7467000000000001,6.05,-2.5999999999999999E-3,0,0,-1.3873052071455727E-3,2.2999000000000001,-1.6850000000000001,0.80489999999999995,0.89629999999999999,0,0,-1.1899999999999977E-2]
[null,null,null,null,null,null,null,null,null,null,null,null,null,null,null,null,null,null,null,null,null,null,null,null,null,null,null,null,null,null,null,null,null,null,null,null,null,null,null,null,null,null,null,null,null,null,null,null,null,null,null,null,null,null,null,null,null,null,null,null,null,null,null,null,null,null,null,null,null,null,null,null,null,null,null,null,null,null,null,null,null,null,null,null,null,null,null,null,null,null,null,null,null,null,null,null,null,null,null,null,null,null,null,null,"COB","COB (D-series)","LC009D_G3",0.27,null,0.69,150,0.94,85,80,2700,1405,"D3 (1405)",33.799999999999997,"Typ (33.8)",0.13059999999999999,-1.2208000000000001,4.0332999999999997,-2.5999999999999999E-3,0,0,-1.3873052071455727E-3,0.68149999999999999,-0.74890000000000001,0.53659999999999997,0.89629999999999999,0,0,-1.1899999999999977E-2]
[null,null,null,null,null,null,null,null,null,null,null,null,null,null,null,null,null,null,null,null,null,null,null,null,null,null,null,null,null,null,null,null,null,null,null,null,null,null,null,null,null,null,null,null,null,null,null,null,null,null,null,null,null,null,null,null,null,null,null,null,null,null,null,null,null,null,null,null,null,null,null,null,null,null,null,null,null,null,null,null,null,null,null,null,null,null,null,null,null,null,null,null,null,null,null,null,null,null,null,null,null,null,null,null,"COB","COB (D-series)","LC009D_G3",0.27,null,0.69,150,0.94,85,80,5000,1563,"D3 (1563)",33.799999999999997,"Typ (33.8)",0.13059999999999999,-1.2208000000000001,4.0332999999999997,-2.5999999999999999E-3,0,0,-1.3873052071455727E-3,0.68149999999999999,-0.74890000000000001,0.53659999999999997,0.89629999999999999,0,0,-1.1899999999999977E-2]
[null,null,null,null,null,null,null,null,null,null,null,null,null,null,null,null,null,null,null,null,null,null,null,null,null,null,null,null,null,null,null,null,null,null,null,null,null,null,null,null,null,null,null,null,null,null,null,null,null,null,null,null,null,null,null,null,null,null,null,null,null,null,null,null,null,null,null,null,null,null,null,null,null,null,null,null,null,null,null,null,null,null,null,null,null,null,null,null,null,null,null,null,null,null,null,null,null,null,null,null,null,null,null,null,"COB","COB (D-series)","LC013D_G3",0.36,null,0.92,150,0.81,85,90,3000,1661,"D3 (1661)",33.799999999999997,"Typ (33.8)",5.5100000000000003E-2,-0.68669999999999998,3.0249999999999999,-2.5999999999999999E-3,0,0,-1.3873052071455727E-3,0.28749999999999998,-0.42120000000000002,0.40250000000000002,0.89629999999999999,0,0,-1.1899999999999977E-2]
[null,null,null,null,null,null,null,null,null,null,null,null,null,null,null,null,null,null,null,null,null,null,null,null,null,null,null,null,null,null,null,null,null,null,null,null,null,null,null,null,null,null,null,null,null,null,null,null,null,null,null,null,null,null,null,null,null,null,null,null,null,null,null,null,null,null,null,null,null,null,null,null,null,null,null,null,null,null,null,null,null,null,null,null,null,null,null,null,null,null,null,null,null,null,null,null,null,null,null,null,null,null,null,null,"COB","COB (D-series)","LC013D_G3",0.36,null,0.92,150,0.81,85,80,5700,2053,"D3 (2053)",33.799999999999997,"Typ (33.8)",5.5100000000000003E-2,-0.68669999999999998,3.0249999999999999,-2.5999999999999999E-3,0,0,-1.3873052071455727E-3,0.28749999999999998,-0.42120000000000002,0.40250000000000002,0.89629999999999999,0,0,-1.1899999999999977E-2]
[null,null,null,null,null,null,null,null,null,null,null,null,null,null,null,null,null,null,null,null,null,null,null,null,null,null,null,null,null,null,null,null,null,null,null,null,null,null,null,null,null,null,null,null,null,null,null,null,null,null,null,null,null,null,null,null,null,null,null,null,null,null,null,null,null,null,null,null,null,null,null,null,null,null,null,null,null,null,null,null,null,null,null,null,null,null,null,null,null,null,null,null,null,null,null,null,null,null,null,null,null,null,null,null,"COB","COB (D-series)","LC013D_G3",0.36,null,0.92,150,0.81,85,80,6500,2036,"D3 (2036)",33.799999999999997,"Typ (33.8)",5.5100000000000003E-2,-0.68669999999999998,3.0249999999999999,-2.5999999999999999E-3,0,0,-1.3873052071455727E-3,0.28749999999999998,-0.42120000000000002,0.40250000000000002,0.89629999999999999,0,0,-1.1899999999999977E-2]
[null,null,null,null,null,null,null,null,null,null,null,null,null,null,null,null,null,null,null,null,null,null,null,null,null,null,null,null,null,null,null,null,null,null,null,null,null,null,null,null,null,null,null,null,null,null,null,null,null,null,null,null,null,null,null,null,null,null,null,null,null,null,null,null,null,null,null,null,null,null,null,null,null,null,null,null,null,null,null,null,null,null,null,null,null,null,null,null,null,null,null,null,null,null,null,null,null,null,null,null,null,null,null,null,"COB","COB (D-series)","LC016D_G3",0.45,null,1.1499999999999999,150,0.64,85,80,4000,2622,"D3 (2622)",33.799999999999997,"Typ (33.8)",2.8199999999999999E-2,-0.4395,2.42,-2.5999999999999999E-3,0,0,-1.3873052071455727E-3,0.1472,-0.26960000000000001,0.32200000000000001,0.89629999999999999,0,0,-1.1899999999999977E-2]
[null,null,null,null,null,null,null,null,null,null,null,null,null,null,null,null,null,null,null,null,null,null,null,null,null,null,null,null,null,null,null,null,null,null,null,null,null,null,null,null,null,null,null,null,null,null,null,null,null,null,null,null,null,null,null,null,null,null,null,null,null,null,null,null,null,null,null,null,null,null,null,null,null,null,null,null,null,null,null,null,null,null,null,null,null,null,null,null,null,null,null,null,null,null,null,null,null,null,null,null,null,null,null,null,"COB","COB (D-series)","LC019D_G3",0.54,null,1.38,150,0.56999999999999995,85,70,3000,3220,"D3 (3220)",33.799999999999997,"Typ (33.8)",1.6299999999999999E-2,-0.30520000000000003,2.0167000000000002,-2.5999999999999999E-3,0,0,-1.3873052071455727E-3,8.5199999999999998E-2,-0.18720000000000001,0.26829999999999998,0.89629999999999999,0,0,-1.1899999999999977E-2]
[null,null,null,null,null,null,null,null,null,null,null,null,null,null,null,null,null,null,null,null,null,null,null,null,null,null,null,null,null,null,null,null,null,null,null,null,null,null,null,null,null,null,null,null,null,null,null,null,null,null,null,null,null,null,null,null,null,null,null,null,null,null,null,null,null,null,null,null,null,null,null,null,null,null,null,null,null,null,null,null,null,null,null,null,null,null,null,null,null,null,null,null,null,null,null,null,null,null,null,null,null,null,null,null,"COB","COB (D-series)","LC019D_G3",0.54,null,1.38,150,0.56999999999999995,85,80,5000,3157,"D3 (3157)",33.799999999999997,"Typ (33.8)",1.6299999999999999E-2,-0.30520000000000003,2.0167000000000002,-2.5999999999999999E-3,0,0,-1.3873052071455727E-3,8.5199999999999998E-2,-0.18720000000000001,0.26829999999999998,0.89629999999999999,0,0,-1.1899999999999977E-2]
[null,null,null,null,null,null,null,null,null,null,null,null,null,null,null,null,null,null,null,null,null,null,null,null,null,null,null,null,null,null,null,null,null,null,null,null,null,null,null,null,null,null,null,null,null,null,null,null,null,null,null,null,null,null,null,null,null,null,null,null,null,null,null,null,null,null,null,null,null,null,null,null,null,null,null,null,null,null,null,null,null,null,null,null,null,null,null,null,null,null,null,null,null,null,null,null,null,null,null,null,null,null,null,null,"COB","COB (D-series)","LC026D_G3",0.72,null,1.84,150,0.45,85,90,2700,3190,"D3 (3190)",33.799999999999997,"Typ (33.8)",6.8999999999999999E-3,-0.17169999999999999,1.5125,-2.5999999999999999E-3,0,0,-1.3873052071455727E-3,3.5900000000000001E-2,-0.1053,0.20119999999999999,0.89629999999999999,0,0,-1.1899999999999977E-2]
[null,null,null,null,null,null,null,null,null,null,null,null,null,null,null,null,null,null,null,null,null,null,null,null,null,null,null,null,null,null,null,null,null,null,null,null,null,null,null,null,null,null,null,null,null,null,null,null,null,null,null,null,null,null,null,null,null,null,null,null,null,null,null,null,null,null,null,null,null,null,null,null,null,null,null,null,null,null,null,null,null,null,null,null,null,null,null,null,null,null,null,null,null,null,null,null,null,null,null,null,null,null,null,null,"COB","COB (D-series)","LC033D_G3",0.9,null,2.2999999999999998,150,0.38,85,80,2700,4612,"D3 (4612)",33.799999999999997,"Typ (33.8)",3.5000000000000001E-3,-0.1099,1.21,-2.5999999999999999E-3,0,0,-1.3873052071455727E-3,1.84E-2,-6.7400000000000002E-2,0.161,0.89629999999999999,0,0,-1.1899999999999977E-2]
[null,null,null,null,null,null,null,null,null,null,null,null,null,null,null,null,null,null,null,null,null,null,null,null,null,null,null,null,null,null,null,null,null,null,null,null,null,null,null,null,null,null,null,null,null,null,null,null,null,null,null,null,null,null,null,null,null,null,null,null,null,null,null,null,null,null,null,null,null,null,null,null,null,null,null,null,null,null,null,null,null,null,null,null,null,null,null,null,null,null,null,null,null,null,null,null,null,null,null,null,null,null,null,null,"COB","COB (D-series)","LC033D_G3",0.9,null,2.2999999999999998,150,0.38,85,90,4000,4364,"D3 (4364)",33.799999999999997,"Typ (33.8)",3.5000000000000001E-3,-0.1099,1.21,-2.5999999999999999E-3,0,0,-1.3873052071455727E-3,1.84E-2,-6.7400000000000002E-2,0.161,0.89629999999999999,0,0,-1.1899999999999977E-2]
[null,null,null,null,null,null,null,null,null,null,null,null,null,null,null,null,null,null,null,null,null,null,null,null,null,null,null,null,null,null,null,null,null,null,null,null,null,null,null,null,null,null,null,null,null,null,null,null,null,null,null,null,null,null,null,null,null,null,null,null,null,null,null,null,null,null,null,null,null,null,null,null,null,null,null,null,null,null,null,null,null,null,null,null,null,null,null,null,null,null,null,null,null,null,null,null,null,null,null,null,null,null,null,null,"COB","COB (D-series)","LC040D_G3",1.08,null,2.76,150,0.3,85,80,3000,5963,"D3 (5963)",33.799999999999997,"Typ (33.8)",2E-3,-7.6300000000000007E-2,1.0083,-2.5000000000000001E-3,0,0,-1.3873052071455727E-3,1.06E-2,-4.6800000000000001E-2,0.13420000000000001,0.89629999999999999,0,0,-1.1899999999999977E-2]
[null,null,null,null,null,null,null,null,null,null,null,null,null,null,null,null,null,null,null,null,null,null,null,null,null,null,null,null,null,null,null,null,null,null,null,null,null,null,null,null,null,null,null,null,null,null,null,null,null,null,null,null,null,null,null,null,null,null,null,null,null,null,null,null,null,null,null,null,null,null,null,null,null,null,null,null,null,null,null,null,null,null,null,null,null,null,null,null,null,null,null,null,null,null,null,null,null,null,null,null,null,null,null,null,"COB","COB (D-series)","LC040D_G3",1.08,null,2.76,150,0.3,85,90,3000,5108,"D3 (5108)",33.799999999999997,"Typ (33.8)",2E-3,-7.6300000000000007E-2,1.0083,-2.5000000000000001E-3,0,0,-1.3873052071455727E-3,1.06E-2,-4.6800000000000001E-2,0.13420000000000001,0.89629999999999999,0,0,-1.1899999999999977E-2]
[null,null,null,null,null,null,null,null,null,null,null,null,null,null,null,null,null,null,null,null,null,null,null,null,null,null,null,null,null,null,null,null,null,null,null,null,null,null,null,null,null,null,null,null,null,null,null,null,null,null,null,null,null,null,null,null,null,null,null,null,null,null,null,null,null,null,null,null,null,null,null,null,null,null,null,null,null,null,null,null,null,null,null,null,null,null,null,null,null,null,null,null,null,null,null,null,null,null,null,null,null,null,null,null,"COB","COB (D-series)","LC040D_G3",1.08,null,2.76,150,0.3,85,80,5700,6313,"D3 (6313)",33.799999999999997,"Typ (33.8)",2E-3,-7.6300000000000007E-2,1.0083,-2.5000000000000001E-3,0,0,-1.3873052071455727E-3,1.06E-2,-4.6800000000000001E-2,0.13420000000000001,0.89629999999999999,0,0,-1.1899999999999977E-2]
[null,null,null,null,null,null,null,null,null,null,null,null,null,null,null,null,null,null,null,null,null,null,null,null,null,null,null,null,null,null,null,null,null,null,null,null,null,null,null,null,null,null,null,null,null,null,null,null,null,null,null,null,null,null,null,null,null,null,null,null,null,null,null,null,null,null,null,null,null,null,null,null,null,null,null,null,null,null,null,null,null,null,null,null,null,null,null,null,null,null,null,null,null,null,null,null,null,null,null,null,null,null,null,null,"COB","COB (D-series)","LC060D_G3",1.08,null,2.76,150,0.23,85,70,4000,9694,"D3 (9694)",50.699999999999996,"Typ (50.7)",2E-3,-7.6300000000000007E-2,1.0083,-2.5000000000000001E-3,0,0,-1.3873052071455727E-3,1.06E-2,-4.6800000000000001E-2,0.13420000000000001,0.89629999999999999,0,0,-1.1899999999999977E-2]
[null,null,null,null,null,null,null,null,null,null,null,null,null,null,null,null,null,null,null,null,null,null,null,null,null,null,null,null,null,null,null,null,null,null,null,null,null,null,null,null,null,null,null,null,null,null,null,null,null,null,null,null,null,null,null,null,null,null,null,null,null,null,null,null,null,null,null,null,null,null,null,null,null,null,null,null,null,null,null,null,null,null,null,null,null,null,null,null,null,null,null,null,null,null,null,null,null,null,null,null,null,null,null,null,"COB","COB (D-series)","LC080D_G3",1.62,null,4.1399999999999997,150,0.15,85,90,3000,11195,"D3 (10826)",50.699999999999996,"Typ (50.7)",5.9999999999999995E-4,-3.39E-2,0.67220000000000002,-2.5999999999999999E-3,0,0,-1.3873052071455727E-3,3.2000000000000002E-3,-2.0799999999999999E-2,8.9399999999999993E-2,0.8962,0,0,-1.1899999999999977E-2]
[null,null,null,null,null,null,null,null,null,null,null,null,null,null,null,null,null,null,null,null,null,null,null,null,null,null,null,null,null,null,null,null,null,null,null,null,null,null,null,null,null,null,null,null,null,null,null,null,null,null,null,null,null,null,null,null,null,null,null,null,null,null,null,null,null,null,null,null,null,null,null,null,null,null,null,null,null,null,null,null,null,null,null,null,null,null,null,null,null,null,null,null,null,null,null,null,null,null,null,null,null,null,null,null,"COB","COB (D-series)","LC080D_G3",1.62,null,4.1399999999999997,150,0.15,85,80,5000,13836,"D3 (13695)",50.699999999999996,"Typ (50.7)",5.9999999999999995E-4,-3.39E-2,0.67220000000000002,-2.5999999999999999E-3,0,0,-1.3873052071455727E-3,3.2000000000000002E-3,-2.0799999999999999E-2,8.9399999999999993E-2,0.8962,0,0,-1.1899999999999977E-2]
[null,null,null,null,null,null,null,null,null,null,null,null,null,null,null,null,null,null,null,null,null,null,null,null,null,null,null,null,null,null,null,null,null,null,null,null,null,null,null,null,null,null,null,null,null,null,null,null,null,null,null,null,null,null,null,null,null,null,null,null,null,null,null,null,null,null,null,null,null,null,null,null,null,null,null,null,null,null,null,null,null,null,null,null,null,null,null,null,null,null,null,null,null,null,null,null,null,null,null,null,null,null,null,null,"COB","COB (D-Premium)","LC013D_PC",0.36,null,0.92,130,1.27,85,95,3000,1285,"Typ (1285)",34.6,"Typ (34.6)",0,-1.0495000000000001,3.1581999999999999,-9.5E-4,0,0,-1.833333333333335E-3,0,-0.153,0.35449999999999998,0.89219999999999999,0,0,-1.3333333333333286E-2]
[null,null,null,null,null,null,null,null,null,null,null,null,null,null,null,null,null,null,null,null,null,null,null,null,null,null,null,null,null,null,null,null,null,null,null,null,null,null,null,null,null,null,null,null,null,null,null,null,null,null,null,null,null,null,null,null,null,null,null,null,null,null,null,null,null,null,null,null,null,null,null,null,null,null,null,null,null,null,null,null,null,null,null,null,null,null,null,null,null,null,null,null,null,null,null,null,null,null,null,null,null,null,null,null,"COB","COB (D-Premium)","LC013D_PC",0.36,null,0.92,130,1.27,85,95,4000,1310,"Min (1310)",34.6,"Typ (34.6)",0,-1.0495000000000001,3.1581999999999999,-9.5E-4,0,0,-1.833333333333335E-3,0,-0.153,0.35449999999999998,0.89219999999999999,0,0,-1.3333333333333286E-2]
[null,null,null,null,null,null,null,null,null,null,null,null,null,null,null,null,null,null,null,null,null,null,null,null,null,null,null,null,null,null,null,null,null,null,null,null,null,null,null,null,null,null,null,null,null,null,null,null,null,null,null,null,null,null,null,null,null,null,null,null,null,null,null,null,null,null,null,null,null,null,null,null,null,null,null,null,null,null,null,null,null,null,null,null,null,null,null,null,null,null,null,null,null,null,null,null,null,null,null,null,null,null,null,null,"COB","COB (D-Premium)","LC016D_PC",0.45,null,1.1499999999999999,130,1.01,85,"Vivid",3300,1823,"Typ (1823)",34.6,"Typ (34.6)",0,-0.45760000000000001,2.4195000000000002,3.8899999999999998E-3,0,0,-1.6666666666666681E-3,0,-6.0499999999999998E-2,0.23769999999999999,0.90525,0,0,-1.1666666666666714E-2]
[null,null,null,null,null,null,null,null,null,null,null,null,null,null,null,null,null,null,null,null,null,null,null,null,null,null,null,null,null,null,null,null,null,null,null,null,null,null,null,null,null,null,null,null,null,null,null,null,null,null,null,null,null,null,null,null,null,null,null,null,null,null,null,null,null,null,null,null,null,null,null,null,null,null,null,null,null,null,null,null,null,null,null,null,null,null,null,null,null,null,null,null,null,null,null,null,null,null,null,null,null,null,null,null,"COB","COB (D-Premium)","LC016D_PC",0.45,null,1.1499999999999999,130,1.01,85,"Vivid",3500,1744,"Min (1744)",34.6,"Typ (34.6)",0,-0.45760000000000001,2.4195000000000002,3.8899999999999998E-3,0,0,-1.6666666666666681E-3,0,-6.0499999999999998E-2,0.23769999999999999,0.90525,0,0,-1.1666666666666714E-2]
[null,null,null,null,null,null,null,null,null,null,null,null,null,null,null,null,null,null,null,null,null,null,null,null,null,null,null,null,null,null,null,null,null,null,null,null,null,null,null,null,null,null,null,null,null,null,null,null,null,null,null,null,null,null,null,null,null,null,null,null,null,null,null,null,null,null,null,null,null,null,null,null,null,null,null,null,null,null,null,null,null,null,null,null,null,null,null,null,null,null,null,null,null,null,null,null,null,null,null,null,null,null,null,null,"COB","COB (D-Premium)","LC019D_PC",0.54,null,1.38,130,0.9,85,95,2700,1880,"Typ (1880)",34.6,"Typ (34.6)",0,-0.33600000000000002,2.0110000000000001,1.2E-2,0,0,-1.833333333333335E-3,0,-3.2500000000000001E-2,0.19109999999999999,0.90627000000000002,0,0,-1.1666666666666714E-2]
[null,null,null,null,null,null,null,null,null,null,null,null,null,null,null,null,null,null,null,null,null,null,null,null,null,null,null,null,null,null,null,null,null,null,null,null,null,null,null,null,null,null,null,null,null,null,null,null,null,null,null,null,null,null,null,null,null,null,null,null,null,null,null,null,null,null,null,null,null,null,null,null,null,null,null,null,null,null,null,null,null,null,null,null,null,null,null,null,null,null,null,null,null,null,null,null,null,null,null,null,null,null,null,null,"COB","COB (D-Premium)","LC019D_PC",0.54,null,1.38,130,0.9,85,95,3500,2056,"Typ (2056)",34.6,"Typ (34.6)",0,-0.33600000000000002,2.0110000000000001,1.2E-2,0,0,-1.833333333333335E-3,0,-3.2500000000000001E-2,0.19109999999999999,0.90627000000000002,0,0,-1.1666666666666714E-2]
[null,null,null,null,null,null,null,null,null,null,null,null,null,null,null,null,null,null,null,null,null,null,null,null,null,null,null,null,null,null,null,null,null,null,null,null,null,null,null,null,null,null,null,null,null,null,null,null,null,null,null,null,null,null,null,null,null,null,null,null,null,null,null,null,null,null,null,null,null,null,null,null,null,null,null,null,null,null,null,null,null,null,null,null,null,null,null,null,null,null,null,null,null,null,null,null,null,null,null,null,null,null,null,null,"COB","COB (D-Premium)","LC026D_PC",0.72,null,1.84,130,0.71,85,95,2700,2470,"Typ (2470)",34.6,"Typ (34.6)",0,-0.1991,1.5282,2.9099999999999998E-3,0,0,-1.6666666666666681E-3,0,-2.1299999999999999E-2,0.1421,0.90873000000000004,0,0,-1.1666666666666714E-2]
[null,null,null,null,null,null,null,null,null,null,null,null,null,null,null,null,null,null,null,null,null,null,null,null,null,null,null,null,null,null,null,null,null,null,null,null,null,null,null,null,null,null,null,null,null,null,null,null,null,null,null,null,null,null,null,null,null,null,null,null,null,null,null,null,null,null,null,null,null,null,null,null,null,null,null,null,null,null,null,null,null,null,null,null,null,null,null,null,null,null,null,null,null,null,null,null,null,null,null,null,null,null,null,null,"COB","COB (D-Premium)","LC026D_PC",0.72,null,1.84,130,0.71,85,"Vivid",3000,2516,"Min (2516)",34.6,"Typ (34.6)",0,-0.1991,1.5282,2.9099999999999998E-3,0,0,-1.6666666666666681E-3,0,-2.1299999999999999E-2,0.1421,0.90873000000000004,0,0,-1.1666666666666714E-2]
[null,null,null,null,null,null,null,null,null,null,null,null,null,null,null,null,null,null,null,null,null,null,null,null,null,null,null,null,null,null,null,null,null,null,null,null,null,null,null,null,null,null,null,null,null,null,null,null,null,null,null,null,null,null,null,null,null,null,null,null,null,null,null,null,null,null,null,null,null,null,null,null,null,null,null,null,null,null,null,null,null,null,null,null,null,null,null,null,null,null,null,null,null,null,null,null,null,null,null,null,null,null,null,null,"COB","COB (D-Premium)","LC026D_PC",0.72,null,1.84,130,0.71,85,"Vivid",3000,2706,"Typ (2706)",34.6,"Typ (34.6)",0,-0.1991,1.5282,2.9099999999999998E-3,0,0,-1.6666666666666681E-3,0,-2.1299999999999999E-2,0.1421,0.90873000000000004,0,0,-1.1666666666666714E-2]
[null,null,null,null,null,null,null,null,null,null,null,null,null,null,null,null,null,null,null,null,null,null,null,null,null,null,null,null,null,null,null,null,null,null,null,null,null,null,null,null,null,null,null,null,null,null,null,null,null,null,null,null,null,null,null,null,null,null,null,null,null,null,null,null,null,null,null,null,null,null,null,null,null,null,null,null,null,null,null,null,null,null,null,null,null,null,null,null,null,null,null,null,null,null,null,null,null,null,null,null,null,null,null,null,"COB","COB (D-Premium)","LC026D_PC",0.72,null,1.84,130,0.71,85,95,3000,2466,"Min (2466)",34.6,"Typ (34.6)",0,-0.1991,1.5282,2.9099999999999998E-3,0,0,-1.6666666666666681E-3,0,-2.1299999999999999E-2,0.1421,0.90873000000000004,0,0,-1.1666666666666714E-2]
[null,null,null,null,null,null,null,null,null,null,null,null,null,null,null,null,null,null,null,null,null,null,null,null,null,null,null,null,null,null,null,null,null,null,null,null,null,null,null,null,null,null,null,null,null,null,null,null,null,null,null,null,null,null,null,null,null,null,null,null,null,null,null,null,null,null,null,null,null,null,null,null,null,null,null,null,null,null,null,null,null,null,null,null,null,null,null,null,null,null,null,null,null,null,null,null,null,null,null,null,null,null,null,null,"COB","COB (D-Premium)","LC026D_PC",0.72,null,1.84,130,0.71,85,95,3000,2596,"Typ (2596)",34.6,"Typ (34.6)",0,-0.1991,1.5282,2.9099999999999998E-3,0,0,-1.6666666666666681E-3,0,-2.1299999999999999E-2,0.1421,0.90873000000000004,0,0,-1.1666666666666714E-2]
[null,null,null,null,null,null,null,null,null,null,null,null,null,null,null,null,null,null,null,null,null,null,null,null,null,null,null,null,null,null,null,null,null,null,null,null,null,null,null,null,null,null,null,null,null,null,null,null,null,null,null,null,null,null,null,null,null,null,null,null,null,null,null,null,null,null,null,null,null,null,null,null,null,null,null,null,null,null,null,null,null,null,null,null,null,null,null,null,null,null,null,null,null,null,null,null,null,null,null,null,null,null,null,null,"COB","COB (D-Premium)","LC026D_PC",0.72,null,1.84,130,0.71,85,"Vivid",3300,2629,"Min (2629)",34.6,"Typ (34.6)",0,-0.1991,1.5282,2.9099999999999998E-3,0,0,-1.6666666666666681E-3,0,-2.1299999999999999E-2,0.1421,0.90873000000000004,0,0,-1.1666666666666714E-2]
[null,null,null,null,null,null,null,null,null,null,null,null,null,null,null,null,null,null,null,null,null,null,null,null,null,null,null,null,null,null,null,null,null,null,null,null,null,null,null,null,null,null,null,null,null,null,null,null,null,null,null,null,null,null,null,null,null,null,null,null,null,null,null,null,null,null,null,null,null,null,null,null,null,null,null,null,null,null,null,null,null,null,null,null,null,null,null,null,null,null,null,null,null,null,null,null,null,null,null,null,null,null,null,null,"COB","COB (D-Premium)","LC026D_PC",0.72,null,1.84,130,0.71,85,"Vivid",3300,2827,"Typ (2827)",34.6,"Typ (34.6)",0,-0.1991,1.5282,2.9099999999999998E-3,0,0,-1.6666666666666681E-3,0,-2.1299999999999999E-2,0.1421,0.90873000000000004,0,0,-1.1666666666666714E-2]
[null,null,null,null,null,null,null,null,null,null,null,null,null,null,null,null,null,null,null,null,null,null,null,null,null,null,null,null,null,null,null,null,null,null,null,null,null,null,null,null,null,null,null,null,null,null,null,null,null,null,null,null,null,null,null,null,null,null,null,null,null,null,null,null,null,null,null,null,null,null,null,null,null,null,null,null,null,null,null,null,null,null,null,null,null,null,null,null,null,null,null,null,null,null,null,null,null,null,null,null,null,null,null,null,"COB","COB (D-Premium)","LC026D_PC",0.72,null,1.84,130,0.71,85,"Vivid",3500,2704,"Min (2704)",34.6,"Typ (34.6)",0,-0.1991,1.5282,2.9099999999999998E-3,0,0,-1.6666666666666681E-3,0,-2.1299999999999999E-2,0.1421,0.90873000000000004,0,0,-1.1666666666666714E-2]
[null,null,null,null,null,null,null,null,null,null,null,null,null,null,null,null,null,null,null,null,null,null,null,null,null,null,null,null,null,null,null,null,null,null,null,null,null,null,null,null,null,null,null,null,null,null,null,null,null,null,null,null,null,null,null,null,null,null,null,null,null,null,null,null,null,null,null,null,null,null,null,null,null,null,null,null,null,null,null,null,null,null,null,null,null,null,null,null,null,null,null,null,null,null,null,null,null,null,null,null,null,null,null,null,"COB","COB (D-Premium)","LC026D_PC",0.72,null,1.84,130,0.71,85,"Vivid",3500,2907,"Typ (2907)",34.6,"Typ (34.6)",0,-0.1991,1.5282,2.9099999999999998E-3,0,0,-1.6666666666666681E-3,0,-2.1299999999999999E-2,0.1421,0.90873000000000004,0,0,-1.1666666666666714E-2]
[null,null,null,null,null,null,null,null,null,null,null,null,null,null,null,null,null,null,null,null,null,null,null,null,null,null,null,null,null,null,null,null,null,null,null,null,null,null,null,null,null,null,null,null,null,null,null,null,null,null,null,null,null,null,null,null,null,null,null,null,null,null,null,null,null,null,null,null,null,null,null,null,null,null,null,null,null,null,null,null,null,null,null,null,null,null,null,null,null,null,null,null,null,null,null,null,null,null,null,null,null,null,null,null,"COB","COB (D-Premium)","LC026D_PC",0.72,null,1.84,130,0.71,85,95,3500,2566,"Min (2566)",34.6,"Typ (34.6)",0,-0.1991,1.5282,2.9099999999999998E-3,0,0,-1.6666666666666681E-3,0,-2.1299999999999999E-2,0.1421,0.90873000000000004,0,0,-1.1666666666666714E-2]
[null,null,null,null,null,null,null,null,null,null,null,null,null,null,null,null,null,null,null,null,null,null,null,null,null,null,null,null,null,null,null,null,null,null,null,null,null,null,null,null,null,null,null,null,null,null,null,null,null,null,null,null,null,null,null,null,null,null,null,null,null,null,null,null,null,null,null,null,null,null,null,null,null,null,null,null,null,null,null,null,null,null,null,null,null,null,null,null,null,null,null,null,null,null,null,null,null,null,null,null,null,null,null,null,"COB","COB (D-Premium)","LC026D_PC",0.72,null,1.84,130,0.71,85,95,3500,2701,"Typ (2701)",34.6,"Typ (34.6)",0,-0.1991,1.5282,2.9099999999999998E-3,0,0,-1.6666666666666681E-3,0,-2.1299999999999999E-2,0.1421,0.90873000000000004,0,0,-1.1666666666666714E-2]
[null,null,null,null,null,null,null,null,null,null,null,null,null,null,null,null,null,null,null,null,null,null,null,null,null,null,null,null,null,null,null,null,null,null,null,null,null,null,null,null,null,null,null,null,null,null,null,null,null,null,null,null,null,null,null,null,null,null,null,null,null,null,null,null,null,null,null,null,null,null,null,null,null,null,null,null,null,null,null,null,null,null,null,null,null,null,null,null,null,null,null,null,null,null,null,null,null,null,null,null,null,null,null,null,"COB","COB (D-Premium)","LC026D_PC",0.72,null,1.84,130,0.71,85,"Vivid",4000,2891,"Min (2891)",34.6,"Typ (34.6)",0,-0.1991,1.5282,2.9099999999999998E-3,0,0,-1.6666666666666681E-3,0,-2.1299999999999999E-2,0.1421,0.90873000000000004,0,0,-1.1666666666666714E-2]
[null,null,null,null,null,null,null,null,null,null,null,null,null,null,null,null,null,null,null,null,null,null,null,null,null,null,null,null,null,null,null,null,null,null,null,null,null,null,null,null,null,null,null,null,null,null,null,null,null,null,null,null,null,null,null,null,null,null,null,null,null,null,null,null,null,null,null,null,null,null,null,null,null,null,null,null,null,null,null,null,null,null,null,null,null,null,null,null,null,null,null,null,null,null,null,null,null,null,null,null,null,null,null,null,"COB","COB (D-Premium)","LC026D_PC",0.72,null,1.84,130,0.71,85,"Vivid",4000,3108,"Typ (3108)",34.6,"Typ (34.6)",0,-0.1991,1.5282,2.9099999999999998E-3,0,0,-1.6666666666666681E-3,0,-2.1299999999999999E-2,0.1421,0.90873000000000004,0,0,-1.1666666666666714E-2]
[null,null,null,null,null,null,null,null,null,null,null,null,null,null,null,null,null,null,null,null,null,null,null,null,null,null,null,null,null,null,null,null,null,null,null,null,null,null,null,null,null,null,null,null,null,null,null,null,null,null,null,null,null,null,null,null,null,null,null,null,null,null,null,null,null,null,null,null,null,null,null,null,null,null,null,null,null,null,null,null,null,null,null,null,null,null,null,null,null,null,null,null,null,null,null,null,null,null,null,null,null,null,null,null,"COB","COB (D-Premium)","LC026D_PC",0.72,null,1.84,130,0.71,85,95,4000,2646,"Min (2646)",34.6,"Typ (34.6)",0,-0.1991,1.5282,2.9099999999999998E-3,0,0,-1.6666666666666681E-3,0,-2.1299999999999999E-2,0.1421,0.90873000000000004,0,0,-1.1666666666666714E-2]
[null,null,null,null,null,null,null,null,null,null,null,null,null,null,null,null,null,null,null,null,null,null,null,null,null,null,null,null,null,null,null,null,null,null,null,null,null,null,null,null,null,null,null,null,null,null,null,null,null,null,null,null,null,null,null,null,null,null,null,null,null,null,null,null,null,null,null,null,null,null,null,null,null,null,null,null,null,null,null,null,null,null,null,null,null,null,null,null,null,null,null,null,null,null,null,null,null,null,null,null,null,null,null,null,"COB","COB (D-Premium)","LC026D_PC",0.72,null,1.84,130,0.71,85,95,4000,2786,"Typ (2786)",34.6,"Typ (34.6)",0,-0.1991,1.5282,2.9099999999999998E-3,0,0,-1.6666666666666681E-3,0,-2.1299999999999999E-2,0.1421,0.90873000000000004,0,0,-1.1666666666666714E-2]
[null,null,null,null,null,null,null,null,null,null,null,null,null,null,null,null,null,null,null,null,null,null,null,null,null,null,null,null,null,null,null,null,null,null,null,null,null,null,null,null,null,null,null,null,null,null,null,null,null,null,null,null,null,null,null,null,null,null,null,null,null,null,null,null,null,null,null,null,null,null,null,null,null,null,null,null,null,null,null,null,null,null,null,null,null,null,null,null,null,null,null,null,null,null,null,null,null,null,null,null,null,null,null,null,"COB","COB (D-Premium)","LC033D_PC",0.9,null,2.2999999999999998,130,0.6,85,95,2700,2904,"Min (2904)",34.6,"Typ (34.6)",-4.0000000000000002E-4,-0.16209999999999999,1.2544,2.5999999999999999E-3,0,0,-1.3894999266754675E-3,-4.0000000000000003E-5,-2.0899999999999998E-2,0.13950000000000001,0.89139999999999997,0,0,-1.3399999999999891E-2]
[null,null,null,null,null,null,null,null,null,null,null,null,null,null,null,null,null,null,null,null,null,null,null,null,null,null,null,null,null,null,null,null,null,null,null,null,null,null,null,null,null,null,null,null,null,null,null,null,null,null,null,null,null,null,null,null,null,null,null,null,null,null,null,null,null,null,null,null,null,null,null,null,null,null,null,null,null,null,null,null,null,null,null,null,null,null,null,null,null,null,null,null,null,null,null,null,null,null,null,null,null,null,null,null,"COB","COB (D-Premium)","LC033D_PC",0.9,null,2.2999999999999998,130,0.6,85,95,2700,3057,"Typ (3057)",34.6,"Typ (34.6)",-4.0000000000000002E-4,-0.16209999999999999,1.2544,2.5999999999999999E-3,0,0,-1.3894999266754675E-3,-4.0000000000000003E-5,-2.0899999999999998E-2,0.13950000000000001,0.89139999999999997,0,0,-1.3399999999999891E-2]
[null,null,null,null,null,null,null,null,null,null,null,null,null,null,null,null,null,null,null,null,null,null,null,null,null,null,null,null,null,null,null,null,null,null,null,null,null,null,null,null,null,null,null,null,null,null,null,null,null,null,null,null,null,null,null,null,null,null,null,null,null,null,null,null,null,null,null,null,null,null,null,null,null,null,null,null,null,null,null,null,null,null,null,null,null,null,null,null,null,null,null,null,null,null,null,null,null,null,null,null,null,null,null,null,"COB","COB (D-Premium)","LC033D_PC",0.9,null,2.2999999999999998,130,0.6,85,"Vivid",3000,3105,"Min (3105)",34.6,"Typ (34.6)",-4.0000000000000002E-4,-0.16209999999999999,1.2544,2.5999999999999999E-3,0,0,-1.3894999266754675E-3,-4.0000000000000003E-5,-2.0899999999999998E-2,0.13950000000000001,0.89139999999999997,0,0,-1.3399999999999891E-2]
[null,null,null,null,null,null,null,null,null,null,null,null,null,null,null,null,null,null,null,null,null,null,null,null,null,null,null,null,null,null,null,null,null,null,null,null,null,null,null,null,null,null,null,null,null,null,null,null,null,null,null,null,null,null,null,null,null,null,null,null,null,null,null,null,null,null,null,null,null,null,null,null,null,null,null,null,null,null,null,null,null,null,null,null,null,null,null,null,null,null,null,null,null,null,null,null,null,null,null,null,null,null,null,null,"COB","COB (D-Premium)","LC033D_PC",0.9,null,2.2999999999999998,130,0.6,85,"Vivid",3000,3339,"Typ (3339)",34.6,"Typ (34.6)",-4.0000000000000002E-4,-0.16209999999999999,1.2544,2.5999999999999999E-3,0,0,-1.3894999266754675E-3,-4.0000000000000003E-5,-2.0899999999999998E-2,0.13950000000000001,0.89139999999999997,0,0,-1.3399999999999891E-2]
[null,null,null,null,null,null,null,null,null,null,null,null,null,null,null,null,null,null,null,null,null,null,null,null,null,null,null,null,null,null,null,null,null,null,null,null,null,null,null,null,null,null,null,null,null,null,null,null,null,null,null,null,null,null,null,null,null,null,null,null,null,null,null,null,null,null,null,null,null,null,null,null,null,null,null,null,null,null,null,null,null,null,null,null,null,null,null,null,null,null,null,null,null,null,null,null,null,null,null,null,null,null,null,null,"COB","COB (D-Premium)","LC033D_PC",0.9,null,2.2999999999999998,130,0.6,85,95,3000,3051,"Min (3051)",34.6,"Typ (34.6)",-4.0000000000000002E-4,-0.16209999999999999,1.2544,2.5999999999999999E-3,0,0,-1.3894999266754675E-3,-4.0000000000000003E-5,-2.0899999999999998E-2,0.13950000000000001,0.89139999999999997,0,0,-1.3399999999999891E-2]
[null,null,null,null,null,null,null,null,null,null,null,null,null,null,null,null,null,null,null,null,null,null,null,null,null,null,null,null,null,null,null,null,null,null,null,null,null,null,null,null,null,null,null,null,null,null,null,null,null,null,null,null,null,null,null,null,null,null,null,null,null,null,null,null,null,null,null,null,null,null,null,null,null,null,null,null,null,null,null,null,null,null,null,null,null,null,null,null,null,null,null,null,null,null,null,null,null,null,null,null,null,null,null,null,"COB","COB (D-Premium)","LC033D_PC",0.9,null,2.2999999999999998,130,0.6,85,95,3000,3212,"Typ (3212)",34.6,"Typ (34.6)",-4.0000000000000002E-4,-0.16209999999999999,1.2544,2.5999999999999999E-3,0,0,-1.3894999266754675E-3,-4.0000000000000003E-5,-2.0899999999999998E-2,0.13950000000000001,0.89139999999999997,0,0,-1.3399999999999891E-2]
[null,null,null,null,null,null,null,null,null,null,null,null,null,null,null,null,null,null,null,null,null,null,null,null,null,null,null,null,null,null,null,null,null,null,null,null,null,null,null,null,null,null,null,null,null,null,null,null,null,null,null,null,null,null,null,null,null,null,null,null,null,null,null,null,null,null,null,null,null,null,null,null,null,null,null,null,null,null,null,null,null,null,null,null,null,null,null,null,null,null,null,null,null,null,null,null,null,null,null,null,null,null,null,null,"COB","COB (D-Premium)","LC033D_PC",0.9,null,2.2999999999999998,130,0.6,85,"Vivid",3300,3244,"Min (3244)",34.6,"Typ (34.6)",-4.0000000000000002E-4,-0.16209999999999999,1.2544,2.5999999999999999E-3,0,0,-1.3894999266754675E-3,-4.0000000000000003E-5,-2.0899999999999998E-2,0.13950000000000001,0.89139999999999997,0,0,-1.3399999999999891E-2]
[null,null,null,null,null,null,null,null,null,null,null,null,null,null,null,null,null,null,null,null,null,null,null,null,null,null,null,null,null,null,null,null,null,null,null,null,null,null,null,null,null,null,null,null,null,null,null,null,null,null,null,null,null,null,null,null,null,null,null,null,null,null,null,null,null,null,null,null,null,null,null,null,null,null,null,null,null,null,null,null,null,null,null,null,null,null,null,null,null,null,null,null,null,null,null,null,null,null,null,null,null,null,null,null,"COB","COB (D-Premium)","LC033D_PC",0.9,null,2.2999999999999998,130,0.6,85,"Vivid",3300,3488,"Typ (3488)",34.6,"Typ (34.6)",-4.0000000000000002E-4,-0.16209999999999999,1.2544,2.5999999999999999E-3,0,0,-1.3894999266754675E-3,-4.0000000000000003E-5,-2.0899999999999998E-2,0.13950000000000001,0.89139999999999997,0,0,-1.3399999999999891E-2]
[null,null,null,null,null,null,null,null,null,null,null,null,null,null,null,null,null,null,null,null,null,null,null,null,null,null,null,null,null,null,null,null,null,null,null,null,null,null,null,null,null,null,null,null,null,null,null,null,null,null,null,null,null,null,null,null,null,null,null,null,null,null,null,null,null,null,null,null,null,null,null,null,null,null,null,null,null,null,null,null,null,null,null,null,null,null,null,null,null,null,null,null,null,null,null,null,null,null,null,null,null,null,null,null,"COB","COB (D-Premium)","LC033D_PC",0.9,null,2.2999999999999998,130,0.6,85,"Vivid",3500,3337,"Min (3337)",34.6,"Typ (34.6)",-4.0000000000000002E-4,-0.16209999999999999,1.2544,2.5999999999999999E-3,0,0,-1.3894999266754675E-3,-4.0000000000000003E-5,-2.0899999999999998E-2,0.13950000000000001,0.89139999999999997,0,0,-1.3399999999999891E-2]
[null,null,null,null,null,null,null,null,null,null,null,null,null,null,null,null,null,null,null,null,null,null,null,null,null,null,null,null,null,null,null,null,null,null,null,null,null,null,null,null,null,null,null,null,null,null,null,null,null,null,null,null,null,null,null,null,null,null,null,null,null,null,null,null,null,null,null,null,null,null,null,null,null,null,null,null,null,null,null,null,null,null,null,null,null,null,null,null,null,null,null,null,null,null,null,null,null,null,null,null,null,null,null,null,"COB","COB (D-Premium)","LC033D_PC",0.9,null,2.2999999999999998,130,0.6,85,"Vivid",3500,3588,"Typ (3588)",34.6,"Typ (34.6)",-4.0000000000000002E-4,-0.16209999999999999,1.2544,2.5999999999999999E-3,0,0,-1.3894999266754675E-3,-4.0000000000000003E-5,-2.0899999999999998E-2,0.13950000000000001,0.89139999999999997,0,0,-1.3399999999999891E-2]
[null,null,null,null,null,null,null,null,null,null,null,null,null,null,null,null,null,null,null,null,null,null,null,null,null,null,null,null,null,null,null,null,null,null,null,null,null,null,null,null,null,null,null,null,null,null,null,null,null,null,null,null,null,null,null,null,null,null,null,null,null,null,null,null,null,null,null,null,null,null,null,null,null,null,null,null,null,null,null,null,null,null,null,null,null,null,null,null,null,null,null,null,null,null,null,null,null,null,null,null,null,null,null,null,"COB","COB (D-Premium)","LC033D_PC",0.9,null,2.2999999999999998,130,0.6,85,95,3500,3176,"Min (3176)",34.6,"Typ (34.6)",-4.0000000000000002E-4,-0.16209999999999999,1.2544,2.5999999999999999E-3,0,0,-1.3894999266754675E-3,-4.0000000000000003E-5,-2.0899999999999998E-2,0.13950000000000001,0.89139999999999997,0,0,-1.3399999999999891E-2]
[null,null,null,null,null,null,null,null,null,null,null,null,null,null,null,null,null,null,null,null,null,null,null,null,null,null,null,null,null,null,null,null,null,null,null,null,null,null,null,null,null,null,null,null,null,null,null,null,null,null,null,null,null,null,null,null,null,null,null,null,null,null,null,null,null,null,null,null,null,null,null,null,null,null,null,null,null,null,null,null,null,null,null,null,null,null,null,null,null,null,null,null,null,null,null,null,null,null,null,null,null,null,null,null,"COB","COB (D-Premium)","LC033D_PC",0.9,null,2.2999999999999998,130,0.6,85,95,3500,3343,"Typ (3343)",34.6,"Typ (34.6)",-4.0000000000000002E-4,-0.16209999999999999,1.2544,2.5999999999999999E-3,0,0,-1.3894999266754675E-3,-4.0000000000000003E-5,-2.0899999999999998E-2,0.13950000000000001,0.89139999999999997,0,0,-1.3399999999999891E-2]
[null,null,null,null,null,null,null,null,null,null,null,null,null,null,null,null,null,null,null,null,null,null,null,null,null,null,null,null,null,null,null,null,null,null,null,null,null,null,null,null,null,null,null,null,null,null,null,null,null,null,null,null,null,null,null,null,null,null,null,null,null,null,null,null,null,null,null,null,null,null,null,null,null,null,null,null,null,null,null,null,null,null,null,null,null,null,null,null,null,null,null,null,null,null,null,null,null,null,null,null,null,null,null,null,"COB","COB (D-Premium)","LC033D_PC",0.9,null,2.2999999999999998,130,0.6,85,"Vivid",4000,3568,"Min (3568)",34.6,"Typ (34.6)",-4.0000000000000002E-4,-0.16209999999999999,1.2544,2.5999999999999999E-3,0,0,-1.3894999266754675E-3,-4.0000000000000003E-5,-2.0899999999999998E-2,0.13950000000000001,0.89139999999999997,0,0,-1.3399999999999891E-2]
[null,null,null,null,null,null,null,null,null,null,null,null,null,null,null,null,null,null,null,null,null,null,null,null,null,null,null,null,null,null,null,null,null,null,null,null,null,null,null,null,null,null,null,null,null,null,null,null,null,null,null,null,null,null,null,null,null,null,null,null,null,null,null,null,null,null,null,null,null,null,null,null,null,null,null,null,null,null,null,null,null,null,null,null,null,null,null,null,null,null,null,null,null,null,null,null,null,null,null,null,null,null,null,null,"COB","COB (D-Premium)","LC033D_PC",0.9,null,2.2999999999999998,130,0.6,85,"Vivid",4000,3836,"Typ (3836)",34.6,"Typ (34.6)",-4.0000000000000002E-4,-0.16209999999999999,1.2544,2.5999999999999999E-3,0,0,-1.3894999266754675E-3,-4.0000000000000003E-5,-2.0899999999999998E-2,0.13950000000000001,0.89139999999999997,0,0,-1.3399999999999891E-2]
[null,null,null,null,null,null,null,null,null,null,null,null,null,null,null,null,null,null,null,null,null,null,null,null,null,null,null,null,null,null,null,null,null,null,null,null,null,null,null,null,null,null,null,null,null,null,null,null,null,null,null,null,null,null,null,null,null,null,null,null,null,null,null,null,null,null,null,null,null,null,null,null,null,null,null,null,null,null,null,null,null,null,null,null,null,null,null,null,null,null,null,null,null,null,null,null,null,null,null,null,null,null,null,null,"COB","COB (D-Premium)","LC033D_PC",0.9,null,2.2999999999999998,130,0.6,85,95,4000,3275,"Min (3275)",34.6,"Typ (34.6)",-4.0000000000000002E-4,-0.16209999999999999,1.2544,2.5999999999999999E-3,0,0,-1.3894999266754675E-3,-4.0000000000000003E-5,-2.0899999999999998E-2,0.13950000000000001,0.89139999999999997,0,0,-1.3399999999999891E-2]
[null,null,null,null,null,null,null,null,null,null,null,null,null,null,null,null,null,null,null,null,null,null,null,null,null,null,null,null,null,null,null,null,null,null,null,null,null,null,null,null,null,null,null,null,null,null,null,null,null,null,null,null,null,null,null,null,null,null,null,null,null,null,null,null,null,null,null,null,null,null,null,null,null,null,null,null,null,null,null,null,null,null,null,null,null,null,null,null,null,null,null,null,null,null,null,null,null,null,null,null,null,null,null,null,"COB","COB (D-Premium)","LC033D_PC",0.9,null,2.2999999999999998,130,0.6,85,95,4000,3447,"Typ (3447)",34.6,"Typ (34.6)",-4.0000000000000002E-4,-0.16209999999999999,1.2544,2.5999999999999999E-3,0,0,-1.3894999266754675E-3,-4.0000000000000003E-5,-2.0899999999999998E-2,0.13950000000000001,0.89139999999999997,0,0,-1.3399999999999891E-2]
[null,null,null,null,null,null,null,null,null,null,null,null,null,null,null,null,null,null,null,null,null,null,null,null,null,null,null,null,null,null,null,null,null,null,null,null,null,null,null,null,null,null,null,null,null,null,null,null,null,null,null,null,null,null,null,null,null,null,null,null,null,null,null,null,null,null,null,null,null,null,null,null,null,null,null,null,null,null,null,null,null,null,null,null,null,null,null,null,null,null,null,null,null,null,null,null,null,null,null,null,null,null,null,null,"COB","COB (D-Premium)","LC040D_PC",1.08,null,2.7,130,0.48,85,95,2700,3572,"Min (3572)",34.6,"Typ (34.6)",0,-8.1299999999999997E-2,0.99980000000000002,1.504E-2,0,0,-1.833333333333335E-3,0,-8.9999999999999993E-3,9.2700000000000005E-2,0.91037999999999997,0,0,-1.2500000000000001E-2]
[null,null,null,null,null,null,null,null,null,null,null,null,null,null,null,null,null,null,null,null,null,null,null,null,null,null,null,null,null,null,null,null,null,null,null,null,null,null,null,null,null,null,null,null,null,null,null,null,null,null,null,null,null,null,null,null,null,null,null,null,null,null,null,null,null,null,null,null,null,null,null,null,null,null,null,null,null,null,null,null,null,null,null,null,null,null,null,null,null,null,null,null,null,null,null,null,null,null,null,null,null,null,null,null,"COB","COB (D-Premium)","LC040D_PC",1.08,null,2.7,130,0.48,85,95,2700,3760,"Typ (3760)",34.6,"Typ (34.6)",0,-8.1299999999999997E-2,0.99980000000000002,1.504E-2,0,0,-1.833333333333335E-3,0,-8.9999999999999993E-3,9.2700000000000005E-2,0.91037999999999997,0,0,-1.2500000000000001E-2]
[null,null,null,null,null,null,null,null,null,null,null,null,null,null,null,null,null,null,null,null,null,null,null,null,null,null,null,null,null,null,null,null,null,null,null,null,null,null,null,null,null,null,null,null,null,null,null,null,null,null,null,null,null,null,null,null,null,null,null,null,null,null,null,null,null,null,null,null,null,null,null,null,null,null,null,null,null,null,null,null,null,null,null,null,null,null,null,null,null,null,null,null,null,null,null,null,null,null,null,null,null,null,null,null,"COB","COB (D-Premium)","LC040D_PC",1.08,null,2.7,130,0.48,85,"Vivid",3000,3860,"Min (3860)",34.6,"Typ (34.6)",0,-8.1299999999999997E-2,0.99980000000000002,1.504E-2,0,0,-1.833333333333335E-3,0,-8.9999999999999993E-3,9.2700000000000005E-2,0.91037999999999997,0,0,-1.2500000000000001E-2]
[null,null,null,null,null,null,null,null,null,null,null,null,null,null,null,null,null,null,null,null,null,null,null,null,null,null,null,null,null,null,null,null,null,null,null,null,null,null,null,null,null,null,null,null,null,null,null,null,null,null,null,null,null,null,null,null,null,null,null,null,null,null,null,null,null,null,null,null,null,null,null,null,null,null,null,null,null,null,null,null,null,null,null,null,null,null,null,null,null,null,null,null,null,null,null,null,null,null,null,null,null,null,null,null,"COB","COB (D-Premium)","LC040D_PC",1.08,null,2.7,130,0.48,85,"Vivid",3000,4150,"Typ (4150)",34.6,"Typ (34.6)",0,-8.1299999999999997E-2,0.99980000000000002,1.504E-2,0,0,-1.833333333333335E-3,0,-8.9999999999999993E-3,9.2700000000000005E-2,0.91037999999999997,0,0,-1.2500000000000001E-2]
[null,null,null,null,null,null,null,null,null,null,null,null,null,null,null,null,null,null,null,null,null,null,null,null,null,null,null,null,null,null,null,null,null,null,null,null,null,null,null,null,null,null,null,null,null,null,null,null,null,null,null,null,null,null,null,null,null,null,null,null,null,null,null,null,null,null,null,null,null,null,null,null,null,null,null,null,null,null,null,null,null,null,null,null,null,null,null,null,null,null,null,null,null,null,null,null,null,null,null,null,null,null,null,null,"COB","COB (D-Premium)","LC040D_PC",1.08,null,2.7,130,0.48,85,95,3000,3754,"Min (3754)",34.6,"Typ (34.6)",0,-8.1299999999999997E-2,0.99980000000000002,1.504E-2,0,0,-1.833333333333335E-3,0,-8.9999999999999993E-3,9.2700000000000005E-2,0.91037999999999997,0,0,-1.2500000000000001E-2]
[null,null,null,null,null,null,null,null,null,null,null,null,null,null,null,null,null,null,null,null,null,null,null,null,null,null,null,null,null,null,null,null,null,null,null,null,null,null,null,null,null,null,null,null,null,null,null,null,null,null,null,null,null,null,null,null,null,null,null,null,null,null,null,null,null,null,null,null,null,null,null,null,null,null,null,null,null,null,null,null,null,null,null,null,null,null,null,null,null,null,null,null,null,null,null,null,null,null,null,null,null,null,null,null,"COB","COB (D-Premium)","LC040D_PC",1.08,null,2.7,130,0.48,85,95,3000,3952,"Typ (3952)",34.6,"Typ (34.6)",0,-8.1299999999999997E-2,0.99980000000000002,1.504E-2,0,0,-1.833333333333335E-3,0,-8.9999999999999993E-3,9.2700000000000005E-2,0.91037999999999997,0,0,-1.2500000000000001E-2]
[null,null,null,null,null,null,null,null,null,null,null,null,null,null,null,null,null,null,null,null,null,null,null,null,null,null,null,null,null,null,null,null,null,null,null,null,null,null,null,null,null,null,null,null,null,null,null,null,null,null,null,null,null,null,null,null,null,null,null,null,null,null,null,null,null,null,null,null,null,null,null,null,null,null,null,null,null,null,null,null,null,null,null,null,null,null,null,null,null,null,null,null,null,null,null,null,null,null,null,null,null,null,null,null,"COB","COB (D-Premium)","LC040D_PC",1.08,null,2.7,130,0.48,85,"Vivid",3300,4032,"Min (4032)",34.6,"Typ (34.6)",0,-8.1299999999999997E-2,0.99980000000000002,1.504E-2,0,0,-1.833333333333335E-3,0,-8.9999999999999993E-3,9.2700000000000005E-2,0.91037999999999997,0,0,-1.2500000000000001E-2]
[null,null,null,null,null,null,null,null,null,null,null,null,null,null,null,null,null,null,null,null,null,null,null,null,null,null,null,null,null,null,null,null,null,null,null,null,null,null,null,null,null,null,null,null,null,null,null,null,null,null,null,null,null,null,null,null,null,null,null,null,null,null,null,null,null,null,null,null,null,null,null,null,null,null,null,null,null,null,null,null,null,null,null,null,null,null,null,null,null,null,null,null,null,null,null,null,null,null,null,null,null,null,null,null,"COB","COB (D-Premium)","LC040D_PC",1.08,null,2.7,130,0.48,85,"Vivid",3300,4335,"Typ (4335)",34.6,"Typ (34.6)",0,-8.1299999999999997E-2,0.99980000000000002,1.504E-2,0,0,-1.833333333333335E-3,0,-8.9999999999999993E-3,9.2700000000000005E-2,0.91037999999999997,0,0,-1.2500000000000001E-2]
[null,null,null,null,null,null,null,null,null,null,null,null,null,null,null,null,null,null,null,null,null,null,null,null,null,null,null,null,null,null,null,null,null,null,null,null,null,null,null,null,null,null,null,null,null,null,null,null,null,null,null,null,null,null,null,null,null,null,null,null,null,null,null,null,null,null,null,null,null,null,null,null,null,null,null,null,null,null,null,null,null,null,null,null,null,null,null,null,null,null,null,null,null,null,null,null,null,null,null,null,null,null,null,null,"COB","COB (D-Premium)","LC040D_PC",1.08,null,2.7,130,0.48,85,"Vivid",3500,4147,"Min (4147)",34.6,"Typ (34.6)",0,-8.1299999999999997E-2,0.99980000000000002,1.504E-2,0,0,-1.833333333333335E-3,0,-8.9999999999999993E-3,9.2700000000000005E-2,0.91037999999999997,0,0,-1.2500000000000001E-2]
[null,null,null,null,null,null,null,null,null,null,null,null,null,null,null,null,null,null,null,null,null,null,null,null,null,null,null,null,null,null,null,null,null,null,null,null,null,null,null,null,null,null,null,null,null,null,null,null,null,null,null,null,null,null,null,null,null,null,null,null,null,null,null,null,null,null,null,null,null,null,null,null,null,null,null,null,null,null,null,null,null,null,null,null,null,null,null,null,null,null,null,null,null,null,null,null,null,null,null,null,null,null,null,null,"COB","COB (D-Premium)","LC040D_PC",1.08,null,2.7,130,0.48,85,"Vivid",3500,4459,"Typ (4459)",34.6,"Typ (34.6)",0,-8.1299999999999997E-2,0.99980000000000002,1.504E-2,0,0,-1.833333333333335E-3,0,-8.9999999999999993E-3,9.2700000000000005E-2,0.91037999999999997,0,0,-1.2500000000000001E-2]
[null,null,null,null,null,null,null,null,null,null,null,null,null,null,null,null,null,null,null,null,null,null,null,null,null,null,null,null,null,null,null,null,null,null,null,null,null,null,null,null,null,null,null,null,null,null,null,null,null,null,null,null,null,null,null,null,null,null,null,null,null,null,null,null,null,null,null,null,null,null,null,null,null,null,null,null,null,null,null,null,null,null,null,null,null,null,null,null,null,null,null,null,null,null,null,null,null,null,null,null,null,null,null,null,"COB","COB (D-Premium)","LC040D_PC",1.08,null,2.7,130,0.48,85,95,3500,3907,"Min (3907)",34.6,"Typ (34.6)",0,-8.1299999999999997E-2,0.99980000000000002,1.504E-2,0,0,-1.833333333333335E-3,0,-8.9999999999999993E-3,9.2700000000000005E-2,0.91037999999999997,0,0,-1.2500000000000001E-2]
[null,null,null,null,null,null,null,null,null,null,null,null,null,null,null,null,null,null,null,null,null,null,null,null,null,null,null,null,null,null,null,null,null,null,null,null,null,null,null,null,null,null,null,null,null,null,null,null,null,null,null,null,null,null,null,null,null,null,null,null,null,null,null,null,null,null,null,null,null,null,null,null,null,null,null,null,null,null,null,null,null,null,null,null,null,null,null,null,null,null,null,null,null,null,null,null,null,null,null,null,null,null,null,null,"COB","COB (D-Premium)","LC040D_PC",1.08,null,2.7,130,0.48,85,95,3500,4113,"Typ (4113)",34.6,"Typ (34.6)",0,-8.1299999999999997E-2,0.99980000000000002,1.504E-2,0,0,-1.833333333333335E-3,0,-8.9999999999999993E-3,9.2700000000000005E-2,0.91037999999999997,0,0,-1.2500000000000001E-2]
[null,null,null,null,null,null,null,null,null,null,null,null,null,null,null,null,null,null,null,null,null,null,null,null,null,null,null,null,null,null,null,null,null,null,null,null,null,null,null,null,null,null,null,null,null,null,null,null,null,null,null,null,null,null,null,null,null,null,null,null,null,null,null,null,null,null,null,null,null,null,null,null,null,null,null,null,null,null,null,null,null,null,null,null,null,null,null,null,null,null,null,null,null,null,null,null,null,null,null,null,null,null,null,null,"COB","COB (D-Premium)","LC040D_PC",1.08,null,2.7,130,0.48,85,"Vivid",4000,4434,"Min (4434)",34.6,"Typ (34.6)",0,-8.1299999999999997E-2,0.99980000000000002,1.504E-2,0,0,-1.833333333333335E-3,0,-8.9999999999999993E-3,9.2700000000000005E-2,0.91037999999999997,0,0,-1.2500000000000001E-2]
[null,null,null,null,null,null,null,null,null,null,null,null,null,null,null,null,null,null,null,null,null,null,null,null,null,null,null,null,null,null,null,null,null,null,null,null,null,null,null,null,null,null,null,null,null,null,null,null,null,null,null,null,null,null,null,null,null,null,null,null,null,null,null,null,null,null,null,null,null,null,null,null,null,null,null,null,null,null,null,null,null,null,null,null,null,null,null,null,null,null,null,null,null,null,null,null,null,null,null,null,null,null,null,null,"COB","COB (D-Premium)","LC040D_PC",1.08,null,2.7,130,0.48,85,"Vivid",4000,4768,"Typ (4768)",34.6,"Typ (34.6)",0,-8.1299999999999997E-2,0.99980000000000002,1.504E-2,0,0,-1.833333333333335E-3,0,-8.9999999999999993E-3,9.2700000000000005E-2,0.91037999999999997,0,0,-1.2500000000000001E-2]
[null,null,null,null,null,null,null,null,null,null,null,null,null,null,null,null,null,null,null,null,null,null,null,null,null,null,null,null,null,null,null,null,null,null,null,null,null,null,null,null,null,null,null,null,null,null,null,null,null,null,null,null,null,null,null,null,null,null,null,null,null,null,null,null,null,null,null,null,null,null,null,null,null,null,null,null,null,null,null,null,null,null,null,null,null,null,null,null,null,null,null,null,null,null,null,null,null,null,null,null,null,null,null,null,"COB","COB (D-Premium)","LC040D_PC",1.08,null,2.7,130,0.48,85,95,4000,4029,"Min (4029)",34.6,"Typ (34.6)",0,-8.1299999999999997E-2,0.99980000000000002,1.504E-2,0,0,-1.833333333333335E-3,0,-8.9999999999999993E-3,9.2700000000000005E-2,0.91037999999999997,0,0,-1.2500000000000001E-2]
[null,null,null,null,null,null,null,null,null,null,null,null,null,null,null,null,null,null,null,null,null,null,null,null,null,null,null,null,null,null,null,null,null,null,null,null,null,null,null,null,null,null,null,null,null,null,null,null,null,null,null,null,null,null,null,null,null,null,null,null,null,null,null,null,null,null,null,null,null,null,null,null,null,null,null,null,null,null,null,null,null,null,null,null,null,null,null,null,null,null,null,null,null,null,null,null,null,null,null,null,null,null,null,null,"COB","COB (D-Premium)","LC040D_PC",1.08,null,2.7,130,0.48,85,95,4000,4241,"Typ (4241)",34.6,"Typ (34.6)",0,-8.1299999999999997E-2,0.99980000000000002,1.504E-2,0,0,-1.833333333333335E-3,0,-8.9999999999999993E-3,9.2700000000000005E-2,0.91037999999999997,0,0,-1.2500000000000001E-2]
[null,null,null,null,null,null,null,null,null,null,null,null,null,null,null,null,null,null,null,null,null,null,null,null,null,null,null,null,null,null,null,null,null,null,null,null,null,null,null,null,null,null,null,null,null,null,null,null,null,null,null,null,null,null,null,null,null,null,null,null,null,null,null,null,null,null,null,null,null,null,null,null,null,null,null,null,null,null,null,null,null,null,null,null,null,null,null,null,null,null,null,null,null,null,null,null,null,null,null,null,null,null,null,null,"COB","COB (D-Premium)","LC013D_PC_Special",0.36,null,0.92,130,1.3335000000000001,65,"Special","Fashion",1184,"D2 (1184)",34.6,"Typ (34.6)",0,-1.0495000000000001,3.1581999999999999,-9.5E-4,0,0,-1.833333333333335E-3,0,-0.153,0.35449999999999998,0.89219999999999999,0,0,-1.3333333333333286E-2]
[null,null,null,null,null,null,null,null,null,null,null,null,null,null,null,null,null,null,null,null,null,null,null,null,null,null,null,null,null,null,null,null,null,null,null,null,null,null,null,null,null,null,null,null,null,null,null,null,null,null,null,null,null,null,null,null,null,null,null,null,null,null,null,null,null,null,null,null,null,null,null,null,null,null,null,null,null,null,null,null,null,null,null,null,null,null,null,null,null,null,null,null,null,null,null,null,null,null,null,null,null,null,null,null,"COB","COB (D-Premium)","LC013D_PC_Special",0.36,null,0.92,130,1.3335000000000001,65,"Special","Meat",916,"D2 (916)",34.6,"Typ (34.6)",0,-1.0495000000000001,3.1581999999999999,-9.5E-4,0,0,-1.833333333333335E-3,0,-0.153,0.35449999999999998,0.89219999999999999,0,0,-1.3333333333333286E-2]
[null,null,null,null,null,null,null,null,null,null,null,null,null,null,null,null,null,null,null,null,null,null,null,null,null,null,null,null,null,null,null,null,null,null,null,null,null,null,null,null,null,null,null,null,null,null,null,null,null,null,null,null,null,null,null,null,null,null,null,null,null,null,null,null,null,null,null,null,null,null,null,null,null,null,null,null,null,null,null,null,null,null,null,null,null,null,null,null,null,null,null,null,null,null,null,null,null,null,null,null,null,null,null,null,"COB","COB (D-Premium)","LC013D_PC_Special",0.36,null,0.92,130,1.3335000000000001,65,"Special","Vegetable",1188,"D2 (1188)",34.6,"Typ (34.6)",0,-1.0495000000000001,3.1581999999999999,-9.5E-4,0,0,-1.833333333333335E-3,0,-0.153,0.35449999999999998,0.89219999999999999,0,0,-1.3333333333333286E-2]
[null,null,null,null,null,null,null,null,null,null,null,null,null,null,null,null,null,null,null,null,null,null,null,null,null,null,null,null,null,null,null,null,null,null,null,null,null,null,null,null,null,null,null,null,null,null,null,null,null,null,null,null,null,null,null,null,null,null,null,null,null,null,null,null,null,null,null,null,null,null,null,null,null,null,null,null,null,null,null,null,null,null,null,null,null,null,null,null,null,null,null,null,null,null,null,null,null,null,null,null,null,null,null,null,"COB","COB (D-Premium)","LC016D_PC_Special",0.45,null,1.1499999999999999,130,1.0605,65,"Special","Fashion",1544,"D2 (1544)",34.6,"Typ (34.6)",0,-0.45760000000000001,2.4195000000000002,3.8899999999999998E-3,0,0,-1.6666666666666681E-3,0,-6.0499999999999998E-2,0.23769999999999999,0.90525,0,0,-1.1666666666666714E-2]
[null,null,null,null,null,null,null,null,null,null,null,null,null,null,null,null,null,null,null,null,null,null,null,null,null,null,null,null,null,null,null,null,null,null,null,null,null,null,null,null,null,null,null,null,null,null,null,null,null,null,null,null,null,null,null,null,null,null,null,null,null,null,null,null,null,null,null,null,null,null,null,null,null,null,null,null,null,null,null,null,null,null,null,null,null,null,null,null,null,null,null,null,null,null,null,null,null,null,null,null,null,null,null,null,"COB","COB (D-Premium)","LC016D_PC_Special",0.45,null,1.1499999999999999,130,1.0605,65,"Special","Meat",1195,"D2 (1195)",34.6,"Typ (34.6)",0,-0.45760000000000001,2.4195000000000002,3.8899999999999998E-3,0,0,-1.6666666666666681E-3,0,-6.0499999999999998E-2,0.23769999999999999,0.90525,0,0,-1.1666666666666714E-2]
[null,null,null,null,null,null,null,null,null,null,null,null,null,null,null,null,null,null,null,null,null,null,null,null,null,null,null,null,null,null,null,null,null,null,null,null,null,null,null,null,null,null,null,null,null,null,null,null,null,null,null,null,null,null,null,null,null,null,null,null,null,null,null,null,null,null,null,null,null,null,null,null,null,null,null,null,null,null,null,null,null,null,null,null,null,null,null,null,null,null,null,null,null,null,null,null,null,null,null,null,null,null,null,null,"COB","COB (D-Premium)","LC016D_PC_Special",0.45,null,1.1499999999999999,130,1.0605,65,"Special","Vegetable",1549,"D2 (1549)",34.6,"Typ (34.6)",0,-0.45760000000000001,2.4195000000000002,3.8899999999999998E-3,0,0,-1.6666666666666681E-3,0,-6.0499999999999998E-2,0.23769999999999999,0.90525,0,0,-1.1666666666666714E-2]
[null,null,null,null,null,null,null,null,null,null,null,null,null,null,null,null,null,null,null,null,null,null,null,null,null,null,null,null,null,null,null,null,null,null,null,null,null,null,null,null,null,null,null,null,null,null,null,null,null,null,null,null,null,null,null,null,null,null,null,null,null,null,null,null,null,null,null,null,null,null,null,null,null,null,null,null,null,null,null,null,null,null,null,null,null,null,null,null,null,null,null,null,null,null,null,null,null,null,null,null,null,null,null,null,"COB","COB (D-Premium)","LC019D_PC_Special",0.54,null,1.38,130,0.94500000000000006,65,"Special","Fashion",1834,"D2 (1834)",34.6,"Typ (34.6)",0,-0.33600000000000002,2.0110000000000001,1.2E-2,0,0,-1.833333333333335E-3,0,-3.2500000000000001E-2,0.19109999999999999,0.90627000000000002,0,0,-1.1666666666666714E-2]
[null,null,null,null,null,null,null,null,null,null,null,null,null,null,null,null,null,null,null,null,null,null,null,null,null,null,null,null,null,null,null,null,null,null,null,null,null,null,null,null,null,null,null,null,null,null,null,null,null,null,null,null,null,null,null,null,null,null,null,null,null,null,null,null,null,null,null,null,null,null,null,null,null,null,null,null,null,null,null,null,null,null,null,null,null,null,null,null,null,null,null,null,null,null,null,null,null,null,null,null,null,null,null,null,"COB","COB (D-Premium)","LC019D_PC_Special",0.54,null,1.38,130,0.94500000000000006,65,"Special","Meat",1419,"D2 (1419)",34.6,"Typ (34.6)",0,-0.33600000000000002,2.0110000000000001,1.2E-2,0,0,-1.833333333333335E-3,0,-3.2500000000000001E-2,0.19109999999999999,0.90627000000000002,0,0,-1.1666666666666714E-2]
[null,null,null,null,null,null,null,null,null,null,null,null,null,null,null,null,null,null,null,null,null,null,null,null,null,null,null,null,null,null,null,null,null,null,null,null,null,null,null,null,null,null,null,null,null,null,null,null,null,null,null,null,null,null,null,null,null,null,null,null,null,null,null,null,null,null,null,null,null,null,null,null,null,null,null,null,null,null,null,null,null,null,null,null,null,null,null,null,null,null,null,null,null,null,null,null,null,null,null,null,null,null,null,null,"COB","COB (D-Premium)","LC019D_PC_Special",0.54,null,1.38,130,0.94500000000000006,65,"Special","Vegetable",1841,"D2 (1841)",34.6,"Typ (34.6)",0,-0.33600000000000002,2.0110000000000001,1.2E-2,0,0,-1.833333333333335E-3,0,-3.2500000000000001E-2,0.19109999999999999,0.90627000000000002,0,0,-1.1666666666666714E-2]
[null,null,null,null,null,null,null,null,null,null,null,null,null,null,null,null,null,null,null,null,null,null,null,null,null,null,null,null,null,null,null,null,null,null,null,null,null,null,null,null,null,null,null,null,null,null,null,null,null,null,null,null,null,null,null,null,null,null,null,null,null,null,null,null,null,null,null,null,null,null,null,null,null,null,null,null,null,null,null,null,null,null,null,null,null,null,null,null,null,null,null,null,null,null,null,null,null,null,null,null,null,null,null,null,"COB","COB (D-Premium)","LC026D_PC_Special",0.72,null,1.84,130,0.74549999999999994,65,"Special","Fashion",2398,"D2 (2398)",34.6,"Typ (34.6)",0,-0.1991,1.5282,2.9099999999999998E-3,0,0,-1.6666666666666681E-3,0,-2.1299999999999999E-2,0.1421,0.90873000000000004,0,0,-1.1666666666666714E-2]
[null,null,null,null,null,null,null,null,null,null,null,null,null,null,null,null,null,null,null,null,null,null,null,null,null,null,null,null,null,null,null,null,null,null,null,null,null,null,null,null,null,null,null,null,null,null,null,null,null,null,null,null,null,null,null,null,null,null,null,null,null,null,null,null,null,null,null,null,null,null,null,null,null,null,null,null,null,null,null,null,null,null,null,null,null,null,null,null,null,null,null,null,null,null,null,null,null,null,null,null,null,null,null,null,"COB","COB (D-Premium)","LC026D_PC_Special",0.72,null,1.84,130,0.74549999999999994,65,"Special","Meat",1856,"D2 (1856)",34.6,"Typ (34.6)",0,-0.1991,1.5282,2.9099999999999998E-3,0,0,-1.6666666666666681E-3,0,-2.1299999999999999E-2,0.1421,0.90873000000000004,0,0,-1.1666666666666714E-2]
[null,null,null,null,null,null,null,null,null,null,null,null,null,null,null,null,null,null,null,null,null,null,null,null,null,null,null,null,null,null,null,null,null,null,null,null,null,null,null,null,null,null,null,null,null,null,null,null,null,null,null,null,null,null,null,null,null,null,null,null,null,null,null,null,null,null,null,null,null,null,null,null,null,null,null,null,null,null,null,null,null,null,null,null,null,null,null,null,null,null,null,null,null,null,null,null,null,null,null,null,null,null,null,null,"COB","COB (D-Premium)","LC026D_PC_Special",0.72,null,1.84,130,0.74549999999999994,65,"Special","Vegetable",2407,"D2 (2407)",34.6,"Typ (34.6)",0,-0.1991,1.5282,2.9099999999999998E-3,0,0,-1.6666666666666681E-3,0,-2.1299999999999999E-2,0.1421,0.90873000000000004,0,0,-1.1666666666666714E-2]
[null,null,null,null,null,null,null,null,null,null,null,null,null,null,null,null,null,null,null,null,null,null,null,null,null,null,null,null,null,null,null,null,null,null,null,null,null,null,null,null,null,null,null,null,null,null,null,null,null,null,null,null,null,null,null,null,null,null,null,null,null,null,null,null,null,null,null,null,null,null,null,null,null,null,null,null,null,null,null,null,null,null,null,null,null,null,null,null,null,null,null,null,null,null,null,null,null,null,null,null,null,null,null,null,"COB","COB (D-Premium)","LC033D_PC_Special",0.9,null,2.2999999999999998,130,0.63,65,"Special","Fashion",2960,"D2 (2960)",34.6,"Typ (34.6)",-4.0000000000000002E-4,-0.16209999999999999,1.2544,2.5999999999999999E-3,0,0,-1.3894999266754675E-3,-4.0000000000000003E-5,-2.0899999999999998E-2,0.13950000000000001,0.89139999999999997,0,0,-1.3399999999999891E-2]
[null,null,null,null,null,null,null,null,null,null,null,null,null,null,null,null,null,null,null,null,null,null,null,null,null,null,null,null,null,null,null,null,null,null,null,null,null,null,null,null,null,null,null,null,null,null,null,null,null,null,null,null,null,null,null,null,null,null,null,null,null,null,null,null,null,null,null,null,null,null,null,null,null,null,null,null,null,null,null,null,null,null,null,null,null,null,null,null,null,null,null,null,null,null,null,null,null,null,null,null,null,null,null,null,"COB","COB (D-Premium)","LC033D_PC_Special",0.9,null,2.2999999999999998,130,0.63,65,"Special","Meat",2290,"D2 (2290)",34.6,"Typ (34.6)",-4.0000000000000002E-4,-0.16209999999999999,1.2544,2.5999999999999999E-3,0,0,-1.3894999266754675E-3,-4.0000000000000003E-5,-2.0899999999999998E-2,0.13950000000000001,0.89139999999999997,0,0,-1.3399999999999891E-2]
[null,null,null,null,null,null,null,null,null,null,null,null,null,null,null,null,null,null,null,null,null,null,null,null,null,null,null,null,null,null,null,null,null,null,null,null,null,null,null,null,null,null,null,null,null,null,null,null,null,null,null,null,null,null,null,null,null,null,null,null,null,null,null,null,null,null,null,null,null,null,null,null,null,null,null,null,null,null,null,null,null,null,null,null,null,null,null,null,null,null,null,null,null,null,null,null,null,null,null,null,null,null,null,null,"COB","COB (D-Premium)","LC033D_PC_Special",0.9,null,2.2999999999999998,130,0.63,65,"Special","Vegetable",2970,"D2 (2970)",34.6,"Typ (34.6)",-4.0000000000000002E-4,-0.16209999999999999,1.2544,2.5999999999999999E-3,0,0,-1.3894999266754675E-3,-4.0000000000000003E-5,-2.0899999999999998E-2,0.13950000000000001,0.89139999999999997,0,0,-1.3399999999999891E-2]

{"sheet":"LED-Lighting","index":1,"n_rows":701,"n_cols":89,"rows_kept":701,"cut":false,"hidden":false,"merged":[[46,1,51,1],[44,3,45,3],[44,4,45,4],[44,5,45,5],[44,6,45,6],[20,16,21,16],[20,17,21,17],[20,18,21,18],[20,19,21,19],[32,1,33,2],[32,3,33,3],[32,4,33,4],[32,5,33,5],[32,6,33,6],[32,7,33,7],[32,8,33,8],[32,9,33,9],[32,10,33,10],[32,11,33,11],[32,12,33,12],[32,16,33,16],[20,8,21,8],[20,9,21,9],[20,10,21,10],[20,11,21,11],[20,12,21,12],[20,3,21,3],[20,4,21,4],[20,5,21,5],[20,6,21,6],[20,7,21,7],[8,16,9,16],[8,17,9,17],[8,12,9,12],[8,18,9,18],[8,19,9,19],[8,5,9,5],[8,6,9,6],[5,20,5,21],[7,16,7,19],[41,3,41,4],[31,11,31,15],[31,7,31,10],[31,5,31,6],[17,3,17,4],[19,11,19,15],[19,5,19,6],[7,20,7,21],[7,7,7,10],[7,11,7,15],[19,20,19,21],[31,16,31,19],[17,20,17,21],[29,20,29,21],[19,16,19,19],[9,13,9,14],[21,13,21,14],[8,11,9,11],[5,1,5,2],[6,1,7,2],[5,3,5,4],[7,5,7,6],[5,5,5,6],[6,5,6,6],[8,1,9,2],[8,3,9,3],[8,4,9,4],[7,48,7,49],[7,50,7,51],[19,48,19,49],[31,53,32,53],[31,52,32,52],[7,53,8,53],[19,53,20,53],[19,50,19,51],[7,52,8,52],[19,52,20,52],[31,48,31,49],[31,50,31,51],[43,52,44,52],[43,53,44,53],[43,7,43,10],[43,11,43,15],[43,16,43,19],[43,48,43,49],[43,50,43,51],[44,7,45,7],[44,8,45,8],[44,9,45,9],[44,10,45,10],[44,11,45,11],[44,12,45,12],[44,16,45,16],[44,17,45,17],[44,18,45,18],[42,1,43,2],[43,5,43,6],[31,20,31,21],[41,1,41,2],[34,1,39,1],[44,1,45,2],[44,19,45,19],[32,17,33,17],[32,18,33,18],[32,19,33,19],[33,13,33,14],[45,13,45,14],[41,9,41,10],[42,9,42,10],[41,7,41,8],[42,7,42,8],[41,5,41,6],[42,5,42,6],[22,1,27,1],[10,1,15,1],[29,9,29,10],[30,9,30,10],[17,5,17,6],[18,5,18,6],[29,5,29,6],[30,5,30,6],[29,7,29,8],[30,7,30,8],[29,1,29,2],[30,1,31,2],[18,7,18,8],[29,3,29,4],[20,1,21,2],[17,1,17,2],[18,1,19,2],[3,7,3,8],[19,7,19,10],[5,9,5,10],[6,9,6,10],[17,9,17,10],[18,9,18,10],[3,9,3,10],[5,7,5,8],[6,7,6,8],[17,7,17,8],[8,7,9,7],[8,8,9,8],[8,9,9,9],[8,10,9,10]]}
[]
[]
[null,null,null,null,null,null,null,null,null,null,null,null,null,null,null,null,null,null,null,null,null,null,null,null,null,null,null,null,null,null,null,17.482149414737957]
[null,"Step : Product → CCT → CRI → Vf/Flux → Current → ",null,null,null,null,null,"Product Code (12Digit)",null,null,null,"Type ",{"$f":"IF(J4>0,VLOOKUP(J4,Base!EO:ES,Base!EP19,FALSE),\"-\")","v":"-"},"Color ",{"$f":"IF(J4>0,VLOOKUP(J4,Base!EO:ES,Base!ER19,FALSE),\"-\")","v":"-"},"Name ",{"$f":"IF(J4>0,VLOOKUP(J4,Base!EO:ES,Base!EQ19,FALSE),\"-\")","v":"-"},"CRI ",{"$f":"IF(J4>0,VLOOKUP(J4,Base!EO:ES,Base!ES19,FALSE),\"-\")","v":"-"}]
[]
[null,"Product",null,null,null,"Vf [V]",null,null,null,"Vf Correlation",null,1,"Electrical efficiency",null,1," Sorting IF_driving =",null,{"$f":"IF(D6>0,AD6,\"\")","v":""},"Tj_max. =",{"$f":"IF(D6>0,AX7,\"\")","v":""},"supportable current scope",null,null,null,null,null,null,null,null,{"$f":"VLOOKUP(D6,Base!C:I,2,FALSE)","v":{"$error":"#N/A"}},{"$f":"R6/10","v":{"$error":"#VALUE!"}},null,null,null,null,null,null,null,null,null,null,null,null,null,null,null,null,null,"Rth of LED",{"$f":"VLOOKUP(D6,Base!C:I,5,FALSE)","v":{"$error":"#N/A"}},"LES",{"$f":"VLOOKUP(D6,Base!C:I,6,FALSE)","v":{"$error":"#N/A"}}]
[null,"Rank\n(Sellect)",null,"CCT","CRI","Flux [lm]",null,null,null,"Flux Correlation",null,1,"Optical efficiency",null,1," Sorting Temp. ",null,{"$f":"IF(D6>0,VLOOKUP(D6,Base!C:I,7,FALSE),\"\")","v":""},"IF_max. =",{"$f":"IF(D6>0,AZ7,\"\")","v":""},{"$f":"MTTF!BE4","v":""},{"$f":"MTTF!BF4","v":""},null,null,null,null,null,null,null,{"$f":"R7","v":""},{"$f":"AD7-(AD6*AC10*AX6)","v":{"$error":"#VALUE!"}},null,null,null,null,null,null,null,null,null,null,null,null,null,null,null,null,null,"TJ_max.",{"$f":"VLOOKUP(D6,Base!C:I,4,FALSE)","v":{"$error":"#N/A"}},"IF_max.",{"$f":"VLOOKUP(D6,Base!C:I,3,FALSE)","v":{"$error":"#N/A"}}]
[null,null,null,null,null,{"$f":"IF(AND(D6>0,D8>0,E8>0),VLOOKUP(BG11,Base!CL:EG,Base!EG3,FALSE),\"\")","v":""},null,{"$f":"IF(D6>0,VLOOKUP(D6,Base!C:P,14,FALSE),\"LED performance\")","v":"LED performance"},null,null,null,"Estimations of system",null,null,null,null,"Thermal Information",null,null,null,"Expected lifetime (hr)"]
[null,"Input\nCondition",null,"Current\n[A]","# of\nLED ","Ts\n[℃]","Ta\n[℃]","VF\n[V] ","Flux\n[㏐]","$\n/100lm","TJ\n[℃]","∑Flux\n[㏐]","∑Power\n[W] ","Efficacy\n[Lm/W]","∑LES\n[㎟]","∑cost\n[$]","Rth(J-a)\n(℃/W)","IF_max.\n(A)","IF_margin\n(A)","Thermal\nGuide","L70\n(Ts > 25℃)","L80\n(Ts > 25℃)"]
[null,null,null,null,null,null,null,null,null,null,null,null,null,"LED cost",null,null,null,null,null,null,null,null,null,null,null,null,null,null,{"$f":"AC11","v":{"$error":"#N/A"}},{"$f":"AD11","v":{"$error":"#N/A"}},null,null,null,null,null,null,null,null,null,null,null,null,null,null,null,null,null,null,null,null,null,null,null,null,null,null,null,"Vivid option",null,null,null,null,null,null,null,null,null,null,null,null,null,null,null,null,null,{"$f":"BX11","v":{"$error":"#N/A"}},{"$f":"BY11","v":{"$error":"#N/A"}},{"$error":"#N/A"},{"$error":"#N/A"},{"$error":"#N/A"},{"$error":"#N/A"},{"$error":"#N/A"},{"$error":"#N/A"},{"$error":"#N/A"},{"$error":"#N/A"},{"$error":"#N/A"},{"$error":"#N/A"},{"$error":"#N/A"},{"$error":"#N/A"}]
[null,"CASE - A",1,null,null,null,null,{"$f":"IF(AND($D$8>0,$E$8>0,D11>0,$H$6>0),((F11-$AE$7)*AW11+AC11*AX11)*$L$6,\"\")","v":""},{"$f":"IF(AND($D$8>0,$E$8>0,D11>0,$H$6>0,$H$7>0),(((K11-$AD$7)*AY11+1)*AD11*AZ11)*$L$7,\"\")","v":""},{"$f":"IF(AND($D$8>0,$E$8>0,D11>0,$P$10>0,$H$6>0,$H$7>0),$P$10/(I11/100),\"\")","v":""},{"$f":"IF(AND($D$8>0,$E$8>0,D11>0,$H$6>0),IF(F11>0,F11+H11*D11*$AX$6,IF(OR(F11<G11,F11*G11=0),AD7,\"\")),\"\")","v":""},{"$f":"IF(AND($D$8>0,$E$8>0,D11>0,E11>0,$O$7>0,$H$7>0),I11*E11*$O$7,\"\")","v":""},{"$f":"IF(AND($D$8>0,$E$8>0,D11>0,E11>0,$O$6>0,$H$6>0),H11*D11*E11/$O$6,\"\")","v":""},{"$f":"IF(AND($D$8>0,$E$8>0,D11>0,E11>0,$O$6>0,$O$7>0,$H$6>0,$H$7>0),L11/M11,\"\")","v":""},{"$f":"IF(AND($D$6>0,E11>0),E11*$AZ$6,\"\")","v":""},{"$f":"IF(AND(E11>0,$P$10>0),$P$10*E11,\"\")","v":""},{"$f":"IF(AND($D$8>0,$E$8>0,D11>0,F11>0,G11>0,$H$6>0),(K11-G11)/(D11*H11),\"\")","v":""},{"$f":"IF(AND($D$8>0,$E$8>0,D11>0,F11>0,G11>0,$H$6>0),IF((-MTTF!C3*G11+MTTF!D3)<=$AZ$7,(-MTTF!C3*G11+MTTF!D3),$T$7),\"\")","v":""},{"$f":"IF(AND($D$8>0,$E$8>0,D11>0,F11>0,G11>0,$H$6>0),R11-D11,\"\")","v":""},{"$f":"IF(AND($D$8>0,$E$8>0,D11>0,F11>0,G11>0,$H$6>0),IF(AND(0<=S11,S11<=R11*0.1),\"Warning zone\",IF(S11<0,\"Out of range\",\"Safe zone\")),\"\")","v":""},{"$f":"IF(OR($D$6=Base!$BT$21,$D$6=Base!$BT$32,$D$6=Base!$BT$40,$D$6=Base!$BT$51,$D$6=Base!$BT$58,$D$6=Base!$BT$69,$D$6=Base!$BT$83,$D$6=Base!$BT$144,$D$6=Base!$BT$210),IF(AND(D11>0,F11>0),MTTF!BK5,\"\"),\"\")","v":""},{"$f":"IF(OR($D$6=Base!$BT$21,$D$6=Base!$BT$32,$D$6=Base!$BT$40,$D$6=Base!$BT$51,$D$6=Base!$BT$58,$D$6=Base!$BT$69,$D$6=Base!$BT$83,$D$6=Base!$BT$144,$D$6=Base!$BT$210),IF(AND(D11>0,F11>0),MTTF!BL5,\"\"),\"\")","v":""},null,null,null,null,null,null,{"$f":"VLOOKUP(BG11,Base!$CL:$DJ,AE11,FALSE)","v":{"$error":"#N/A"}},{"$f":"VLOOKUP(BG11,Base!$CL:$CU,AM11,FALSE)","v":{"$error":"#N/A"}},{"$f":"MATCH($H$6,AF11:AL11,0)+18","v":{"$error":"#N/A"}},{"$f":"VLOOKUP(BG11,Base!$CL:$DQ,Base!$DK$3,FALSE)","v":{"$error":"#N/A"}},{"$f":"VLOOKUP(BG11,Base!$CL:$DQ,Base!$DL$3,FALSE)","v":{"$error":"#N/A"}},{"$f":"VLOOKUP(BG11,Base!$CL:$DQ,Base!$DM$3,FALSE)","v":{"$error":"#N/A"}},{"$f":"VLOOKUP(BG11,Base!$CL:$DQ,Base!$DN$3,FALSE)","v":{"$error":"#N/A"}},{"$f":"VLOOKUP(BG11,Base!$CL:$DQ,Base!$DO$3,FALSE)","v":{"$error":"#N/A"}},{"$f":"VLOOKUP(BG11,Base!$CL:$DQ,Base!$DP$3,FALSE)","v":{"$error":"#N/A"}},{"$f":"VLOOKUP(BG11,Base!$CL:$DQ,Base!$DQ$3,FALSE)","v":{"$error":"#N/A"}},{"$f":"MATCH($H$7,AN11:AU11,0)+2","v":{"$error":"#N/A"}},{"$f":"VLOOKUP($BG$11,Base!$CL:$DC,Base!CV$3,FALSE)","v":{"$error":"#N/A"}},{"$f":"VLOOKUP($BG$11,Base!$CL:$DC,Base!CW$3,FALSE)","v":{"$error":"#N/A"}},{"$f":"VLOOKUP($BG$11,Base!$CL:$DC,Base!CX$3,FALSE)","v":{"$error":"#N/A"}},{"$f":"VLOOKUP($BG$11,Base!$CL:$DC,Base!CY$3,FALSE)","v":{"$error":"#N/A"}},{"$f":"VLOOKUP($BG$11,Base!$CL:$DC,Base!CZ$3,FALSE)","v":{"$error":"#N/A"}},{"$f":"VLOOKUP($BG$11,Base!$CL:$DC,Base!DA$3,FALSE)","v":{"$error":"#N/A"}},{"$f":"VLOOKUP($BG$11,Base!$CL:$DC,Base!DB$3,FALSE)","v":{"$error":"#N/A"}},{"$f":"VLOOKUP($BG$11,Base!$CL:$DC,Base!DC$3,FALSE)","v":{"$error":"#N/A"}},null,{"$f":"IF(F11>0,CI11*D11^2+CJ11*D11+CK11,0)","v":0},{"$f":"IF(AND(D11<=$AZ$7,D11>0),CE11*D11^3+CF11*D11^2+CG11*D11+CH11,\"-\")","v":{"$error":"#N/A"}},{"$f":"IF(F11>0,CB11*D11^2+CC11*D11+CD11,0)","v":0},{"$f":"IF(AND(D11<=$AZ$7,D11>0),BX11*D11^3+BY11*D11^2+BZ11*D11+CA11,\"-\")","v":{"$error":"#N/A"}},{"$f":"IF(AND(D6>0,D8>0,E8>0),VLOOKUP(BG11,Base!CL:EF,Base!EF3,FALSE),\"\")","v":""},{"$f":"IF(AND(D6>0,D8>0,E8>0),VLOOKUP(BG11,Base!CL:CM,Base!CM3,FALSE),\"\")","v":""},null,{"$f":"IF($D$6>0,VLOOKUP($D$6,Base!$BT:$BU,Base!BU3,FALSE),0)","v":0},{"$f":"BD11*IF(OR(D8=\"Fashion\",D8=\"Meat\",D8=\"Vegetable\"),79,D8)","v":0},{"$f":"IF(E8=\"Fashion_White\",68,IF(E8=\"Fashion_Color\",69,E8))","v":0},{"$f":"IF(BF11=\"Special\",BD11*BF12*79+BF12+79,BD11*D8*BF11+D8+BF11)","v":0},null,{"$f":"VLOOKUP($D$6,Base!$BT:$CF,Base!BX$3,FALSE)","v":{"$error":"#N/A"}},{"$f":"VLOOKUP($D$6,Base!$BT:$CF,Base!BY$3,FALSE)","v":{"$error":"#N/A"}},{"$f":"VLOOKUP($D$6,Base!$BT:$CF,Base!BZ$3,FALSE)","v":{"$error":"#N/A"}},{"$f":"VLOOKUP($D$6,Base!$BT:$CF,Base!CA$3,FALSE)","v":{"$error":"#N/A"}},{"$f":"VLOOKUP($D$6,Base!$BT:$CF,Base!CB$3,FALSE)","v":{"$error":"#N/A"}},{"$f":"VLOOKUP($D$6,Base!$BT:$CF,Base!CC$3,FALSE)","v":{"$error":"#N/A"}},{"$f":"VLOOKUP($D$6,Base!$BT:$CF,Base!CD$3,FALSE)","v":{"$error":"#N/A"}},{"$f":"VLOOKUP($D$6,Base!$BT:$CF,Base!CE$3,FALSE)","v":{"$error":"#N/A"}},{"$f":"VLOOKUP($D$6,Base!$BT:$CF,Base!CF$3,FALSE)","v":{"$error":"#N/A"}},null,{"$f":"VLOOKUP($BE$11,Base!$CG:$CK,Base!CH$3,FALSE)","v":{"$error":"#N/A"}},{"$f":"VLOOKUP($BE$11,Base!$CG:$CK,Base!CI$3,FALSE)","v":{"$error":"#N/A"}},{"$f":"VLOOKUP($BE$11,Base!$CG:$CK,Base!CJ$3,FALSE)","v":{"$error":"#N/A"}},{"$f":"VLOOKUP($BE$11,Base!$CG:$CK,Base!CK$3,FALSE)","v":{"$error":"#N/A"}},null,{"$f":"VLOOKUP(BG11,Base!$CL:$EE,Base!$DR$3,FALSE)","v":{"$error":"#N/A"}},{"$f":"VLOOKUP(BG11,Base!$CL:$EE,Base!$DS$3,FALSE)","v":{"$error":"#N/A"}},{"$f":"VLOOKUP(BG11,Base!$CL:$EE,Base!$DT$3,FALSE)","v":{"$error":"#N/A"}},{"$f":"VLOOKUP(BG11,Base!$CL:$EE,Base!$DU$3,FALSE)","v":{"$error":"#N/A"}},{"$f":"VLOOKUP(BG11,Base!$CL:$EE,Base!$DV$3,FALSE)","v":{"$error":"#N/A"}},{"$f":"VLOOKUP(BG11,Base!$CL:$EE,Base!$DW$3,FALSE)","v":{"$error":"#N/A"}},{"$f":"IF(AND(BD11=282,MID(H7,1,2)=\"S2\"),-0.001933,(IF(AND(BD11=282,MID(H7,1,2)=\"S3\"),-0.001783,(IF(AND(BD11=282,MID(H7,1,2)=\"S4\"),-0.00155,VLOOKUP(BG11,Base!$CL:$EE,Base!$DX$3,FALSE))))))","v":{"$error":"#N/A"}},{"$f":"VLOOKUP(BG11,Base!$CL:$EE,Base!$DY$3,FALSE)","v":{"$error":"#N/A"}},{"$f":"VLOOKUP(BG11,Base!$CL:$EE,Base!$DZ$3,FALSE)","v":{"$error":"#N/A"}},{"$f":"VLOOKUP(BG11,Base!$CL:$EE,Base!$EA$3,FALSE)","v":{"$error":"#N/A"}},{"$f":"VLOOKUP(BG11,Base!$CL:$EE,Base!$EB$3,FALSE)","v":{"$error":"#N/A"}},{"$f":"VLOOKUP(BG11,Base!$CL:$EE,Base!$EC$3,FALSE)","v":{"$error":"#N/A"}},{"$f":"VLOOKUP(BG11,Base!$CL:$EE,Base!$ED$3,FALSE)","v":{"$error":"#N/A"}},{"$f":"IF(AND(BD11=282,MID(H7,1,2)=\"S2\"),-0.00135,(IF(AND(BD11=282,MID(H7,1,2)=\"S3\"),-0.0011,(IF(AND(BD11=282,MID(H7,1,2)=\"S4\"),-0.00095,VLOOKUP(BG11,Base!$CL:$EE,Base!$EE$3,FALSE))))))","v":{"$error":"#N/A"}}]
[null,null,2,null,null,null,null,"","","",{"$f":"IF(AND($D$8>0,$E$8>0,D12>0,$H$6>0),IF(F12>0,F12+H12*D12*$AX$6,IF(OR(F12<G12,F12*G12=0),AD7,\"\")),\"\")","v":""},"","","","","","",{"$f":"IF(AND($D$8>0,$E$8>0,D12>0,F12>0,G12>0,$H$6>0),IF((-MTTF!C4*G12+MTTF!D4)<=$AZ$7,(-MTTF!C4*G12+MTTF!D4),$T$7),\"\")","v":""},"","",{"$f":"IF(OR($D$6=Base!$BT$21,$D$6=Base!$BT$32,$D$6=Base!$BT$40,$D$6=Base!$BT$51,$D$6=Base!$BT$58,$D$6=Base!$BT$69,$D$6=Base!$BT$83,$D$6=Base!$BT$144,$D$6=Base!$BT$210),IF(AND(D12>0,F12>0),MTTF!BK6,\"\"),\"\")","v":""},{"$f":"IF(OR($D$6=Base!$BT$21,$D$6=Base!$BT$32,$D$6=Base!$BT$40,$D$6=Base!$BT$51,$D$6=Base!$BT$58,$D$6=Base!$BT$69,$D$6=Base!$BT$83,$D$6=Base!$BT$144,$D$6=Base!$BT$210),IF(AND(D12>0,F12>0),MTTF!BL6,\"\"),\"\")","v":""},null,null,null,null,null,null,{"$f":"AC11","v":{"$error":"#N/A"}},{"$f":"AD11","v":{"$error":"#N/A"}},null,null,null,null,null,null,null,null,null,null,null,null,null,null,null,null,null,null,0,{"$error":"#N/A"},0,{"$error":"#N/A"},null,null,null,null,"(CCT*Product No.)",{"$f":"IF(D8=\"Fashion\",51,IF(D8=\"Meat\",52,IF(D8=\"Vegetable\",53,\"-\")))","v":"-"},null,null,null,null,null,null,null,null,null,null,null,null,null,null,null,null,null,{"$f":"BX11","v":{"$error":"#N/A"}},{"$error":"#N/A"},{"$error":"#N/A"},{"$error":"#N/A"},{"$error":"#N/A"},{"$error":"#N/A"},{"$error":"#N/A"},{"$error":"#N/A"},{"$error":"#N/A"},{"$error":"#N/A"},{"$error":"#N/A"},{"$error":"#N/A"},{"$error":"#N/A"},{"$error":"#N/A"}]
[null,null,3,null,null,null,null,"","","",{"$f":"IF(AND($D$8>0,$E$8>0,D13>0,$H$6>0),IF(F13>0,F13+H13*D13*$AX$6,IF(OR(F13<G13,F13*G13=0),AD7,\"\")),\"\")","v":""},"","","","","","",{"$f":"IF(AND($D$8>0,$E$8>0,D13>0,F13>0,G13>0,$H$6>0),IF((-MTTF!C5*G13+MTTF!D5)<=$AZ$7,(-MTTF!C5*G13+MTTF!D5),$T$7),\"\")","v":""},"","",{"$f":"IF(OR($D$6=Base!$BT$21,$D$6=Base!$BT$32,$D$6=Base!$BT$40,$D$6=Base!$BT$51,$D$6=Base!$BT$58,$D$6=Base!$BT$69,$D$6=Base!$BT$83,$D$6=Base!$BT$144,$D$6=Base!$BT$210),IF(AND(D13>0,F13>0),MTTF!BK7,\"\"),\"\")","v":""},{"$f":"IF(OR($D$6=Base!$BT$21,$D$6=Base!$BT$32,$D$6=Base!$BT$40,$D$6=Base!$BT$51,$D$6=Base!$BT$58,$D$6=Base!$BT$69,$D$6=Base!$BT$83,$D$6=Base!$BT$144,$D$6=Base!$BT$210),IF(AND(D13>0,F13>0),MTTF!BL7,\"\"),\"\")","v":""},null,null,null,null,null,null,{"$f":"AC12","v":{"$error":"#N/A"}},{"$error":"#N/A"},null,null,null,null,null,null,null,null,null,null,null,null,null,null,null,null,null,null,0,{"$error":"#N/A"},0,{"$error":"#N/A"},null,null,null,null,null,null,null,null,null,null,null,null,null,null,null,null,null,null,null,null,null,null,null,{"$f":"BX12","v":{"$error":"#N/A"}},{"$error":"#N/A"},{"$error":"#N/A"},{"$error":"#N/A"},{"$f":"CB12","v":{"$error":"#N/A"}},{"$error":"#N/A"},{"$f":"CD12","v":{"$error":"#N/A"}},{"$error":"#N/A"},{"$error":"#N/A"},{"$error":"#N/A"},{"$error":"#N/A"},{"$f":"CI12","v":{"$error":"#N/A"}},{"$error":"#N/A"},{"$f":"CK12","v":{"$error":"#N/A"}}]
[null,null,4,null,null,null,null,"","","",{"$f":"IF(AND($D$8>0,$E$8>0,D14>0,$H$6>0),IF(F14>0,F14+H14*D14*$AX$6,IF(OR(F14<G14,F14*G14=0),AD7,\"\")),\"\")","v":""},"","","","","","",{"$f":"IF(AND($D$8>0,$E$8>0,D14>0,F14>0,G14>0,$H$6>0),IF((-MTTF!C6*G14+MTTF!D6)<=$AZ$7,(-MTTF!C6*G14+MTTF!D6),$T$7),\"\")","v":""},"","",{"$f":"IF(OR($D$6=Base!$BT$21,$D$6=Base!$BT$32,$D$6=Base!$BT$40,$D$6=Base!$BT$51,$D$6=Base!$BT$58,$D$6=Base!$BT$69,$D$6=Base!$BT$83,$D$6=Base!$BT$144,$D$6=Base!$BT$210),IF(AND(D14>0,F14>0),MTTF!BK8,\"\"),\"\")","v":""},{"$f":"IF(OR($D$6=Base!$BT$21,$D$6=Base!$BT$32,$D$6=Base!$BT$40,$D$6=Base!$BT$51,$D$6=Base!$BT$58,$D$6=Base!$BT$69,$D$6=Base!$BT$83,$D$6=Base!$BT$144,$D$6=Base!$BT$210),IF(AND(D14>0,F14>0),MTTF!BL8,\"\"),\"\")","v":""},null,null,null,null,null,null,{"$error":"#N/A"},{"$error":"#N/A"},null,null,null,null,null,null,null,null,null,null,null,null,null,null,null,null,null,null,0,{"$error":"#N/A"},0,{"$error":"#N/A"},null,null,null,null,null,null,null,null,null,null,null,null,null,null,null,null,null,null,null,null,null,null,null,{"$error":"#N/A"},{"$error":"#N/A"},{"$error":"#N/A"},{"$error":"#N/A"},{"$error":"#N/A"},{"$error":"#N/A"},{"$error":"#N/A"},{"$error":"#N/A"},{"$error":"#N/A"},{"$error":"#N/A"},{"$error":"#N/A"},{"$error":"#N/A"},{"$error":"#N/A"},{"$f":"CK13","v":{"$error":"#N/A"}}]
[null,null,5,null,null,null,null,"","","",{"$f":"IF(AND($D$8>0,$E$8>0,D15>0,$H$6>0),IF(F15>0,F15+H15*D15*$AX$6,IF(OR(F15<G15,F15*G15=0),AD7,\"\")),\"\")","v":""},"","","","","","",{"$f":"IF(AND($D$8>0,$E$8>0,D15>0,F15>0,G15>0,$H$6>0),IF((-MTTF!C7*G15+MTTF!D7)<=$AZ$7,(-MTTF!C7*G15+MTTF!D7),$T$7),\"\")","v":""},"","",{"$f":"IF(OR($D$6=Base!$BT$21,$D$6=Base!$BT$32,$D$6=Base!$BT$40,$D$6=Base!$BT$51,$D$6=Base!$BT$58,$D$6=Base!$BT$69,$D$6=Base!$BT$83,$D$6=Base!$BT$144,$D$6=Base!$BT$210),IF(AND(D15>0,F15>0),MTTF!BK9,\"\"),\"\")","v":""},{"$f":"IF(OR($D$6=Base!$BT$21,$D$6=Base!$BT$32,$D$6=Base!$BT$40,$D$6=Base!$BT$51,$D$6=Base!$BT$58,$D$6=Base!$BT$69,$D$6=Base!$BT$83,$D$6=Base!$BT$144,$D$6=Base!$BT$210),IF(AND(D15>0,F15>0),MTTF!BL9,\"\"),\"\")","v":""},null,null,null,null,null,null,{"$error":"#N/A"},{"$error":"#N/A"},null,null,null,null,null,null,null,null,null,null,null,null,null,null,null,null,null,null,0,{"$error":"#N/A"},0,{"$error":"#N/A"},null,null,null,null,null,null,null,null,null,null,null,null,null,null,null,null,null,null,null,null,null,null,null,{"$error":"#N/A"},{"$error":"#N/A"},{"$error":"#N/A"},{"$error":"#N/A"},{"$error":"#N/A"},{"$error":"#N/A"},{"$error":"#N/A"},{"$error":"#N/A"},{"$error":"#N/A"},{"$error":"#N/A"},{"$error":"#N/A"},{"$error":"#N/A"},{"$error":"#N/A"},{"$f":"CK14","v":{"$error":"#N/A"}}]
[null,null,6,null,null,null,null,"","","",{"$f":"IF(AND($D$8>0,$E$8>0,D16>0,$H$6>0),IF(F16>0,F16+H16*D16*$AX$6,IF(OR(F16<G16,F16*G16=0),AD7,\"\")),\"\")","v":""},"","","","","","",{"$f":"IF(AND($D$8>0,$E$8>0,D16>0,F16>0,G16>0,$H$6>0),IF((-MTTF!C8*G16+MTTF!D8)<=$AZ$7,(-MTTF!C8*G16+MTTF!D8),$T$7),\"\")","v":""},"","",{"$f":"IF(OR($D$6=Base!$BT$21,$D$6=Base!$BT$32,$D$6=Base!$BT$40,$D$6=Base!$BT$51,$D$6=Base!$BT$58,$D$6=Base!$BT$69,$D$6=Base!$BT$83,$D$6=Base!$BT$144,$D$6=Base!$BT$210),IF(AND(D16>0,F16>0),MTTF!BK10,\"\"),\"\")","v":""},{"$f":"IF(OR($D$6=Base!$BT$21,$D$6=Base!$BT$32,$D$6=Base!$BT$40,$D$6=Base!$BT$51,$D$6=Base!$BT$58,$D$6=Base!$BT$69,$D$6=Base!$BT$83,$D$6=Base!$BT$144,$D$6=Base!$BT$210),IF(AND(D16>0,F16>0),MTTF!BL10,\"\"),\"\")","v":""},null,null,null,null,null,null,{"$f":"AC12","v":{"$error":"#N/A"}},{"$f":"AD12","v":{"$error":"#N/A"}},null,null,null,null,null,null,null,null,null,null,null,null,null,null,null,null,null,null,0,{"$error":"#N/A"},0,{"$error":"#N/A"},null,null,null,null,null,null,null,null,null,null,null,null,null,null,null,null,null,null,null,null,null,null,null,{"$f":"BX12","v":{"$error":"#N/A"}},{"$error":"#N/A"},{"$error":"#N/A"},{"$error":"#N/A"},{"$error":"#N/A"},{"$error":"#N/A"},{"$error":"#N/A"},{"$error":"#N/A"},{"$error":"#N/A"},{"$error":"#N/A"},{"$error":"#N/A"},{"$error":"#N/A"},{"$f":"CJ15","v":{"$error":"#N/A"}},{"$error":"#N/A"}]
[]
[null,"Product",null,null,null,"Vf [V]",null,null,null,"Vf Correlation",null,1,"Electrical efficiency",null,1," Sorting IF_driving =",null,{"$f":"IF(D18>0,AD18,\"\")","v":""},"Tj_max. =",{"$f":"IF(D18>0,AX19,\"\")","v":""},"supportable current scope",null,null,null,null,null,null,null,null,{"$f":"VLOOKUP(D18,Base!C:I,2,FALSE)","v":{"$error":"#N/A"}},{"$f":"R18/10","v":{"$error":"#VALUE!"}},null,null,null,null,null,null,null,null,null,null,null,null,null,null,null,null,null,"Rth of LED",{"$f":"VLOOKUP(D18,Base!C:I,5,FALSE)","v":{"$error":"#N/A"}},"LES",{"$f":"VLOOKUP(D18,Base!C:I,6,FALSE)","v":{"$error":"#N/A"}}]
[null,"Rank\n(Sellect)",null,"CCT","CRI","Flux [lm]",null,null,null,"Flux Correlation",null,1,"Optical efficiency",null,1,"Sorting Temperature",null,{"$f":"IF(D18>0,VLOOKUP(D18,Base!C:I,7,FALSE),\"\")","v":""},"IF_max. =",{"$f":"IF(D18>0,AZ19,\"\")","v":""},{"$f":"MTTF!BR4","v":""},{"$f":"MTTF!BS4","v":""},null,null,null,null,null,null,null,{"$f":"R19","v":""},{"$f":"AD19-(AD18*AC22*AX18)","v":{"$error":"#VALUE!"}},null,null,null,null,null,null,null,null,null,null,null,null,null,null,null,null,null,"TJ_max.",{"$f":"VLOOKUP(D18,Base!C:I,4,FALSE)","v":{"$error":"#N/A"}},"IF_max.",{"$f":"VLOOKUP(D18,Base!C:I,3,FALSE)","v":{"$error":"#N/A"}}]
[null,null,null,null,null,{"$f":"IF(AND(D18>0,D20>0,E20>0),VLOOKUP(BG23,Base!CL:EG,Base!EG3,FALSE),\"\")","v":""},null,{"$f":"IF(D18>0,VLOOKUP(D18,Base!C:P,14,FALSE),\"LED performance\")","v":"LED performance"},null,null,null,"Estimations of system",null,null,null,null,"Thermal Information",null,null,null,"Expected lifetime (hr)"]
[null,"Input\nCondition",null,"Current\n[A]","# of\nLED ","Ts\n[℃]","Ta\n(℃)","VF\n[V] ","Flux\n[㏐]","$\n/100lm","TJ\n[℃]","∑Flux\n[㏐]","∑Power\n[W] ","Efficacy\n[Lm/W]","∑LES\n[㎟]","∑cost\n($)","Rth(J-a)\n(℃/W)","IF_max.\n(A)","IF_margin\n(A)","Thermal\nGuide","L70\n(Ts > 25℃)","L80\n(Ts > 25℃)"]
[null,null,null,null,null,null,null,null,null,null,null,null,null,"LED cost",null,null,null,null,null,null,null,null,null,null,null,null,null,null,{"$f":"AC23","v":{"$error":"#N/A"}},{"$f":"AD23","v":{"$error":"#N/A"}},null,null,null,null,null,null,null,null,null,null,null,null,null,null,null,null,null,null,null,null,null,null,null,null,null,null,null,null,null,null,null,null,null,null,null,null,null,null,null,null,null,null,null,null,null,{"$f":"BX23","v":{"$error":"#N/A"}},{"$f":"BY23","v":{"$error":"#N/A"}},{"$error":"#N/A"},{"$error":"#N/A"},{"$error":"#N/A"},{"$error":"#N/A"},{"$error":"#N/A"},{"$error":"#N/A"},{"$error":"#N/A"},{"$error":"#N/A"},{"$error":"#N/A"},{"$error":"#N/A"},{"$error":"#N/A"},{"$error":"#N/A"}]
[null,"CASE - B",1,null,null,null,null,{"$f":"IF(AND($D$20>0,$E$20>0,D23>0,$H$18>0),((F23-$AE$19)*AW23+AC23*AX23)*$L$18,\"\")","v":""},{"$f":"IF(AND($D$20>0,$E$20>0,D23>0,$H$18>0,$H$19>0),(((K23-$AD$19)*AY23+1)*AD23*AZ23)*$L$19,\"\")","v":""},{"$f":"IF(AND($D$20>0,$E$20>0,D23>0,$P$22>0,$H$18>0,$H$19>0),$P$22/(I23/100),\"\")","v":""},{"$f":"IF(AND($D$20>0,$E$20>0,D23>0,$H$18>0),IF(F23>0,F23+H23*D23*$AX$18,IF(OR(F23<G23,F23*G23=0),AD19,\"\")),\"\")","v":""},{"$f":"IF(AND($D$20>0,$E$20>0,D23>0,E23>0,$O$19>0,$H$19>0),I23*E23*$O$19,\"\")","v":""},{"$f":"IF(AND($D$20>0,$E$20>0,D23>0,E23>0,$O$18>0,$H$18>0),H23*D23*E23/$O$18,\"\")","v":""},{"$f":"IF(AND($D$20>0,$E$20>0,D23>0,E23>0,$O$18>0,$O$19>0,$H$18>0,$H$19>0),L23/M23,\"\")","v":""},{"$f":"IF(AND($D$18>0,E23>0),E23*$AZ$18,\"\")","v":""},{"$f":"IF(AND(E23>0,$P$22>0),$P$22*E23,\"\")","v":""},{"$f":"IF(AND($D$20>0,$E$20>0,D23>0,F23>0,G23>0,$H$18>0),(K23-G23)/(D23*H23),\"\")","v":""},{"$f":"IF(AND($D$20>0,$E$20>0,D23>0,F23>0,G23>0,$H$18>0),IF((-MTTF!G3*G23+MTTF!H3)<=$AZ$19,(-MTTF!G3*G23+MTTF!H3),$T$19),\"\")","v":""},{"$f":"IF(AND($D$20>0,$E$20>0,D23>0,F23>0,G23>0,$H$18>0),R23-D23,\"\")","v":""},{"$f":"IF(AND($D$20>0,$E$20>0,D23>0,F23>0,G23>0,$H$18>0),IF(AND(0<=S23,S23<=R23*0.1),\"Warning zone\",IF(S23<0,\"Out of range\",\"Safe zone\")),\"\")","v":""},{"$f":"IF(OR($D$18=Base!$BT$21,$D$18=Base!$BT$32,$D$18=Base!$BT$40,$D$18=Base!$BT$51,$D$18=Base!$BT$58,$D$18=Base!$BT$69,$D$18=Base!$BT$83,$D$18=Base!$BT$144,$D$18=Base!$BT$210),IF(AND(D23>0,F23>0),MTTF!BX5,\"\"),\"\")","v":""},{"$f":"IF(OR($D$18=Base!$BT$21,$D$18=Base!$BT$32,$D$18=Base!$BT$40,$D$18=Base!$BT$51,$D$18=Base!$BT$58,$D$18=Base!$BT$69,$D$18=Base!$BT$83,$D$18=Base!$BT$144,$D$18=Base!$BT$210),IF(AND(D23>0,F23>0),MTTF!BY5,\"\"),\"\")","v":""},null,null,null,null,null,null,{"$f":"VLOOKUP(BG23,Base!$CL:$DJ,AE23,FALSE)","v":{"$error":"#N/A"}},{"$f":"VLOOKUP(BG23,Base!$CL:$CU,AM23,FALSE)","v":{"$error":"#N/A"}},{"$f":"MATCH($H$18,AF23:AL23,0)+18","v":{"$error":"#N/A"}},{"$f":"VLOOKUP(BG23,Base!$CL:$DQ,Base!$DK$3,FALSE)","v":{"$error":"#N/A"}},{"$f":"VLOOKUP(BG23,Base!$CL:$DQ,Base!$DL$3,FALSE)","v":{"$error":"#N/A"}},{"$f":"VLOOKUP(BG23,Base!$CL:$DQ,Base!$DM$3,FALSE)","v":{"$error":"#N/A"}},{"$f":"VLOOKUP(BG23,Base!$CL:$DQ,Base!$DN$3,FALSE)","v":{"$error":"#N/A"}},{"$f":"VLOOKUP(BG23,Base!$CL:$DQ,Base!$DO$3,FALSE)","v":{"$error":"#N/A"}},{"$f":"VLOOKUP(BG23,Base!$CL:$DQ,Base!$DP$3,FALSE)","v":{"$error":"#N/A"}},{"$f":"VLOOKUP(BG23,Base!$CL:$DQ,Base!$DQ$3,FALSE)","v":{"$error":"#N/A"}},{"$f":"MATCH($H$19,AN23:AU23,0)+2","v":{"$error":"#N/A"}},{"$f":"VLOOKUP($BG$23,Base!$CL:$DC,Base!CV$3,FALSE)","v":{"$error":"#N/A"}},{"$f":"VLOOKUP($BG$23,Base!$CL:$DC,Base!CW$3,FALSE)","v":{"$error":"#N/A"}},{"$f":"VLOOKUP($BG$23,Base!$CL:$DC,Base!CX$3,FALSE)","v":{"$error":"#N/A"}},{"$f":"VLOOKUP($BG$23,Base!$CL:$DC,Base!CY$3,FALSE)","v":{"$error":"#N/A"}},{"$f":"VLOOKUP($BG$23,Base!$CL:$DC,Base!CZ$3,FALSE)","v":{"$error":"#N/A"}},{"$f":"VLOOKUP($BG$23,Base!$CL:$DC,Base!DA$3,FALSE)","v":{"$error":"#N/A"}},{"$f":"VLOOKUP($BG$23,Base!$CL:$DC,Base!DB$3,FALSE)","v":{"$error":"#N/A"}},{"$f":"VLOOKUP($BG$23,Base!$CL:$DC,Base!DC$3,FALSE)","v":{"$error":"#N/A"}},null,{"$f":"IF(F23>0,CI23*D23^2+CJ23*D23+CK23,0)","v":0},{"$f":"IF(AND(D23<=$AZ$19,D23>0),CE23*D23^3+CF23*D23^2+CG23*D23+CH23,\"-\")","v":{"$error":"#N/A"}},{"$f":"IF(F23>0,CB23*D23^2+CC23*D23+CD23,0)","v":0},{"$f":"IF(AND(D23<=$AZ$19,D23>0),BX23*D23^3+BY23*D23^2+BZ23*D23+CA23,\"-\")","v":{"$error":"#N/A"}},{"$f":"IF(AND(D18>0,D20>0,E20>0),VLOOKUP(BG23,Base!CL:EF,Base!EF3,FALSE),\"\")","v":""},{"$f":"IF(AND(D18>0,D20>0,E20>0),VLOOKUP(BG23,Base!CL:CM,Base!CM3,FALSE),\"\")","v":""},null,{"$f":"IF($D$18>0,VLOOKUP($D$18,Base!$BT:$BU,Base!BU3,FALSE),0)","v":0},{"$f":"BD23*IF(OR(D20=\"Fashion\",D20=\"Meat\",D20=\"Vegetable\"),79,D20)","v":0},{"$f":"IF(E20=\"Fashion_White\",68,IF(E20=\"Fashion_Color\",69,E20))","v":0},{"$f":"IF(BF23=\"Special\",BD23*BF24*79+BF24+79,BD23*D20*BF23+D20+BF23)","v":0},null,{"$f":"VLOOKUP($D$18,Base!$BT:$CF,Base!BX$3,FALSE)","v":{"$error":"#N/A"}},{"$f":"VLOOKUP($D$18,Base!$BT:$CF,Base!BY$3,FALSE)","v":{"$error":"#N/A"}},{"$f":"VLOOKUP($D$18,Base!$BT:$CF,Base!BZ$3,FALSE)","v":{"$error":"#N/A"}},{"$f":"VLOOKUP($D$18,Base!$BT:$CF,Base!CA$3,FALSE)","v":{"$error":"#N/A"}},{"$f":"VLOOKUP($D$18,Base!$BT:$CF,Base!CB$3,FALSE)","v":{"$error":"#N/A"}},{"$f":"VLOOKUP($D$18,Base!$BT:$CF,Base!CC$3,FALSE)","v":{"$error":"#N/A"}},{"$f":"VLOOKUP($D$18,Base!$BT:$CF,Base!CD$3,FALSE)","v":{"$error":"#N/A"}},{"$f":"VLOOKUP($D$18,Base!$BT:$CF,Base!CE$3,FALSE)","v":{"$error":"#N/A"}},{"$f":"VLOOKUP($D$18,Base!$BT:$CF,Base!CF$3,FALSE)","v":{"$error":"#N/A"}},null,{"$f":"VLOOKUP($BE$23,Base!$CG:$CK,Base!CH3,FALSE)","v":{"$error":"#N/A"}},{"$f":"VLOOKUP($BE$23,Base!$CG:$CK,Base!CI3,FALSE)","v":{"$error":"#N/A"}},{"$f":"VLOOKUP($BE$23,Base!$CG:$CK,Base!CJ3,FALSE)","v":{"$error":"#N/A"}},{"$f":"VLOOKUP($BE$23,Base!$CG:$CK,Base!CK3,FALSE)","v":{"$error":"#N/A"}},null,{"$f":"VLOOKUP(BG23,Base!$CL:$EE,Base!$DR$3,FALSE)","v":{"$error":"#N/A"}},{"$f":"VLOOKUP(BG23,Base!$CL:$EE,Base!$DS$3,FALSE)","v":{"$error":"#N/A"}},{"$f":"VLOOKUP(BG23,Base!$CL:$EE,Base!$DT$3,FALSE)","v":{"$error":"#N/A"}},{"$f":"VLOOKUP(BG23,Base!$CL:$EE,Base!$DU$3,FALSE)","v":{"$error":"#N/A"}},{"$f":"VLOOKUP(BG23,Base!$CL:$EE,Base!$DV$3,FALSE)","v":{"$error":"#N/A"}},{"$f":"VLOOKUP(BG23,Base!$CL:$EE,Base!$DW$3,FALSE)","v":{"$error":"#N/A"}},{"$f":"IF(AND(BD23=282,MID(H19,1,2)=\"S2\"),-0.001933,(IF(AND(BD23=282,MID(H19,1,2)=\"S3\"),-0.001783,(IF(AND(BD23=282,MID(H19,1,2)=\"S4\"),-0.00155,VLOOKUP(BG23,Base!$CL:$EE,Base!$DX$3,FALSE))))))","v":{"$error":"#N/A"}},{"$f":"VLOOKUP(BG23,Base!$CL:$EE,Base!$DY$3,FALSE)","v":{"$error":"#N/A"}},{"$f":"VLOOKUP(BG23,Base!$CL:$EE,Base!$DZ$3,FALSE)","v":{"$error":"#N/A"}},{"$f":"VLOOKUP(BG23,Base!$CL:$EE,Base!$EA$3,FALSE)","v":{"$error":"#N/A"}},{"$f":"VLOOKUP(BG23,Base!$CL:$EE,Base!$EB$3,FALSE)","v":{"$error":"#N/A"}},{"$f":"VLOOKUP(BG23,Base!$CL:$EE,Base!$EC$3,FALSE)","v":{"$error":"#N/A"}},{"$f":"VLOOKUP(BG23,Base!$CL:$EE,Base!$ED$3,FALSE)","v":{"$error":"#N/A"}},{"$f":"IF(AND(BD23=282,MID(H19,1,2)=\"S2\"),-0.00135,(IF(AND(BD23=282,MID(H19,1,2)=\"S3\"),-0.0011,(IF(AND(BD23=282,MID(H19,1,2)=\"S4\"),-0.00095,VLOOKUP(BG23,Base!$CL:$EE,Base!$EE$3,FALSE))))))","v":{"$error":"#N/A"}}]
[null,null,2,null,null,null,null,{"$f":"IF(AND($D$20>0,$E$20>0,D24>0,$H$18>0),((F24-$AE$19)*AW24+AC24*AX24)*$L$18,\"\")","v":""},"","",{"$f":"IF(AND($D$20>0,$E$20>0,D24>0,$H$18>0),IF(F24>0,F24+H24*D24*$AX$18,IF(OR(F24<G24,F24*G24=0),AD19,\"\")),\"\")","v":""},"","","","","","",{"$f":"IF(AND($D$20>0,$E$20>0,D24>0,F24>0,G24>0,$H$18>0),IF((-MTTF!G4*G24+MTTF!H4)<=$AZ$19,(-MTTF!G4*G24+MTTF!H4),$T$19),\"\")","v":""},"","",{"$f":"IF(OR($D$18=Base!$BT$21,$D$18=Base!$BT$32,$D$18=Base!$BT$40,$D$18=Base!$BT$51,$D$18=Base!$BT$58,$D$18=Base!$BT$69,$D$18=Base!$BT$83,$D$18=Base!$BT$144,$D$18=Base!$BT$210),IF(AND(D24>0,F24>0),MTTF!BX6,\"\"),\"\")","v":""},{"$f":"IF(OR($D$18=Base!$BT$21,$D$18=Base!$BT$32,$D$18=Base!$BT$40,$D$18=Base!$BT$51,$D$18=Base!$BT$58,$D$18=Base!$BT$69,$D$18=Base!$BT$83,$D$18=Base!$BT$144,$D$18=Base!$BT$210),IF(AND(D24>0,F24>0),MTTF!BY6,\"\"),\"\")","v":""},null,null,null,null,null,null,{"$f":"AC23","v":{"$error":"#N/A"}},{"$f":"AD23","v":{"$error":"#N/A"}},null,null,null,null,null,null,null,null,null,null,null,null,null,null,null,null,null,null,0,{"$error":"#N/A"},0,{"$error":"#N/A"},null,null,null,null,null,{"$f":"IF(D20=\"Fashion\",51,IF(D20=\"Meat\",52,IF(D20=\"Vegetable\",53,\"-\")))","v":"-"},null,null,null,null,null,null,null,null,null,null,null,null,null,null,null,null,null,{"$f":"BX23","v":{"$error":"#N/A"}},{"$error":"#N/A"},{"$error":"#N/A"},{"$error":"#N/A"},{"$f":"CB23","v":{"$error":"#N/A"}},{"$error":"#N/A"},{"$f":"CD23","v":{"$error":"#N/A"}},{"$error":"#N/A"},{"$error":"#N/A"},{"$error":"#N/A"},{"$f":"CH23","v":{"$error":"#N/A"}},{"$error":"#N/A"},{"$f":"CJ23","v":{"$error":"#N/A"}},{"$error":"#N/A"}]
[null,null,3,null,null,null,null,"","","",{"$f":"IF(AND($D$20>0,$E$20>0,D25>0,$H$18>0),IF(F25>0,F25+H25*D25*$AX$18,IF(OR(F25<G25,F25*G25=0),AD19,\"\")),\"\")","v":""},"","","","","","",{"$f":"IF(AND($D$20>0,$E$20>0,D25>0,F25>0,G25>0,$H$18>0),IF((-MTTF!G5*G25+MTTF!H5)<=$AZ$19,(-MTTF!G5*G25+MTTF!H5),$T$19),\"\")","v":""},"","",{"$f":"IF(OR($D$18=Base!$BT$21,$D$18=Base!$BT$32,$D$18=Base!$BT$40,$D$18=Base!$BT$51,$D$18=Base!$BT$58,$D$18=Base!$BT$69,$D$18=Base!$BT$83,$D$18=Base!$BT$144,$D$18=Base!$BT$210),IF(AND(D25>0,F25>0),MTTF!BX7,\"\"),\"\")","v":""},{"$f":"IF(OR($D$18=Base!$BT$21,$D$18=Base!$BT$32,$D$18=Base!$BT$40,$D$18=Base!$BT$51,$D$18=Base!$BT$58,$D$18=Base!$BT$69,$D$18=Base!$BT$83,$D$18=Base!$BT$144,$D$18=Base!$BT$210),IF(AND(D25>0,F25>0),MTTF!BY7,\"\"),\"\")","v":""},null,null,null,null,null,null,{"$error":"#N/A"},{"$error":"#N/A"},null,null,null,null,null,null,null,null,null,null,null,null,null,null,null,null,null,null,0,{"$error":"#N/A"},0,{"$error":"#N/A"},null,null,null,null,null,null,null,null,null,null,null,null,null,null,null,null,null,null,null,null,null,null,null,{"$error":"#N/A"},{"$error":"#N/A"},{"$error":"#N/A"},{"$error":"#N/A"},{"$error":"#N/A"},{"$error":"#N/A"},{"$error":"#N/A"},{"$error":"#N/A"},{"$error":"#N/A"},{"$error":"#N/A"},{"$error":"#N/A"},{"$error":"#N/A"},{"$error":"#N/A"},{"$error":"#N/A"}]
[null,null,4,null,null,null,null,"","","",{"$f":"IF(AND($D$20>0,$E$20>0,D26>0,$H$18>0),IF(F26>0,F26+H26*D26*$AX$18,IF(OR(F26<G26,F26*G26=0),AD19,\"\")),\"\")","v":""},"","","","","","",{"$f":"IF(AND($D$20>0,$E$20>0,D26>0,F26>0,G26>0,$H$18>0),IF((-MTTF!G6*G26+MTTF!H6)<=$AZ$19,(-MTTF!G6*G26+MTTF!H6),$T$19),\"\")","v":""},"","",{"$f":"IF(OR($D$18=Base!$BT$21,$D$18=Base!$BT$32,$D$18=Base!$BT$40,$D$18=Base!$BT$51,$D$18=Base!$BT$58,$D$18=Base!$BT$69,$D$18=Base!$BT$83,$D$18=Base!$BT$144,$D$18=Base!$BT$210),IF(AND(D26>0,F26>0),MTTF!BX8,\"\"),\"\")","v":""},{"$f":"IF(OR($D$18=Base!$BT$21,$D$18=Base!$BT$32,$D$18=Base!$BT$40,$D$18=Base!$BT$51,$D$18=Base!$BT$58,$D$18=Base!$BT$69,$D$18=Base!$BT$83,$D$18=Base!$BT$144,$D$18=Base!$BT$210),IF(AND(D26>0,F26>0),MTTF!BY8,\"\"),\"\")","v":""},null,null,null,null,null,null,{"$error":"#N/A"},{"$error":"#N/A"},null,null,null,null,null,null,null,null,null,null,null,null,null,null,null,null,null,null,0,{"$error":"#N/A"},0,{"$error":"#N/A"},null,null,null,null,null,null,null,null,null,null,null,null,null,null,null,null,null,null,null,null,null,null,null,{"$error":"#N/A"},{"$error":"#N/A"},{"$error":"#N/A"},{"$error":"#N/A"},{"$error":"#N/A"},{"$error":"#N/A"},{"$error":"#N/A"},{"$error":"#N/A"},{"$error":"#N/A"},{"$error":"#N/A"},{"$error":"#N/A"},{"$error":"#N/A"},{"$error":"#N/A"},{"$error":"#N/A"}]
[null,null,5,null,null,null,null,"","","",{"$f":"IF(AND($D$20>0,$E$20>0,D27>0,$H$18>0),IF(F27>0,F27+H27*D27*$AX$18,IF(OR(F27<G27,F27*G27=0),AD19,\"\")),\"\")","v":""},"","","","","","",{"$f":"IF(AND($D$20>0,$E$20>0,D27>0,F27>0,G27>0,$H$18>0),IF((-MTTF!G7*G27+MTTF!H7)<=$AZ$19,(-MTTF!G7*G27+MTTF!H7),$T$19),\"\")","v":""},"","",{"$f":"IF(OR($D$18=Base!$BT$21,$D$18=Base!$BT$32,$D$18=Base!$BT$40,$D$18=Base!$BT$51,$D$18=Base!$BT$58,$D$18=Base!$BT$69,$D$18=Base!$BT$83,$D$18=Base!$BT$144,$D$18=Base!$BT$210),IF(AND(D27>0,F27>0),MTTF!BX9,\"\"),\"\")","v":""},{"$f":"IF(OR($D$18=Base!$BT$21,$D$18=Base!$BT$32,$D$18=Base!$BT$40,$D$18=Base!$BT$51,$D$18=Base!$BT$58,$D$18=Base!$BT$69,$D$18=Base!$BT$83,$D$18=Base!$BT$144,$D$18=Base!$BT$210),IF(AND(D27>0,F27>0),MTTF!BY9,\"\"),\"\")","v":""},null,null,null,null,null,null,{"$error":"#N/A"},{"$error":"#N/A"},null,null,null,null,null,null,null,null,null,null,null,null,null,null,null,null,null,null,0,{"$error":"#N/A"},0,{"$error":"#N/A"},null,null,null,null,null,null,null,null,null,null,null,null,null,null,null,null,null,null,null,null,null,null,null,{"$error":"#N/A"},{"$error":"#N/A"},{"$error":"#N/A"},{"$error":"#N/A"},{"$error":"#N/A"},{"$error":"#N/A"},{"$error":"#N/A"},{"$error":"#N/A"},{"$error":"#N/A"},{"$error":"#N/A"},{"$error":"#N/A"},{"$error":"#N/A"},{"$error":"#N/A"},{"$error":"#N/A"}]
[null,null,6,null,null,null,null,"","","",{"$f":"IF(AND($D$20>0,$E$20>0,D28>0,$H$18>0),IF(F28>0,F28+H28*D28*$AX$18,IF(OR(F28<G28,F28*G28=0),AD19,\"\")),\"\")","v":""},"","","","","","",{"$f":"IF(AND($D$20>0,$E$20>0,D28>0,F28>0,G28>0,$H$18>0),IF((-MTTF!G8*G28+MTTF!H8)<=$AZ$19,(-MTTF!G8*G28+MTTF!H8),$T$19),\"\")","v":""},"","",{"$f":"IF(OR($D$18=Base!$BT$21,$D$18=Base!$BT$32,$D$18=Base!$BT$40,$D$18=Base!$BT$51,$D$18=Base!$BT$58,$D$18=Base!$BT$69,$D$18=Base!$BT$83,$D$18=Base!$BT$144,$D$18=Base!$BT$210),IF(AND(D28>0,F28>0),MTTF!BX10,\"\"),\"\")","v":""},{"$f":"IF(OR($D$18=Base!$BT$21,$D$18=Base!$BT$32,$D$18=Base!$BT$40,$D$18=Base!$BT$51,$D$18=Base!$BT$58,$D$18=Base!$BT$69,$D$18=Base!$BT$83,$D$18=Base!$BT$144,$D$18=Base!$BT$210),IF(AND(D28>0,F28>0),MTTF!BY10,\"\"),\"\")","v":""},null,null,null,null,null,null,{"$f":"AC24","v":{"$error":"#N/A"}},{"$f":"AD24","v":{"$error":"#N/A"}},null,null,null,null,null,null,null,null,null,null,null,null,null,null,null,null,null,null,0,{"$error":"#N/A"},0,{"$error":"#N/A"},null,null,null,null,null,null,null,null,null,null,null,null,null,null,null,null,null,null,null,null,null,null,null,{"$f":"BX24","v":{"$error":"#N/A"}},{"$error":"#N/A"},{"$error":"#N/A"},{"$error":"#N/A"},{"$error":"#N/A"},{"$error":"#N/A"},{"$error":"#N/A"},{"$error":"#N/A"},{"$error":"#N/A"},{"$error":"#N/A"},{"$error":"#N/A"},{"$error":"#N/A"},{"$f":"CJ27","v":{"$error":"#N/A"}},{"$error":"#N/A"}]
[]
[null,"Product",null,null,null,"Vf [V]",null,null,null,"Vf Correlation",null,1,"Electrical efficiency",null,1," Sorting IF_driving =",null,{"$f":"IF(D30>0,AD30,\"\")","v":""},"Tj_max. =",{"$f":"IF(D30>0,AX31,\"\")","v":""},"supportable current scope",null,null,null,null,null,null,null,null,{"$f":"VLOOKUP(D30,Base!C:I,2,FALSE)","v":{"$error":"#N/A"}},{"$f":"R30/10","v":{"$error":"#VALUE!"}},null,null,null,null,null,null,null,null,null,null,null,null,null,null,null,null,null,"Rth of LED",{"$f":"VLOOKUP(D30,Base!C:I,5,FALSE)","v":{"$error":"#N/A"}},"LES",{"$f":"VLOOKUP(D30,Base!C:I,6,FALSE)","v":{"$error":"#N/A"}}]
[null,"Rank\n(Sellect)",null,"CCT","CRI","Flux [lm]",null,null,null,"Flux Correlation",null,1,"Optical efficiency",null,1,"Sorting Temperature",null,{"$f":"IF(D30>0,VLOOKUP(D30,Base!C:I,7,FALSE),\"\")","v":""},"IF_max. =",{"$f":"IF(D30>0,AZ31,\"\")","v":""},{"$f":"MTTF!CE4","v":""},{"$f":"MTTF!CF4","v":""},null,null,null,null,null,null,null,{"$f":"R31","v":""},{"$f":"AD31-(AD30*AC34*AX30)","v":{"$error":"#VALUE!"}},null,null,null,null,null,null,null,null,null,null,null,null,null,null,null,null,null,"TJ_max.",{"$f":"VLOOKUP(D30,Base!C:I,4,FALSE)","v":{"$error":"#N/A"}},"IF_max.",{"$f":"VLOOKUP(D30,Base!C:I,3,FALSE)","v":{"$error":"#N/A"}}]
[null,null,null,null,null,{"$f":"IF(AND(D30>0,D32>0,E32>0),VLOOKUP(BG35,Base!CL:EG,Base!EG3,FALSE),\"\")","v":""},null,{"$f":"IF(D30>0,VLOOKUP(D30,Base!C:P,14,FALSE),\"LED performance\")","v":"LED performance"},null,null,null,"Estimations of system",null,null,null,null,"Thermal Information",null,null,null,"Expected lifetime (hr)",null,null,null,null,null,null,null,{"$f":"9.6/0.2","v":47.999999999999993}]
[null,"Input\nCondition",null,"Current\n[A]","# of\nLED ","Ts\n[℃]","Ta\n(℃)","VF\n[V] ","Flux\n[㏐]","$\n/100lm","TJ\n[℃]","∑Flux\n[㏐]","∑Power\n[W] ","Efficacy\n[Lm/W]","∑LES\n[㎟]","∑cost\n($)","Rth(J-a)\n(℃/W)","IF_max.\n(A)","IF_margin\n(A)","Thermal\nGuide","L70\n(Ts > 25℃)","L80\n(Ts > 25℃)"]
[null,null,null,null,null,null,null,null,null,null,null,null,null,"LED cost",null,null,null,null,null,null,null,null,null,null,null,null,null,null,{"$f":"AC35","v":{"$error":"#N/A"}},{"$f":"AD35","v":{"$error":"#N/A"}},null,null,null,null,null,null,null,null,null,null,null,null,null,null,null,null,null,null,null,null,null,null,null,null,null,null,null,null,null,null,null,null,null,null,null,null,null,null,null,null,null,null,null,null,null,{"$f":"BX35","v":{"$error":"#N/A"}},{"$f":"BY35","v":{"$error":"#N/A"}},{"$error":"#N/A"},{"$error":"#N/A"},{"$error":"#N/A"},{"$error":"#N/A"},{"$error":"#N/A"},{"$error":"#N/A"},{"$error":"#N/A"},{"$error":"#N/A"},{"$error":"#N/A"},{"$error":"#N/A"},{"$error":"#N/A"},{"$error":"#N/A"}]
[null,"CASE - C",1,null,null,null,null,{"$f":"IF(AND($D$32>0,$E$32>0,D35>0,$H$30>0),((F35-$AE$31)*AW35+AC35*AX35)*$L$30,\"\")","v":""},{"$f":"IF(AND($D$32>0,$E$32>0,D35>0,$H$30>0,$H$31>0),(((K35-$AD$31)*AY35+1)*AD35*AZ35)*$L$31,\"\")","v":""},{"$f":"IF(AND($D$32>0,$E$32>0,D35>0,$P$34>0,$H$30>0,$H$31>0),$P$34/(I35/100),\"\")","v":""},{"$f":"IF(AND($D$32>0,$E$32>0,D35>0,$H$30>0),IF(F35>0,F35+H35*D35*$AX$30,IF(OR(F35<G35,F35*G35=0),AD31,\"\")),\"\")","v":""},{"$f":"IF(AND($D$32>0,$E$32>0,D35>0,E35>0,$O$31>0,$H$31>0),I35*E35*$O$31,\"\")","v":""},{"$f":"IF(AND($D$32>0,$E$32>0,D35>0,E35>0,$O$30>0,$H$30>0),H35*D35*E35/$O$30,\"\")","v":""},{"$f":"IF(AND($D$32>0,$E$32>0,D35>0,E35>0,$O$30>0,$O$31>0,$H$30>0,$H$31>0),L35/M35,\"\")","v":""},{"$f":"IF(AND($D$30>0,E35>0),E35*$AZ$30,\"\")","v":""},{"$f":"IF(AND(E35>0,$P$34>0),$P$34*E35,\"\")","v":""},{"$f":"IF(AND($D$32>0,$E$32>0,D35>0,F35>0,G35>0,$H$30>0),(K35-G35)/(D35*H35),\"\")","v":""},{"$f":"IF(AND($D$32>0,$E$32>0,D35>0,F35>0,G35>0,$H$30>0),IF((-MTTF!K3*G35+MTTF!L3)<=$AZ$31,(-MTTF!K3*G35+MTTF!L3),$T$31),\"\")","v":""},{"$f":"IF(AND($D$32>0,$E$32>0,D35>0,F35>0,G35>0,$H$30>0),R35-D35,\"\")","v":""},{"$f":"IF(AND($D$32>0,$E$32>0,D35>0,F35>0,G35>0,$H$30>0),IF(AND(0<=S35,S35<=R35*0.1),\"Warning zone\",IF(S35<0,\"Out of range\",\"Safe zone\")),\"\")","v":""},{"$f":"IF(OR($D$30=Base!$BT$21,$D$30=Base!$BT$32,$D$30=Base!$BT$40,$D$30=Base!$BT$51,$D$30=Base!$BT$58,$D$30=Base!$BT$69,$D$30=Base!$BT$83,$D$30=Base!$BT$144,$D$30=Base!$BT$210),IF(AND(D35>0,F35>0),MTTF!CK5,\"\"),\"\")","v":""},{"$f":"IF(OR($D$30=Base!$BT$21,$D$30=Base!$BT$32,$D$30=Base!$BT$40,$D$30=Base!$BT$51,$D$30=Base!$BT$58,$D$30=Base!$BT$69,$D$30=Base!$BT$83,$D$30=Base!$BT$144,$D$30=Base!$BT$210),IF(AND(D35>0,F35>0),MTTF!CL5,\"\"),\"\")","v":""},null,null,null,null,null,null,{"$f":"VLOOKUP(BG35,Base!$CL:$DJ,AE35,FALSE)","v":{"$error":"#N/A"}},{"$f":"VLOOKUP(BG35,Base!$CL:$CU,AM35,FALSE)","v":{"$error":"#N/A"}},{"$f":"MATCH($H$30,AF35:AL35,0)+18","v":{"$error":"#N/A"}},{"$f":"VLOOKUP(BG35,Base!$CL:$DQ,Base!$DK$3,FALSE)","v":{"$error":"#N/A"}},{"$f":"VLOOKUP(BG35,Base!$CL:$DQ,Base!$DL$3,FALSE)","v":{"$error":"#N/A"}},{"$f":"VLOOKUP(BG35,Base!$CL:$DQ,Base!$DM$3,FALSE)","v":{"$error":"#N/A"}},{"$f":"VLOOKUP(BG35,Base!$CL:$DQ,Base!$DN$3,FALSE)","v":{"$error":"#N/A"}},{"$f":"VLOOKUP(BG35,Base!$CL:$DQ,Base!$DO$3,FALSE)","v":{"$error":"#N/A"}},{"$f":"VLOOKUP(BG35,Base!$CL:$DQ,Base!$DP$3,FALSE)","v":{"$error":"#N/A"}},{"$f":"VLOOKUP(BG35,Base!$CL:$DQ,Base!$DQ$3,FALSE)","v":{"$error":"#N/A"}},{"$f":"MATCH($H$31,AN35:AU35,0)+2","v":{"$error":"#N/A"}},{"$f":"VLOOKUP($BG$35,Base!$CL:$DC,Base!CV$3,FALSE)","v":{"$error":"#N/A"}},{"$f":"VLOOKUP($BG$35,Base!$CL:$DC,Base!CW$3,FALSE)","v":{"$error":"#N/A"}},{"$f":"VLOOKUP($BG$35,Base!$CL:$DC,Base!CX$3,FALSE)","v":{"$error":"#N/A"}},{"$f":"VLOOKUP($BG$35,Base!$CL:$DC,Base!CY$3,FALSE)","v":{"$error":"#N/A"}},{"$f":"VLOOKUP($BG$35,Base!$CL:$DC,Base!CZ$3,FALSE)","v":{"$error":"#N/A"}},{"$f":"VLOOKUP($BG$35,Base!$CL:$DC,Base!DA$3,FALSE)","v":{"$error":"#N/A"}},{"$f":"VLOOKUP($BG$35,Base!$CL:$DC,Base!DB$3,FALSE)","v":{"$error":"#N/A"}},{"$f":"VLOOKUP($BG$35,Base!$CL:$DC,Base!DC$3,FALSE)","v":{"$error":"#N/A"}},null,{"$f":"IF(F35>0,CI35*D35^2+CJ35*D35+CK35,0)","v":0},{"$f":"IF(AND(D35<=$AZ$31,D35>0),CE35*D35^3+CF35*D35^2+CG35*D35+CH35,\"-\")","v":{"$error":"#N/A"}},{"$f":"IF(F35>0,CB35*D35^2+CC35*D35+CD35,0)","v":0},{"$f":"IF(AND(D35<=$AZ$31,D35>0),BX35*D35^3+BY35*D35^2+BZ35*D35+CA35,\"-\")","v":{"$error":"#N/A"}},{"$f":"IF(AND(D30>0,D32>0,E32>0),VLOOKUP(BG35,Base!CL:EF,Base!EF3,FALSE),\"\")","v":""},{"$f":"IF(AND(D30>0,D32>0,E32>0),VLOOKUP(BG35,Base!CL:CM,Base!CM3,FALSE),\"\")","v":""},null,{"$f":"IF($D$30>0,VLOOKUP($D$30,Base!$BT:$BU,Base!BU3,FALSE),0)","v":0},{"$f":"BD35*IF(OR(D32=\"Fashion\",D32=\"Meat\",D32=\"Vegetable\"),79,D32)","v":0},{"$f":"IF(E32=\"Fashion_White\",68,IF(E32=\"Fashion_Color\",69,E32))","v":0},{"$f":"IF(BF35=\"Special\",BD35*BF36*79+BF36+79,BD35*D32*BF35+D32+BF35)","v":0},null,{"$f":"VLOOKUP($D$30,Base!$BT:$CF,Base!BX$3,FALSE)","v":{"$error":"#N/A"}},{"$f":"VLOOKUP($D$30,Base!$BT:$CF,Base!BY$3,FALSE)","v":{"$error":"#N/A"}},{"$f":"VLOOKUP($D$30,Base!$BT:$CF,Base!BZ$3,FALSE)","v":{"$error":"#N/A"}},{"$f":"VLOOKUP($D$30,Base!$BT:$CF,Base!CA$3,FALSE)","v":{"$error":"#N/A"}},{"$f":"VLOOKUP($D$30,Base!$BT:$CF,Base!CB$3,FALSE)","v":{"$error":"#N/A"}},{"$f":"VLOOKUP($D$30,Base!$BT:$CF,Base!CC$3,FALSE)","v":{"$error":"#N/A"}},{"$f":"VLOOKUP($D$30,Base!$BT:$CF,Base!CD$3,FALSE)","v":{"$error":"#N/A"}},{"$f":"VLOOKUP($D$30,Base!$BT:$CF,Base!CE$3,FALSE)","v":{"$error":"#N/A"}},{"$f":"VLOOKUP($D$30,Base!$BT:$CF,Base!CF$3,FALSE)","v":{"$error":"#N/A"}},null,{"$f":"VLOOKUP($BE$35,Base!$CG:$CK,Base!CH3,FALSE)","v":{"$error":"#N/A"}},{"$f":"VLOOKUP($BE$35,Base!$CG:$CK,Base!CI3,FALSE)","v":{"$error":"#N/A"}},{"$f":"VLOOKUP($BE$35,Base!$CG:$CK,Base!CJ3,FALSE)","v":{"$error":"#N/A"}},{"$f":"VLOOKUP($BE$35,Base!$CG:$CK,Base!CK3,FALSE)","v":{"$error":"#N/A"}},null,{"$f":"VLOOKUP(BG35,Base!$CL:$EE,Base!$DR$3,FALSE)","v":{"$error":"#N/A"}},{"$f":"VLOOKUP(BG35,Base!$CL:$EE,Base!$DS$3,FALSE)","v":{"$error":"#N/A"}},{"$f":"VLOOKUP(BG35,Base!$CL:$EE,Base!$DT$3,FALSE)","v":{"$error":"#N/A"}},{"$f":"VLOOKUP(BG35,Base!$CL:$EE,Base!$DU$3,FALSE)","v":{"$error":"#N/A"}},{"$f":"VLOOKUP(BG35,Base!$CL:$EE,Base!$DV$3,FALSE)","v":{"$error":"#N/A"}},{"$f":"VLOOKUP(BG35,Base!$CL:$EE,Base!$DW$3,FALSE)","v":{"$error":"#N/A"}},{"$f":"IF(AND(BD35=282,MID(H31,1,2)=\"S2\"),-0.001933,(IF(AND(BD35=282,MID(H31,1,2)=\"S3\"),-0.001783,(IF(AND(BD35=282,MID(H31,1,2)=\"S4\"),-0.00155,VLOOKUP(BG35,Base!$CL:$EE,Base!$DX$3,FALSE))))))","v":{"$error":"#N/A"}},{"$f":"VLOOKUP(BG35,Base!$CL:$EE,Base!$DY$3,FALSE)","v":{"$error":"#N/A"}},{"$f":"VLOOKUP(BG35,Base!$CL:$EE,Base!$DZ$3,FALSE)","v":{"$error":"#N/A"}},{"$f":"VLOOKUP(BG35,Base!$CL:$EE,Base!$EA$3,FALSE)","v":{"$error":"#N/A"}},{"$f":"VLOOKUP(BG35,Base!$CL:$EE,Base!$EB$3,FALSE)","v":{"$error":"#N/A"}},{"$f":"VLOOKUP(BG35,Base!$CL:$EE,Base!$EC$3,FALSE)","v":{"$error":"#N/A"}},{"$f":"VLOOKUP(BG35,Base!$CL:$EE,Base!$ED$3,FALSE)","v":{"$error":"#N/A"}},{"$f":"IF(AND(BD35=282,MID(H31,1,2)=\"S2\"),-0.00135,(IF(AND(BD35=282,MID(H31,1,2)=\"S3\"),-0.0011,(IF(AND(BD35=282,MID(H31,1,2)=\"S4\"),-0.00095,VLOOKUP(BG35,Base!$CL:$EE,Base!$EE$3,FALSE))))))","v":{"$error":"#N/A"}}]
[null,null,2,null,null,null,null,"","","",{"$f":"IF(AND($D$32>0,$E$32>0,D36>0,$H$30>0),IF(F36>0,F36+H36*D36*$AX$30,IF(OR(F36<G36,F36*G36=0),AD31,\"\")),\"\")","v":""},"","","","","","",{"$f":"IF(AND($D$32>0,$E$32>0,D36>0,F36>0,G36>0,$H$30>0),IF((-MTTF!K4*G36+MTTF!L4)<=$AZ$31,(-MTTF!K4*G36+MTTF!L4),$T$31),\"\")","v":""},"","",{"$f":"IF(OR($D$30=Base!$BT$21,$D$30=Base!$BT$32,$D$30=Base!$BT$40,$D$30=Base!$BT$51,$D$30=Base!$BT$58,$D$30=Base!$BT$69,$D$30=Base!$BT$83,$D$30=Base!$BT$144,$D$30=Base!$BT$210),IF(AND(D36>0,F36>0),MTTF!CK6,\"\"),\"\")","v":""},{"$f":"IF(OR($D$30=Base!$BT$21,$D$30=Base!$BT$32,$D$30=Base!$BT$40,$D$30=Base!$BT$51,$D$30=Base!$BT$58,$D$30=Base!$BT$69,$D$30=Base!$BT$83,$D$30=Base!$BT$144,$D$30=Base!$BT$210),IF(AND(D36>0,F36>0),MTTF!CL6,\"\"),\"\")","v":""},null,null,null,null,null,null,{"$f":"AC35","v":{"$error":"#N/A"}},{"$error":"#N/A"},null,null,null,null,null,null,null,null,null,null,null,null,null,null,null,null,null,null,0,{"$error":"#N/A"},0,{"$error":"#N/A"},null,null,null,null,null,{"$f":"IF(D32=\"Fashion\",51,IF(D32=\"Meat\",52,IF(D32=\"Vegetable\",53,\"-\")))","v":"-"},null,null,null,null,null,null,null,null,null,null,null,null,null,null,null,null,null,{"$f":"BX35","v":{"$error":"#N/A"}},{"$error":"#N/A"},{"$error":"#N/A"},{"$error":"#N/A"},{"$f":"CB35","v":{"$error":"#N/A"}},{"$error":"#N/A"},{"$f":"CD35","v":{"$error":"#N/A"}},{"$error":"#N/A"},{"$error":"#N/A"},{"$error":"#N/A"},{"$error":"#N/A"},{"$f":"CI35","v":{"$error":"#N/A"}},{"$error":"#N/A"},{"$f":"CK35","v":{"$error":"#N/A"}}]
[null,null,3,null,null,null,null,"","","",{"$f":"IF(AND($D$32>0,$E$32>0,D37>0,$H$30>0),IF(F37>0,F37+H37*D37*$AX$30,IF(OR(F37<G37,F37*G37=0),AD31,\"\")),\"\")","v":""},"","","","","","",{"$f":"IF(AND($D$32>0,$E$32>0,D37>0,F37>0,G37>0,$H$30>0),IF((-MTTF!K5*G37+MTTF!L5)<=$AZ$31,(-MTTF!K5*G37+MTTF!L5),$T$31),\"\")","v":""},"","",{"$f":"IF(OR($D$30=Base!$BT$21,$D$30=Base!$BT$32,$D$30=Base!$BT$40,$D$30=Base!$BT$51,$D$30=Base!$BT$58,$D$30=Base!$BT$69,$D$30=Base!$BT$83,$D$30=Base!$BT$144,$D$30=Base!$BT$210),IF(AND(D37>0,F37>0),MTTF!CK7,\"\"),\"\")","v":""},{"$f":"IF(OR($D$30=Base!$BT$21,$D$30=Base!$BT$32,$D$30=Base!$BT$40,$D$30=Base!$BT$51,$D$30=Base!$BT$58,$D$30=Base!$BT$69,$D$30=Base!$BT$83,$D$30=Base!$BT$144,$D$30=Base!$BT$210),IF(AND(D37>0,F37>0),MTTF!CL7,\"\"),\"\")","v":""},null,null,null,null,null,null,{"$error":"#N/A"},{"$error":"#N/A"},null,null,null,null,null,null,null,null,null,null,null,null,null,null,null,null,null,null,0,{"$error":"#N/A"},0,{"$error":"#N/A"},null,null,null,null,null,null,null,null,null,null,null,null,null,null,null,null,null,null,null,null,null,null,null,{"$error":"#N/A"},{"$error":"#N/A"},{"$error":"#N/A"},{"$error":"#N/A"},{"$error":"#N/A"},{"$error":"#N/A"},{"$error":"#N/A"},{"$error":"#N/A"},{"$error":"#N/A"},{"$error":"#N/A"},{"$error":"#N/A"},{"$error":"#N/A"},{"$error":"#N/A"},{"$f":"CK36","v":{"$error":"#N/A"}}]
[null,null,4,null,null,null,null,"","","",{"$f":"IF(AND($D$32>0,$E$32>0,D38>0,$H$30>0),IF(F38>0,F38+H38*D38*$AX$30,IF(OR(F38<G38,F38*G38=0),AD31,\"\")),\"\")","v":""},"","","","","","",{"$f":"IF(AND($D$32>0,$E$32>0,D38>0,F38>0,G38>0,$H$30>0),IF((-MTTF!K6*G38+MTTF!L6)<=$AZ$31,(-MTTF!K6*G38+MTTF!L6),$T$31),\"\")","v":""},"","",{"$f":"IF(OR($D$30=Base!$BT$21,$D$30=Base!$BT$32,$D$30=Base!$BT$40,$D$30=Base!$BT$51,$D$30=Base!$BT$58,$D$30=Base!$BT$69,$D$30=Base!$BT$83,$D$30=Base!$BT$144,$D$30=Base!$BT$210),IF(AND(D38>0,F38>0),MTTF!CK8,\"\"),\"\")","v":""},{"$f":"IF(OR($D$30=Base!$BT$21,$D$30=Base!$BT$32,$D$30=Base!$BT$40,$D$30=Base!$BT$51,$D$30=Base!$BT$58,$D$30=Base!$BT$69,$D$30=Base!$BT$83,$D$30=Base!$BT$144,$D$30=Base!$BT$210),IF(AND(D38>0,F38>0),MTTF!CL8,\"\"),\"\")","v":""},null,null,null,null,null,null,{"$error":"#N/A"},{"$error":"#N/A"},null,null,null,null,null,null,null,null,null,null,null,null,null,null,null,null,null,null,0,{"$error":"#N/A"},0,{"$error":"#N/A"},null,null,null,null,null,null,null,null,null,null,null,null,null,null,null,null,null,null,null,null,null,null,null,{"$error":"#N/A"},{"$error":"#N/A"},{"$error":"#N/A"},{"$error":"#N/A"},{"$error":"#N/A"},{"$error":"#N/A"},{"$error":"#N/A"},{"$error":"#N/A"},{"$error":"#N/A"},{"$error":"#N/A"},{"$error":"#N/A"},{"$error":"#N/A"},{"$error":"#N/A"},{"$f":"CK37","v":{"$error":"#N/A"}}]
[null,null,5,null,null,null,null,"","","",{"$f":"IF(AND($D$32>0,$E$32>0,D39>0,$H$30>0),IF(F39>0,F39+H39*D39*$AX$30,IF(OR(F39<G39,F39*G39=0),AD31,\"\")),\"\")","v":""},"","","","","","",{"$f":"IF(AND($D$32>0,$E$32>0,D39>0,F39>0,G39>0,$H$30>0),IF((-MTTF!K7*G39+MTTF!L7)<=$AZ$31,(-MTTF!K7*G39+MTTF!L7),$T$31),\"\")","v":""},"","",{"$f":"IF(OR($D$30=Base!$BT$21,$D$30=Base!$BT$32,$D$30=Base!$BT$40,$D$30=Base!$BT$51,$D$30=Base!$BT$58,$D$30=Base!$BT$69,$D$30=Base!$BT$83,$D$30=Base!$BT$144,$D$30=Base!$BT$210),IF(AND(D39>0,F39>0),MTTF!CK9,\"\"),\"\")","v":""},{"$f":"IF(OR($D$30=Base!$BT$21,$D$30=Base!$BT$32,$D$30=Base!$BT$40,$D$30=Base!$BT$51,$D$30=Base!$BT$58,$D$30=Base!$BT$69,$D$30=Base!$BT$83,$D$30=Base!$BT$144,$D$30=Base!$BT$210),IF(AND(D39>0,F39>0),MTTF!CL9,\"\"),\"\")","v":""},null,null,null,null,null,null,{"$error":"#N/A"},{"$error":"#N/A"},null,null,null,null,null,null,null,null,null,null,null,null,null,null,null,null,null,null,0,{"$error":"#N/A"},0,{"$error":"#N/A"},null,null,null,null,null,null,null,null,null,null,null,null,null,null,null,null,null,null,null,null,null,null,null,{"$error":"#N/A"},{"$error":"#N/A"},{"$error":"#N/A"},{"$error":"#N/A"},{"$error":"#N/A"},{"$error":"#N/A"},{"$error":"#N/A"},{"$error":"#N/A"},{"$error":"#N/A"},{"$error":"#N/A"},{"$error":"#N/A"},{"$error":"#N/A"},{"$error":"#N/A"},{"$f":"CK38","v":{"$error":"#N/A"}}]
[null,null,6,null,null,null,null,"","","",{"$f":"IF(AND($D$32>0,$E$32>0,D40>0,$H$30>0),IF(F40>0,F40+H40*D40*$AX$30,IF(OR(F40<G40,F40*G40=0),AD31,\"\")),\"\")","v":""},"","","","","","",{"$f":"IF(AND($D$32>0,$E$32>0,D40>0,F40>0,G40>0,$H$30>0),IF((-MTTF!K8*G40+MTTF!L8)<=$AZ$31,(-MTTF!K8*G40+MTTF!L8),$T$31),\"\")","v":""},"","",{"$f":"IF(OR($D$30=Base!$BT$21,$D$30=Base!$BT$32,$D$30=Base!$BT$40,$D$30=Base!$BT$51,$D$30=Base!$BT$58,$D$30=Base!$BT$69,$D$30=Base!$BT$83,$D$30=Base!$BT$144,$D$30=Base!$BT$210),IF(AND(D40>0,F40>0),MTTF!CK10,\"\"),\"\")","v":""},{"$f":"IF(OR($D$30=Base!$BT$21,$D$30=Base!$BT$32,$D$30=Base!$BT$40,$D$30=Base!$BT$51,$D$30=Base!$BT$58,$D$30=Base!$BT$69,$D$30=Base!$BT$83,$D$30=Base!$BT$144,$D$30=Base!$BT$210),IF(AND(D40>0,F40>0),MTTF!CL10,\"\"),\"\")","v":""},null,null,null,null,null,null,{"$f":"AC36","v":{"$error":"#N/A"}},{"$f":"AD36","v":{"$error":"#N/A"}},null,null,null,null,null,null,null,null,null,null,null,null,null,null,null,null,null,null,0,{"$error":"#N/A"},0,{"$error":"#N/A"},null,null,null,null,null,null,null,null,null,null,null,null,null,null,null,null,null,null,null,null,null,null,null,{"$f":"BX36","v":{"$error":"#N/A"}},{"$error":"#N/A"},{"$error":"#N/A"},{"$error":"#N/A"},{"$error":"#N/A"},{"$f":"CC39","v":{"$error":"#N/A"}},{"$error":"#N/A"},{"$error":"#N/A"},{"$error":"#N/A"},{"$error":"#N/A"},{"$error":"#N/A"},{"$error":"#N/A"},{"$f":"CJ39","v":{"$error":"#N/A"}},{"$error":"#N/A"}]
[]
[null,"Product",null,null,null,"Vf [V] - Manual",null,null,null,"Vf Correlation",null,1,"Electrical efficiency",null,1," Sorting IF_driving =",null,{"$f":"IF(D42>0,AD42,\"\")","v":""},"Tj_max. =",{"$f":"IF(D42>0,AX43,\"\")","v":""},null,null,null,null,null,null,null,null,null,{"$f":"VLOOKUP(D42,Base!C:I,2,FALSE)","v":{"$error":"#N/A"}},{"$f":"R42/10","v":{"$error":"#VALUE!"}},null,null,null,null,null,null,null,null,null,null,null,null,null,null,null,null,null,"Rth of LED",{"$f":"VLOOKUP(D42,Base!C:I,5,FALSE)","v":{"$error":"#N/A"}},"LES",{"$f":"VLOOKUP(D42,Base!C:I,6,FALSE)","v":{"$error":"#N/A"}}]
[null,"Rank\n(Sellect)",null,"CCT","CRI","Flux [lm] - Manual",null,null,null,"Flux Correlation",null,1,"Optical efficiency",null,1,"Sorting Temperature",null,{"$f":"IF(D42>0,VLOOKUP(D42,Base!C:I,7,FALSE),\"\")","v":""},"IF_max. =",{"$f":"IF(D42>0,AZ43,\"\")","v":""},null,null,null,null,null,null,null,null,null,{"$f":"R43","v":""},{"$f":"AD43-(AD42*AC46*AX42)","v":{"$error":"#VALUE!"}},null,null,null,null,null,null,null,null,null,null,null,null,null,null,null,null,null,"TJ_max.",{"$f":"VLOOKUP(D42,Base!C:I,4,FALSE)","v":{"$error":"#N/A"}},"IF_max.",{"$f":"VLOOKUP(D42,Base!C:I,3,FALSE)","v":{"$error":"#N/A"}}]
[null,null,null,null,null,{"$f":"IF(AND(D42>0,D44>0,E44>0),VLOOKUP(BG47,Base!CL:EG,Base!EG3,FALSE),\"\")","v":""},null,{"$f":"IF(D42>0,VLOOKUP(D42,Base!C:P,14,FALSE),\"LED performance\")","v":"LED performance"},null,null,null,"Estimations of system",null,null,null,null,"Thermal Information"]
[null,"Input\nCondition",null,"Current\n[A]","# of\nLED ","Ts\n[℃]","Ta\n(℃)","VF\n[V] ","Flux\n[㏐]","$\n/100lm","TJ\n[℃]","∑Flux\n[㏐]","∑Power\n[W] ","Efficacy\n[Lm/W]","∑LES\n[㎟]","∑cost\n($)","Rth(J-a)\n(℃/W)","IF_max.\n(A)","IF_margin\n(A)","Thermal\nGuide"]
[null,null,null,null,null,null,null,null,null,null,null,null,null,"LED cost",null,null,null,null,null,null,null,null,null,null,null,null,null,null,{"$f":"AC47","v":0},{"$f":"AD47","v":0},null,null,null,null,null,null,null,null,null,null,null,null,null,null,null,null,null,null,null,null,null,null,null,null,null,null,null,null,null,null,null,null,null,null,null,null,null,null,null,null,null,null,null,null,null,{"$f":"BX47","v":{"$error":"#N/A"}},{"$f":"BY47","v":{"$error":"#N/A"}},{"$error":"#N/A"},{"$error":"#N/A"},{"$error":"#N/A"},{"$error":"#N/A"},{"$error":"#N/A"},{"$error":"#N/A"},{"$error":"#N/A"},{"$error":"#N/A"},{"$error":"#N/A"},{"$error":"#N/A"},{"$error":"#N/A"},{"$error":"#N/A"}]
[null,"Manual Input",1,null,null,null,null,{"$f":"IF(AND($D$44>0,$E$44>0,D47>0,$H$42>0),((F47-$AE$43)*AW47+AC47*AX47)*$L$42,\"\")","v":""},{"$f":"IF(AND($D$44>0,$E$44>0,D47>0,$H$42>0,$H$43>0),(((K47-$AD$43)*AY47+1)*AD47*AZ47)*$L$43,\"\")","v":""},{"$f":"IF(AND($D$44>0,$E$44>0,D47>0,$P$46>0,$H$42>0,$H$43>0),$P$46/(I47/100),\"\")","v":""},{"$f":"IF(AND($D$44>0,$E$44>0,D47>0,$H$42>0),IF(F47>0,F47+H47*D47*$AX$42,IF(OR(F47<G47,F47*G47=0),AD43,\"\")),\"\")","v":""},{"$f":"IF(AND($D$44>0,$E$44>0,D47>0,E47>0,$O$43>0,$H$43>0),I47*E47*$O$43,\"\")","v":""},{"$f":"IF(AND($D$44>0,$E$44>0,D47>0,E47>0,$O$42>0,$H$42>0),H47*D47*E47/$O$42,\"\")","v":""},{"$f":"IF(AND($D$44>0,$E$44>0,D47>0,E47>0,$O$42>0,$O$43>0,$H$42>0,$H$43>0),L47/M47,\"\")","v":""},{"$f":"IF(AND($D$42>0,E47>0),E47*$AZ$42,\"\")","v":""},{"$f":"IF(AND(E47>0,$P$46>0),$P$46*E47,\"\")","v":""},{"$f":"IF(AND($D$44>0,$E$44>0,D47>0,F47>0,G47>0,$H$42>0),(K47-G47)/(D47*H47),\"\")","v":""},{"$f":"IF(AND($D$44>0,$E$44>0,D47>0,F47>0,G47>0,$H$42>0),IF((-MTTF!O3*G47+MTTF!P3)<=$AZ$43,(-MTTF!O3*G47+MTTF!P3),$T$43),\"\")","v":""},{"$f":"IF(AND($D$44>0,$E$44>0,D47>0,F47>0,G47>0,$H$42>0),R47-D47,\"\")","v":""},{"$f":"IF(AND($D$44>0,$E$44>0,D47>0,F47>0,G47>0,$H$42>0),IF(AND(0<=S47,S47<=R47*0.1),\"Warning zone\",IF(S47<0,\"Out of range\",\"Safe zone\")),\"\")","v":""},null,null,null,null,null,null,null,null,{"$f":"H42","v":0},{"$f":"H43","v":0},null,{"$f":"VLOOKUP(BG47,Base!$CL:$DQ,Base!$DK$3,FALSE)","v":{"$error":"#N/A"}},{"$f":"VLOOKUP(BG47,Base!$CL:$DQ,Base!$DL$3,FALSE)","v":{"$error":"#N/A"}},{"$f":"VLOOKUP(BG47,Base!$CL:$DQ,Base!$DM$3,FALSE)","v":{"$error":"#N/A"}},{"$f":"VLOOKUP(BG47,Base!$CL:$DQ,Base!$DN$3,FALSE)","v":{"$error":"#N/A"}},{"$f":"VLOOKUP(BG47,Base!$CL:$DQ,Base!$DO$3,FALSE)","v":{"$error":"#N/A"}},{"$f":"VLOOKUP(BG47,Base!$CL:$DQ,Base!$DP$3,FALSE)","v":{"$error":"#N/A"}},{"$f":"VLOOKUP(BG47,Base!$CL:$DQ,Base!$DQ$3,FALSE)","v":{"$error":"#N/A"}},null,{"$f":"VLOOKUP($BG$47,Base!$CL:$DC,Base!CV$3,FALSE)","v":{"$error":"#N/A"}},{"$f":"VLOOKUP($BG$47,Base!$CL:$DC,Base!CW$3,FALSE)","v":{"$error":"#N/A"}},{"$f":"VLOOKUP($BG$47,Base!$CL:$DC,Base!CX$3,FALSE)","v":{"$error":"#N/A"}},{"$f":"VLOOKUP($BG$47,Base!$CL:$DC,Base!CY$3,FALSE)","v":{"$error":"#N/A"}},{"$f":"VLOOKUP($BG$47,Base!$CL:$DC,Base!CZ$3,FALSE)","v":{"$error":"#N/A"}},{"$f":"VLOOKUP($BG$47,Base!$CL:$DC,Base!DA$3,FALSE)","v":{"$error":"#N/A"}},{"$f":"VLOOKUP($BG$47,Base!$CL:$DC,Base!DB$3,FALSE)","v":{"$error":"#N/A"}},{"$f":"VLOOKUP($BG$47,Base!$CL:$DC,Base!DC$3,FALSE)","v":{"$error":"#N/A"}},null,{"$f":"IF(F47>0,CI47*D47^2+CJ47*D47+CK47,0)","v":0},{"$f":"IF(AND(D47<=$AZ$43,D47>0),CE47*D47^3+CF47*D47^2+CG47*D47+CH47,\"-\")","v":{"$error":"#N/A"}},{"$f":"IF(F47>0,CB47*D47^2+CC47*D47+CD47,0)","v":0},{"$f":"IF(AND(D47<=$AZ$43,D47>0),BX47*D47^3+BY47*D47^2+BZ47*D47+CA47,\"-\")","v":{"$error":"#N/A"}},null,null,null,{"$f":"IF($D$42>0,VLOOKUP($D$42,Base!$BT:$BU,Base!BU3,FALSE),0)","v":0},{"$f":"BD47*IF(OR(D44=\"Fashion\",D44=\"Meat\",D44=\"Vegetable\"),79,D44)","v":0},{"$f":"IF(E44=\"Fashion_White\",68,IF(E44=\"Fashion_Color\",69,E44))","v":0},{"$f":"IF(BF47=\"Special\",BD47*BF48*79+BF48+79,BD47*D44*BF47+D44+BF47)","v":0},null,{"$f":"VLOOKUP($D$42,Base!$BT:$CF,Base!BX$3,FALSE)","v":{"$error":"#N/A"}},{"$f":"VLOOKUP($D$42,Base!$BT:$CF,Base!BY$3,FALSE)","v":{"$error":"#N/A"}},{"$f":"VLOOKUP($D$42,Base!$BT:$CF,Base!BZ$3,FALSE)","v":{"$error":"#N/A"}},{"$f":"VLOOKUP($D$42,Base!$BT:$CF,Base!CA$3,FALSE)","v":{"$error":"#N/A"}},{"$f":"VLOOKUP($D$42,Base!$BT:$CF,Base!CB$3,FALSE)","v":{"$error":"#N/A"}},{"$f":"VLOOKUP($D$42,Base!$BT:$CF,Base!CC$3,FALSE)","v":{"$error":"#N/A"}},{"$f":"VLOOKUP($D$42,Base!$BT:$CF,Base!CD$3,FALSE)","v":{"$error":"#N/A"}},{"$f":"VLOOKUP($D$42,Base!$BT:$CF,Base!CE$3,FALSE)","v":{"$error":"#N/A"}},{"$f":"VLOOKUP($D$42,Base!$BT:$CF,Base!CF$3,FALSE)","v":{"$error":"#N/A"}},null,{"$f":"VLOOKUP($BE$47,Base!$CG:$CK,Base!CH3,FALSE)","v":{"$error":"#N/A"}},{"$f":"VLOOKUP($BE$47,Base!$CG:$CK,Base!CI3,FALSE)","v":{"$error":"#N/A"}},{"$f":"VLOOKUP($BE$47,Base!$CG:$CK,Base!CJ3,FALSE)","v":{"$error":"#N/A"}},{"$f":"VLOOKUP($BE$47,Base!$CG:$CK,Base!CK3,FALSE)","v":{"$error":"#N/A"}},null,{"$f":"VLOOKUP(BG47,Base!$CL:$EE,Base!$DR$3,FALSE)","v":{"$error":"#N/A"}},{"$f":"VLOOKUP(BG47,Base!$CL:$EE,Base!$DS$3,FALSE)","v":{"$error":"#N/A"}},{"$f":"VLOOKUP(BG47,Base!$CL:$EE,Base!$DT$3,FALSE)","v":{"$error":"#N/A"}},{"$f":"VLOOKUP(BG47,Base!$CL:$EE,Base!$DU$3,FALSE)","v":{"$error":"#N/A"}},{"$f":"VLOOKUP(BG47,Base!$CL:$EE,Base!$DV$3,FALSE)","v":{"$error":"#N/A"}},{"$f":"VLOOKUP(BG47,Base!$CL:$EE,Base!$DW$3,FALSE)","v":{"$error":"#N/A"}},{"$f":"IF(AND(BD47=282,MID(H43,1,2)=\"S2\"),-0.001933,(IF(AND(BD47=282,MID(H43,1,2)=\"S3\"),-0.001783,(IF(AND(BD47=282,MID(H43,1,2)=\"S4\"),-0.00155,VLOOKUP(BG47,Base!$CL:$EE,Base!$DX$3,FALSE))))))","v":{"$error":"#N/A"}},{"$f":"VLOOKUP(BG47,Base!$CL:$EE,Base!$DY$3,FALSE)","v":{"$error":"#N/A"}},{"$f":"VLOOKUP(BG47,Base!$CL:$EE,Base!$DZ$3,FALSE)","v":{"$error":"#N/A"}},{"$f":"VLOOKUP(BG47,Base!$CL:$EE,Base!$EA$3,FALSE)","v":{"$error":"#N/A"}},{"$f":"VLOOKUP(BG47,Base!$CL:$EE,Base!$EB$3,FALSE)","v":{"$error":"#N/A"}},{"$f":"VLOOKUP(BG47,Base!$CL:$EE,Base!$EC$3,FALSE)","v":{"$error":"#N/A"}},{"$f":"VLOOKUP(BG47,Base!$CL:$EE,Base!$ED$3,FALSE)","v":{"$error":"#N/A"}},{"$f":"IF(AND(BD47=282,MID(H43,1,2)=\"S2\"),-0.00135,(IF(AND(BD47=282,MID(H43,1,2)=\"S3\"),-0.0011,(IF(AND(BD47=282,MID(H43,1,2)=\"S4\"),-0.00095,VLOOKUP(BG47,Base!$CL:$EE,Base!$EE$3,FALSE))))))","v":{"$error":"#N/A"}}]
[null,null,2,null,null,null,null,"","","",{"$f":"IF(AND($D$44>0,$E$44>0,D48>0,$H$42>0),IF(F48>0,F48+H48*D48*$AX$42,IF(OR(F48<G48,F48*G48=0),AD43,\"\")),\"\")","v":""},"","","","","","",{"$f":"IF(AND($D$44>0,$E$44>0,D48>0,F48>0,G48>0,$H$42>0),IF((-MTTF!O4*G48+MTTF!P4)<=$AZ$43,(-MTTF!O4*G48+MTTF!P4),$T$43),\"\")","v":""},"","",null,null,null,null,null,null,null,null,{"$f":"AC47","v":0},0,null,null,null,null,null,null,null,null,null,null,null,null,null,null,null,null,null,null,0,{"$error":"#N/A"},0,{"$error":"#N/A"},null,null,null,null,null,{"$f":"IF(D44=\"Fashion\",51,IF(D44=\"Meat\",52,IF(D44=\"Vegetable\",53,\"-\")))","v":"-"},null,null,null,null,null,null,null,null,null,null,null,null,null,null,null,null,null,{"$f":"BX47","v":{"$error":"#N/A"}},{"$error":"#N/A"},{"$error":"#N/A"},{"$error":"#N/A"},{"$error":"#N/A"},{"$error":"#N/A"},{"$error":"#N/A"},{"$error":"#N/A"},{"$error":"#N/A"},{"$error":"#N/A"},{"$error":"#N/A"},{"$error":"#N/A"},{"$error":"#N/A"},{"$f":"CK47","v":{"$error":"#N/A"}}]
[null,null,3,null,null,null,null,"","","",{"$f":"IF(AND($D$44>0,$E$44>0,D49>0,$H$42>0),IF(F49>0,F49+H49*D49*$AX$42,IF(OR(F49<G49,F49*G49=0),AD43,\"\")),\"\")","v":""},"","","","","","",{"$f":"IF(AND($D$44>0,$E$44>0,D49>0,F49>0,G49>0,$H$42>0),IF((-MTTF!O5*G49+MTTF!P5)<=$AZ$43,(-MTTF!O5*G49+MTTF!P5),$T$43),\"\")","v":""},"","",null,null,null,null,null,null,null,null,0,0,null,null,null,null,null,null,null,null,null,null,null,null,null,null,null,null,null,null,0,{"$error":"#N/A"},0,{"$error":"#N/A"},null,null,null,null,null,null,null,null,null,null,null,null,null,null,null,null,null,null,null,null,null,null,null,{"$f":"BX48","v":{"$error":"#N/A"}},{"$error":"#N/A"},{"$error":"#N/A"},{"$error":"#N/A"},{"$error":"#N/A"},{"$error":"#N/A"},{"$error":"#N/A"},{"$error":"#N/A"},{"$error":"#N/A"},{"$error":"#N/A"},{"$error":"#N/A"},{"$error":"#N/A"},{"$error":"#N/A"},{"$f":"CK48","v":{"$error":"#N/A"}}]
[null,null,4,null,null,null,null,"","","",{"$f":"IF(AND($D$44>0,$E$44>0,D50>0,$H$42>0),IF(F50>0,F50+H50*D50*$AX$42,IF(OR(F50<G50,F50*G50=0),AD43,\"\")),\"\")","v":""},"","","","","","",{"$f":"IF(AND($D$44>0,$E$44>0,D50>0,F50>0,G50>0,$H$42>0),IF((-MTTF!O6*G50+MTTF!P6)<=$AZ$43,(-MTTF!O6*G50+MTTF!P6),$T$43),\"\")","v":""},"","",null,null,null,null,null,null,null,null,0,0,null,null,null,null,null,null,null,null,null,null,null,null,null,null,null,null,null,null,0,{"$error":"#N/A"},0,{"$error":"#N/A"},null,null,null,null,null,null,null,null,null,null,null,null,null,null,null,null,null,null,null,null,null,null,null,{"$f":"BX49","v":{"$error":"#N/A"}},{"$error":"#N/A"},{"$error":"#N/A"},{"$error":"#N/A"},{"$error":"#N/A"},{"$error":"#N/A"},{"$error":"#N/A"},{"$error":"#N/A"},{"$error":"#N/A"},{"$error":"#N/A"},{"$error":"#N/A"},{"$error":"#N/A"},{"$error":"#N/A"},{"$f":"CK49","v":{"$error":"#N/A"}}]
[null,null,5,null,null,null,null,"","","",{"$f":"IF(AND($D$44>0,$E$44>0,D51>0,$H$42>0),IF(F51>0,F51+H51*D51*$AX$42,IF(OR(F51<G51,F51*G51=0),AD43,\"\")),\"\")","v":""},"","","","","","",{"$f":"IF(AND($D$44>0,$E$44>0,D51>0,F51>0,G51>0,$H$42>0),IF((-MTTF!O7*G51+MTTF!P7)<=$AZ$43,(-MTTF!O7*G51+MTTF!P7),$T$43),\"\")","v":""},"","",null,null,null,null,null,null,null,null,0,0,null,null,null,null,null,null,null,null,null,null,null,null,null,null,null,null,null,null,0,{"$error":"#N/A"},0,{"$error":"#N/A"},null,null,null,null,null,null,null,null,null,null,null,null,null,null,null,null,null,null,null,null,null,null,null,{"$f":"BX50","v":{"$error":"#N/A"}},{"$error":"#N/A"},{"$error":"#N/A"},{"$error":"#N/A"},{"$error":"#N/A"},{"$error":"#N/A"},{"$error":"#N/A"},{"$error":"#N/A"},{"$error":"#N/A"},{"$error":"#N/A"},{"$error":"#N/A"},{"$error":"#N/A"},{"$error":"#N/A"},{"$f":"CK50","v":{"$error":"#N/A"}}]
[null,null,6,null,null,null,null,"","","",{"$f":"IF(AND($D$44>0,$E$44>0,D52>0,$H$42>0),IF(F52>0,F52+H52*D52*$AX$42,IF(OR(F52<G52,F52*G52=0),AD43,\"\")),\"\")","v":""},"","","","","","",{"$f":"IF(AND($D$44>0,$E$44>0,D52>0,F52>0,G52>0,$H$42>0),IF((-MTTF!O8*G52+MTTF!P8)<=$AZ$43,(-MTTF!O8*G52+MTTF!P8),$T$43),\"\")","v":""},"","",null,null,null,null,null,null,null,null,{"$f":"AC48","v":0},{"$f":"AD48","v":0},null,null,null,null,null,null,null,null,null,null,null,null,null,null,null,null,null,null,0,{"$error":"#N/A"},0,{"$error":"#N/A"},null,null,null,null,null,null,null,null,null,null,null,null,null,null,null,null,null,null,null,null,null,null,null,{"$f":"BX48","v":{"$error":"#N/A"}},{"$f":"BY48","v":{"$error":"#N/A"}},{"$f":"BZ48","v":{"$error":"#N/A"}},{"$f":"CA48","v":{"$error":"#N/A"}},{"$f":"CB48","v":{"$error":"#N/A"}},{"$f":"CC51","v":{"$error":"#N/A"}},{"$f":"CD48","v":{"$error":"#N/A"}},{"$error":"#N/A"},{"$error":"#N/A"},{"$error":"#N/A"},{"$error":"#N/A"},{"$error":"#N/A"},{"$f":"CJ51","v":{"$error":"#N/A"}},{"$f":"CK48","v":{"$error":"#N/A"}}]
[]
[]
[null,null,null,null,null,null,"Target performance comparison [ System luminance & system efficacy ]",null,null,null,null,null,null,null,null,"Cost comparison [ Total LED cost & $/100lm ]"]
[]
[null,null,{"$f":"IF(D6>0,D6,\"            -\")","v":"            -"},null,null,null,null,null,null,null,{"$f":"IF(D18>0,D18,\"            -\")","v":"            -"},null,null,null,null,null,{"$f":"IF(D30>0,D30,\"            -\")","v":"            -"}]
[null,null,"$/100lm","∑Flux","∑Power",null,null,"Efficacy","∑LES","∑cost","$/100lm","∑Flux","∑Power","Efficacy","∑LES","∑cost","$/100lm","∑Flux","∑Power","Efficacy",null,null,"∑LES","∑cost"]
[null,null,{"$f":"IF(AND($D$8>0,$E$8>0,D11>0,$P$10>0,$H$6>0,$H$7>0),$P$10/(I11/100),-1)","v":-1},{"$f":"IF(AND($D$8>0,$E$8>0,D11>0,E11>0,$O$7>0,$H$7>0),I11*E11*$O$7,-1)","v":-1},{"$f":"IF(AND($D$8>0,$E$8>0,D11>0,E11>0,$O$6>0,$H$6>0),H11*D11*E11/$O$6,-1)","v":-1},null,null,{"$f":"IF(AND($D$8>0,$E$8>0,D11>0,E11>0,$O$6>0,$O$7>0,$H$6>0,$H$7>0),L11/M11,-1)","v":-1},{"$f":"IF(E11>0,E11*$AZ$6,-1)","v":-1},{"$f":"IF(AND(E11>0,$P$10>0),$P$10*E11,-1)","v":-1},{"$f":"IF(AND($D$20>0,$E$20>0,D23>0,$P$22>0,$H$18>0,$H$19>0),$P$22/(I23/100),-1)","v":-1},{"$f":"IF(AND($D$20>0,$E$20>0,D23>0,E23>0,$O$19>0,$H$19>0),I23*E23*$O$19,-1)","v":-1},{"$f":"IF(AND($D$20>0,$E$20>0,D23>0,E23>0,$O$18>0,$H$18>0),H23*D23*E23/$O$18,-1)","v":-1},{"$f":"IF(AND($D$20>0,$E$20>0,D23>0,E23>0,$O$18>0,$O$19>0,$H$18>0,$H$19>0),L23/M23,-1)","v":-1},{"$f":"IF(E23>0,E23*$AZ$18,-1)","v":-1},{"$f":"IF(AND(E23>0,$P$22>0),$P$22*E23,-1)","v":-1},{"$f":"IF(AND($D$32>0,$E$32>0,D35>0,$P$34>0,$H$30>0,$H$31>0),$P$34/(I35/100),-1)","v":-1},{"$f":"IF(AND($D$32>0,$E$32>0,D35>0,E35>0,$O$31>0,$H$31>0),I35*E35*$O$31,-1)","v":-1},{"$f":"IF(AND($D$32>0,$E$32>0,D35>0,E35>0,$O$30>0,$H$30>0),H35*D35*E35/$O$30,-1)","v":-1},{"$f":"IF(AND($D$32>0,$E$32>0,D35>0,E35>0,$O$30>0,$O$31>0,$H$30>0,$H$31>0),L35/M35,-1)","v":-1},null,null,{"$f":"IF(E35>0,E35*$AZ$30,-1)","v":-1},{"$f":"IF(AND(E35>0,$P$34>0),$P$34*E35,-1)","v":-1}]
[null,null,-1,-1,-1,null,null,-1,-1,-1,-1,-1,-1,-1,-1,-1,-1,-1,-1,-1,null,null,-1,-1]
[null,null,-1,-1,-1,null,null,-1,-1,-1,-1,-1,-1,-1,-1,-1,-1,-1,-1,-1,null,null,-1,-1]
[null,null,-1,-1,-1,null,null,-1,-1,-1,-1,-1,-1,-1,-1,-1,-1,-1,-1,-1,null,null,-1,-1]
[null,null,-1,-1,-1,null,null,-1,-1,-1,-1,-1,-1,-1,-1,-1,-1,-1,-1,-1,null,null,-1,-1]
[null,null,-1,-1,-1,null,null,-1,-1,-1,-1,-1,-1,-1,-1,-1,-1,-1,-1,-1,null,null,-1,-1]
[]
[]
[]
[]
[]
[]
[]
[]
[]
[]
[]
[]
[]
[]
[]
[]
[]
[]
[]
[]
[]
[]
[]
[]
[]
[]
[]
[]
[]
[]
[]
[]
[]
[]
[]
[]
[]
[]
[]
[]
[]
[]
[]
[]
[]
[]
[]
[]
[]
[]
[]
[]
[]
[]
[]
[]
[]
[]
[]
[]
[]
[]
[]
[]
[]
[]
[]
[]
[]
[]
[]
[]
[]
[]
[]
[]
[]
[]
[]
[]
[]
[]
[]
[]
[]
[]
[]
[]
[]
[]
[]
[]
[]
[]
[]
[]
[]
[]
[]
[]
[]
[]
[]
[]
[]
[]
[]
[]
[]
[]
[]
[]
[]
[]
[]
[]
[]
[]
[]
[]
[]
[]
[]
[]
[]
[]
[]
[]
[]
[]
[]
[]
[]
[]
[]
[]
[]
[]
[]
[]
[]
[]
[]
[]
[]
[]
[]
[]
[]
[]
[]
[]
[]
[]
[]
[]
[]
[]
[]
[]
[]
[]
[]
[]
[]
[]
[]
[]
[]
[]
[]
[]
[]
[]
[]
[]
[]
[]
[]
[]
[]
[]
[]
[]
[]
[]
[]
[]
[]
[]
[]
[]
[]
[]
[]
[]
[]
[]
[]
[]
[]
[]
[]
[]
[]
[]
[]
[]
[]
[]
[]
[]
[]
[]
[]
[]
[]
[]
[]
[]
[]
[]
[]
[]
[]
[]
[]
[]
[]
[]
[]
[]
[]
[]
[]
[]
[]
[]
[]
[]
[]
[]
[]
[]
[]
[]
[]
[]
[]
[]
[]
[]
[]
[]
[]
[]
[]
[]
[]
[]
[]
[]
[]
[]
[]
[]
[]
[]
[]
[]
[]
[]
[]
[]
[]
[]
[]
[]
[]
[]
[]
[]
[]
[]
[]
[]
[]
[]
[]
[]
[]
[]
[]
[]
[]
[]
[]
[]
[]
[]
[]
[]
[]
[]
[]
[]
[]
[]
[]
[]
[]
[]
[]
[]
[]
[]
[]
[]
[]
[]
[]
[]
[]
[]
[]
[]
[]
[]
[]
[]
[]
[]
[]
[]
[]
[]
[]
[]
[]
[]
[]
[]
[]
[]
[]
[]
[]
[]
[]
[]
[]
[]
[]
[]
[]
[]
[]
[]
[]
[]
[]
[]
[]
[]
[]
[]
[]
[]
[]
[]
[]
[]
[]
[]
[]
[]
[]
[]
[]
[]
[]
[]
[]
[]
[]
[]
[]
[]
[]
[]
[]
[]
[]
[]
[]
[]
[]
[]
[]
[]
[]
[]
[]
[]
[]
[]
[]
[]
[]
[]
[]
[]
[]
[]
[]
[]
[]
[]
[]
[null,1,"samsung","Choise 1 or 2","company index","LED-list"]
[null,2,"other's",2,null,1]
[]
[null,null,null,{"$f":"IF($D$485=1,F487,F487)","v":"★ Middle Power LED"},1,"★ Middle Power LED"]
[]
[null,null,null,null,null,"   (5630 Series)"]
[null,null,null,{"$f":"IF($D$485=1,F490,F490)","v":"LM561B"},1,{"$f":"Base!C57","v":"LM561B"}]
[null,null,null,{"$f":"IF($D$485=1,F491,F491)","v":"LM561B plus"},1,{"$f":"Base!C58","v":"LM561B plus"}]
[null,null,null,{"$f":"IF($D$485=1,F492,F492)","v":"LM561C"},1,{"$f":"Base!C59","v":"LM561C"}]
[]
[null,null,null,null,null,"   (3030 Series)"]
[null,null,null,{"$f":"IF($D$485=1,F495,F495)","v":"LM301A"},1,{"$f":"Base!C62","v":"LM301A"}]
[null,null,null,{"$f":"IF($D$485=1,F496,F496)","v":"LM301B"},1,{"$f":"Base!C63","v":"LM301B"}]
[null,null,null,"LM301D",1,{"$f":"Base!C64","v":"LM301D"}]
[null,null,null,"LM301D Ra90 HE",1,{"$f":"Base!C65","v":"LM301D Ra90 HE"}]
[null,null,null,"LM301Z",1,{"$f":"Base!C66","v":"LM301Z"}]
[null,null,null,"LM301Z plus",1,{"$f":"Base!C67","v":"LM301Z plus"}]
[null,null,null,"LM302A (6V)",1,{"$f":"Base!C68","v":"LM302A (6V)"}]
[null,null,null,"LM302B (6V)",1,{"$f":"Base!C69","v":"LM302B (6V)"}]
[null,null,null,"LM302C (6V)",1,{"$f":"Base!C70","v":"LM302C (6V)"}]
[null,null,null,"LM302D (6V)",1,{"$f":"Base!C71","v":"LM302D (6V)"}]
[null,null,null,"LM302Z (6V)",1,{"$f":"Base!C72","v":"LM302Z (6V)"}]
[null,null,null,"LM302Z plus (6V)",1,{"$f":"Base!C73","v":"LM302Z plus (6V)"}]
[null,null,null,"LM302N old ver.",1,{"$f":"Base!C74","v":"LM302N old ver."}]
[null,null,null,"LM302N DAY",1,{"$f":"Base!C75","v":"LM302N DAY"}]
[null,null,null,"LM302N NITE",1,{"$f":"Base!C76","v":"LM302N NITE"}]
[null,null,null,"LM301B EVO",1,{"$f":"Base!C77","v":"LM301B EVO"}]
[null,null,null,{"$f":"IF($D$485=1,F511,F511)","v":"LM301B EVO Ra90 HE"},1,{"$f":"Base!C78","v":"LM301B EVO Ra90 HE"}]
[]
[null,null,null,null,null,"   (2835 Series)"]
[null,null,null,{"$f":"IF($D$485=1,F514,F514)","v":"LM281B"},1,{"$f":"Base!C24","v":"LM281B"}]
[null,null,null,{"$f":"IF($D$485=1,F515,F515)","v":"LM281B plus (SA)"},1,{"$f":"Base!C25","v":"LM281B plus (SA)"}]
[null,null,null,{"$f":"IF($D$485=1,F516,F516)","v":"LM281B plus (SC SE)"},1,{"$f":"Base!C26","v":"LM281B plus (SC SE)"}]
[null,null,null,{"$f":"IF($D$485=1,F517,F517)","v":"LM281B plus (SG)"},1,{"$f":"Base!C27","v":"LM281B plus (SG)"}]
[null,null,null,"LM281B plus (SJ)",1,{"$f":"Base!C28","v":"LM281B plus (SJ)"}]
[null,null,null,"LM281B plus (SK)",1,{"$f":"Base!C29","v":"LM281B plus (SK)"}]
[null,null,null,"LM281B plus (RG)",1,{"$f":"Base!C30","v":"LM281B plus (RG)"}]
[null,null,null,"LM281B plus (RJ)",1,{"$f":"Base!C31","v":"LM281B plus (RJ)"}]
[null,null,null,"LM281B plus (RK)",1,{"$f":"Base!C32","v":"LM281B plus (RK)"}]
[null,null,null,{"$f":"IF($D$485=1,F523,F523)","v":"LM281B plus PRO (VG)"},1,{"$f":"Base!C33","v":"LM281B plus PRO (VG)"}]
[null,null,null,"LM281B plus PRO (VJ)",1,{"$f":"Base!C34","v":"LM281B plus PRO (VJ)"}]
[null,null,null,"LM281B plus PRO (VK)",1,{"$f":"Base!C35","v":"LM281B plus PRO (VK)"}]
[null,null,null,{"$f":"IF($D$485=1,F526,F526)","v":"LM281B plus PRO (VL)"},1,{"$f":"Base!C36","v":"LM281B plus PRO (VL)"}]
[null,null,null,{"$f":"IF($D$485=1,F527,F527)","v":"LM281B plus Ra90 HE (VL)"},1,{"$f":"Base!C37","v":"LM281B plus Ra90 HE (VL)"}]
[null,null,null,"LM281BA",1,{"$f":"Base!C38","v":"LM281BA"}]
[null,null,null,"LM281BA plus",1,{"$f":"Base!C39","v":"LM281BA plus"}]
[null,null,null,{"$f":"IF($D$485=1,F530,F530)","v":"LM281BZ plus (SA)"},1,{"$f":"Base!C40","v":"LM281BZ plus (SA)"}]
[null,null,null,{"$f":"IF($D$485=1,F531,F531)","v":"LM281BZ plus (SC SE)"},1,{"$f":"Base!C41","v":"LM281BZ plus (SC SE)"}]
[null,null,null,"LM281BZ plus (RK)",1,{"$f":"Base!C42","v":"LM281BZ plus (RK)"}]
[null,null,null,{"$f":"IF($D$485=1,F533,F533)","v":"LM281C"},1,{"$f":"Base!C43","v":"LM281C"}]
[null,null,null,{"$f":"IF($D$485=1,F534,F534)","v":"LM281D plus "},1,{"$f":"Base!C44","v":"LM281D plus "}]
[null,null,null,{"$f":"IF($D$485=1,F535,F535)","v":"LM282B (6V)"},1,{"$f":"Base!C45","v":"LM282B (6V)"}]
[null,null,null,{"$f":"IF($D$485=1,F536,F536)","v":"LM282B plus (6V)"},1,{"$f":"Base!C46","v":"LM282B plus (6V)"}]
[null,null,null,"LM283B (9V)",1,{"$f":"Base!C47","v":"LM283B (9V)"}]
[null,null,null,"LM283B plus (9V)",1,{"$f":"Base!C48","v":"LM283B plus (9V)"}]
[null,null,null,{"$f":"IF($D$485=1,F539,F539)","v":"LM283B plus (9V)(SP)"},1,{"$f":"Base!C49","v":"LM283B plus (9V)(SP)"}]
[null,null,null,"LM283BS plus (9V)",1,{"$f":"Base!C50","v":"LM283BS plus (9V)"}]
[null,null,null,"LM283D plus (9V)",1,{"$f":"Base!C51","v":"LM283D plus (9V)"}]
[null,null,null,"LM284D plus (12V)",1,{"$f":"Base!C52","v":"LM284D plus (12V)"}]
[null,null,null,"LM286B (18V)",1,{"$f":"Base!C53","v":"LM286B (18V)"}]
[null,null,null,"LM286B Plus (18V)(SA)",1,{"$f":"Base!C54","v":"LM286B Plus (18V)(SA)"}]
[null,null,null,"LM286B Plus (18V)(SB)",1,{"$f":"Base!C55","v":"LM286B Plus (18V)(SB)"}]
[]
[null,null,null,null,null,"   (4014 Series)"]
[null,null,null,{"$f":"IF($D$485=1,F548,F548)","v":"LM401B plus"},1,{"$f":"Base!C79","v":"LM401B plus"}]
[null,null,null,{"$f":"IF($D$485=1,F549,F549)","v":"LM401BA plus"},1,{"$f":"Base!C80","v":"LM401BA plus"}]
[]
[null,null,null,{"$f":"IF($D$485=1,F551,F551)","v":"★ Filament LED"},1,"★ Filament LED"]
[]
[null,null,null,{"$f":"IF($D$485=1,F553,F553)","v":"LF007A"},1,{"$f":"Base!C82","v":"LF007A"}]
[null,null,null,{"$f":"IF($D$485=1,F554,F554)","v":"LF009A"},1,{"$f":"Base!C83","v":"LF009A"}]
[null,null,null,{"$f":"IF($D$485=1,F555,F555)","v":"LF010A"},1,{"$f":"Base!C84","v":"LF010A"}]
[]
[null,null,null,{"$f":"IF($D$485=1,F557,F557)","v":"★ CSP LED"},1,"★ CSP LED"]
[null,null,null,null,null,"   (CSP MPL)"]
[null,null,null,{"$f":"IF($D$485=1,F559,F559)","v":"LM101A"},1,{"$f":"Base!C88","v":"LM101A"}]
[null,null,null,{"$f":"IF($D$485=1,F560,F560)","v":"LM101B"},1,{"$f":"Base!C89","v":"LM101B"}]
[null,null,null,{"$f":"IF($D$485=1,F561,F561)","v":"LM102A (6V)"},1,{"$f":"Base!C90","v":"LM102A (6V)"}]
[null,null,null,null,null,"   (CSP HPL)"]
[null,null,null,{"$f":"IF($D$485=1,F563,F563)","v":"LH151B"},1,{"$f":"Base!C92","v":"LH151B"}]
[null,null,null,{"$f":"IF($D$485=1,F564,F564)","v":"LH181A"},1,{"$f":"Base!C93","v":"LH181A"}]
[null,null,null,{"$f":"IF($D$485=1,F565,F565)","v":"LH181B"},1,{"$f":"Base!C94","v":"LH181B"}]
[null,null,null,{"$f":"IF($D$485=1,F566,F566)","v":"LH231B"},1,{"$f":"Base!C95","v":"LH231B"}]
[]
[null,null,null,{"$f":"IF($D$485=1,F568,F568)","v":"★ High Power LED"},1,"★ High Power LED"]
[]
[null,null,null,{"$f":"IF($D$485=1,F570,F570)","v":"LH351B"},1,{"$f":"Base!C99","v":"LH351B"}]
[null,null,null,"LH351C",1,{"$f":"Base!C100","v":"LH351C"}]
[null,null,null,"LH351D",1,{"$f":"Base!C101","v":"LH351D"}]
[null,null,null,"LH502C (6V)",1,{"$f":"Base!C102","v":"LH502C (6V)"}]
[null,null,null,"LH508A plus (6V)",1,{"$f":"Base!C105","v":"LH508A plus (6V)"}]
[null,null,null,"LH508C (24V)",1,{"$f":"Base!C107","v":"LH508C (24V)"}]
[null,null,null,{"$f":"IF($D$485=1,F576,F576)","v":"LH502D (6V)"},1,{"$f":"Base!C108","v":"LH502D (6V)"}]
[null,null,null,"LH502C ECO (6V)",1,{"$f":"Base!C109","v":"LH502C ECO (6V)"}]
[]
[null,null,null,{"$f":"IF($D$485=1,F579,F579)","v":"★ COB "},1,"★ COB "]
[]
[null,null,null,"(B-series)",null,"(B-series)"]
[null,null,null,"LC006B",1,{"$f":"Base!C112","v":"LC006B"}]
[null,null,null,"LC008B",1,{"$f":"Base!C113","v":"LC008B"}]
[null,null,null,"LC013B",1,{"$f":"Base!C114","v":"LC013B"}]
[null,null,null,"LC019B",1,{"$f":"Base!C115","v":"LC019B"}]
[null,null,null,"LC026B",1,{"$f":"Base!C116","v":"LC026B"}]
[null,null,null,"LC033B",1,{"$f":"Base!C117","v":"LC033B"}]
[null,null,null,"LC040B",1,{"$f":"Base!C118","v":"LC040B"}]
[]
[null,null,null,"(small LES)",1,"(small LES)"]
[null,null,null,{"$f":"IF($D$485=1,F591,F591)","v":"LC010C-G2"},1,{"$f":"Base!C119","v":"LC010C-G2"}]
[null,null,null,{"$f":"IF($D$485=1,F592,F592)","v":"LC020C-G2"},1,{"$f":"Base!C120","v":"LC020C-G2"}]
[null,null,null,{"$f":"IF($D$485=1,F593,F593)","v":"LC030C-G2"},1,{"$f":"Base!C121","v":"LC030C-G2"}]
[null,null,null,{"$f":"IF($D$485=1,F594,F594)","v":"LC040C-G2"},1,{"$f":"Base!C122","v":"LC040C-G2"}]
[]
[null,null,null,"   (D-series_Gen1)",1,"(D-series_Gen1)"]
[null,null,null,{"$f":"IF($D$485=1,F597,F597)","v":"LC003D_G1"},1,{"$f":"Base!C123","v":"LC003D_G1"}]
[null,null,null,"LC006D_G1",1,{"$f":"Base!C124","v":"LC006D_G1"}]
[null,null,null,"LC009D_G1",1,{"$f":"Base!C125","v":"LC009D_G1"}]
[null,null,null,"LC013D_G1",1,{"$f":"Base!C126","v":"LC013D_G1"}]
[null,null,null,"LC016D_G1",1,{"$f":"Base!C127","v":"LC016D_G1"}]
[null,null,null,"LC019D_G1",1,{"$f":"Base!C128","v":"LC019D_G1"}]
[null,null,null,"LC026D_G1",1,{"$f":"Base!C129","v":"LC026D_G1"}]
[null,null,null,"LC040D_G1",1,{"$f":"Base!C130","v":"LC040D_G1"}]
[null,null,null,{"$f":"IF($D$485=1,F605,F605)","v":"LC060D_G1"},1,{"$f":"Base!C131","v":"LC060D_G1"}]
[null,null,null,{"$f":"IF($D$485=1,F606,F606)","v":"LC080D_G1"},1,{"$f":"Base!C132","v":"LC080D_G1"}]
[]
[null,null,null,"   (D-series_Gen2)",1,"(D-series_Gen2)"]
[null,null,null,{"$f":"IF($D$485=1,F609,F609)","v":"LC003D_G2"},1,{"$f":"Base!C133","v":"LC003D_G2"}]
[null,null,null,{"$f":"IF($D$485=1,F610,F610)","v":"LC006D_G2"},1,{"$f":"Base!C134","v":"LC006D_G2"}]
[null,null,null,"LC009D_G2",1,{"$f":"Base!C135","v":"LC009D_G2"}]
[null,null,null,"LC013D_G2",1,{"$f":"Base!C136","v":"LC013D_G2"}]
[null,null,null,"LC016D_G2",1,{"$f":"Base!C137","v":"LC016D_G2"}]
[null,null,null,"LC019D_G2",1,{"$f":"Base!C138","v":"LC019D_G2"}]
[null,null,null,"LC026D_G2",1,{"$f":"Base!C139","v":"LC026D_G2"}]
[null,null,null,"LC033D_G2",1,{"$f":"Base!C140","v":"LC033D_G2"}]
[null,null,null,"LC040D_G2",1,{"$f":"Base!C141","v":"LC040D_G2"}]
[null,null,null,"LC060D_G2",1,{"$f":"Base!C142","v":"LC060D_G2"}]
[null,null,null,"LC080D_G2",1,{"$f":"Base!C143","v":"LC080D_G2"}]
[]
[null,null,null,"   (D-series_Gen2+)",1,"(D-series_Gen2+)"]
[null,null,null,{"$f":"IF($D$485=1,F622,F622)","v":"LC003D_G2 plus(17V)"},1,{"$f":"Base!C144","v":"LC003D_G2 plus(17V)"}]
[null,null,null,{"$f":"IF($D$485=1,F623,F623)","v":"LC003D_G2 plus(34V)"},1,{"$f":"Base!C145","v":"LC003D_G2 plus(34V)"}]
[null,null,null,"LC006D_G2 plus",1,{"$f":"Base!C146","v":"LC006D_G2 plus"}]
[null,null,null,"LC009D_G2 plus",1,{"$f":"Base!C147","v":"LC009D_G2 plus"}]
[null,null,null,"LC013D_G2 plus",1,{"$f":"Base!C148","v":"LC013D_G2 plus"}]
[null,null,null,"LC016D_G2 plus",1,{"$f":"Base!C149","v":"LC016D_G2 plus"}]
[null,null,null,"LC019D_G2 plus",1,{"$f":"Base!C150","v":"LC019D_G2 plus"}]
[null,null,null,"LC026D_G2 plus",1,{"$f":"Base!C151","v":"LC026D_G2 plus"}]
[null,null,null,"LC033D_G2 plus",1,{"$f":"Base!C152","v":"LC033D_G2 plus"}]
[null,null,null,{"$f":"IF($D$485=1,F631,F631)","v":"LC040D_G2 plus"},1,{"$f":"Base!C153","v":"LC040D_G2 plus"}]
[null,null,null,"LC060D_G2 plus",1,{"$f":"Base!C154","v":"LC060D_G2 plus"}]
[null,null,null,"LC080D_G2 plus",1,{"$f":"Base!C155","v":"LC080D_G2 plus"}]
[]
[null,null,null,"   (D-series_Gen3)",1,"(D-series_Gen3)"]
[null,null,null,{"$f":"IF($D$485=1,F636,F636)","v":"LC003D_G3"},1,{"$f":"Base!C156","v":"LC003D_G3"}]
[null,null,null,{"$f":"IF($D$485=1,F637,F637)","v":"LC006D_G3"},1,{"$f":"Base!C157","v":"LC006D_G3"}]
[null,null,null,"LC009D_G3",1,{"$f":"Base!C158","v":"LC009D_G3"}]
[null,null,null,"LC013D_G3",1,{"$f":"Base!C159","v":"LC013D_G3"}]
[null,null,null,"LC016D_G3",1,{"$f":"Base!C160","v":"LC016D_G3"}]
[null,null,null,"LC019D_G3",1,{"$f":"Base!C161","v":"LC019D_G3"}]
[null,null,null,"LC026D_G3",1,{"$f":"Base!C162","v":"LC026D_G3"}]
[null,null,null,"LC033D_G3",1,{"$f":"Base!C163","v":"LC033D_G3"}]
[null,null,null,"LC040D_G3",1,{"$f":"Base!C164","v":"LC040D_G3"}]
[null,null,null,"LC060D_G3",1,{"$f":"Base!C165","v":"LC060D_G3"}]
[null,null,null,"LC080D_G3",1,{"$f":"Base!C166","v":"LC080D_G3"}]
[]
[null,null,null,"   (D-series_Gen3+)",1,"(D-series_Gen3+)"]
[null,null,null,{"$f":"IF($D$485=1,F649,F649)","v":"LC003D_G3 plus"},1,{"$f":"Base!C167","v":"LC003D_G3 plus"}]
[null,null,null,"LC006D_G3 plus",1,{"$f":"Base!C168","v":"LC006D_G3 plus"}]
[null,null,null,{"$f":"IF($D$485=1,F651,F651)","v":"LC009D_G3 plus"},1,{"$f":"Base!C169","v":"LC009D_G3 plus"}]
[null,null,null,"LC013D_G3 plus",1,{"$f":"Base!C170","v":"LC013D_G3 plus"}]
[null,null,null,"LC016D_G3 plus",1,{"$f":"Base!C171","v":"LC016D_G3 plus"}]
[null,null,null,"LC019D_G3 plus",1,{"$f":"Base!C172","v":"LC019D_G3 plus"}]
[null,null,null,"LC026D_G3 plus",1,{"$f":"Base!C173","v":"LC026D_G3 plus"}]
[null,null,null,"LC033D_G3 plus",1,{"$f":"Base!C174","v":"LC033D_G3 plus"}]
[null,null,null,"LC040D_G3 plus",1,{"$f":"Base!C175","v":"LC040D_G3 plus"}]
[null,null,null,"LC060D_G3 plus",1,{"$f":"Base!C176","v":"LC060D_G3 plus"}]
[null,null,null,{"$f":"IF($D$485=1,F659,F659)","v":"LC080D_G3 plus"},1,{"$f":"Base!C177","v":"LC080D_G3 plus"}]
[]
[null,null,null,"   (D-series_Gen4)",1,"(D-series_Gen4)"]
[null,null,null,{"$f":"IF($D$485=1,F662,F662)","v":"LC003D_G4"},1,{"$f":"Base!C178","v":"LC003D_G4"}]
[null,null,null,"LC006D_G4",1,{"$f":"Base!C179","v":"LC006D_G4"}]
[null,null,null,"LC009D_G4",1,{"$f":"Base!C180","v":"LC009D_G4"}]
[null,null,null,"LC013D_G4",1,{"$f":"Base!C181","v":"LC013D_G4"}]
[null,null,null,"LC016D_G4",1,{"$f":"Base!C182","v":"LC016D_G4"}]
[null,null,null,"LC019D_G4",1,{"$f":"Base!C183","v":"LC019D_G4"}]
[null,null,null,"LC026D_G4",1,{"$f":"Base!C184","v":"LC026D_G4"}]
[null,null,null,"LC033D_G4",1,{"$f":"Base!C185","v":"LC033D_G4"}]
[null,null,null,"LC040D_G4",1,{"$f":"Base!C186","v":"LC040D_G4"}]
[null,null,null,"LC060D_G4",1,{"$f":"Base!C187","v":"LC060D_G4"}]
[null,null,null,"LC080D_G4",1,{"$f":"Base!C188","v":"LC080D_G4"}]
[]
[null,null,null,"(R-series)",1,"(R-series)"]
[null,null,null,{"$f":"IF($D$485=1,F675,F675)","v":"LC013D_R-series"},1,{"$f":"Base!C189","v":"LC013D_R-series"}]
[null,null,null,"LC016D_R-series",1,{"$f":"Base!C190","v":"LC016D_R-series"}]
[null,null,null,"LC019D_R-series",1,{"$f":"Base!C191","v":"LC019D_R-series"}]
[null,null,null,"LC026D_R-series",1,{"$f":"Base!C192","v":"LC026D_R-series"}]
[null,null,null,"LC033D_R-series",1,{"$f":"Base!C193","v":"LC033D_R-series"}]
[null,null,null,"LC040D_R-series",1,{"$f":"Base!C194","v":"LC040D_R-series"}]
[]
[null,null,null,"(R-series_Gen2+)",1,"(R-series_Gen2+)"]
[null,null,null,{"$f":"IF($D$485=1,F683,F683)","v":"LC013D Vivid White_G2 plus"},1,{"$f":"Base!C198","v":"LC013D Vivid White_G2 plus"}]
[null,null,null,"LC016D Vivid White_G2 plus",1,{"$f":"Base!C199","v":"LC016D Vivid White_G2 plus"}]
[null,null,null,"LC019D Vivid White_G2 plus",1,{"$f":"Base!C200","v":"LC019D Vivid White_G2 plus"}]
[null,null,null,"LC026D Vivid White_G2 plus",1,{"$f":"Base!C201","v":"LC026D Vivid White_G2 plus"}]
[null,null,null,"LC033D Vivid White_G2 plus",1,{"$f":"Base!C202","v":"LC033D Vivid White_G2 plus"}]
[null,null,null,"LC040D Vivid White_G2 plus",1,{"$f":"Base!C203","v":"LC040D Vivid White_G2 plus"}]
[]
[null,null,null,"(R-series_Gen3+)",1,"(R-series_Gen3+)"]
[null,null,null,{"$f":"IF($D$485=1,F691,F691)","v":"LC013D Vivid White_G3 plus"},1,{"$f":"Base!C204","v":"LC013D Vivid White_G3 plus"}]
[null,null,null,"LC016D Vivid White_G3 plus",1,{"$f":"Base!C205","v":"LC016D Vivid White_G3 plus"}]
[null,null,null,"LC019D Vivid White_G3 plus",1,{"$f":"Base!C206","v":"LC019D Vivid White_G3 plus"}]
[null,null,null,"LC026D Vivid White_G3 plus",1,{"$f":"Base!C207","v":"LC026D Vivid White_G3 plus"}]
[null,null,null,"LC033D Vivid White_G3 plus",1,{"$f":"Base!C208","v":"LC033D Vivid White_G3 plus"}]
[null,null,null,"LC040D Vivid White_G3 plus",1,{"$f":"Base!C209","v":"LC040D Vivid White_G3 plus"}]
[]
[null,null,null,"(Tunable_COB)",1,"(Tunable_COB)"]
[null,null,null,{"$f":"IF($D$485=1,F699,F699)","v":"LC010T Tunable COB"},1,{"$f":"Base!C195","v":"LC010T Tunable COB"}]
[null,null,null,{"$f":"IF($D$485=1,F700,F700)","v":"LC020T Tunable COB"},1,{"$f":"Base!C196","v":"LC020T Tunable COB"}]
[null,null,null,"LC035T Tunable COB",1,{"$f":"Base!C197","v":"LC035T Tunable COB"}]

{"sheet":"Base","index":2,"n_rows":2397,"n_cols":150,"rows_kept":562,"cut":true,"hidden":true,"merged":[[18,121,18,124],[18,125,18,127],[18,128,18,131],[18,132,18,134]],"bounds":{"rows_first":250,"rows_last":62,"rows_between":250,"halvings":3}}
[null,null,null,null,null,null,null,null,null,null,null,null,null,null,null,null,null,null,null,null,null,null,null,null,null,null,"Code",{"$f":"D19*B21+B21","v":101202},{"$f":"D19*B81+B81","v":111222},{"$f":"D19*B85+B85","v":103206},{"$f":"D19*B98+B98","v":104208},{"$f":"D19*B111+B111","v":112224}]
[null,null,1,2,3,4,5,6,7,8,9,10,11,12,13,14,15,16,17,18,19,20,21,22,23,24,25,26,27,28,29,30,31,32,33,34,35,36,37,38,39,40,41,42,43,44,45,46,47,48,49,50,51,52,53,54,55,56,57,58,59,60,61,62,63,64,65,66,67,68,69,70,71,72,73,74,75,76,77,78,79,80,81,82,83,84,85,86,87,88,89,90,91,92,93,94,95,96,97,98,99,100,101,102,103,104,105,106,107,108,109,110,111,112,113,114,115,116,117,118,119,120,121,122,123,124,125,126,127,128,129,130,131,132,133,134,135,136]
[null,null,1,2,3,4,5,6,7,8,9,10,11,12,13,14,15,16,17,18,19,20,21,22,23,24,25,"▷5630 MPL","▷Filament","▷CSP MPL","▷Ceramic HPL","▷B-series",null,null,null,null,null,null,null,null,null,null,null,null,null,null,null,null,null,null,null,null,null,null,null,null,null,null,null,null,null,null,null,null,null,null,null,null,null,null,null,1,2,3,4,5,6,7,8,9,10,11,12,13,1,2,3,4,5,1,2,3,4,5,6,7,8,9,10,11,12,13,14,15,16,17,18,19,20,21,22,23,24,25,26,27,28,29,30,31,32,33,34,35,36,37,38,39,40,41,42,43,44,45,46,47,48,49]
[null,null,null,null,null,null,null,null,null,null,null,null,null,null,null,null,null,null,null,null,null,null,null,null,null,null,null,{"$f":"C57","v":"LM561B"},{"$f":"C82","v":"LF007A"},{"$f":"C88","v":"LM101A"},{"$f":"C99","v":"LH351B"},{"$f":"C112","v":"LC006B"}]
[null,null,null,"Samsung LED",1001,null,"Middle-Power",101,null,null,null,null,null,null,null,null,null,null,null,null,null,null,null,null,null,null,null,{"$f":"C58","v":"LM561B plus"},{"$f":"C83","v":"LF009A"},{"$f":"C89","v":"LM101B"},{"$f":"C100","v":"LH351C"},"LC008B"]
[null,null,null,"Cree",1002,null,"High-Voltage",102,null,null,null,null,null,null,null,null,null,null,null,null,null,null,null,null,null,null,null,{"$f":"C59","v":"LM561C"},{"$f":"C84","v":"LF010A"},{"$f":"C90","v":"LM102A (6V)"},{"$f":"C101","v":"LH351D"},"LC013B"]
[null,null,null,"Lumileds",1003,null,"CSP",103,null,null,null,null,null,null,null,null,null,null,null,null,null,null,null,null,null,null,null,"","","","","LC019B"]
[null,null,null,"Nichia",1004,null,"High-Power",104,null,null,null,null,null,null,null,null,null,null,null,null,null,null,null,null,null,null,null,"▷3030 MPL","-","▷CSP HPL","▷EMC HPL","LC026B"]
[null,null,null,"Osram",1005,null,"COB standard",105,null,null,null,null,null,null,null,null,null,null,null,null,null,null,null,null,null,null,null,{"$f":"C62","v":"LM301A"},"-",{"$f":"C92","v":"LH151B"},{"$f":"C102","v":"LH502C (6V)"},"LC033B"]
[null,null,null,"Seoul semi.",1006,null,"Single-Chip",106,null,null,null,null,null,null,null,null,null,null,null,null,null,null,null,null,null,null,null,{"$f":"C63","v":"LM301B"},"-",{"$f":"C93","v":"LH181A"},{"$f":"C105","v":"LH508A plus (6V)"},"LC040B"]
[null,null,null,"LG Innotek ",1007,null,"Multi-Chip",107,null,null,null,null,null,null,null,null,null,null,null,null,null,null,null,null,null,null,null,{"$f":"C64","v":"LM301D"},"-",{"$f":"C94","v":"LH181B"},{"$f":"C107","v":"LH508C (24V)"},""]
[null,null,null,"Citizen",1008,null,"COB small LES",108,null,null,null,null,null,null,null,null,null,null,null,null,null,null,null,null,null,null,null,{"$f":"C65","v":"LM301D Ra90 HE"},"-",{"$f":"C95","v":"LH231B"},{"$f":"C108","v":"LH502D (6V)"},"▷Small LES Gen2"]
[null,null,null,"Sharp",1009,null,"COB-D_series_Gen1",109,null,null,null,null,null,null,null,null,null,null,null,null,null,null,null,null,null,null,null,{"$f":"C66","v":"LM301Z"},"-","",{"$f":"C109","v":"LH502C ECO (6V)"},{"$f":"C119","v":"LC010C-G2"}]
[null,null,null,"Everlight",1010,null,"COB-D_series_Gen2",110,null,null,null,null,null,null,null,null,null,null,null,null,null,null,null,null,null,null,null,{"$f":"C67","v":"LM301Z plus"},"-","-","",{"$f":"C120","v":"LC020C-G2"}]
[null,null,null,"Tridonic",1011,null,"Filament",111,null,null,null,null,null,null,null,null,null,null,null,null,null,null,null,null,null,null,null,{"$f":"C68","v":"LM302A (6V)"},"-","-","-",{"$f":"C121","v":"LC030C-G2"}]
[null,null,null,"BridgeLux",1012,null,"COB",112,null,null,null,null,null,null,null,null,null,null,null,null,null,null,null,null,null,null,null,{"$f":"C69","v":"LM302B (6V)"},"-","-","-",{"$f":"C122","v":"LC040C-G2"}]
[null,null,null,null,null,null,null,null,null,null,null,null,null,null,null,null,null,null,null,null,null,null,null,null,null,null,null,{"$f":"C70","v":"LM302C (6V)"},"-","-","-",""]
[null,null,null,null,null,null,null,null,null,null,null,null,null,null,null,null,null,null,null,null,null,null,null,null,null,null,null,{"$f":"C71","v":"LM302D (6V)"},"-","-","-","▷D-series Gen1"]
[null,null,{"$f":"D5","v":"Samsung LED"},{"$f":"VLOOKUP(C19,$D$5:$E$17,2,FALSE)","v":1001},{"$f":"A21","v":"Middle-Power"},{"$f":"A98","v":"High-Power"},{"$f":"A85","v":"CSP"},{"$f":"A111","v":"COB"},{"$f":"A81","v":"Filament"},"-","-","-","-",null,null,null,null,null,null,null,null,null,null,null,null,null,null,{"$f":"C72","v":"LM302Z (6V)"},"-","-","-",{"$f":"C123","v":"LC003D_G1"},null,null,null,null,null,null,null,null,null,null,null,null,null,null,null,null,null,null,null,null,null,null,null,null,null,null,null,null,null,null,null,null,null,null,null,null,null,null,null,null,null,null,null,null,null,null,null,null,null,null,null,null,null,null,null,null,null,null,null,null,null,null,null,null,null,null,null,null,null,null,null,null,null,null,null,null,null,null,null,null,null,null,null,null,null,null,null,null,null,"Flux vs Current",null,null,null,"Flux vs Temp",null,null,"Vf vs Current",null,null,null,"Vf vs Temp",null,null,null,null,null,null,null,null,null,null,null,1,2,3,4,5]
[null,null,"LED List","Sorting_IF","IF_max.","Tj_max.","Rth(j-s)","LES","Sorting_Tj ","Typical lumen","Typical Vf","Power","Max. Power","lm/W","Sorting_Ts","min_mean",null,null,null,null,null,null,null,null,null,null,null,{"$f":"C73","v":"LM302Z plus (6V)"},"-","-","-","LC006D_G1",null,null,null,null,null,null,null,null,null,null,null,null,null,null,null,null,null,null,null,null,null,null,null,null,null,null,null,null,null,null,null,null,null,null,null,null,null,null,null,"LED",{"$f":"'[1]LED-Lighting'!BD9","v":{"$error":"#REF!"}},"CRI","CCT",null,null,"CCT-index",null,null,null,null,null,null,"CRI_index",null,"CRI - index",null,null,"Code_index","Flux Rank","Rank1","Rank2","Rank3","Rank4","Rank5","Rank6","Rank7","Rank8","Rank1","Rank2","Rank3","Rank4","Rank5","Rank6","Rank7","Rank8","Rank1","Rank2","Rank3","Rank4","Rank5","Rank6","Rank7","Rank1","Rank2","Rank3","Rank4","Rank5","Rank6","Rank7","x^3","x^2","x","a(상수)","x^2","x","a","x^3","x^2","x","a","x^2","x","a","Vf Rank","Product Code",null,null,null,null,null,null,null,"SPHWW1HDN823","COB standard","LC006B","WW",70]
[{"$f":"G5","v":"Middle-Power"},{"$f":"VLOOKUP(A21,[1]Base!$G$5:$H$17,2,FALSE)","v":101},{"$f":"BT32","v":"LM231A"},6.5000000000000002E-2,0.15,110,20,{"$f":"2.3*2.3","v":5.2899999999999991},25,{"$f":"CO37","v":25.324999999999999},{"$f":"DF37","v":2.95},{"$f":"D21*K21","v":0.19175000000000003},{"$f":"E21*K21","v":0.4425},{"$f":"J21/L21","v":132.07301173402865},{"$f":"IF(I21=25,I21,I21-L21*G21)","v":25},"LED performances @mean/flux_rank","2.3x2.3",null,null,null,null,null,null,null,null,null,null,{"$f":"C74","v":"LM302N old ver."},"-","-","-","LC009D_G1",null,null,null,null,null,null,null,null,null,null,null,null,null,null,null,null,null,null,null,null,null,null,null,null,null,null,null,null,null,null,null,null,null,null,null,null,null,null,null,"LM561B",562,80,2700,2700,3000,3500,4000,5000,5700,6500,"-","-",{"$f":"$BU$21*BW21","v":1517400},80,90,"-","-",{"$f":"$BU$21*BV21*BW21+BV21+BW21","v":121394780},"Flux : S1,S2,S3,S4",25,27,29,31,"-","-","-","-","S1 (24-26)","S2 (26-28)","S3 (28-30)","S4 (30-32) ","-","-","-","-",2.75,2.85,2.95,3.05,3.15,"-","-","AZ (2.7-2.8)","A1 (2.8-2.9)","A2 (2.9-3.0)","A3 (3.0-3.1)","A4 (3.1-3.2)","-","-",null,-11.983000000000001,15.781000000000001,2.4799999999999999E-2,null,null,-1.6999999999999999E-3,null,-0.54620000000000002,1.0103,0.93659999999999999,null,null,-1.8400000000000001E-3,"Vf : AZ,A1,A2,A3,A4","SPMWHT541MD5",null,null,null,null,null,null,null,"SPHCW1HDN823","COB standard","LC006B","CW",70]
[null,null,{"$f":"BT58","v":"LM231B"},6.5000000000000002E-2,0.15,110,20,{"$f":"2.3*2.3","v":5.2899999999999991},25,{"$f":"CO66","v":25.324999999999999},{"$f":"DF66","v":2.95},{"$f":"D22*K22","v":0.19175000000000003},{"$f":"E22*K22","v":0.4425},{"$f":"J22/L22","v":132.07301173402865},{"$f":"IF(I22=25,I22,I22-L22*G22)","v":25},"LED performances @mean/flux_rank","2.3x2.3",null,null,null,null,null,null,null,null,null,null,{"$f":"C75","v":"LM302N DAY"},"-","-","-","LC013D_G1",null,null,null,null,null,null,null,null,null,null,null,null,null,null,null,null,null,null,null,null,null,null,null,null,null,null,null,null,null,null,null,null,null,null,null,null,null,null,null,null,null,90,2700,null,null,null,null,null,null,null,null,null,null,null,null,null,null,{"$f":"$BU$21*BV22*BW22+BV22+BW22","v":136568790},"Flux : SY,SZ,S1",21,23,25,"-","-","-","-","-","SY (20-22)","SZ (22-24)","S1 (24-26)","-","-","-","-","-",2.75,2.85,2.95,3.05,3.15,"-","-","AZ (2.7-2.8)","A1 (2.8-2.9)","A2 (2.9-3.0)","A3 (3.0-3.1)","A4 (3.1-3.2)","-","-",null,-24.547999999999998,18.273,-8.4099999999999994E-2,null,null,-1.64E-3,null,{"$f":"DZ21","v":-0.54620000000000002},{"$f":"EA21","v":1.0103},{"$f":"EB21","v":0.93659999999999999},null,null,{"$f":"EE21","v":-1.8400000000000001E-3},"Vf : AZ,A1,A2,A3,A4","SPMWHT541MD7",null,null,null,null,null,null,null,"SPHWW1HDN825","COB standard","LC006B","WW",80]
[null,null,{"$f":"BT466","v":"LM281A"},0.15,0.15,110,24,{"$f":"2.8*3.5","v":9.7999999999999989},25,61,3.15,{"$f":"D23*K23","v":0.47249999999999998},{"$f":"E23*K23","v":0.47249999999999998},{"$f":"J23/L23","v":129.10052910052912},{"$f":"IF(I23=25,I23,I23-L23*G23)","v":25},"LED performances @mean/flux_rank","2.8x3.5",null,null,null,null,null,null,null,null,null,null,{"$f":"C76","v":"LM302N NITE"},"-","-","-","LC016D_G1",null,null,null,null,null,null,null,null,null,null,null,null,null,null,null,null,null,null,null,null,null,null,null,null,null,null,null,null,null,null,null,null,null,null,null,null,null,null,null,null,null,{"$f":"BV21","v":80},3000,null,null,null,null,null,null,null,null,null,{"$f":"$BU$21*BW23","v":1686000},80,90,"-","-",{"$f":"$BU$21*BV23*BW23+BV23+BW23","v":134883080},"Flux : S1,S2,S3,S4",25.5,27.5,29.5,31.5,"-","-","-","-","S1 (24.5-26.5)","S2 (26.5-28.5) ","S3 (28.5-30.5)","S4 (30.5-32.5) ","-","-","-","-",2.75,2.85,2.95,3.05,3.15,"-","-","AZ (2.7-2.8)","A1 (2.8-2.9)","A2 (2.9-3.0)","A3 (3.0-3.1)","A4 (3.1-3.2)","-","-",null,{"$f":"DS21","v":-11.983000000000001},15.781000000000001,2.4799999999999999E-2,null,null,{"$f":"DX21","v":-1.6999999999999999E-3},null,{"$f":"DZ21","v":-0.54620000000000002},{"$f":"EA21","v":1.0103},{"$f":"EB21","v":0.93659999999999999},null,null,{"$f":"EE21","v":-1.8400000000000001E-3},"Vf : AZ,A1,A2,A3,A4","SPMWHT541MD5",null,null,null,null,null,null,null,"SPHCW1HDN825","COB standard","LC006B","CW",80]
[null,null,{"$f":"BT494","v":"LM281B"},0.15,0.16,115,25,9.7999999999999989,25,65,3,{"$f":"D24*K24","v":0.44999999999999996},{"$f":"E24*K24","v":0.48},{"$f":"J24/L24","v":144.44444444444446},{"$f":"IF(I24=25,I24,I24-L24*G24)","v":25},"LED performances @mean/flux_rank","2.8x3.5",null,null,null,null,null,null,null,null,null,null,{"$f":"C77","v":"LM301B EVO"},"-","-","-","LC019D_G1",null,null,null,null,null,null,null,null,null,null,null,null,null,null,null,null,null,null,null,null,null,null,null,null,null,null,null,null,null,null,null,null,null,null,null,null,null,null,null,null,null,90,3000,null,null,null,null,null,null,null,null,null,null,null,null,null,null,{"$f":"$BU$21*BV24*BW24+BV24+BW24","v":151743090},"Flux : SY,SZ,S1",21.5,23.5,25.5,"-","-","-","-","-","SY (20.5-22.5)","SZ (22.5-24.5)","S1 (24.5-26.5)","-","-","-","-","-",2.75,2.85,2.95,3.05,3.15,"-","-","AZ (2.7-2.8)","A1 (2.8-2.9)","A2 (2.9-3.0)","A3 (3.0-3.1)","A4 (3.1-3.2)","-","-",null,-24.547999999999998,18.273,-8.4099999999999994E-2,null,null,{"$f":"DX22","v":-1.64E-3},null,{"$f":"DZ22","v":-0.54620000000000002},1.0103,0.93659999999999999,null,null,{"$f":"EE22","v":-1.8400000000000001E-3},"Vf : AZ,A1,A2,A3,A4","SPMWHT541MD7",null,null,null,null,null,null,null,"SPHWW1HDN827","COB standard","LC006B","WW",90]
[null,null,{"$f":"BT508","v":"LM281B plus (SA)"},0.15,0.16,115,25,9.7999999999999989,25,null,null,null,null,null,25,"LED performances @mean/flux_rank","2.8x3.5",null,null,null,null,null,null,null,null,null,null,{"$f":"C78","v":"LM301B EVO Ra90 HE"},"-","-","-","LC026D_G1",null,null,null,null,null,null,null,null,null,null,null,null,null,null,null,null,null,null,null,null,null,null,null,null,null,null,null,null,null,null,null,null,null,null,null,null,null,null,null,null,null,{"$f":"BV23","v":80},3500,null,null,null,null,null,null,null,null,null,{"$f":"$BU$21*BW25","v":1967000},80,90,"-","-",157363580,"Flux : S1,S2,S3,S4",26,28,30,32,"-","-","-","-","S1 (25-27)","S2 (27-29)","S3 (29-31)","S4 (31-33) ","-","-","-","-",2.75,2.85,2.95,3.05,3.15,"-","-","AZ (2.7-2.8)","A1 (2.8-2.9)","A2 (2.9-3.0)","A3 (3.0-3.1)","A4 (3.1-3.2)","-","-",null,-11.983000000000001,15.781000000000001,2.4799999999999999E-2,null,null,{"$f":"DX23","v":-1.6999999999999999E-3},null,-0.54620000000000002,1.0103,0.93659999999999999,null,null,{"$f":"EE23","v":-1.8400000000000001E-3},"Vf : AZ,A1,A2,A3,A4","SPMWHT541MD5",null,null,null,null,null,null,null,"SPHWW1HDN828","COB standard","LC006B","WW",95]
[null,null,{"$f":"BT522","v":"LM281B plus (SC SE)"},0.15,0.16,115,25,9.7999999999999989,25,null,null,null,null,null,25,"LED performances @mean/flux_rank","2.8x3.5",null,null,null,null,null,null,null,null,null,null,"","-","-","-","LC040D_G1",null,null,null,null,null,null,null,null,null,null,null,null,null,null,null,null,null,null,null,null,null,null,null,null,null,null,null,null,null,null,null,null,null,null,null,null,null,null,null,null,null,90,3500,null,null,null,null,null,null,null,null,null,null,null,null,null,null,177033590,"Flux : SY,SZ,S1",22,24,26,"-","-","-","-","-","SY (21-23)","SZ (23-25)","S1 (25-27)","-","-","-","-","-",2.75,2.85,2.95,3.05,3.15,"-","-","AZ (2.7-2.8)","A1 (2.8-2.9)","A2 (2.9-3.0)","A3 (3.0-3.1)","A4 (3.1-3.2)","-","-",null,{"$f":"DS22","v":-24.547999999999998},{"$f":"DT22","v":18.273},{"$f":"DU22","v":-8.4099999999999994E-2},null,null,{"$f":"DX22","v":-1.64E-3},null,{"$f":"DZ22","v":-0.54620000000000002},{"$f":"EA22","v":1.0103},{"$f":"EB22","v":0.93659999999999999},null,null,{"$f":"EE22","v":-1.8400000000000001E-3},"Vf : AZ,A1,A2,A3,A4","SPMWHT541MD7",null,null,null,null,null,null,null,"SPHWW1HDN943","COB standard","LC008B","WW",70]
[null,null,{"$f":"BT536","v":"LM281B plus (SG)"},0.15,0.2,115,25,9.7999999999999989,25,null,null,null,null,null,25,"LED performances @mean/flux_rank","2.8x3.5",null,null,null,null,null,null,null,null,null,null,"▷2835 MPL","-","-","-","LC060D_G1",null,null,null,null,null,null,null,null,null,null,null,null,null,null,null,null,null,null,null,null,null,null,null,null,null,null,null,null,null,null,null,null,null,null,null,null,null,null,null,null,null,{"$f":"BV25","v":80},4000,null,null,null,null,null,null,null,null,null,{"$f":"$BU$21*BW27","v":2248000},80,90,"-","-",179844080,"Flux : S1,S2,S3,S4",27,29,31,33,"-","-","-","-","S1 (26-28)","S2 (28-30)","S3 (30-32)","S4 (32-34)","-","-","-","-",2.75,2.85,2.95,3.05,3.15,"-","-","AZ (2.7-2.8)","A1 (2.8-2.9)","A2 (2.9-3.0)","A3 (3.0-3.1)","A4 (3.1-3.2)","-","-",null,{"$f":"DS25","v":-11.983000000000001},{"$f":"DT25","v":15.781000000000001},{"$f":"DU25","v":2.4799999999999999E-2},null,null,{"$f":"DX25","v":-1.6999999999999999E-3},null,{"$f":"DZ25","v":-0.54620000000000002},{"$f":"EA25","v":1.0103},{"$f":"EB25","v":0.93659999999999999},null,null,{"$f":"EE25","v":-1.8400000000000001E-3},"Vf : AZ,A1,A2,A3,A4","SPMWHT541MD5",null,null,null,null,null,null,null,"SPHCW1HDN943","COB standard","LC008B","CW",70]
[null,null,{"$f":"BT550","v":"LM281B plus (SJ)"},0.15,0.2,115,25,9.8000000000000007,25,null,null,null,null,null,25,"LED performances @mean/flux_rank","2.8x3.5","@5000K",null,null,null,null,null,null,null,null,null,{"$f":"C24","v":"LM281B"},"-","-","-","LC080D_G1",null,null,null,null,null,null,null,null,null,null,null,null,null,null,null,null,null,null,null,null,null,null,null,null,null,null,null,null,null,null,null,null,null,null,null,null,null,null,null,null,null,90,4000,null,null,null,null,null,null,null,null,null,null,null,null,null,null,202324090,"Flux : SY,SZ,S1",23,25,27,"-","-","-","-","-","SY (22-24)","SZ (24-26)","S1 (26-28)","-","-","-","-","-",2.75,2.85,2.95,3.05,3.15,"-","-","AZ (2.7-2.8)","A1 (2.8-2.9)","A2 (2.9-3.0)","A3 (3.0-3.1)","A4 (3.1-3.2)","-","-",null,{"$f":"DS22","v":-24.547999999999998},{"$f":"DT22","v":18.273},{"$f":"DU22","v":-8.4099999999999994E-2},null,null,{"$f":"DX22","v":-1.64E-3},null,{"$f":"DZ22","v":-0.54620000000000002},{"$f":"EA22","v":1.0103},{"$f":"EB22","v":0.93659999999999999},null,null,{"$f":"EE22","v":-1.8400000000000001E-3},"Vf : AZ,A1,A2,A3,A4","SPMWHT541MD7",null,null,null,null,null,null,null,"SPHWW1HDN945","COB standard","LC008B","WW",80]
[null,null,{"$f":"BT564","v":"LM281B plus (SK)"},6.5000000000000002E-2,0.2,115,25,9.7999999999999989,25,37,2.74,{"$f":"D29*K29","v":0.17810000000000001},{"$f":"E29*K29","v":0.54800000000000004},{"$f":"J29/L29","v":207.7484559236384},25,"LED performances @mean/flux_rank","2.8x3.5","@5000K",null,null,null,null,null,null,null,null,null,{"$f":"C25","v":"LM281B plus (SA)"},"-","-","-","",null,null,null,null,null,null,null,null,null,null,null,null,null,null,null,null,null,null,null,null,null,null,null,null,null,null,null,null,null,null,null,null,null,null,null,null,null,null,null,null,null,{"$f":"BV27","v":80},5000,null,null,null,null,null,null,null,null,null,{"$f":"$BU$21*BW29","v":2810000},80,"-","-","-",224805080,"Flux : S1,S2,S3,S4",28,30,32,34,"-","-","-","-","S1 (27-29)","S2 (29-31)","S3 (31-33)","S4 (33-35) ","-","-","-","-",2.75,2.85,2.95,3.05,3.15,"-","-","AZ (2.7-2.8)","A1 (2.8-2.9)","A2 (2.9-3.0)","A3 (3.0-3.1)","A4 (3.1-3.2)","-","-",null,{"$f":"DS27","v":-11.983000000000001},{"$f":"DT27","v":15.781000000000001},{"$f":"DU27","v":2.4799999999999999E-2},null,null,{"$f":"DX27","v":-1.6999999999999999E-3},null,{"$f":"DZ27","v":-0.54620000000000002},{"$f":"EA27","v":1.0103},{"$f":"EB27","v":0.93659999999999999},null,null,{"$f":"EE27","v":-1.8400000000000001E-3},"Vf : AZ,A1,A2,A3,A4","SPMWHT541MD5",null,null,null,null,null,null,null,"SPHCW1HDN945","COB standard","LC008B","CW",80]
[null,null,{"$f":"BT578","v":"LM281B plus (RG)"},0.15,0.2,115,25,9.7999999999999989,25,null,null,null,null,null,25,"LED performances @mean/flux_rank","2.8x3.5",null,null,null,null,null,null,null,null,null,null,{"$f":"C26","v":"LM281B plus (SC SE)"},"-","-","-","▷D-series Gen2",null,null,null,null,null,null,null,null,null,null,null,null,null,null,null,null,null,null,null,null,null,null,null,null,null,null,null,null,null,null,null,null,null,null,null,null,null,null,null,null,null,{"$f":"BV29","v":80},5700,null,null,null,null,null,null,null,null,null,{"$f":"$BU$21*BW30","v":3203400},80,"-","-","-",256277780,"Flux : S1,S2,S3,S4",27.5,29.5,31.5,33.5,"-","-","-","-","S1 (26.5-28.5)","S2 (28.5-30.5) ","S3 (30.5-32.5) ","S4 (32.5-34.5) ","-","-","-","-",2.75,2.85,2.95,3.05,3.15,"-","-","AZ (2.7-2.8)","A1 (2.8-2.9)","A2 (2.9-3.0)","A3 (3.0-3.1)","A4 (3.1-3.2)","-","-",null,{"$f":"DS29","v":-11.983000000000001},15.781000000000001,2.4799999999999999E-2,null,null,-1.6999999999999999E-3,null,{"$f":"DZ29","v":-0.54620000000000002},1.0103,0.93659999999999999,null,null,{"$f":"EE29","v":-1.8400000000000001E-3},"Vf : AZ,A1,A2,A3,A4","SPMWHT541MD5",null,null,null,null,null,null,null,"SPHWW1HDN947","COB standard","LC008B","WW",90]
[null,null,{"$f":"BT592","v":"LM281B plus (RJ)"},0.15,0.2,115,25,9.8000000000000007,25,null,null,null,null,null,25,"LED performances @mean/flux_rank","2.8x3.5","@5000K",null,null,null,null,null,null,null,null,null,{"$f":"C27","v":"LM281B plus (SG)"},"-","-","-",{"$f":"C133","v":"LC003D_G2"},null,null,null,null,null,null,null,null,null,null,null,null,null,null,null,null,null,null,null,null,null,null,null,null,null,null,null,null,null,null,null,null,null,null,null,null,null,null,null,null,null,{"$f":"BV30","v":80},6500,null,null,null,null,null,null,null,null,null,{"$f":"$BU$21*BW31","v":3653000},80,"-","-","-",292246580,"Flux : S1,S2,S3,S4",27,29,31,33,"-","-","-","-","S1 (26-28)","S2 (28-30)","S3 (30-32) ","S4 (32-34)","-","-","-","-",2.75,2.85,2.95,3.05,3.15,"-","-","AZ (2.7-2.8)","A1 (2.8-2.9)","A2 (2.9-3.0)","A3 (3.0-3.1)","A4 (3.1-3.2)","-","-",null,{"$f":"DS30","v":-11.983000000000001},{"$f":"DT30","v":15.781000000000001},{"$f":"DU30","v":2.4799999999999999E-2},null,null,{"$f":"DX30","v":-1.6999999999999999E-3},null,-0.54620000000000002,1.0103,0.93659999999999999,null,null,{"$f":"EE30","v":-1.8400000000000001E-3},"Vf : AZ,A1,A2,A3,A4","SPMWHT541MD5",null,null,null,null,null,null,null,"SPHWW1HDN948","COB standard","LC008B","WW",95]
[null,null,{"$f":"BT606","v":"LM281B plus (RK)"},6.5000000000000002E-2,0.2,115,25,9.7999999999999989,25,37,2.74,{"$f":"D32*K32","v":0.17810000000000001},{"$f":"E32*K32","v":0.54800000000000004},{"$f":"J32/L32","v":207.7484559236384},25,"LED performances @mean/flux_rank","2.8x3.5","@5000K",null,null,null,null,null,null,null,null,null,{"$f":"C28","v":"LM281B plus (SJ)"},"-","-","-","LC006D_G2",null,null,null,null,null,null,null,null,null,null,null,null,null,null,null,null,null,null,null,null,null,null,null,null,null,null,null,null,null,null,null,null,null,null,null,null,null,null,null,"LM231A",231,80,2700,2700,3000,3500,4000,4500,5000,5700,6500,"-",{"$f":"$BU$32*BW32","v":623700},80,"-","-","-",{"$f":"$BU$32*BV32*BW32+BV32+BW32","v":49898780},"Flux : S1,S2,S3",21.295000000000002,24.490000000000002,28.164999999999999,"-","-","-","-","-","S1 (19.81-22.78)","S2 (22.78-26.2)","S3 (26.2-30.13)","-","-","-","-","-",2.75,2.85,2.95,3.05,3.15,"-","-","AZ (2.7-2.8)","A1 (2.8-2.9)","A2 (2.9-3.0)","A3 (3.0-3.1)","A4 (3.1-3.2)","-","-",null,-13.673,16.253,-5.0000000000000001E-4,null,null,-1.7600000000000001E-3,null,-2.0356000000000001,1.5565,0.90649999999999997,null,null,-2.16E-3,"Vf : AZ,A1,A2,A3,A4","SPMWHT221MD5",null,null,null,null,null,null,null,"SPHWW1HDNA23","COB standard","LC013B","WW",70]
[null,null,{"$f":"BT620","v":"LM281B plus PRO (VG)"},0.15,0.3,115,25,9.7999999999999989,25,null,null,null,null,null,25,"LED performances @mean/flux_rank","2.8x3.5","@5000K",null,null,null,null,null,null,null,null,null,{"$f":"C29","v":"LM281B plus (SK)"},"-","-","-","LC009D_G2",null,null,null,null,null,null,null,null,null,null,null,null,null,null,null,null,null,null,null,null,null,null,null,null,null,null,null,null,null,null,null,null,null,null,null,null,null,null,null,null,null,{"$f":"BV32","v":80},3000,null,null,null,null,null,null,null,null,null,{"$f":"$BU$32*BW33","v":693000},80,"-","-","-",55443080,"Flux : S1,S2,S3",21.295000000000002,24.490000000000002,28.164999999999999,"-","-","-","-","-","S1 (19.81-22.78)","S2 (22.78-26.2)","S3 (26.2-30.13)","-","-","-","-","-",2.75,2.85,2.95,3.05,3.15,"-","-","AZ (2.7-2.8)","A1 (2.8-2.9)","A2 (2.9-3.0)","A3 (3.0-3.1)","A4 (3.1-3.2)","-","-",null,{"$f":"DS32","v":-13.673},16.253,-5.0000000000000001E-4,null,null,{"$f":"DX32","v":-1.7600000000000001E-3},null,{"$f":"DZ32","v":-2.0356000000000001},1.5565,0.90649999999999997,null,null,{"$f":"EE32","v":-2.16E-3},"Vf : AZ,A1,A2,A3,A4","SPMWHT221MD5",null,null,null,null,null,null,null,"SPHCW1HDNA23","COB standard","LC013B","CW",70]
[null,null,{"$f":"BT634","v":"LM281B plus PRO (VJ)"},0.15,0.3,115,25,9.7999999999999989,25,null,null,null,null,null,25,"LED performances @mean/flux_rank","2.8x3.5","@5000K",null,null,null,null,null,null,null,null,null,{"$f":"C30","v":"LM281B plus (RG)"},"-","-","-","LC013D_G2",null,null,null,null,null,null,null,null,null,null,null,null,null,null,null,null,null,null,null,null,null,null,null,null,null,null,null,null,null,null,null,null,null,null,null,null,null,null,null,null,null,{"$f":"BV33","v":80},3500,null,null,null,null,null,null,null,null,null,{"$f":"$BU$32*BW34","v":808500},80,"-","-","-",64683580,"Flux : S1,S2,S3",21.295000000000002,24.490000000000002,28.164999999999999,"-","-","-","-","-","S1 (19.81-22.78)","S2 (22.78-26.2)","S3 (26.2-30.13)","-","-","-","-","-",2.75,2.85,2.95,3.05,3.15,"-","-","AZ (2.7-2.8)","A1 (2.8-2.9)","A2 (2.9-3.0)","A3 (3.0-3.1)","A4 (3.1-3.2)","-","-",null,-13.673,16.253,-5.0000000000000001E-4,null,null,{"$f":"DX33","v":-1.7600000000000001E-3},null,-2.0356000000000001,1.5565,0.90649999999999997,null,null,{"$f":"EE33","v":-2.16E-3},"Vf : AZ,A1,A2,A3,A4","SPMWHT221MD5",null,null,null,null,null,null,null,"SPHWW1HDNA25","COB standard","LC013B","WW",80]
[null,null,{"$f":"BT648","v":"LM281B plus PRO (VK)"},6.5000000000000002E-2,0.3,115,25,9.7999999999999989,25,37,2.74,0.17810000000000001,0.54800000000000004,207.7484559236384,25,"LED performances @mean/flux_rank","2.8x3.5","@5000K",null,null,null,null,null,null,null,null,null,{"$f":"C31","v":"LM281B plus (RJ)"},"-","-","-","LC016D_G2",null,null,null,null,null,null,null,null,null,null,null,null,null,null,null,null,null,null,null,null,null,null,null,null,null,null,null,null,null,null,null,null,null,null,null,null,null,null,null,null,null,{"$f":"BV34","v":80},4000,null,null,null,null,null,null,null,null,null,{"$f":"$BU$32*BW35","v":924000},80,90,"-","-",73924080,"Flux : S1,S2,S3",22.055,25.324999999999999,29.125,"-","-","-","-","-","S1 (20.55-23.56)","S2 (23.56-27.09)","S3 (27.09-31.16)","-","-","-","-","-",2.75,2.85,2.95,3.05,3.15,"-","-","AZ (2.7-2.8)","A1 (2.8-2.9)","A2 (2.9-3.0)","A3 (3.0-3.1)","A4 (3.1-3.2)","-","-",null,-13.673,16.253,-5.0000000000000001E-4,null,null,{"$f":"DX34","v":-1.7600000000000001E-3},null,-2.0356000000000001,1.5565,0.90649999999999997,null,null,{"$f":"EE34","v":-2.16E-3},"Vf : AZ,A1,A2,A3,A4","SPMWHT221MD5",null,null,null,null,null,null,null,"SPHCW1HDNA25","COB standard","LC013B","CW",80]
[null,null,{"$f":"BT662","v":"LM281B plus PRO (VL)"},6.5000000000000002E-2,0.3,125,12,9.7999999999999989,25,null,null,null,null,null,25,"LED performances @mean/flux_rank","2.8x3.5","@5000K",null,null,null,null,null,null,null,null,null,{"$f":"C32","v":"LM281B plus (RK)"},"-","-","-","LC019D_G2",null,null,null,null,null,null,null,null,null,null,null,null,null,null,null,null,null,null,null,null,null,null,null,null,null,null,null,null,null,null,null,null,null,null,null,null,null,null,null,null,null,80,4500,null,null,null,null,null,null,null,null,null,null,null,null,null,null,83164580,"Flux : S1,S2,S3",{"$f":"AVERAGE(20.55,23.56)","v":22.055},{"$f":"AVERAGE(23.56,27.09)","v":25.324999999999999},{"$f":"AVERAGE(27.09,31.16)","v":29.125},"-","-","-","-","-","S1 (20.55-23.56)","S2 (23.56-27.09)","S3 (27.09-31.16)","-","-","-","-","-",2.75,2.85,2.95,3.05,3.15,"-","-","AZ (2.7-2.8)","A1 (2.8-2.9)","A2 (2.9-3.0)","A3 (3.0-3.1)","A4 (3.1-3.2)","-","-",null,-13.673,16.253,-5.0000000000000001E-4,null,null,{"$f":"DX35","v":-1.7600000000000001E-3},null,-2.0356000000000001,1.5565,0.90649999999999997,null,null,{"$f":"EE35","v":-2.16E-3},"Vf : AZ,A1,A2,A3,A4","SPMWHT221MD5",null,null,null,null,null,null,null,"SPHWW1HDNA27","COB standard","LC013B","WW",90]
[null,null,{"$f":"BT676","v":"LM281B plus Ra90 HE (VL)"},6.5000000000000002E-2,0.2,115,12,9.7999999999999989,25,null,null,null,null,null,25,"LED performances @mean/flux_rank","2.8x3.5","@5000K",null,null,null,null,null,null,null,null,null,{"$f":"C33","v":"LM281B plus PRO (VG)"},"-","-","-","LC026D_G2",null,null,null,null,null,null,null,null,null,null,null,null,null,null,null,null,null,null,null,null,null,null,null,null,null,null,null,null,null,null,null,null,null,null,null,null,null,null,null,null,null,{"$f":"BV35","v":80},5000,null,null,null,null,null,null,null,null,null,{"$f":"$BU$32*BW37","v":1155000},80,"-","-","-",92405080,"Flux : S1,S2,S3",22.055,25.324999999999999,29.125,"-","-","-","-","-","S1 (20.55-23.56)","S2 (23.56-27.09) ","S3 (27.09-31.16)","-","-","-","-","-",2.75,2.85,2.95,3.05,3.15,"-","-","AZ (2.7-2.8)","A1 (2.8-2.9)","A2 (2.9-3.0)","A3 (3.0-3.1)","A4 (3.1-3.2)","-","-",null,{"$f":"DS35","v":-13.673},{"$f":"DT35","v":16.253},{"$f":"DU35","v":-5.0000000000000001E-4},null,null,-2.8789712216252573E-3,null,{"$f":"DZ35","v":-2.0356000000000001},{"$f":"EA35","v":1.5565},{"$f":"EB35","v":0.90649999999999997},null,null,{"$f":"EE35","v":-2.16E-3},"Vf : AZ,A1,A2,A3,A4","SPMWHT221MD5",null,null,null,null,null,null,null,"SPHWW1HDNA28","COB standard","LC013B","WW",95]
[null,null,{"$f":"BT473","v":"LM281BA"},0.06,7.0000000000000007E-2,115,25,9.7999999999999989,25,null,null,null,null,null,25,"LED performances @mean/flux_rank","2.8x3.5",null,null,null,null,null,null,null,null,null,null,{"$f":"C34","v":"LM281B plus PRO (VJ)"},"-","-","-","LC033D_G2",null,null,null,null,null,null,null,null,null,null,null,null,null,null,null,null,null,null,null,null,null,null,null,null,null,null,null,null,null,null,null,null,null,null,null,null,null,null,null,null,null,{"$f":"BV37","v":80},5700,null,null,null,null,null,null,null,null,null,{"$f":"$BU$32*BW38","v":1316700},80,"-","-","-",105341780,"Flux : S1,S2,S3",22.055,25.324999999999999,29.125,"-","-","-","-","-","S1 (20.55-23.56)","S2 (23.56-27.09) ","S3 (27.09-31.16)","-","-","-","-","-",2.75,2.85,2.95,3.05,3.15,"-","-","AZ (2.7-2.8)","A1 (2.8-2.9)","A2 (2.9-3.0)","A3 (3.0-3.1)","A4 (3.1-3.2)","-","-",null,{"$f":"DS37","v":-13.673},16.253,-5.0000000000000001E-4,null,null,{"$f":"DX37","v":-2.8789712216252573E-3},null,{"$f":"DZ37","v":-2.0356000000000001},1.5565,0.90649999999999997,null,null,{"$f":"EE37","v":-2.16E-3},"Vf : AZ,A1,A2,A3,A4","SPMWHT221MD5",null,null,null,null,null,null,null,"SPHWW1HDNB23","COB standard","LC019B","WW",70]
[null,null,{"$f":"BT480","v":"LM281BA plus"},0.06,7.0000000000000007E-2,115,25,9.7999999999999989,25,null,null,null,null,null,25,"LED performances @mean/flux_rank","2.8x3.5",null,null,null,null,null,null,null,null,null,null,{"$f":"C35","v":"LM281B plus PRO (VK)"},"-","-","-","LC040D_G2",null,null,null,null,null,null,null,null,null,null,null,null,null,null,null,null,null,null,null,null,null,null,null,null,null,null,null,null,null,null,null,null,null,null,null,null,null,null,null,null,null,{"$f":"BV38","v":80},6500,null,null,null,null,null,null,null,null,null,{"$f":"$BU$32*BW39","v":1501500},80,"-","-","-",120126580,"Flux : S1,S2,S3",22.055,25.324999999999999,29.125,"-","-","-","-","-","S1 (20.55-23.56)","S2 (23.56-27.09) ","S3 (27.09-31.16)","-","-","-","-","-",2.75,2.85,2.95,3.05,3.15,"-","-","AZ (2.7-2.8)","A1 (2.8-2.9)","A2 (2.9-3.0)","A3 (3.0-3.1)","A4 (3.1-3.2)","-","-",null,{"$f":"DS38","v":-13.673},{"$f":"DT38","v":16.253},{"$f":"DU38","v":-5.0000000000000001E-4},null,null,{"$f":"DX38","v":-2.8789712216252573E-3},null,{"$f":"DZ38","v":-2.0356000000000001},{"$f":"EA38","v":1.5565},{"$f":"EB38","v":0.90649999999999997},null,null,{"$f":"EE38","v":-2.16E-3},"Vf : AZ,A1,A2,A3,A4","SPMWHT221MD5",null,null,null,null,null,null,null,"SPHCW1HDNB23","COB standard","LC019B","CW",70]
[null,null,{"$f":"BT683","v":"LM281BZ plus (SA)"},0.15,0.16,115,25,9.7999999999999989,25,null,null,null,null,null,25,"LED performances @mean/flux_rank","2.8x3.5",null,null,null,null,null,null,null,null,null,null,{"$f":"C36","v":"LM281B plus PRO (VL)"},"-","-","-","LC060D_G2",null,null,null,null,null,null,null,null,null,null,null,null,null,null,null,null,null,null,null,null,null,null,null,null,null,null,null,null,null,null,null,null,null,null,null,null,null,null,null,"LM362A (6V)",362,80,2700,2700,3000,3500,4000,5000,5700,6500,"-","-",{"$f":"$BU$40*BW40","v":977400},80,90,"-","-",{"$f":"$BU$40*BV40*BW40+BV40+BW40","v":78194780},"Flux : S1,S2,S3,S4",54.5,63,73,{"$f":"AVERAGE(78,88)","v":83},"-","-","-","-","S1 (51-58)","S2 (58-68)","S3 (68-78)","S4 (78-88)","-","-","-","-",5.7,5.9,6.1,6.3,6.5,"-","-","A1 (5.6-5.8)","A2 (5.8-6.0)","A3 (6.0-6.2)","A4 (6.2-6.4)","A5 (6.4-6.6)","-","-",null,-7.8122999999999996,10.288,4.9299999999999997E-2,null,null,-1.5E-3,null,-1.2929999999999999,1.0883,0.90369999999999995,null,null,-5.1999999999999998E-3,"Vf : A1,A2,A3,A4,A5","SPMWHT325AD5",null,null,null,null,null,null,null,"SPHWW1HDNB25","COB standard","LC019B","WW",80]
[null,null,{"$f":"BT697","v":"LM281BZ plus (SC SE)"},0.15,0.16,115,25,9.7999999999999989,25,null,null,null,null,null,25,"LED performances @mean/flux_rank","2.8x3.5",null,null,null,null,null,null,null,null,null,null,{"$f":"C37","v":"LM281B plus Ra90 HE (VL)"},"-","-","-","LC080D_G2",null,null,null,null,null,null,null,null,null,null,null,null,null,null,null,null,null,null,null,null,null,null,null,null,null,null,null,null,null,null,null,null,null,null,null,null,null,null,null,null,null,90,2700,null,null,null,null,null,null,null,null,null,null,null,null,null,null,87968790,"Flux : S1,S2,S3",{"$f":"AVERAGE(48,53)","v":50.5},{"$f":"AVERAGE(53,58)","v":55.5},{"$f":"AVERAGE(58,63)","v":60.5},"-","-","-","-","-","S1 (48-53)","S2 (53-58)","S3 (58-63)","-","-","-","-","-",5.7,5.9,6.1,6.3,6.5,"-","-","A1 (5.6-5.8)","A2 (5.8-6.0)","A3 (6.0-6.2)","A4 (6.2-6.4)","A5 (6.4-6.6)","-","-",null,-12.069000000000001,10.569000000000001,6.3700000000000007E-2,null,null,-1.6363636363636359E-3,null,{"$f":"DZ40","v":-1.2929999999999999},1.0883,0.90369999999999995,null,null,{"$f":"EE40","v":-5.1999999999999998E-3},"Vf : A1,A2,A3,A4,A5","SPMWHT325AD7",null,null,null,null,null,null,null,"SPHCW1HDNB25","COB standard","LC019B","CW",80]
[null,null,{"$f":"BT711","v":"LM281BZ plus (RK)"},6.5000000000000002E-2,0.2,115,25,9.7999999999999989,25,null,null,null,null,null,25,"LED performances @mean/flux_rank","2.8x3.5",null,null,null,null,null,null,null,null,null,null,{"$f":"C38","v":"LM281BA"},"-","-","-","",null,null,null,null,null,null,null,null,null,null,null,null,null,null,null,null,null,null,null,null,null,null,null,null,null,null,null,null,null,null,null,null,null,null,null,null,null,null,null,null,null,{"$f":"BV40","v":80},3000,null,null,null,null,null,null,null,null,null,{"$f":"$BU$40*BW42","v":1086000},80,90,"-","-",86883080,"Flux : S1,S2,S3,S4",55.5,65,75,85,"-","-","-","-","S1 (51-60)","S2 (60-70)","S3 (70-80)","S4 (80-90)","-","-","-","-",5.7,5.9,6.1,6.3,6.5,"-","-","A1 (5.6-5.8)","A2 (5.8-6.0)","A3 (6.0-6.2)","A4 (6.2-6.4)","A5 (6.4-6.6)","-","-",null,{"$f":"DS40","v":-7.8122999999999996},10.288,4.9299999999999997E-2,null,null,{"$f":"DX40","v":-1.5E-3},null,-1.2929999999999999,1.0883,0.90369999999999995,null,null,{"$f":"EE41","v":-5.1999999999999998E-3},"Vf : A1,A2,A3,A4,A5","SPMWHT325AD5",null,null,null,null,null,null,null,"SPHWW1HDNB27","COB standard","LC019B","WW",90]
[null,null,{"$f":"BT725","v":"LM281C"},6.5000000000000002E-2,0.16,115,25,9.7999999999999989,25,null,null,null,null,null,{"$f":"IF(I43=25,I43,I43-L43*G43)","v":25},"LED performances @mean/flux_rank","2.8x3.5",null,null,null,null,null,null,null,null,null,null,{"$f":"C39","v":"LM281BA plus"},"-","-","-","▷D-series Gen2+",null,null,null,null,null,null,null,null,null,null,null,null,null,null,null,null,null,null,null,null,null,null,null,null,null,null,null,null,null,null,null,null,null,null,null,null,null,null,null,null,null,90,3000,null,null,null,null,null,null,null,null,null,null,null,null,null,null,97743090,"Flux : S1,S2,S3",{"$f":"AVERAGE(50,55)","v":52.5},{"$f":"AVERAGE(55,60)","v":57.5},{"$f":"AVERAGE(60,65)","v":62.5},"-","-","-","-","-","S1 (50-55)","S2 (55-60)","S3 (60-65)","-","-","-","-","-",5.7,5.9,6.1,6.3,6.5,"-","-","A1 (5.6-5.8)","A2 (5.8-6.0)","A3 (6.0-6.2)","A4 (6.2-6.4)","A5 (6.4-6.6)","-","-",null,-12.069000000000001,10.569000000000001,6.3700000000000007E-2,null,null,{"$f":"DX41","v":-1.6363636363636359E-3},null,-1.2929999999999999,1.0883,0.90369999999999995,null,null,{"$f":"EE42","v":-5.1999999999999998E-3},"Vf : A1,A2,A3,A4,A5","SPMWHT325AD7",null,null,null,null,null,null,null,"SPHWW1HDNB28","COB standard","LC019B","WW",95]
[null,null,{"$f":"BT888","v":"LM281D plus "},0.15,0.2,115,25,9.7999999999999989,25,null,null,null,null,null,{"$f":"IF(I44=25,I44,I44-L44*G44)","v":25},"LED performances @mean/flux_rank","2.8x3.5",null,null,null,null,null,null,null,null,null,null,{"$f":"C40","v":"LM281BZ plus (SA)"},"-","-","-",{"$f":"C144","v":"LC003D_G2 plus(17V)"},null,null,null,null,null,null,null,null,null,null,null,null,null,null,null,null,null,null,null,null,null,null,null,null,null,null,null,null,null,null,null,null,null,null,null,null,null,null,null,null,null,{"$f":"BV42","v":80},3500,null,null,null,null,null,null,null,null,null,{"$f":"$BU$40*BW44","v":1267000},80,90,"-","-",101363580,"Flux : S1,S2,S3,S4",57,68,78,{"$f":"AVERAGE(83,93)","v":88},"-","-","-","-","S1 (51-63)","S2 (63-73)","S3 (73-83)","S4 (83-93)","-","-","-","-",5.7,5.9,6.1,6.3,6.5,"-","-","A1 (5.6-5.8)","A2 (5.8-6.0)","A3 (6.0-6.2)","A4 (6.2-6.4)","A5 (6.4-6.6)","-","-",null,-7.8122999999999996,10.288,4.9299999999999997E-2,null,null,{"$f":"DX42","v":-1.5E-3},null,{"$f":"DZ42","v":-1.2929999999999999},{"$f":"EA42","v":1.0883},{"$f":"EB42","v":0.90369999999999995},null,null,{"$f":"EE42","v":-5.1999999999999998E-3},"Vf : A1,A2,A3,A4,A5","SPMWHT325AD5",null,null,null,null,null,null,null,"SPHWW1HDNC23","COB standard","LC026B","WW",70]
[null,null,{"$f":"BT732","v":"LM282B (6V)"},0.15,0.16,115,15,9.7999999999999989,25,null,null,null,null,null,{"$f":"IF(I45=25,I45,I45-L45*G45)","v":25},"LED performances @mean/flux_rank","2.8x3.5",null,null,null,null,null,null,null,null,null,null,{"$f":"C41","v":"LM281BZ plus (SC SE)"},"-","-","-","LC003D_G2 plus(34V)",null,null,null,null,null,null,null,null,null,null,null,null,null,null,null,null,null,null,null,null,null,null,null,null,null,null,null,null,null,null,null,null,null,null,null,null,null,null,null,null,null,90,3500,null,null,null,null,null,null,null,null,null,null,null,null,null,null,114033590,"Flux : S1,S2,S3",{"$f":"AVERAGE(52,57)","v":54.5},{"$f":"AVERAGE(57,62)","v":59.5},{"$f":"AVERAGE(62,67)","v":64.5},"-","-","-","-","-","S1 (52-57)","S2 (57-62)","S3 (62-67)","-","-","-","-","-",5.7,5.9,6.1,6.3,6.5,"-","-","A1 (5.6-5.8)","A2 (5.8-6.0)","A3 (6.0-6.2)","A4 (6.2-6.4)","A5 (6.4-6.6)","-","-",null,{"$f":"DS41","v":-12.069000000000001},{"$f":"DT41","v":10.569000000000001},6.3700000000000007E-2,null,null,-1.6363636363636359E-3,null,-1.2929999999999999,1.0883,0.90369999999999995,null,null,-5.1999999999999998E-3,"Vf : A1,A2,A3,A4,A5","SPMWHT325AD7",null,null,null,null,null,null,null,"SPHCW1HDNC23","COB standard","LC026B","CW",70]
[null,null,{"$f":"BT746","v":"LM282B plus (6V)"},0.15,0.16,115,15,9.7999999999999989,25,null,null,null,null,null,25,"LED performances @mean/flux_rank","2.8x3.5",null,null,null,null,null,null,null,null,null,null,{"$f":"C42","v":"LM281BZ plus (RK)"},"-","-","-","LC006D_G2 plus",null,null,null,null,null,null,null,null,null,null,null,null,null,null,null,null,null,null,null,null,null,null,null,null,null,null,null,null,null,null,null,null,null,null,null,null,null,null,null,null,null,{"$f":"BV44","v":80},4000,null,null,null,null,null,null,null,null,null,{"$f":"$BU$40*BW46","v":1448000},80,90,"-","-",115844080,"Flux : S1,S2,S3,S4",60,70,80,{"$f":"AVERAGE(85,95)","v":90},"-","-","-","-","S1 (55-65)","S2 (65-75)","S3 (75-85)","S4 (85-95)","-","-","-","-",5.7,5.9,6.1,6.3,6.5,"-","-","A1 (5.6-5.8)","A2 (5.8-6.0)","A3 (6.0-6.2)","A4 (6.2-6.4)","A5 (6.4-6.6)","-","-",null,{"$f":"DS44","v":-7.8122999999999996},10.288,4.9299999999999997E-2,null,null,-1.5E-3,null,{"$f":"DZ44","v":-1.2929999999999999},{"$f":"EA44","v":1.0883},{"$f":"EB44","v":0.90369999999999995},null,null,{"$f":"EE44","v":-5.1999999999999998E-3},"Vf : A1,A2,A3,A4,A5","SPMWHT325AD5",null,null,null,null,null,null,null,"SPHWW1HDNC25","COB standard","LC026B","WW",80]
[null,null,{"$f":"BT760","v":"LM283B (9V)"},0.1,0.11,125,15,9.7999999999999989,25,115,9,{"$f":"D47*K47","v":0.9},{"$f":"E47*K47","v":0.99},{"$f":"J47/L47","v":127.77777777777777},25,"LED performances @mean/flux_rank","2.8x3.5",null,null,null,null,null,null,null,null,null,null,{"$f":"C43","v":"LM281C"},"-","-","-","LC009D_G2 plus",null,null,null,null,null,null,null,null,null,null,null,null,null,null,null,null,null,null,null,null,null,null,null,null,null,null,null,null,null,null,null,null,null,null,null,null,null,null,null,null,null,90,4000,null,null,null,null,null,null,null,null,null,null,null,null,null,null,130324090,"Flux : S1,S2,S3",{"$f":"AVERAGE(54,59)","v":56.5},{"$f":"AVERAGE(59,64)","v":61.5},{"$f":"AVERAGE(64,69)","v":66.5},"-","-","-","-","-","S1 (54-59)","S2 (59-64)","S3 (64-69)","-","-","-","-","-",5.7,5.9,6.1,6.3,6.5,"-","-","A1 (5.6-5.8)","A2 (5.8-6.0)","A3 (6.0-6.2)","A4 (6.2-6.4)","A5 (6.4-6.6)","-","-",null,{"$f":"DS41","v":-12.069000000000001},{"$f":"DT41","v":10.569000000000001},6.3700000000000007E-2,null,null,-1.6363636363636359E-3,null,-1.2929999999999999,1.0883,0.90369999999999995,null,null,-5.1999999999999998E-3,"Vf : A1,A2,A3,A4,A5","SPMWHT325AD7",null,null,null,null,null,null,null,"SPHCW1HDNC25","COB standard","LC026B","CW",80]
[null,null,{"$f":"BT774","v":"LM283B plus (9V)"},0.1,0.11,125,15,9.7999999999999989,25,null,null,null,null,null,25,"LED performances @mean/flux_rank","2.8x3.5",null,null,null,null,null,null,null,null,null,null,{"$f":"C44","v":"LM281D plus "},"-","-","-","LC013D_G2 plus",null,null,null,null,null,null,null,null,null,null,null,null,null,null,null,null,null,null,null,null,null,null,null,null,null,null,null,null,null,null,null,null,null,null,null,null,null,null,null,null,null,{"$f":"BV46","v":80},5000,null,null,null,null,null,null,null,null,null,{"$f":"$BU$40*BW48","v":1810000},80,"-","-","-",144805080,"Flux : S1,S2,S3,S4",60.5,71,81,{"$f":"AVERAGE(86,96)","v":91},"-","-","-","-","S1 (55-66)","S2 (66-76)","S3 (76-86)","S4 (86-96)","-","-","-","-",5.7,5.9,6.1,6.3,6.5,"-","-","A1 (5.6-5.8)","A2 (5.8-6.0)","A3 (6.0-6.2)","A4 (6.2-6.4)","A5 (6.4-6.6)","-","-",null,-7.8122999999999996,10.288,4.9299999999999997E-2,null,null,-2E-3,null,{"$f":"DZ46","v":-1.2929999999999999},{"$f":"EA46","v":1.0883},{"$f":"EB46","v":0.90369999999999995},null,null,{"$f":"EE46","v":-5.1999999999999998E-3},"Vf : A1,A2,A3,A4,A5","SPMWHT325AD5",null,null,null,null,null,null,null,"SPHWW1HDNC27","COB standard","LC026B","WW",90]
[null,null,{"$f":"BT788","v":"LM283B plus (9V)(SP)"},0.1,0.11,125,15,9.7999999999999989,25,null,null,null,null,null,25,"LED performances @mean/flux_rank","2.8x3.5",null,null,null,null,null,null,null,null,null,null,{"$f":"C45","v":"LM282B (6V)"},"-","-","-","LC016D_G2 plus",null,null,null,null,null,null,null,null,null,null,null,null,null,null,null,null,null,null,null,null,null,null,null,null,null,null,null,null,null,null,null,null,null,null,null,null,null,null,null,null,null,80,5700,null,null,null,null,null,null,null,null,null,{"$f":"$BU$40*BW49","v":2063400},80,"-","-","-",{"$f":"$BU$40*BV49*BW49+BV49+BW49","v":165077780},"Flux : S1,S2,S3,S4",60,70,80,{"$f":"AVERAGE(85,95)","v":90},"-","-","-","-","S1 (55-65)","S2 (65-75)","S3 (75-85)","S4 (85-95)","-","-","-","-",5.7,5.9,6.1,6.3,6.5,"-","-","A1 (5.6-5.8)","A2 (5.8-6.0)","A3 (6.0-6.2)","A4 (6.2-6.4)","A5 (6.4-6.6)","-","-",null,{"$f":"DS48","v":-7.8122999999999996},10.288,4.9299999999999997E-2,null,null,{"$f":"DX48","v":-2E-3},null,{"$f":"DZ48","v":-1.2929999999999999},1.0883,0.90369999999999995,null,null,{"$f":"EE48","v":-5.1999999999999998E-3},"Vf : A1,A2,A3,A4,A5","SPMWHT325AD5",null,null,null,null,null,null,null,"SPHWW1HDNC28","COB standard","LC026B","WW",95]
[null,null,{"$f":"BT802","v":"LM283BS plus (9V)"},0.06,7.0000000000000007E-2,115,15,9.7999999999999989,25,null,null,null,null,null,25,"LED performances @mean/flux_rank","2.8x3.5",null,null,null,null,null,null,null,null,null,null,{"$f":"C46","v":"LM282B plus (6V)"},"-","-","-","LC019D_G2 plus",null,null,null,null,null,null,null,null,null,null,null,null,null,null,null,null,null,null,null,null,null,null,null,null,null,null,null,null,null,null,null,null,null,null,null,null,null,null,null,null,null,80,6500,null,null,null,null,null,null,null,null,null,{"$f":"$BU$40*BW50","v":2353000},80,"-","-","-",{"$f":"$BU$40*BV50*BW50+BV50+BW50","v":188246580},"Flux : S1,S2,S3,S4",60,70,80,{"$f":"AVERAGE(85,95)","v":90},"-","-","-","-","S1 (55-65)","S2 (65-75)","S3 (75-85)","S4 (85-95)","-","-","-","-",5.7,5.9,6.1,6.3,6.5,"-","-","A1 (5.6-5.8)","A2 (5.8-6.0)","A3 (6.0-6.2)","A4 (6.2-6.4)","A5 (6.4-6.6)","-","-",null,-7.8122999999999996,10.288,4.9299999999999997E-2,null,null,{"$f":"DX49","v":-2E-3},null,-1.2929999999999999,1.0883,0.90369999999999995,null,null,{"$f":"EE49","v":-5.1999999999999998E-3},"Vf : A1,A2,A3,A4,A5","SPMWHT325AD5",null,null,null,null,null,null,null,"SPHWW1HDND23","COB standard","LC033B","WW",70]
[null,null,{"$f":"BT902","v":"LM283D plus (9V)"},0.1,0.11,125,15,9.7999999999999989,25,null,null,null,null,null,25,"LED performances @mean/flux_rank","2.8x3.5",null,null,null,null,null,null,null,null,null,null,{"$f":"C47","v":"LM283B (9V)"},"-","-","-","LC026D_G2 plus",null,null,null,null,null,null,null,null,null,null,null,null,null,null,null,null,null,null,null,null,null,null,null,null,null,null,null,null,null,null,null,null,null,null,null,null,null,null,null,"LM561A",561,80,2700,2700,3000,3500,4000,5000,5700,6500,"-","-",{"$f":"$BU$51*BW51","v":1514700},80,"-","-","-",{"$f":"$BU$51*BV51*BW51+BV51+BW51","v":121178780},"Flux : S1,S2,S3",15.315,17.91,20.505000000000003,"-","-","-","-","-","S1 (14.02-16.61)","S2 (16.61-19.21)","S3 (19.21-21.80)","-","-","-","-","-",2.85,2.95,3.05,3.15,3.25,"-","-","A1 (2.8-2.9)","A2 (2.9-3.0)","A3 (3.0-3.1)","A4 (3.1-3.2)","A5 (3.2-3.3)","-","-",null,-18.681999999999999,21.245999999999999,-1.6799999999999999E-2,null,null,-2.2727272727272726E-3,null,-3.7065000000000001,1.9076,0.91469999999999996,null,null,-1.6636363636363621E-3,"Vf : A1,A2,A3,A4,A5","SPMWHT5225D5",null,null,null,null,null,null,null,"SPHCW1HDND23","COB standard","LC033B","CW",70]
[null,null,{"$f":"BT916","v":"LM284D plus (12V)"},7.4999999999999997E-2,0.08,125,15,9.7999999999999989,25,null,null,null,null,null,25,"LED performances @mean/flux_rank","2.8x3.5",null,null,null,null,null,null,null,null,null,null,{"$f":"C48","v":"LM283B plus (9V)"},"-","-","-","LC033D_G2 plus",null,null,null,null,null,null,null,null,null,null,null,null,null,null,null,null,null,null,null,null,null,null,null,null,null,null,null,null,null,null,null,null,null,null,null,null,null,null,null,null,null,{"$f":"BV51","v":80},3000,null,null,null,null,null,null,null,null,null,1683000,80,"-","-","-",134643080,"Flux : S1,S2,S3",16.189999999999998,18.795000000000002,21.4,"-","-","-","-","-","S1 (14.89-17.49)","S2 (17.49-20.10)","S3 (20.10-22.70)","-","-","-","-","-",2.85,2.95,3.05,3.15,3.25,"-","-","A1 (2.8-2.9)","A2 (2.9-3.0)","A3 (3.0-3.1)","A4 (3.1-3.2)","A5 (3.2-3.3)","-","-",null,{"$f":"DS51","v":-18.681999999999999},{"$f":"DT51","v":21.245999999999999},{"$f":"DU51","v":-1.6799999999999999E-2},null,null,{"$f":"DX51","v":-2.2727272727272726E-3},null,{"$f":"DZ51","v":-3.7065000000000001},{"$f":"EA51","v":1.9076},{"$f":"EB51","v":0.91469999999999996},null,null,{"$f":"EE51","v":-1.6636363636363621E-3},"Vf : A1,A2,A3,A4,A5","SPMWHT5225D5",null,null,null,null,null,null,null,"SPHWW1HDND25","COB standard","LC033B","WW",80]
[null,null,{"$f":"BT809","v":"LM286B (18V)"},0.04,4.4999999999999998E-2,115,20,9.7999999999999989,25,null,null,null,null,null,25,"LED performances @mean/flux_rank","2.8x3.5",null,null,null,null,null,null,null,null,null,null,{"$f":"C49","v":"LM283B plus (9V)(SP)"},"-","-","-","LC040D_G2 plus",null,null,null,null,null,null,null,null,null,null,null,null,null,null,null,null,null,null,null,null,null,null,null,null,null,null,null,null,null,null,null,null,null,null,null,null,null,null,null,null,null,{"$f":"BV52","v":80},3500,null,null,null,null,null,null,null,null,null,1963500,80,"-","-","-",157083580,"Flux : S1,S2,S3",16.619999999999997,19.32,22.015000000000001,"-","-","-","-","-","S1 (15.27-17.97)","S2 (17.97-20.67)","S3 (20.67-23.36)","-","-","-","-","-",2.85,2.95,3.05,3.15,3.25,"-","-","A1 (2.8-2.9)","A2 (2.9-3.0)","A3 (3.0-3.1)","A4 (3.1-3.2)","A5 (3.2-3.3)","-","-",null,{"$f":"DS52","v":-18.681999999999999},21.245999999999999,-1.6799999999999999E-2,null,null,{"$f":"DX52","v":-2.2727272727272726E-3},null,{"$f":"DZ52","v":-3.7065000000000001},1.9076,0.91469999999999996,null,null,{"$f":"EE52","v":-1.6636363636363621E-3},"Vf : A1,A2,A3,A4,A5","SPMWHT5225D5",null,null,null,null,null,null,null,"SPHCW1HDND25","COB standard","LC033B","CW",80]
[null,null,{"$f":"BT823","v":"LM286B Plus (18V)(SA)"},0.05,0.06,125,20,{"$f":"2.8*3.5","v":9.7999999999999989},25,null,null,null,null,null,25,"LED performances @mean/flux_rank","2.8x3.5",null,"'20.11.12",null,null,null,null,null,null,null,null,{"$f":"C50","v":"LM283BS plus (9V)"},"-","-","-","LC060D_G2 plus",null,null,null,null,null,null,null,null,null,null,null,null,null,null,null,null,null,null,null,null,null,null,null,null,null,null,null,null,null,null,null,null,null,null,null,null,null,null,null,null,null,80,4000,null,null,null,null,null,null,null,null,null,2244000,80,"-","-","-",179524080,"Flux : S1,S2,S3",16.98,19.795000000000002,22.61,"-","-","-","-","-","S1 (15.57-18.39)","S2 (18.39-21.20)","S3 (21.20-24.02)","-","-","-","-","-",2.85,2.95,3.05,3.15,3.25,"-","-","A1 (2.8-2.9)","A2 (2.9-3.0)","A3 (3.0-3.1)","A4 (3.1-3.2)","A5 (3.2-3.3)","-","-",null,-18.681999999999999,21.245999999999999,-1.6799999999999999E-2,null,null,-2.2727272727272726E-3,null,-3.7065000000000001,1.9076,0.91469999999999996,null,null,-1.6636363636363621E-3,"Vf : A1,A2,A3,A4,A5","SPMWHT5225D5",null,null,null,null,null,null,null,"SPHWW1HDND27","COB standard","LC033B","WW",90]
[null,null,{"$f":"BT837","v":"LM286B Plus (18V)(SB)"},0.05,0.06,125,20,{"$f":"2.8*3.5","v":9.7999999999999989},25,null,null,null,null,null,{"$f":"IF(I55=25,I55,I55-L55*G55)","v":25},"LED performances @mean/flux_rank","2.8x3.5",null,"'20.11.12",null,null,null,null,null,null,null,null,{"$f":"C51","v":"LM283D plus (9V)"},"-","-","-","LC080D_G2 plus",null,null,null,null,null,null,null,null,null,null,null,null,null,null,null,null,null,null,null,null,null,null,null,null,null,null,null,null,null,null,null,null,null,null,null,null,null,null,null,null,null,80,5000,null,null,null,null,null,null,null,null,null,2805000,80,"-","-","-",224405080,"Flux : S1,S2,S3",17.28,20.094999999999999,22.91,"-","-","-","-","-","S1 (15.87-18.69)","S2 (18.69-21.50)","S3 (21.50-24.32)","-","-","-","-","-",2.85,2.95,3.05,3.15,3.25,"-","-","A1 (2.8-2.9)","A2 (2.9-3.0)","A3 (3.0-3.1)","A4 (3.1-3.2)","A5 (3.2-3.3)","-","-",null,-18.681999999999999,21.245999999999999,-1.6799999999999999E-2,null,null,-2.2727272727272726E-3,null,-3.7065000000000001,1.9076,0.91469999999999996,null,null,-1.6636363636363621E-3,"Vf : A1,A2,A3,A4,A5","SPMWHT5225D5",null,null,null,null,null,null,null,"SPHWW1HDND28","COB standard","LC033B","WW",95]
[null,null,{"$f":"BT51","v":"LM561A"},0.05,0.15,110,17.7,{"$f":"5.6*3","v":16.799999999999997},25,{"$f":"CO55","v":20.094999999999999},{"$f":"DF55","v":3.05},{"$f":"D56*K56","v":0.1525},{"$f":"E56*K56","v":0.45749999999999996},{"$f":"J56/L56","v":131.77049180327867},25,"LED performances @mean/flux_rank","5.6x3.0",null,null,null,null,null,null,null,null,null,null,{"$f":"C52","v":"LM284D plus (12V)"},"-","-","-","",null,null,null,null,null,null,null,null,null,null,null,null,null,null,null,null,null,null,null,null,null,null,null,null,null,null,null,null,null,null,null,null,null,null,null,null,null,null,null,null,null,80,5700,null,null,null,null,null,null,null,null,null,3197700,80,"-","-","-",255821780,"Flux : S1,S2,S3",16.97,19.770000000000003,22.57,"-","-","-","-","-","S1 (15.57-18.37)","S2 (18.37-21.17)","S3 (21.17-23.97)","-","-","-","-","-",2.85,2.95,3.05,3.15,3.25,"-","-","A1 (2.8-2.9)","A2 (2.9-3.0)","A3 (3.0-3.1)","A4 (3.1-3.2)","A5 (3.2-3.3)","-","-",null,-18.681999999999999,21.245999999999999,-1.6799999999999999E-2,null,null,-2.2727272727272726E-3,null,-3.7065000000000001,1.9076,0.91469999999999996,null,null,-1.6636363636363621E-3,"Vf : A1,A2,A3,A4,A5","SPMWHT5225D5",null,null,null,null,null,null,null,"SPHWW1HDNE23","COB standard","LC040B","WW",70]
[null,null,{"$f":"BT21","v":"LM561B"},6.5000000000000002E-2,0.18,110,16,{"$f":"5.6*3","v":16.799999999999997},25,{"$f":"CO29","v":30},{"$f":"DF29","v":2.95},{"$f":"D57*K57","v":0.19175000000000003},{"$f":"E57*K57","v":0.53100000000000003},156.45371577574966,25,"LED performances @mean/flux_rank","5.6x3.0",null,null,null,null,null,null,null,null,null,null,{"$f":"C53","v":"LM286B (18V)"},"-","-","-","▷D-series Gen3",null,null,null,null,null,null,null,null,null,null,null,null,null,null,null,null,null,null,null,null,null,null,null,null,null,null,null,null,null,null,null,null,null,null,null,null,null,null,null,null,null,80,6500,null,null,null,null,null,null,null,null,null,3646500,80,"-","-","-",291726580,"Flux : S1,S2,S3",16.664999999999999,19.45,22.234999999999999,"-","-","-","-","-","S1 (15.27-18.06)","S2 (18.06-20.84)","S3 (20.84-23.63)","-","-","-","-","-",2.85,2.95,3.05,3.15,3.25,"-","-","A1 (2.8-2.9)","A2 (2.9-3.0)","A3 (3.0-3.1)","A4 (3.1-3.2)","A5 (3.2-3.3)","-","-",null,-18.681999999999999,21.245999999999999,-1.6799999999999999E-2,null,null,-2.2727272727272726E-3,null,-3.7065000000000001,1.9076,0.91469999999999996,null,null,-1.6636363636363621E-3,"Vf : A1,A2,A3,A4,A5","SPMWHT5225D5",null,null,null,null,null,null,null,"SPHCW1HDNE23","COB standard","LC040B","CW",70]
[null,null,{"$f":"BT851","v":"LM561B plus"},6.5000000000000002E-2,0.18,110,15,{"$f":"5.6*3","v":16.799999999999997},25,33,2.95,{"$f":"D58*K58","v":0.19175000000000003},{"$f":"E58*K58","v":0.53100000000000003},172.09908735332462,25,"LED performances @mean/flux_rank","5.6x3.0",null,null,null,null,null,null,null,null,null,null,{"$f":"C54","v":"LM286B Plus (18V)(SA)"},"-","-","-",{"$f":"C156","v":"LC003D_G3"},null,null,null,null,null,null,null,null,null,null,null,null,null,null,null,null,null,null,null,null,null,null,null,null,null,null,null,null,null,null,null,null,null,null,null,null,null,null,null,"LM231B",232,80,2700,2700,3000,3500,4000,5000,5700,6500,"-","-",{"$f":"$BU$58*BW58","v":626400},80,90,"-","-",{"$f":"$BU$58*BV58*BW58+BV58+BW58","v":50114780},"Flux : S1,S2,S3",{"$f":"AVERAGE(19.81,22.78)","v":21.295000000000002},{"$f":"AVERAGE(22.78,26.2)","v":24.490000000000002},{"$f":"AVERAGE(26.2,30.13)","v":28.164999999999999},"-","-","-","-","-","S1 (19.81-22.78)","S2 (22.78-26.20)","S3 (26.20-30.13)","-","-","-","-","-",2.75,2.85,2.95,3.05,3.15,"-","-","AZ (2.7-2.8)","A1 (2.8-2.9)","A2 (2.9-3.0)","A3 (3.0-3.1)","A4 (3.1-3.2)","-","-",null,-24.353000000000002,17.042999999999999,-5.0000000000000001E-3,null,null,-1.8181818181818177E-3,null,-4.7807000000000004,1.9547000000000001,0.89339999999999997,null,null,-1.5750000000000004E-3,"Vf : AZ,A1,A2,A3,A4","SPMWHT223MD5",null,null,null,null,null,null,null,"SPHWW1HDNE25","COB standard","LC040B","WW",80]
[null,null,{"$f":"BT870","v":"LM561C"},6.5000000000000002E-2,0.2,110,12,{"$f":"5.6*3","v":16.799999999999997},25,36,2.8,{"$f":"D59*K59","v":0.182},{"$f":"E59*K59","v":0.55999999999999994},197.80219780219781,25,"LED performances @mean/flux_rank","5.6x3.0",null,null,null,null,null,null,null,null,null,null,{"$f":"C55","v":"LM286B Plus (18V)(SB)"},"-","-","-","LC006D_G3",null,null,null,null,null,null,null,null,null,null,null,null,null,null,null,null,null,null,null,null,null,null,null,null,null,null,null,null,null,null,null,null,null,null,null,null,null,null,null,null,null,90,2700,null,null,null,null,null,null,null,null,null,null,null,null,null,null,56378790,"Flux : S1,S2,S3",{"$f":"AVERAGE(16.5,19)","v":17.75},{"$f":"AVERAGE(19,21.5)","v":20.25},{"$f":"AVERAGE(21.5,24)","v":22.75},"-","-","-","-","-","S1 (16.5-19.0)","S2 (19.0-21.5)","S3 (21.5-24.0)","-","-","-","-","-",2.75,2.85,2.95,3.05,3.15,"-","-","AZ (2.7-2.8)","A1 (2.8-2.9)","A2 (2.9-3.0)","A3 (3.0-3.1)","A4 (3.1-3.2)","-","-",null,-36.973999999999997,18.015999999999998,-1.49E-2,null,null,-1.8181818181818177E-3,null,{"$f":"DZ58","v":-4.7807000000000004},{"$f":"EA58","v":1.9547000000000001},{"$f":"EB58","v":0.89339999999999997},null,null,{"$f":"EE58","v":-1.5750000000000004E-3},"Vf : AZ,A1,A2,A3,A4","SPMWHT223MD7",null,null,null,null,null,null,null,"SPHCW1HDNE25","COB standard","LC040B","CW",80]
[null,null,{"$f":"BT40","v":"LM362A (6V)"},0.1,0.2,125,15,{"$f":"3.6*2.3","v":8.2799999999999994},25,{"$f":"CO48","v":71},{"$f":"DF48","v":6.1},{"$f":"D60*K60","v":0.61},{"$f":"E60*K60","v":1.22},116.39344262295083,25,"LED performances @mean/flux_rank","3.6x2.3",null,null,null,null,null,null,null,null,null,null,"","-","-","-","LC009D_G3",null,null,null,null,null,null,null,null,null,null,null,null,null,null,null,null,null,null,null,null,null,null,null,null,null,null,null,null,null,null,null,null,null,null,null,null,null,null,null,null,null,{"$f":"BV58","v":80},3000,null,null,null,null,null,null,null,null,null,{"$f":"$BU$58*BW60","v":696000},80,90,"-","-",55683080,"Flux : S1,S2,S3",21.295000000000002,24.490000000000002,28.164999999999999,"-","-","-","-","-","S1 (19.81-22.78)","S2 (22.78-26.20)","S3 (26.20-30.13)","-","-","-","-","-",2.75,2.85,2.95,3.05,3.15,"-","-","AZ (2.7-2.8)","A1 (2.8-2.9)","A2 (2.9-3.0)","A3 (3.0-3.1)","A4 (3.1-3.2)","-","-",null,{"$f":"DS58","v":-24.353000000000002},17.042999999999999,-5.0000000000000001E-3,null,null,{"$f":"DX58","v":-1.8181818181818177E-3},null,{"$f":"DZ58","v":-4.7807000000000004},1.9547000000000001,0.89339999999999997,null,null,{"$f":"EE58","v":-1.5750000000000004E-3},"Vf : AZ,A1,A2,A3,A4","SPMWHT223MD5",null,null,null,null,null,null,null,"SPHWW1HDNE27","COB standard","LC040B","WW",90]
[null,null,{"$f":"BT220","v":"LM351A"},0.2,0.25,120,20,{"$f":"3.8*3.55","v":13.489999999999998},25,82.55,3.25,{"$f":"K61*D61","v":0.65},{"$f":"K61*E61","v":0.8125},126.99999999999999,25,"LED performances @mean/flux_rank","3.5x3.5",null,null,null,null,null,null,null,null,null,null,"▷4014 MPL","-","-","-","LC013D_G3",null,null,null,null,null,null,null,null,null,null,null,null,null,null,null,null,null,null,null,null,null,null,null,null,null,null,null,null,null,null,null,null,null,null,null,null,null,null,null,null,null,90,3000,null,null,null,null,null,null,null,null,null,null,null,null,null,null,62643090,"Flux : S1,S2,S3",{"$f":"AVERAGE(17,19.5)","v":18.25},{"$f":"AVERAGE(19.5,22)","v":20.75},{"$f":"AVERAGE(22,24.5)","v":23.25},"-","-","-","-","-","S1 (17.0-19.5)","S2 (19.5-22.0)","S3 (22.0-24.5)","-","-","-","-","-",2.75,2.85,2.95,3.05,3.15,"-","-","AZ (2.7-2.8)","A1 (2.8-2.9)","A2 (2.9-3.0)","A3 (3.0-3.1)","A4 (3.1-3.2)","-","-",null,-36.973999999999997,18.015999999999998,-1.49E-2,null,null,{"$f":"DX59","v":-1.8181818181818177E-3},null,-4.7807000000000004,1.9547000000000001,0.89339999999999997,null,null,{"$f":"EE59","v":-1.5750000000000004E-3},"Vf : AZ,A1,A2,A3,A4","SPMWHT223MD7",null,null,null,null,null,null,null,"SPHWW1HDNE28","COB standard","LC040B","WW",95]
[null,null,{"$f":"BT930","v":"LM301A"},0.15,0.5,125,7,{"$f":"3*3","v":9},85,60,3.05,{"$f":"K62*D62","v":0.45749999999999996},{"$f":"K62*E62","v":1.5249999999999999},131.14754098360658,81.797499999999999,"LED performances @mean/flux_rank","3.0x3.0",null,null,null,null,null,null,null,null,null,null,{"$f":"C79","v":"LM401B plus"},"-","-","-","LC016D_G3",null,null,null,null,null,null,null,null,null,null,null,null,null,null,null,null,null,null,null,null,null,null,null,null,null,null,null,null,null,null,null,null,null,null,null,null,null,null,null,null,null,{"$f":"BV60","v":80},3500,null,null,null,null,null,null,null,null,null,{"$f":"$BU$58*BW62","v":812000},80,90,"-","-",64963580,"Flux : S1,S2,S3",21.295000000000002,24.490000000000002,28.164999999999999,"-","-","-","-","-","S1 (19.81-22.78)","S2 (22.78-26.20)","S3 (26.20-30.13)","-","-","-","-","-",2.75,2.85,2.95,3.05,3.15,"-","-","AZ (2.7-2.8)","A1 (2.8-2.9)","A2 (2.9-3.0)","A3 (3.0-3.1)","A4 (3.1-3.2)","-","-",null,-24.353000000000002,17.042999999999999,-5.0000000000000001E-3,null,null,{"$f":"DX60","v":-1.8181818181818177E-3},null,-4.7807000000000004,1.9547000000000001,0.89339999999999997,null,null,{"$f":"EE60","v":-1.5750000000000004E-3},"Vf : AZ,A1,A2,A3,A4","SPMWHT223MD5",null,null,null,null,null,null,null,"SPHWH2HDNA05","COB small LES","LC010C","White",80]
[null,null,{"$f":"BT948","v":"LM301B"},6.5000000000000002E-2,0.2,110,7.5,9,25,null,null,null,null,null,null,"LED performances @mean/flux_rank","3.0x3.0",null,null,null,null,null,null,null,null,null,null,{"$f":"C80","v":"LM401BA plus"},"-","-","-","LC019D_G3",null,null,null,null,null,null,null,null,null,null,null,null,null,null,null,null,null,null,null,null,null,null,null,null,null,null,null,null,null,null,null,null,null,null,null,null,null,null,null,null,null,90,3500,null,null,null,null,null,null,null,null,null,null,null,null,null,null,73083590,"Flux : S1,S2,S3",{"$f":"AVERAGE(17.5,20)","v":18.75},{"$f":"AVERAGE(20,22.5)","v":21.25},{"$f":"AVERAGE(22.5,25)","v":23.75},"-","-","-","-","-","S1 (17.5-20.0)","S2 (20.0-22.5)","S3 (22.5-25.0)","-","-","-","-","-",2.75,2.85,2.95,3.05,3.15,"-","-","AZ (2.7-2.8)","A1 (2.8-2.9)","A2 (2.9-3.0)","A3 (3.0-3.1)","A4 (3.1-3.2)","-","-",null,{"$f":"DS59","v":-36.973999999999997},{"$f":"DT59","v":18.015999999999998},-1.49E-2,null,null,-1.8181818181818177E-3,null,-4.7807000000000004,1.9547000000000001,0.89339999999999997,null,null,-1.5750000000000004E-3,"Vf : AZ,A1,A2,A3,A4","SPMWHT223MD7",null,null,null,null,null,null,null,"SPHWH2HDNA07","COB small LES","LC010C","White",90]
[null,null,{"$f":"BT1063","v":"LM301D"},6.5000000000000002E-2,0.4,125,12,9,25,37.799999999999997,2.71,null,null,null,25,"LED performances @mean/flux_rank","3.0x3.0",null,null,null,null,null,null,null,null,null,null,"","-","-","-","LC026D_G3",null,null,null,null,null,null,null,null,null,null,null,null,null,null,null,null,null,null,null,null,null,null,null,null,null,null,null,null,null,null,null,null,null,null,null,null,null,null,null,null,null,{"$f":"BV62","v":80},4000,null,null,null,null,null,null,null,null,null,{"$f":"$BU$58*BW64","v":928000},80,90,"-","-",74244080,"Flux : S1,S2,S3",{"$f":"AVERAGE(20.55,23.56)","v":22.055},{"$f":"AVERAGE(23.56,27.09)","v":25.324999999999999},{"$f":"AVERAGE(27.09,31.16)","v":29.125},"-","-","-","-","-","S1 (20.55-23.56)","S2 (23.56-27.09)","S3 (27.09-31.16)","-","-","-","-","-",2.75,2.85,2.95,3.05,3.15,"-","-","AZ (2.7-2.8)","A1 (2.8-2.9)","A2 (2.9-3.0)","A3 (3.0-3.1)","A4 (3.1-3.2)","-","-",null,{"$f":"DS62","v":-24.353000000000002},{"$f":"DT62","v":17.042999999999999},{"$f":"DU62","v":-5.0000000000000001E-3},null,null,{"$f":"DX62","v":-1.8181818181818177E-3},null,{"$f":"DZ62","v":-4.7807000000000004},{"$f":"EA62","v":1.9547000000000001},{"$f":"EB62","v":0.89339999999999997},null,null,{"$f":"EE62","v":-1.5750000000000004E-3},"Vf : AZ,A1,A2,A3,A4","SPMWHT223MD5",null,null,null,null,null,null,null,"SPHWH2HDNA08","COB small LES","LC010C","White",95]
[null,null,{"$f":"BT1129","v":"LM301D Ra90 HE"},6.5000000000000002E-2,0.2,125,12,9,25,null,null,null,null,null,25,"LED performances @mean/flux_rank","3.0x3.0",null,null,null,null,null,null,null,null,null,null,"-","-","-","-","LC033D_G3",null,null,null,null,null,null,null,null,null,null,null,null,null,null,null,null,null,null,null,null,null,null,null,null,null,null,null,null,null,null,null,null,null,null,null,null,null,null,null,null,null,90,4000,null,null,null,null,null,null,null,null,null,null,null,null,null,null,83524090,"Flux : S1,S2,S3",{"$f":"AVERAGE(18,20.5)","v":19.25},{"$f":"AVERAGE(20.5,23)","v":21.75},{"$f":"AVERAGE(23,25.5)","v":24.25},"-","-","-","-","-","S1 (18.0-20.5)","S2 (20.5-23.0)","S3 (23.0-25.5)","-","-","-","-","-",2.75,2.85,2.95,3.05,3.15,"-","-","AZ (2.7-2.8)","A1 (2.8-2.9)","A2 (2.9-3.0)","A3 (3.0-3.1)","A4 (3.1-3.2)","-","-",null,{"$f":"DS59","v":-36.973999999999997},{"$f":"DT59","v":18.015999999999998},-1.49E-2,null,null,-1.8181818181818177E-3,null,-4.7807000000000004,1.9547000000000001,0.89339999999999997,null,null,-1.5750000000000004E-3,"Vf : AZ,A1,A2,A3,A4","SPMWHT223MD7",null,null,null,null,null,null,null,"SPHWH2HDNC05","COB small LES","LC020C","White",80]
[null,null,{"$f":"BT968","v":"LM301Z"},6.5000000000000002E-2,0.4,125,12,9,25,null,null,null,null,null,null,"LED performances @mean/flux_rank","3.0x3.0",null,null,null,null,null,null,null,null,null,null,"-","-","-","-","LC040D_G3",null,null,null,null,null,null,null,null,null,null,null,null,null,null,null,null,null,null,null,null,null,null,null,null,null,null,null,null,null,null,null,null,null,null,null,null,null,null,null,null,null,{"$f":"BV64","v":80},5000,null,null,null,null,null,null,null,null,null,{"$f":"$BU$58*BW66","v":1160000},80,"-","-","-",92805080,"Flux : S1,S2,S3",{"$f":"AVERAGE(20.55,23.56)","v":22.055},{"$f":"AVERAGE(23.56,27.09)","v":25.324999999999999},{"$f":"AVERAGE(27.09,31.16)","v":29.125},"-","-","-","-","-","S1 (20.55-23.56)","S2 (23.56-27.09)","S3 (27.09-31.16)","-","-","-","-","-",2.75,2.85,2.95,3.05,3.15,"-","-","AZ (2.7-2.8)","A1 (2.8-2.9)","A2 (2.9-3.0)","A3 (3.0-3.1)","A4 (3.1-3.2)","-","-",null,{"$f":"DS64","v":-24.353000000000002},{"$f":"DT64","v":17.042999999999999},{"$f":"DU64","v":-5.0000000000000001E-3},null,null,{"$f":"DX64","v":-1.8181818181818177E-3},null,{"$f":"DZ64","v":-4.7807000000000004},{"$f":"EA64","v":1.9547000000000001},{"$f":"EB64","v":0.89339999999999997},null,null,{"$f":"EE64","v":-1.5750000000000004E-3},"Vf : AZ,A1,A2,A3,A4","SPMWHT223MD5",null,null,null,null,null,null,null,"SPHWH2HDNC07","COB small LES","LC020C","White",90]
[null,null,{"$f":"BT986","v":"LM301Z plus"},6.5000000000000002E-2,0.4,125,12,9,25,null,null,null,null,null,null,"LED performances @mean/flux_rank","3.0x3.0",null,null,null,null,null,null,null,null,null,null,"-","-","-","-","LC060D_G3",null,null,null,null,null,null,null,null,null,null,null,null,null,null,null,null,null,null,null,null,null,null,null,null,null,null,null,null,null,null,null,null,null,null,null,null,null,null,null,null,null,{"$f":"BV66","v":80},5700,null,null,null,null,null,null,null,null,null,{"$f":"$BU$58*BW67","v":1322400},80,"-","-","-",105797780,"Flux : S1,S2,S3",22.055,25.324999999999999,29.125,"-","-","-","-","-","S1 (20.55-23.56)","S2 (23.56-27.09)","S3 (27.09-31.16)","-","-","-","-","-",2.75,2.85,2.95,3.05,3.15,"-","-","AZ (2.7-2.8)","A1 (2.8-2.9)","A2 (2.9-3.0)","A3 (3.0-3.1)","A4 (3.1-3.2)","-","-",null,{"$f":"DS66","v":-24.353000000000002},17.042999999999999,-5.0000000000000001E-3,null,null,{"$f":"DX66","v":-1.8181818181818177E-3},null,{"$f":"DZ66","v":-4.7807000000000004},1.9547000000000001,0.89339999999999997,null,null,{"$f":"EE66","v":-1.5750000000000004E-3},"Vf : AZ,A1,A2,A3,A4","SPMWHT223MD5",null,null,null,null,null,null,null,"SPHWH2HDNC08","COB small LES","LC020C","White",95]
[null,null,{"$f":"BT232","v":"LM302A (6V)"},0.15,0.2,125,12,{"$f":"3*3","v":9},25,124,6.3,{"$f":"K68*D68","v":0.94499999999999995},{"$f":"K68*E68","v":1.26},{"$f":"J68/L68","v":131.21693121693121},{"$f":"IF(I68=25,I68,I68-L68*G68)","v":25},"LED performances @mean/flux_rank","3.0x3.0",null,null,null,null,null,null,null,null,null,null,"-","-","-","-","LC080D_G3",null,null,null,null,null,null,null,null,null,null,null,null,null,null,null,null,null,null,null,null,null,null,null,null,null,null,null,null,null,null,null,null,null,null,null,null,null,null,null,null,null,{"$f":"BV67","v":80},6500,null,null,null,null,null,null,null,null,null,{"$f":"$BU$58*BW68","v":1508000},80,"-","-","-",120646580,"Flux : S1,S2,S3",22.055,25.324999999999999,29.125,"-","-","-","-","-","S1 (20.55-23.56)","S2 (23.56-27.09)","S3 (27.09-31.16)","-","-","-","-","-",2.75,2.85,2.95,3.05,3.15,"-","-","AZ (2.7-2.8)","A1 (2.8-2.9)","A2 (2.9-3.0)","A3 (3.0-3.1)","A4 (3.1-3.2)","-","-",null,-24.353000000000002,17.042999999999999,-5.0000000000000001E-3,null,null,{"$f":"DX67","v":-1.8181818181818177E-3},null,-4.7807000000000004,1.9547000000000001,0.89339999999999997,null,null,{"$f":"EE67","v":-1.5750000000000004E-3},"Vf : AZ,A1,A2,A3,A4","SPMWHT223MD5",null,null,null,null,null,null,null,"SPHWH2HDNE05","COB small LES","LC040C","White",80]
[null,null,{"$f":"BT250","v":"LM302B (6V)"},0.15,0.25,125,8,9,85,116.6,6.03,{"$f":"K69*D69","v":0.90449999999999997},{"$f":"K69*E69","v":1.5075000000000001},{"$f":"J69/L69","v":128.91100055279159},{"$f":"IF(I69=25,I69,I69-L69*G69)","v":77.763999999999996},"LED performances @mean/flux_rank","3.0x3.0",null,null,null,null,null,null,null,null,null,null,"-","-","-","-","",null,null,null,null,null,null,null,null,null,null,null,null,null,null,null,null,null,null,null,null,null,null,null,null,null,null,null,null,null,null,null,null,null,null,null,null,null,null,null,"LH351A",351,80,2700,2700,3000,3500,4000,5000,5700,6500,7600,"-",{"$f":"$BU$69*BW69","v":947700},80,90,"-","-",{"$f":"$BU$69*BV69*BW69+BV69+BW69","v":75818780},"Flux : G1,H1","-","-",100,110,120,"-","-","-","-","-","G1 (100-110)","H1 (110-120)","J1 (120-130)","-","-","-",2.85,3.15,"-","-","-","-","-","E3 (2.7-3.0)","H3 (3.0-3.3)","-","-","-","-","-",null,-0.45710000000000001,2.8496999999999999,5.8500000000000003E-2,-4.0000000000000002E-4,-2.0000000000000001E-4,-1.6000000000000001E-3,null,-1.6199999999999999E-2,0.14449999999999999,0.95169999999999999,null,null,-1.6999999999999999E-3,"Vf : E3,H3","SPHWHTL3D305",null,null,null,null,null,null,null,"SPHWH2HDNE07","COB small LES","LC040C","White",90]
[null,null,{"$f":"BT1006","v":"LM302C (6V)"},6.5000000000000002E-2,0.15,110,8,9,25,null,null,null,null,null,null,"LED performances @mean/flux_rank","3.0x3.0","",null,null,null,null,null,null,null,null,null,"-","-","-","-","▷D-series Gen3+",null,null,null,null,null,null,null,null,null,null,null,null,null,null,null,null,null,null,null,null,null,null,null,null,null,null,null,null,null,null,null,null,null,null,null,null,null,null,null,null,null,90,2700,null,null,null,null,null,null,null,null,null,null,null,null,null,null,85295790,"Flux : E1,F1,G1",80,90,100,"-","-","-","-","-","E1 (80-90)","F1 (90-100)","G1 (100-110)","-","-","-","-","-",2.85,3.15,"-","-","-","-","-","E3 (2.7-3.0)","H3 (3.0-3.3)","-","-","-","-","-",null,{"$f":"DS69","v":-0.45710000000000001},2.8496999999999999,5.8500000000000003E-2,-4.0000000000000002E-4,-2.0000000000000001E-4,-1.6000000000000001E-3,null,{"$f":"DZ69","v":-1.6199999999999999E-2},0.14449999999999999,0.95169999999999999,null,null,-1.6999999999999999E-3,"Vf : E3,H3","SPHWHTL3D307",null,null,null,null,null,null,null,"SPHWH2HDNE08","COB small LES","LC040C","White",95]
[null,null,{"$f":"BT1081","v":"LM302D (6V)"},0.15,0.2,125,12,9,25,null,null,null,null,null,25,"LED performances @mean/flux_rank",null,null,null,null,null,null,null,null,null,null,null,"-","-","-","-",{"$f":"C167","v":"LC003D_G3 plus"},null,null,null,null,null,null,null,null,null,null,null,null,null,null,null,null,null,null,null,null,null,null,null,null,null,null,null,null,null,null,null,null,null,null,null,null,null,null,null,null,null,70,3000,null,null,null,null,null,null,null,null,null,{"$f":"$BU$69*BW71","v":1053000},70,80,90,"-",73713070,"Flux : J1,K1","-","-","-","-",120,130,"-","-","-","-","-","-","J1 (120-130)","K1 (130-140)","-","-",2.85,3.15,"-","-","-","-","-","E3 (2.7-3.0)","H3 (3.0-3.3)","-","-","-","-","-",null,-0.45710000000000001,2.8496999999999999,5.8500000000000003E-2,-4.0000000000000002E-4,-2.0000000000000001E-4,-1.6000000000000001E-3,null,{"$f":"DZ69","v":-1.6199999999999999E-2},{"$f":"EA69","v":0.14449999999999999},{"$f":"EB69","v":0.95169999999999999},null,null,{"$f":"EE69","v":-1.6999999999999999E-3},"Vf : E3,H3","SPHWHTL3D303",null,null,null,null,null,null,null,"SPHWHTL2D303","HPL 3535","LH351A","White",70]
[null,null,{"$f":"BT1024","v":"LM302Z (6V)"},0.15,0.2,125,12,{"$f":"3*3","v":9},25,null,null,null,null,null,null,"LED performances @mean/flux_rank","3.0x3.0",null,null,null,null,null,null,null,null,null,null,"-","-","-","-","LC006D_G3 plus",null,null,null,null,null,null,null,null,null,null,null,null,null,null,null,null,null,null,null,null,null,null,null,null,null,null,null,null,null,null,null,null,null,null,null,null,null,null,null,null,null,80,3000,null,null,null,null,null,null,null,null,null,null,null,null,null,null,84243080,"Flux : G1,H1","-","-",100,110,120,"-","-","-","-","-","G1 (100-110)","H1 (110-120)","J1 (120-130)","-","-","-",2.85,3.15,"-","-","-","-","-","E3 (2.7-3.0)","H3 (3.0-3.3)","-","-","-","-","-",null,{"$f":"DS69","v":-0.45710000000000001},{"$f":"DT69","v":2.8496999999999999},5.8500000000000003E-2,-4.0000000000000002E-4,-2.0000000000000001E-4,-1.6000000000000001E-3,null,{"$f":"DZ69","v":-1.6199999999999999E-2},0.14449999999999999,0.95169999999999999,null,null,{"$f":"EE69","v":-1.6999999999999999E-3},"Vf : E3,H3","SPHWHTL3D305",null,null,null,null,null,null,null,"SPHWHTL2D304","HPL 3535","LH351A","White",75]
[null,null,{"$f":"BT1043","v":"LM302Z plus (6V)"},0.15,0.2,125,12,9,25,null,null,null,null,null,null,"LED performances @mean/flux_rank","3.0x3.0",null,null,null,null,null,null,null,null,null,null,"-","-","-","-","LC009D_G3 plus",null,null,null,null,null,null,null,null,null,null,null,null,null,null,null,null,null,null,null,null,null,null,null,null,null,null,null,null,null,null,null,null,null,null,null,null,null,null,null,null,null,90,3000,null,null,null,null,null,null,null,null,null,null,null,null,null,null,94773090,"Flux : E1,F1,G1",80,90,"-","-","-","-","-","-","E1 (80-90)","F1 (90-100)","-","-","-","-","-","-",2.85,3.15,"-","-","-","-","-","E3 (2.7-3.0)","H3 (3.0-3.3)","-","-","-","-","-",null,{"$f":"DS70","v":-0.45710000000000001},2.8496999999999999,5.8500000000000003E-2,-4.0000000000000002E-4,-2.0000000000000001E-4,-1.6000000000000001E-3,null,-1.6199999999999999E-2,0.14449999999999999,0.95169999999999999,null,null,{"$f":"EE70","v":-1.6999999999999999E-3},"Vf : E3,H3","SPHWHTL3D307",null,null,null,null,null,null,null,"SPHWHTL2D305","HPL 3535","LH351A","White",80]
[null,null,{"$f":"BT1099","v":"LM302N old ver."},0.15,0.2,125,12,{"$f":"3*3","v":9},25,124,null,null,null,null,25,"LED performances @mean/flux_rank","3.0x3.0",null,null,null,null,null,null,null,null,null,null,"-","-","-","-","LC013D_G3 plus",null,null,null,null,null,null,null,null,null,null,null,null,null,null,null,null,null,null,null,null,null,null,null,null,null,null,null,null,null,null,null,null,null,null,null,null,null,null,null,null,null,80,3500,null,null,null,null,null,null,null,null,null,{"$f":"$BU$69*BW74","v":1228500},80,"-","-","-",98283580,"Flux : G1,H1","-","-",100,110,120,"-","-","-","-","-","G1 (100-110)","H1 (110-120)","J1 (120-130)","-","-","-",2.85,3.15,"-","-","-","-","-","E3 (2.7-3.0)","H3 (3.0-3.3)","-","-","-","-","-",null,{"$f":"DS71","v":-0.45710000000000001},2.8496999999999999,5.8500000000000003E-2,-4.0000000000000002E-4,-2.0000000000000001E-4,-1.6000000000000001E-3,null,-1.6199999999999999E-2,0.14449999999999999,0.95169999999999999,null,null,{"$f":"EE71","v":-1.6999999999999999E-3},"Vf : E3,H3","SPHWHTL3D305",null,null,null,null,null,null,null,"SPHWHTL3D303","HPL 3535","LH351A","White",70]
[null,null,{"$f":"BT1103","v":"LM302N DAY"},0.15,0.2,125,12,9,25,null,null,null,null,null,25,"LED performances @mean/flux_rank","3.0x3.0",null,null,null,null,null,null,null,null,null,null,"-","-","-","-","LC016D_G3 plus",null,null,null,null,null,null,null,null,null,null,null,null,null,null,null,null,null,null,null,null,null,null,null,null,null,null,null,null,null,null,null,null,null,null,null,null,null,null,null,null,null,70,4000,null,null,null,null,null,null,null,null,null,{"$f":"$BU$69*BW75","v":1404000},70,80,"-","-",98284070,"Flux : K1,M1","-","-","-","-","-",130,140,150,"-","-","-","-","-","K1 (130-140)","M1 (140-150)","N1 (150-160)",2.85,3.15,"-","-","-","-","-","E3 (2.7-3.0)","H3 (3.0-3.3)","-","-","-","-","-",null,{"$f":"DS74","v":-0.45710000000000001},2.8496999999999999,5.8500000000000003E-2,-4.0000000000000002E-4,-2.0000000000000001E-4,-1.6000000000000001E-3,null,{"$f":"DZ74","v":-1.6199999999999999E-2},0.14449999999999999,0.95169999999999999,null,null,{"$f":"EE74","v":-1.6999999999999999E-3},"Vf : E3,H3","SPHWHTL3D303",null,null,null,null,null,null,null,"SPHWHTL3D304","HPL 3535","LH351A","White",75]
[null,null,{"$f":"BT1109","v":"LM302N NITE"},0.15,0.2,125,12,9,25,null,null,null,null,null,25,"LED performances @mean/flux_rank","3.0x3.0",null,null,null,null,null,null,null,null,null,null,"-","-","-","-","LC019D_G3 plus",null,null,null,null,null,null,null,null,null,null,null,null,null,null,null,null,null,null,null,null,null,null,null,null,null,null,null,null,null,null,null,null,null,null,null,null,null,null,null,null,null,80,4000,null,null,null,null,null,null,null,null,null,null,null,null,null,null,112324080,"Flux : G1,H1,J1","-","-","-",110,120,130,"-","-","-","-","-","H1 (110-120)","J1 (120-130)","K1 (130-140)","-","-",2.85,3.15,"-","-","-","-","-","E3 (2.7-3.0)","H3 (3.0-3.3)","-","-","-","-","-",null,-0.45710000000000001,2.8496999999999999,5.8500000000000003E-2,-4.0000000000000002E-4,-2.0000000000000001E-4,-1.6000000000000001E-3,null,-1.6199999999999999E-2,0.14449999999999999,0.95169999999999999,null,null,-1.6999999999999999E-3,"Vf : E3,H3","SPHWHTL3D305",null,null,null,null,null,null,null,"SPHWHTL3D305","HPL 3535","LH351A","White",80]
[null,null,{"$f":"BT1115","v":"LM301B EVO"},6.5000000000000002E-2,0.2,110,7.5,9,25,null,null,null,null,null,25,"LED performances @mean/flux_rank","3.0x3.0",null,null,null,null,null,null,null,null,null,null,"-","-","-","-","LC026D_G3 plus",null,null,null,null,null,null,null,null,null,null,null,null,null,null,null,null,null,null,null,null,null,null,null,null,null,null,null,null,null,null,null,null,null,null,null,null,null,null,null,null,null,70,5000,null,null,null,null,null,null,null,null,null,{"$f":"$BU$69*BW77","v":1755000},70,75,"-","-",122855070,"Flux : J1,K1,M1","-","-","-","-",120,130,140,150,"-","-","-","-","J1 (120-130)","K1 (130-140)","M1 (140-150)","N1 (150-160)",2.85,3.15,"-","-","-","-","-","E3 (2.7-3.0)","H3 (3.0-3.3)","-","-","-","-","-",null,-0.45450000000000002,2.8685,5.16E-2,2.0000000000000001E-4,-1E-3,-1.2999999999999999E-3,null,-1.6199999999999999E-2,0.14449999999999999,0.95169999999999999,null,null,-1.6999999999999999E-3,"Vf : E3,H3","SPHWHTL3D303",null,null,null,null,null,null,null,"SPHWHTL3D307","HPL 3535","LH351A","White",90]
[null,null,{"$f":"BT1122","v":"LM301B EVO Ra90 HE"},6.5000000000000002E-2,0.2,125,12,9,25,null,null,null,null,null,25,"LED performances @mean/flux_rank","3.0x3.0",null,null,null,null,null,null,null,null,null,null,"-","-","-","-","LC033D_G3 plus",null,null,null,null,null,null,null,null,null,null,null,null,null,null,null,null,null,null,null,null,null,null,null,null,null,null,null,null,null,null,null,null,null,null,null,null,null,null,null,null,null,75,5000,null,null,null,null,null,null,null,null,null,null,null,null,null,null,131630075,"Flux : J1,K1,M1","-","-","-","-",120,130,140,150,"-","-","-","-","J1 (120-130)","K1 (130-140)","M1 (140-150)","N1 (150-160)",2.85,3.15,"-","-","-","-","-","E3 (2.7-3.0)","H3 (3.0-3.3)","-","-","-","-","-",null,{"$f":"DS77","v":-0.45450000000000002},2.8685,5.16E-2,2.0000000000000001E-4,-1E-3,-1.2999999999999999E-3,null,-1.6199999999999999E-2,0.14449999999999999,0.95169999999999999,null,null,-1.6999999999999999E-3,"Vf : E3,H3","SPHWHTL3D304",null,null,null,null,null,null,null,"SPHWHTL3D30E","HPL 3535","LH351A","White",80,"Endo"]
[null,null,{"$f":"BT1137","v":"LM401B plus"},0.12,0.16,115,25,{"$f":"4*1.4","v":5.6},25,null,null,null,null,null,null,"LED performances @mean/flux_rank","4.0x1.4",null,null,null,null,null,null,null,null,null,null,"-","-","-","-","LC040D_G3 plus",null,null,null,null,null,null,null,null,null,null,null,null,null,null,null,null,null,null,null,null,null,null,null,null,null,null,null,null,null,null,null,null,null,null,null,null,null,null,null,null,null,{"$f":"BV77","v":70},5700,null,null,null,null,null,null,null,null,null,{"$f":"$BU$69*BW79","v":2000700},70,75,"-","-",140054770,"Flux : J1,K1,M1","-","-","-","-",120,130,140,150,"-","-","-","-","J1 (120-130)","K1 (130-140)","M1 (140-150)","N1 (150-160)",2.85,3.15,"-","-","-","-","-","E3 (2.7-3.0)","H3 (3.0-3.3)","-","-","-","-","-",null,{"$f":"DS77","v":-0.45450000000000002},2.8685,5.16E-2,6.9999999999999999E-4,-2.3999999999999998E-3,-1.1000000000000001E-3,null,-1.6199999999999999E-2,0.14449999999999999,0.95169999999999999,null,null,-1.6999999999999999E-3,"Vf : E3,H3","SPHWHTL3D303",null,null,null,null,null,null,null,"SPHWHTL3D30F","HPL 3535","LH351A","White",85,"Endo"]
[null,null,{"$f":"BT1144","v":"LM401BA plus"},0.06,7.0000000000000007E-2,110,25,{"$f":"4*1.4","v":5.6},25,null,null,null,null,null,null,"LED performances @mean/flux_rank","4.0x1.4",null,null,null,null,null,null,null,null,null,null,"-","-","-","-","LC060D_G3 plus",null,null,null,null,null,null,null,null,null,null,null,null,null,null,null,null,null,null,null,null,null,null,null,null,null,null,null,null,null,null,null,null,null,null,null,null,null,null,null,null,null,75,5700,null,null,null,null,null,null,null,null,null,null,null,null,null,null,150058275,"Flux : J1,K1,M1","-","-","-","-",120,130,140,150,"-","-","-","-","J1 (120-130)","K1 (130-140)","M1 (140-150)","N1 (150-160)",2.85,3.15,"-","-","-","-","-","E3 (2.7-3.0)","H3 (3.0-3.3)","-","-","-","-","-",null,{"$f":"DS79","v":-0.45450000000000002},2.8685,5.16E-2,6.9999999999999999E-4,-2.3999999999999998E-3,-1.1000000000000001E-3,null,{"$f":"DZ79","v":-1.6199999999999999E-2},{"$f":"EA79","v":0.14449999999999999},{"$f":"EB79","v":0.95169999999999999},null,null,{"$f":"EE79","v":-1.6999999999999999E-3},"Vf : E3,H3","SPHWHTL3D304",null,null,null,null,null,null,null,"SPHWH1L3D30C","HPL 3535","LH351B","White",70]
[{"$f":"G15","v":"Filament"},{"$f":"VLOOKUP(A81,[1]Base!$G$5:$H$17,2,FALSE)","v":111},null,null,null,null,null,null,null,null,null,null,null,null,null,null,null,null,null,null,null,null,null,null,null,null,null,"-","-","-","-","LC080D_G3 plus",null,null,null,null,null,null,null,null,null,null,null,null,null,null,null,null,null,null,null,null,null,null,null,null,null,null,null,null,null,null,null,null,null,null,null,null,null,null,null,null,null,{"$f":"BV79","v":70},6500,null,null,null,null,null,null,null,null,null,{"$f":"$BU$69*BW81","v":2281500},70,"-","-","-",159711570,"Flux : J1,K1,M1","-","-","-","-",120,130,140,150,"-","-","-","-","J1 (120-130)","K1 (130-140)","M1 (140-150)","N1 (150-160)",2.85,3.15,"-","-","-","-","-","E3 (2.7-3.0)","H3 (3.0-3.3)","-","-","-","-","-",null,{"$f":"DS79","v":-0.45450000000000002},2.8685,5.16E-2,6.9999999999999999E-4,-2.3999999999999998E-3,-1.1000000000000001E-3,null,-1.6199999999999999E-2,0.14449999999999999,0.95169999999999999,null,null,-1.6999999999999999E-3,"Vf : E3,H3","SPHWHTL3D303",null,null,null,null,null,null,null,"SPHWH1L3D30D","HPL 3535","LH351B","White",75]
[null,null,{"$f":"BT2185","v":"LF007A"},0.01,1.4E-2,105,0,{"$f":"0.9*31","v":27.900000000000002},25,null,null,null,null,null,null,"LED performances @mean/flux_rank","0.9x39.0",null,null,null,null,null,null,null,null,null,null,"-","-","-","-","",null,null,null,null,null,null,null,null,null,null,null,null,null,null,null,null,null,null,null,null,null,null,null,null,null,null,null,null,null,null,null,null,null,null,null,null,null,null,null,null,null,68,7600,null,null,null,null,null,null,null,null,null,{"$f":"$BU$69*BW82","v":2667600},68,"-","-","-",181404468,"Flux : J1,K1","-","-","-","-",120,130,"-","-","-","-","-","-","J1 (120-130)","K1 (130-140)","-","-",2.85,3.15,"-","-","-","-","-","E3 (2.7-3.0)","H3 (3.0-3.3)","-","-","-","-","-",null,{"$f":"DS81","v":-0.45450000000000002},{"$f":"DT81","v":2.8685},{"$f":"DU81","v":5.16E-2},6.9999999999999999E-4,-2.3999999999999998E-3,-1.1000000000000001E-3,null,-1.6199999999999999E-2,{"$f":"EA81","v":0.14449999999999999},{"$f":"EB81","v":0.95169999999999999},null,null,-1.6999999999999999E-3,"Vf : E3,H3","SPHWHTL3D303",null,null,null,null,null,null,null,"SPHWH1L3D30E","HPL 3535","LH351B","White",80]
[null,null,{"$f":"BT2186","v":"LF009A"},0.01,1.2999999999999999E-2,105,0,{"$f":"0.9*31","v":27.900000000000002},25,null,null,null,null,null,null,"LED performances @mean/flux_rank","0.9x39.0",null,null,null,null,null,null,null,null,null,null,"-","-","-","-","▷D-series Gen4",null,null,null,null,null,null,null,null,null,null,null,null,null,null,null,null,null,null,null,null,null,null,null,null,null,null,null,null,null,null,null,null,null,null,null,null,null,null,null,"LH351Z",352,80,2700,2700,3000,3500,4000,5000,5700,6500,"-","-",{"$f":"$BU$83*BW83","v":950400},80,"-","-","-",{"$f":"$BU$83*BV83*BW83+BV83+BW83","v":76034780},"Flux : F1,G1,H1,J1",90,100,110,120,"-","-","-","-","F1 (90-100)","G1 (100-110)","H1 (110-120)","J1 (120-130)","-","-","-","-",2.7,2.85,3,"-","-","-","-","Min (2.7)","Typ (2.85)","Max (3.0)","-","-","-","-",null,-0.70889999999999997,2.7833999999999999,0.11260000000000001,null,-1.5E-3,-1.6999999999999999E-3,null,-7.7399999999999997E-2,0.2762,0.91120000000000001,null,null,-1.6666666666666681E-3,"Vf : E3 (Min.Typ.Max)","SPHWHTL3D20E",null,null,null,null,null,null,null,"SPHWH2L3D30B","HPL 3535","LH351B","White",65]
[null,null,{"$f":"BT2187","v":"LF010A"},1.4999999999999999E-2,1.7000000000000001E-2,105,0,{"$f":"0.9*31","v":27.900000000000002},25,null,null,null,null,null,null,"LED performances @mean/flux_rank","0.9x39.0",null,null,null,null,null,null,null,null,null,null,"-","-","-","-",{"$f":"C178","v":"LC003D_G4"},null,null,null,null,null,null,null,null,null,null,null,null,null,null,null,null,null,null,null,null,null,null,null,null,null,null,null,null,null,null,null,null,null,null,null,null,null,null,null,null,null,80,3000,null,null,null,null,null,null,null,null,null,{"$f":"$BU$83*BW84","v":1056000},80,"-","-","-",84483080,"Flux : F1,G1,H1,J1,K1",90,100,110,120,130,"-","-","-","F1 (90-100)","G1 (100-110)","H1 (110-120)","J1 (120-130)","K1 (130-140)","-","-","-",2.7,2.85,3,"-","-","-","-","Min (2.7)","Typ (2.85)","Max (3.0)","-","-","-","-",null,{"$f":"DS83","v":-0.70889999999999997},2.7833999999999999,0.11260000000000001,null,{"$f":"DW83","v":-1.5E-3},-1.6999999999999999E-3,null,{"$f":"DZ83","v":-7.7399999999999997E-2},0.2762,0.91120000000000001,null,null,{"$f":"EE83","v":-1.6666666666666681E-3},"Vf : E3 (Min.Typ.Max)","SPHWHTL3D20E",null,null,null,null,null,null,null,"SPHWH2L3D30C","HPL 3535","LH351B","White",70]
[{"$f":"G7","v":"CSP"},{"$f":"VLOOKUP(A85,[1]Base!$G$5:$H$17,2,FALSE)","v":103},null,null,null,null,null,null,null,null,null,null,null,null,null,null,null,null,null,null,null,null,null,null,null,null,null,"-","-","-","-","LC006D_G4",null,null,null,null,null,null,null,null,null,null,null,null,null,null,null,null,null,null,null,null,null,null,null,null,null,null,null,null,null,null,null,null,null,null,null,null,null,null,null,null,null,80,3500,null,null,null,null,null,null,null,null,null,{"$f":"$BU$83*BW85","v":1232000},80,"-","-","-",98563580,"Flux : G1,H1,J1,K1","-",100,110,120,130,"-","-","-","-","G1 (100-110)","H1 (110-120)","J1 (120-130)","K1 (130-140)","-","-","-",2.7,2.85,3,"-","-","-","-","Min (2.7)","Typ (2.85)","Max (3.0)","-","-","-","-",null,-0.70889999999999997,2.7833999999999999,0.11260000000000001,null,-1.5E-3,-1.6999999999999999E-3,null,-7.7399999999999997E-2,0.2762,0.91120000000000001,null,null,{"$f":"EE84","v":-1.6666666666666681E-3},"Vf : E3 (Min.Typ.Max)","SPHWHTL3D20E",null,null,null,null,null,null,null,"SPHWH2L3D30D","HPL 3535","LH351B","White",75]
[null,null,{"$f":"BT227","v":"LM131A"},0.3,0.35,125,5.5,{"$f":"1.42*1.42","v":2.0164},25,110,3.2,{"$f":"K86*D86","v":0.96},{"$f":"K86*E86","v":1.1199999999999999},{"$f":"J86/L86","v":114.58333333333334},{"$f":"IF(I86=25,I86,I86-L86*G86)","v":25},"LED performances @mean/flux_rank","1.42x1.42",null,null,null,null,null,null,null,null,null,null,"-","-","-","-","LC009D_G4",null,null,null,null,null,null,null,null,null,null,null,null,null,null,null,null,null,null,null,null,null,null,null,null,null,null,null,null,null,null,null,null,null,null,null,null,null,null,null,null,null,70,4000,null,null,null,null,null,null,null,null,null,{"$f":"$BU$83*BW86","v":1408000},70,80,"-","-",98564070,"Flux : H1,J1,K1,M1,N1","-","-",110,120,130,140,150,"-","-","-","H1 (110-120)","J1 (120-130)","K1 (130-140)","M1 (140-150)","N1 (150-160)","-",2.7,2.85,3,"-","-","-","-","Min (2.7)","Typ (2.85)","Max (3.0)","-","-","-","-",null,-0.70889999999999997,2.7833999999999999,0.11260000000000001,null,-1.5E-3,-1.6999999999999999E-3,null,-7.7399999999999997E-2,0.2762,0.91120000000000001,null,null,{"$f":"EE85","v":-1.6666666666666681E-3},"Vf : E3 (Min.Typ.Max)","SPHWHTL3D20C",null,null,null,null,null,null,null,"SPHWH2L3D30E","HPL 3535","LH351B","White",80]
[null,null,{"$f":"BT332","v":"LH141A"},0.35,1,130,5,{"$f":"1.46*1.46","v":2.1315999999999997},25,120,2.95,{"$f":"D87*K87","v":1.0325},{"$f":"E87*K87","v":2.95},{"$f":"J87/L87","v":116.22276029055691},25,"LED performances @min/flux_rank","1.46x1.46",null,null,null,null,null,null,null,null,null,null,"-","-","-","-","LC013D_G4",null,null,null,null,null,null,null,null,null,null,null,null,null,null,null,null,null,null,null,null,null,null,null,null,null,null,null,null,null,null,null,null,null,null,null,null,null,null,null,null,null,80,4000,null,null,null,null,null,null,null,null,null,null,null,null,null,null,112644080,"Flux : G1,H1,J1,K1","-",100,110,120,130,"-","-","-","-","G1 (100-110)","H1 (110-120)","J1 (120-130)","K1 (130-140)","-","-","-",2.7,2.85,3,"-","-","-","-","Min (2.7)","Typ (2.85)","Max (3.0)","-","-","-","-",null,-0.70889999999999997,2.7833999999999999,0.11260000000000001,null,-1.5E-3,-1.6999999999999999E-3,null,-7.7399999999999997E-2,0.2762,0.91120000000000001,null,null,{"$f":"EE86","v":-1.6666666666666681E-3},"Vf : E3 (Min.Typ.Max)","SPHWHTL3D20E",null,null,null,null,null,null,null,"SPHWH2L3D30G","HPL 3535","LH351B","White",90]
[null,null,{"$f":"BT334","v":"LM101A"},0.15,0.45,125,2,{"$f":"1.18*1.18","v":1.3923999999999999},85,120,2.95,{"$f":"D88*K88","v":0.4425},{"$f":"E88*K88","v":1.3275000000000001},{"$f":"J88/L88","v":271.18644067796612},84.114999999999995,"LED performances @mean/flux_rank","1.18x1.18",null,null,null,null,null,null,null,null,null,null,"-","-","-","-","LC016D_G4",null,null,null,null,null,null,null,null,null,null,null,null,null,null,null,null,null,null,null,null,null,null,null,null,null,null,null,null,null,null,null,null,null,null,null,null,null,null,null,null,null,70,5000,null,null,null,null,null,null,null,null,null,{"$f":"$BU$83*BW88","v":1760000},70,75,"-","-",123205070,"Flux : H1,J1,K1,M1,N1","-","-",110,120,130,140,150,"-","-","-","H1 (110-120)","J1 (120-130)","K1 (130-140)","M1 (140-150)","N1 (150-160)","-",2.7,2.85,3,"-","-","-","-","Min (2.7)","Typ (2.85)","Max (3.0)","-","-","-","-",null,-0.64970000000000006,2.7723,0.10929999999999999,null,-1.1999999999999999E-3,-1.8E-3,null,-7.7399999999999997E-2,0.2762,0.91120000000000001,null,null,{"$f":"EE87","v":-1.6666666666666681E-3},"Vf : E3 (Min.Typ.Max)","SPHWHTL3D20C",null,null,null,null,null,null,null,"SPHWH3L3D30C","HPL 3535","LH351B","White",70,"Endo"]
[null,null,{"$f":"BT350","v":"LM101B"},0.15,0.35,125,2,{"$f":"1.7*1.7","v":2.8899999999999997},85,null,null,null,null,null,85,"LED performances @mean/flux_rank","1.7x1.7",null,null,null,null,null,null,null,null,null,null,"-","-","-","-","LC019D_G4",null,null,null,null,null,null,null,null,null,null,null,null,null,null,null,null,null,null,null,null,null,null,null,null,null,null,null,null,null,null,null,null,null,null,null,null,null,null,null,null,null,75,5000,null,null,null,null,null,null,null,null,null,null,null,null,null,null,132005075,"Flux : H1,J1,K1,M1","-","-",110,120,130,140,"-","-","-","-","H1 (110-120)","J1 (120-130)","K1 (130-140)","M1 (140-150)","-","-",2.7,2.85,3,"-","-","-","-","Min (2.7)","Typ (2.85)","Max (3.0)","-","-","-","-",null,{"$f":"DS88","v":-0.64970000000000006},{"$f":"DT88","v":2.7723},0.10929999999999999,null,-1.1999999999999999E-3,-1.8E-3,null,-7.7399999999999997E-2,0.2762,0.91120000000000001,null,null,-1.6666666666666681E-3,"Vf : E3 (Min.Typ.Max)","SPHWHTL3D20D",null,null,null,null,null,null,null,"SPHWH3L3D30F","HPL 3535","LH351B","White",85,"Endo"]
[null,null,{"$f":"BT369","v":"LM102A (6V)"},0.15,0.25,125,2,{"$f":"1.34*1.34","v":1.7956000000000003},85,120,5.89,{"$f":"D90*K90","v":0.88349999999999995},{"$f":"E90*K90","v":1.4724999999999999},{"$f":"J90/L90","v":135.82342954159594},83.233000000000004,"LED performances @mean/flux_rank","1.34x1.34",null,null,null,null,null,null,null,null,null,null,"-","-","-","-","LC026D_G4",null,null,null,null,null,null,null,null,null,null,null,null,null,null,null,null,null,null,null,null,null,null,null,null,null,null,null,null,null,null,null,null,null,null,null,null,null,null,null,null,null,70,5700,null,null,null,null,null,null,null,null,null,{"$f":"$BU$83*BW90","v":2006400},70,75,"-","-",140453770,"Flux : H1,J1,K1,M1,N1","-","-",110,120,130,140,150,"-","-","-","H1 (110-120)","J1 (120-130)","K1 (130-140)","M1 (140-150)","N1 (150-160)","-",2.7,2.85,3,"-","-","-","-","Min (2.7)","Typ (2.85)","Max (3.0)","-","-","-","-",null,{"$f":"DS89","v":-0.64970000000000006},2.7723,0.10929999999999999,null,-1.1999999999999999E-3,-1.8E-3,null,-7.7399999999999997E-2,0.2762,0.91120000000000001,null,null,-1.6666666666666681E-3,"Vf : E3 (Min.Typ.Max)","SPHWHTL3D20C",null,null,null,null,null,null,null,"SPHWH3L3D30H","HPL 3535","LH351B","White",95,"Endo"]
[null,null,{"$f":"BT402","v":"LV106A* (18V)"},0.02,0.06,125,8,{"$f":"0.96*1.12","v":1.0752000000000002},25,{"$f":"45*0.89","v":40.049999999999997},18.2,{"$f":"D91*K91","v":0.36399999999999999},{"$f":"E91*K91","v":1.0919999999999999},{"$f":"J91/L91","v":110.02747252747253},25,"LED performances @mean/flux_rank","0.96x1.12",null,null,null,null,null,null,null,null,null,null,"-",null,null,null,"LC033D_G4",null,null,null,null,null,null,null,null,null,null,null,null,null,null,null,null,null,null,null,null,null,null,null,null,null,null,null,null,null,null,null,null,null,null,null,null,null,null,null,null,null,75,5700,null,null,null,null,null,null,null,null,null,null,null,null,null,null,150485775,"Flux : H1,J1,K1,M1","-","-",110,120,130,140,"-","-","-","-","H1 (110-120)","J1 (120-130)","K1 (130-140)","M1 (140-150)","-","-",2.7,2.85,3,"-","-","-","-","Min (2.7)","Typ (2.85)","Max (3.0)","-","-","-","-",null,{"$f":"DS90","v":-0.64970000000000006},2.7723,0.10929999999999999,null,-1.1999999999999999E-3,-1.8E-3,null,-7.7399999999999997E-2,0.2762,0.91120000000000001,null,null,-1.6666666666666681E-3,"Vf : E3 (Min.Typ.Max)","SPHWHTL3D20D",null,null,null,null,null,null,null,"SPHWHTL3D201","HPL 3535","LH351Y","White",68]
[null,null,{"$f":"BT405","v":"LH151B"},0.35,0.7,135,2,2.8899999999999997,85,null,null,null,null,null,85,"LED performances @mean/flux_rank","1.70x1.70",null,null,null,null,null,null,null,null,null,null,"-",null,null,null,"LC040D_G4",null,null,null,null,null,null,null,null,null,null,null,null,null,null,null,null,null,null,null,null,null,null,null,null,null,null,null,null,null,null,null,null,null,null,null,null,null,null,null,null,null,70,6500,null,null,null,null,null,null,null,null,null,{"$f":"$BU$83*BW92","v":2288000},70,"-","-","-",160166570,"Flux : H1,J1,K1,M1,N1","-","-",110,120,130,140,150,"-","-","-","H1 (110-120)","J1 (120-130)","K1 (130-140)","M1 (140-150)","N1 (150-160)","-",2.7,2.85,3,"-","-","-","-","Min (2.7)","Typ (2.85)","Max (3.0)","-","-","-","-",null,{"$f":"DS91","v":-0.64970000000000006},2.7723,0.10929999999999999,null,-1.1999999999999999E-3,-1.8E-3,null,-7.7399999999999997E-2,0.2762,0.91120000000000001,null,null,-1.6666666666666681E-3,"Vf : E3 (Min.Typ.Max)","SPHWHTL3D20C",null,null,null,null,null,null,null,"SPHWHTL3D20C","HPL 3535","LH351Z","White",70]
[null,null,{"$f":"BT425","v":"LH181A"},0.35,1.5,150,3,{"$f":"1.91*1.91","v":3.6480999999999999},85,null,null,null,null,null,null,"LED performances @min/flux_rank","1.91x1.91",null,null,null,null,null,null,null,null,null,null,"-",null,null,null,"LC060D_G4",null,null,null,null,null,null,null,null,null,null,null,null,null,null,null,null,null,null,null,null,null,null,null,null,null,null,null,null,null,null,null,null,null,null,null,null,null,null,null,"LH351Y",353,68,6500,6500,7000,7600,"-","-","-","-","-","-",{"$f":"$BU$93*BW93","v":2294500},68,"-","-","-",{"$f":"$BU$93*BV93*BW93+BV93+BW93","v":156032568},"Flux : J1,K1,M1","-","-","-","-",120,130,140,"-","-","-","-","-","J1 (120-130)","K1 (130-140)","M1 (140-150)","-",2.8,2.95,3.1,"-","-","-","-","Min (2.8)","Typ (2.95)","Max (3.1)","-","-","-","-",null,-0.51859999999999995,2.7294999999999998,0.1082,null,-6.9999999999999999E-4,-1.5E-3,null,-7.7399999999999997E-2,0.2762,0.91120000000000001,null,null,-1.6666666666666681E-3,"Vf : F3 (Min.Typ.Max)","SPHWHTL3D201",null,null,null,null,null,null,null,"SPHWHTL3D20D","HPL 3535","LH351Z","White",75]
[null,null,{"$f":"BT441","v":"LH181B"},0.35,1.4,135,2,{"$f":"2.36*2.36","v":5.5695999999999994},85,null,null,null,null,null,null,"LED performances @min/flux_rank","2.36x2.36",null,null,null,null,null,null,null,null,null,null,"-",null,null,null,"LC080D_G4",null,null,null,null,null,null,null,null,null,null,null,null,null,null,null,null,null,null,null,null,null,null,null,null,null,null,null,null,null,null,null,null,null,null,null,null,null,null,null,null,null,68,7000,null,null,null,null,null,null,null,null,null,{"$f":"$BU$93*BW94","v":2471000},68,"-","-","-",{"$f":"$BU$93*BV94*BW94+BV94+BW94","v":168035068},"Flux : J1,K1,M1","-","-","-","-",120,130,140,150,"-","-","-","-","J1 (120-130)","K1 (130-140)","M1 (140-150)","N1 (150-160)",2.8,2.95,3.1,"-","-","-","-","Min (2.8)","Typ (2.95)","Max (3.1)","-","-","-","-",null,{"$f":"DS93","v":-0.51859999999999995},2.7294999999999998,0.1082,null,{"$f":"DW93","v":-6.9999999999999999E-4},{"$f":"DX93","v":-1.5E-3},null,{"$f":"DZ93","v":-7.7399999999999997E-2},0.2762,0.91120000000000001,null,null,{"$f":"EE93","v":-1.6666666666666681E-3},"Vf : F3 (Min.Typ.Max)","SPHWHTL3D201",null,null,null,null,null,null,null,"SPHWHTL3D20E","HPL 3535","LH351Z","White",80]
[null,null,{"$f":"BT385","v":"LH231B"},0.7,2,135,2,{"$f":"2.8*2.8","v":7.839999999999999},85,null,null,null,null,null,null,"LED performances @mean/flux_rank","2.8x2.8",null,null,null,null,null,null,null,null,null,null,"-",null,null,null,"",null,null,null,null,null,null,null,null,null,null,null,null,null,null,null,null,null,null,null,null,null,null,null,null,null,null,null,null,null,null,null,null,null,null,null,null,null,null,null,null,null,68,7600,null,null,null,null,null,null,null,null,null,{"$f":"$BU$93*BW95","v":2682800},68,"-","-","-",{"$f":"$BU$93*BV95*BW95+BV95+BW95","v":182438068},"Flux : J1,K1,M1","-","-","-","-",120,130,140,"-","-","-","-","-","J1 (120-130)","K1 (130-140)","M1 (140-150)","-",2.8,2.95,3.1,"-","-","-","-","Min (2.8)","Typ (2.95)","Max (3.1)","-","-","-","-",null,-0.51859999999999995,2.7294999999999998,0.1082,null,{"$f":"DW94","v":-6.9999999999999999E-4},{"$f":"DX94","v":-1.5E-3},null,-7.7399999999999997E-2,0.2762,0.91120000000000001,null,null,{"$f":"EE94","v":-1.6666666666666681E-3},"Vf : F3 (Min.Typ.Max)","SPHWHTL3D201",null,null,null,null,null,null,null,"SPHWHTL3D50C","HPL 3535","LH351C","White",70]
[null,null,null,null,null,null,null,null,null,null,null,null,null,null,null,null,null,null,null,null,null,null,null,null,null,null,null,"-",null,null,null,"▷R-series",null,null,null,null,null,null,null,null,null,null,null,null,null,null,null,null,null,null,null,null,null,null,null,null,null,null,null,null,null,null,null,null,null,null,null,null,null,null,null,"LC013B",813,80,2700,2700,3000,3500,4000,5000,5700,"-","-","-",{"$f":"$BU$96*BW96","v":2195100},80,90,95,"-",{"$f":"$BU$96*BV96*BW96+BV96+BW96","v":175610780},"Flux : 13,14,15,16",{"$f":"AVERAGE(1300,1400)","v":1350},{"$f":"AVERAGE(1400,1500)","v":1450},{"$f":"AVERAGE(1500,1600)","v":1550},{"$f":"AVERAGE(1600,1700)","v":1650},{"$f":"AVERAGE(1700,1800)","v":1750},"-","-","-","13 (1300-1400)","14 (1400-1500)","15 (1500-1600)","16 (1600-1700)","17 (1700-1800)","-","-","-",32.5,35.5,38.5,"-","-","-","-","Min (32.5)","Typ (35.5)","Max (38.5)","-","-","-","-",null,-1.0203,3.0430999999999999,3.6700000000000003E-2,null,null,-1.8666666666666669E-3,null,-0.12330000000000001,0.29649999999999999,0.90920000000000001,null,null,-3.0391600000000001E-2,"Vf : Min.Typ.Max","SPHWW1HDNA25",null,null,null,null,null,null,null,"SPHWHTL3D50E","HPL 3535","LH351C","White",80]
[null,null,null,null,null,null,null,null,null,null,null,null,null,null,null,null,null,null,null,null,null,null,null,null,null,null,null,null,null,null,null,{"$f":"C189","v":"LC013D_R-series"},null,null,null,null,null,null,null,null,null,null,null,null,null,null,null,null,null,null,null,null,null,null,null,null,null,null,null,null,null,null,null,null,null,null,null,null,null,null,null,null,null,90,2700,null,null,null,null,null,null,null,null,null,null,null,null,null,null,197561790,"Flux : 11,12,13,14","-",{"$f":"AVERAGE(1175,1290)","v":1232.5},{"$f":"AVERAGE(1290,1405)","v":1347.5},{"$f":"AVERAGE(1405,1520)","v":1462.5},"-","-","-","-","-","12 (1175-1290)","13 (1290-1405)","14 (1405-1520)","-","-","-","-",32.5,35.5,38.5,"-","-","-","-","Min (32.5)","Typ (35.5)","Max (38.5)","-","-","-","-",null,{"$f":"DS96","v":-1.0203},3.0430999999999999,3.6700000000000003E-2,null,null,-1.5999999999999999E-3,null,{"$f":"DZ96","v":-0.12330000000000001},{"$f":"EA96","v":0.29649999999999999},{"$f":"EB96","v":0.90920000000000001},null,null,{"$f":"EE96","v":-3.0391600000000001E-2},"Vf : Min.Typ.Max","SPHWW1HDNA27",null,null,null,null,null,null,null,"SPHWHTL3D50G","HPL 3535","LH351C","White",90]
[{"$f":"G8","v":"High-Power"},{"$f":"VLOOKUP(A98,[1]Base!$G$5:$H$17,2,FALSE)","v":104},null,null,null,null,null,null,null,null,null,null,null,null,null,null,null,null,null,null,null,null,null,null,null,null,null,null,null,null,null,{"$f":"C190","v":"LC016D_R-series"},null,null,null,null,null,null,null,null,null,null,null,null,null,null,null,null,null,null,null,null,null,null,null,null,null,null,null,null,null,null,null,null,null,null,null,null,null,null,null,null,null,95,2700,null,null,null,null,null,null,null,null,null,null,null,null,null,null,208537295,null,{"$f":"AVERAGE(1160,1289)","v":1224.5},{"$f":"AVERAGE(1289,1418)","v":1353.5},"-","-","-","-","-","-","11 (1160-1289)","12 (1289-1418)","-","-","-","-","-","-",32.5,35.5,38.5,"-","-","-","-","Min (32.5)","Typ (35.5)","Max (38.5)","-","-","-","-",null,-1.0203,3.0430999999999999,3.6700000000000003E-2,null,null,{"$f":"DX97","v":-1.5999999999999999E-3},null,{"$f":"DZ97","v":-0.12330000000000001},0.29649999999999999,0.90920000000000001,null,null,{"$f":"EE97","v":-3.0391600000000001E-2},null,"SPHWW1HDNA28",null,null,null,null,null,null,null,"SPHWHTL3DA0C","HPL 3535","LH351D","White",70]
[null,null,{"$f":"BT144","v":"LH351B"},0.35,1.5,150,4,{"$f":"3.5*3.5","v":12.25},85,{"$f":"CO163","v":155},2.7,{"$f":"K99*D99","v":0.94499999999999995},{"$f":"K99*E99","v":4.0500000000000007},{"$f":"J99/L99","v":164.02116402116403},{"$f":"IF(I99=25,I99,I99-L99*G99)","v":81.22},"LED performances @min/flux_rank","3.5x3.5",null,null,null,null,null,null,null,null,null,null,null,null,null,null,{"$f":"C191","v":"LC019D_R-series"},null,null,null,null,null,null,null,null,null,null,null,null,null,null,null,null,null,null,null,null,null,null,null,null,null,null,null,null,null,null,null,null,null,null,null,null,null,null,null,null,null,70,3000,null,null,null,null,null,null,null,null,null,{"$f":"$BU$96*BW99","v":2439000},70,80,90,95,170733070,null,{"$f":"AVERAGE(1633,1856)","v":1744.5},{"$f":"AVERAGE(1856,2078)","v":1967},"-","-","-","-","-","-","11 (1633-1856)","12 (1856-2078)","-","-","-","-","-","-",32.5,35.5,38.5,"-","-","-","-","Min (32.5)","Typ (35.5)","Max (38.5)","-","-","-","-",null,{"$f":"DS96","v":-1.0203},{"$f":"DT96","v":3.0430999999999999},{"$f":"DU96","v":3.6700000000000003E-2},null,null,{"$f":"DX96","v":-1.8666666666666669E-3},null,-0.12330000000000001,0.29649999999999999,0.90920000000000001,null,null,-3.0391600000000001E-2,null,"SPHWW1HDNA23",null,null,null,null,null,null,null,"SPHWHTL3DA0D","HPL 3535","LH351D","White",75]
[null,null,{"$f":"BT173","v":"LH351C"},0.7,2,150,3,{"$f":"3.5*3.5","v":12.25},85,250,2.9,{"$f":"K100*D100","v":2.0299999999999998},{"$f":"K100*E100","v":5.8},{"$f":"J100/L100","v":123.15270935960592},{"$f":"IF(I100=25,I100,I100-L100*G100)","v":78.91},"LED performances @min/flux_rank","3.5x3.5",null,null,null,null,null,null,null,null,null,null,null,null,null,null,{"$f":"C192","v":"LC026D_R-series"},null,null,null,null,null,null,null,null,null,null,null,null,null,null,null,null,null,null,null,null,null,null,null,null,null,null,null,null,null,null,null,null,null,null,null,null,null,null,null,null,null,80,3000,null,null,null,null,null,null,null,null,null,null,null,null,null,null,195123080,"Flux : 13,14,15,16",{"$f":"AVERAGE(1350,1450)","v":1400},{"$f":"AVERAGE(1450,1550)","v":1500},{"$f":"AVERAGE(1550,1650)","v":1600},{"$f":"AVERAGE(1650,1750)","v":1700},{"$f":"AVERAGE(1750,1850)","v":1800},"-","-","-","13 (1350-1450)","14 (1450-1550)","15 (1550-1650)","16 (1650-1750)","17 (1750-1850)","-","-","-",32.5,35.5,38.5,"-","-","-","-","Min (32.5)","Typ (35.5)","Max (38.5)","-","-","-","-",null,{"$f":"DS96","v":-1.0203},3.0430999999999999,3.6700000000000003E-2,null,null,{"$f":"DX96","v":-1.8666666666666669E-3},null,-0.12330000000000001,0.29649999999999999,0.90920000000000001,null,null,-3.0391600000000001E-2,"Vf : Min.Typ.Max","SPHWW1HDNA25",null,null,null,null,null,null,null,"SPHWHTL3DA0E","HPL 3535","LH351D","White",80]
[null,null,{"$f":"BT198","v":"LH351D"},1.05,3,150,2.2000000000000002,{"$f":"3.5*3.5","v":12.25},85,300,2.9,{"$f":"K101*D101","v":3.0449999999999999},{"$f":"K101*E101","v":8.6999999999999993},{"$f":"J101/L101","v":98.522167487684726},{"$f":"IF(I101=25,I101,I101-L101*G101)","v":78.301000000000002},"LED performances @min/flux_rank","3.5x3.5",null,null,null,null,null,null,null,null,null,null,null,null,null,null,{"$f":"C193","v":"LC033D_R-series"},null,null,null,null,null,null,null,null,null,null,null,null,null,null,null,null,null,null,null,null,null,null,null,null,null,null,null,null,null,null,null,null,null,null,null,null,null,null,null,null,null,90,3000,null,null,null,null,null,null,null,null,null,null,null,null,null,null,219513090,"Flux : 11,12,13,14","-",{"$f":"AVERAGE(1200,1320)","v":1260},{"$f":"AVERAGE(1320,1440)","v":1380},{"$f":"AVERAGE(1440,1560)","v":1500},"-","-","-","-","-","12 (1200-1320)","13 (1320-1440)","14 (1440-1560)","-","-","-","-",32.5,35.5,38.5,"-","-","-","-","Min (32.5)","Typ (35.5)","Max (38.5)","-","-","-","-",null,-1.0203,3.0430999999999999,3.6700000000000003E-2,null,null,{"$f":"DX97","v":-1.5999999999999999E-3},null,-0.12330000000000001,0.29649999999999999,0.90920000000000001,null,null,-3.0391600000000001E-2,"Vf : Min.Typ.Max","SPHWW1HDNA27",null,null,null,null,null,null,null,"SPHWHTL3DA0G","HPL 3535","LH351D","White",90]
[null,null,{"$f":"BT2258","v":"LH502C (6V)"},0.64,0.88,125,3,25,25,null,null,null,null,null,25,"LED performances @mean/flux_rank","5.0x5.0",null,null,null,null,null,null,null,null,null,null,null,null,null,null,{"$f":"C194","v":"LC040D_R-series"},null,null,null,null,null,null,null,null,null,null,null,null,null,null,null,null,null,null,null,null,null,null,null,null,null,null,null,null,null,null,null,null,null,null,null,null,null,null,null,null,null,95,3000,null,null,null,null,null,null,null,null,null,null,null,null,null,null,231708095,null,{"$f":"AVERAGE(1196,1329)","v":1262.5},{"$f":"AVERAGE(1329,1462)","v":1395.5},"-","-","-","-","-","-","11 (1196-1329)","12 (1329-1462)","-","-","-","-","-","-",32.5,35.5,38.5,"-","-","-","-","Min (32.5)","Typ (35.5)","Max (38.5)","-","-","-","-",null,{"$f":"DS97","v":-1.0203},{"$f":"DT97","v":3.0430999999999999},{"$f":"DU97","v":3.6700000000000003E-2},null,null,{"$f":"DX97","v":-1.5999999999999999E-3},null,-0.12330000000000001,0.29649999999999999,0.90920000000000001,null,null,-3.0391600000000001E-2,null,"SPHWW1HDNA28",null,null,null,null,null,null,null,"SPHWHTHAN205","HV_AC(2W)","LH524B","WW",80]
[null,null,{"$f":"BT2188","v":"LH508A (24V)"},0.16,0.24,125,1.9,{"$f":"5*5","v":25},25,null,null,null,null,null,null,"LED performances @mean/flux_rank","5.0x5.0",null,null,null,null,null,null,null,null,null,null,null,null,null,null,"",null,null,null,null,null,null,null,null,null,null,null,null,null,null,null,null,null,null,null,null,null,null,null,null,null,null,null,null,null,null,null,null,null,null,null,null,null,null,null,null,null,80,3500,null,null,null,null,null,null,null,null,null,{"$f":"$BU$96*BW103","v":2845500},80,90,95,"-",227643580,"Flux : 14,15,16,17","-",{"$f":"AVERAGE(1400,1510)","v":1455},{"$f":"AVERAGE(1510,1620)","v":1565},{"$f":"AVERAGE(1620,1730)","v":1675},{"$f":"AVERAGE(1730,1840)","v":1785},{"$f":"AVERAGE(1840,1950)","v":1895},"-","-","-","14 (1400-1510)","15 (1510-1620)","16 (1620-1730)","17 (1730-1840)","18 (1840-1950)","-","-",32.5,35.5,38.5,"-","-","-","-","Min (32.5)","Typ (35.5)","Max (38.5)","-","-","-","-",null,{"$f":"DS100","v":-1.0203},3.0430999999999999,3.6700000000000003E-2,null,null,{"$f":"DX96","v":-1.8666666666666669E-3},null,-0.12330000000000001,0.29649999999999999,0.90920000000000001,null,null,-3.0391600000000001E-2,"Vf : Min.Typ.Max","SPHWW1HDNA25",null,null,null,null,null,null,null,"SPHWHTHAD603","HV_AC(4.5W)","LH934A","CW",70]
[null,null,{"$f":"BT2202","v":"LH508A (6V)"},0.64,0.96,125,1.9,25,25,null,null,null,null,null,null,"LED performances @mean/flux_rank","5.0x5.0",null,null,null,null,null,null,null,null,null,null,null,null,null,null,"▷R-series Gen2+",null,null,null,null,null,null,null,null,null,null,null,null,null,null,null,null,null,null,null,null,null,null,null,null,null,null,null,null,null,null,null,null,null,null,null,null,null,null,null,null,null,90,3500,null,null,null,null,null,null,null,null,null,null,null,null,null,null,256098590,"Flux : 11,12,13,14","-",{"$f":"AVERAGE(1235,1355)","v":1295},{"$f":"AVERAGE(1355,1475)","v":1415},{"$f":"AVERAGE(1475,1595)","v":1535},"-","-","-","-","-","12 (1235-1355)","13 (1355-1475)","14 (1475-1595)","-","-","-","-",32.5,35.5,38.5,"-","-","-","-","Min (32.5)","Typ (35.5)","Max (38.5)","-","-","-","-",null,-1.0203,3.0430999999999999,3.6700000000000003E-2,null,null,{"$f":"DX97","v":-1.5999999999999999E-3},null,-0.12330000000000001,0.29649999999999999,0.90920000000000001,null,null,-3.0391600000000001E-2,"Vf : Min.Typ.Max","SPHWW1HDNA27",null,null,null,null,null,null,null,"SPHWHTHAD605","HV_AC(4.5W)","LH934A","WW",80]
[null,null,{"$f":"BT2222","v":"LH508A plus (6V)"},0.64,0.88,125,3,25,25,null,null,null,null,null,null,"LED performances @mean/flux_rank","5.0x5.0",null,null,null,null,null,null,null,null,null,null,null,null,null,null,{"$f":"C198","v":"LC013D Vivid White_G2 plus"},null,null,null,null,null,null,null,null,null,null,null,null,null,null,null,null,null,null,null,null,null,null,null,null,null,null,null,null,null,null,null,null,null,null,null,null,null,null,null,null,null,95,3500,null,null,null,null,null,null,null,null,null,null,null,null,null,null,270326095,null,{"$f":"AVERAGE(1232,1369)","v":1300.5},{"$f":"AVERAGE(1369,1506)","v":1437.5},"-","-","-","-","-","-","11 (1232-1369)","12 (1369-1506)","-","-","-","-","-","-",32.5,35.5,38.5,"-","-","-","-","Min (32.5)","Typ (35.5)","Max (38.5)","-","-","-","-",null,{"$f":"DS97","v":-1.0203},{"$f":"DT97","v":3.0430999999999999},{"$f":"DU97","v":3.6700000000000003E-2},null,null,{"$f":"DX104","v":-1.5999999999999999E-3},null,-0.12330000000000001,0.29649999999999999,0.90920000000000001,null,null,-3.0391600000000001E-2,null,"SPHWW1HDNA28",null,null,null,null,null,null,null,"SCS6NTB6EFL1","FC PKG","LH141A","7600K",68]
[null,null,{"$f":"BT2216","v":"LH508B (6V)"},0.6,0.8,125,5,25,25,null,null,null,null,null,null,"LED performances @mean/flux_rank","5.0x5.0",null,null,null,null,null,null,null,null,null,null,null,null,null,null,{"$f":"C199","v":"LC016D Vivid White_G2 plus"},null,null,null,null,null,null,null,null,null,null,null,null,null,null,null,null,null,null,null,null,null,null,null,null,null,null,null,null,null,null,null,null,null,null,null,null,null,null,null,null,null,70,4000,null,null,null,null,null,null,null,null,null,{"$f":"$BU$96*BW106","v":3252000},70,80,90,"-",227644070,null,{"$f":"AVERAGE(1715,1948)","v":1831.5},{"$f":"AVERAGE(1948,2182)","v":2065},"-","-","-","-","-","-","11 (1715-1948)","12 (1948-2182)","-","-","-","-","-","-",32.5,35.5,38.5,"-","-","-","-","Min (32.5)","Typ (35.5)","Max (38.5)","-","-","-","-",null,{"$f":"DS103","v":-1.0203},{"$f":"DT103","v":3.0430999999999999},{"$f":"DU103","v":3.6700000000000003E-2},null,null,{"$f":"DX96","v":-1.8666666666666669E-3},null,-0.12330000000000001,0.29649999999999999,0.90920000000000001,null,null,-3.0391600000000001E-2,null,"SPHWW1HDNA23",null,null,null,null,null,null,null,"SCS8PT78EFL1","FC PKG","LM131A","6500K",80]
[null,null,{"$f":"BT2235","v":"LH508C (24V)"},0.16,0.22,125,3,25,25,null,null,null,null,null,25,"LED performances @mean/flux_rank","5.0x5.0",null,null,null,null,null,null,null,null,null,null,null,null,null,null,{"$f":"C200","v":"LC019D Vivid White_G2 plus"},null,null,null,null,null,null,null,null,null,null,null,null,null,null,null,null,null,null,null,null,null,null,null,null,null,null,null,null,null,null,null,null,null,null,null,null,null,null,null,null,null,80,4000,null,null,null,null,null,null,null,null,null,null,null,null,null,null,260164080,"Flux : 15,16,17,18","-","-",{"$f":"AVERAGE(1430,1540)","v":1485},{"$f":"AVERAGE(1540,1650)","v":1595},{"$f":"AVERAGE(1650,1760)","v":1705},{"$f":"AVERAGE(1760,1870)","v":1815},"-","-","-","-","15 (1430-1540)","16 (1540-1650)","17 (1650-1760)","18 (1760-1870)","-","-",32.5,35.5,38.5,"-","-","-","-","Min (32.5)","Typ (35.5)","Max (38.5)","-","-","-","-",null,{"$f":"DS100","v":-1.0203},{"$f":"DT100","v":3.0430999999999999},{"$f":"DU100","v":3.6700000000000003E-2},null,null,{"$f":"DX96","v":-1.8666666666666669E-3},null,-0.12330000000000001,0.29649999999999999,0.90920000000000001,null,null,-3.0391600000000001E-2,"Vf : Min.Typ.Max","SPHWW1HDNA25",null,null,null,null,null,null,null,"SCS8QT78EFL1","FC PKG","LM131A","5700K",80]
[null,null,{"$f":"BT2281","v":"LH502D (6V)"},0.64,1,125,3,25,25,null,null,null,null,null,25,"LED performances @mean/flux_rank","5.0x5.0",null,null,null,null,null,null,null,null,null,null,null,null,null,null,{"$f":"C201","v":"LC026D Vivid White_G2 plus"},null,null,null,null,null,null,null,null,null,null,null,null,null,null,null,null,null,null,null,null,null,null,null,null,null,null,null,null,null,null,null,null,null,null,null,null,null,null,null,null,null,90,4000,null,null,null,null,null,null,null,null,null,null,null,null,null,null,292684090,"Flux : 11,12,13,14","-",{"$f":"AVERAGE(1270,1395)","v":1332.5},{"$f":"AVERAGE(1395,1520)","v":1457.5},{"$f":"AVERAGE(1520,1645)","v":1582.5},"-","-","-","-","-","12 (1270-1395)","13 (1395-1520)","14 (1520-1645)","-","-","-","-",32.5,35.5,38.5,"-","-","-","-","Min (32.5)","Typ (35.5)","Max (38.5)","-","-","-","-",null,{"$f":"DS104","v":-1.0203},{"$f":"DT104","v":3.0430999999999999},{"$f":"DU104","v":3.6700000000000003E-2},null,null,{"$f":"DX105","v":-1.5999999999999999E-3},null,{"$f":"DZ104","v":-0.12330000000000001},{"$f":"EA104","v":0.29649999999999999},{"$f":"EB104","v":0.90920000000000001},null,null,{"$f":"EE104","v":-3.0391600000000001E-2},"Vf : Min.Typ.Max","SPHWW1HDNA27",null,null,null,null,null,null,null,"SCS8RT78EFL1","FC PKG","LM131A","5000K",80]
[null,null,{"$f":"BT2289","v":"LH502C ECO (6V)"},0.64,0.88,125,3,25,25,null,null,null,null,null,25,"LED performances @mean/flux_rank","5.0x5.0",null,null,null,null,null,null,null,null,null,null,null,null,null,null,{"$f":"C202","v":"LC033D Vivid White_G2 plus"},null,null,null,null,null,null,null,null,null,null,null,null,null,null,null,null,null,null,null,null,null,null,null,null,null,null,null,null,null,null,null,null,null,null,null,null,null,null,null,null,null,70,5000,null,null,null,null,null,null,null,null,null,{"$f":"$BU$96*BW109","v":4065000},70,80,"-","-",284555070,null,{"$f":"AVERAGE(1731,1967)","v":1849},{"$f":"AVERAGE(1967,2203)","v":2085},"-","-","-","-","-","-","11 (1731-1967)","12 (1967-2203)","-","-","-","-","-","-",32.5,35.5,38.5,"-","-","-","-","Min (32.5)","Typ (35.5)","Max (38.5)","-","-","-","-",null,{"$f":"DS106","v":-1.0203},{"$f":"DT106","v":3.0430999999999999},3.6700000000000003E-2,null,null,{"$f":"DX96","v":-1.8666666666666669E-3},null,-0.12330000000000001,0.29649999999999999,0.90920000000000001,null,null,-3.0391600000000001E-2,null,"SPHCW1HDNA23",null,null,null,null,null,null,null,"SCS8TT78EFL1","FC PKG","LM131A","4000K",80]
[null,null,null,null,null,null,null,null,null,null,null,null,null,null,null,null,null,null,null,null,null,null,null,null,null,null,null,null,null,null,null,{"$f":"C203","v":"LC040D Vivid White_G2 plus"},null,null,null,null,null,null,null,null,null,null,null,null,null,null,null,null,null,null,null,null,null,null,null,null,null,null,null,null,null,null,null,null,null,null,null,null,null,null,null,null,null,80,5000,null,null,null,null,null,null,null,null,null,null,null,null,null,null,325205080,"Flux : 15,16,17,18","-","-",{"$f":"AVERAGE(1440,1560)","v":1500},{"$f":"AVERAGE(1560,1680)","v":1620},{"$f":"AVERAGE(1680,1800)","v":1740},{"$f":"AVERAGE(1800,1920)","v":1860},"-","-","-","-","15 (1440-1560)","16 (1560-1680)","17 (1680-1800)","18 (1800-1920)","-","-",32.5,35.5,38.5,"-","-","-","-","Min (32.5)","Typ (35.5)","Max (38.5)","-","-","-","-",null,{"$f":"DS96","v":-1.0203},{"$f":"DT96","v":3.0430999999999999},{"$f":"DU96","v":3.6700000000000003E-2},null,null,{"$f":"DX96","v":-1.8666666666666669E-3},null,{"$f":"DZ100","v":-0.12330000000000001},{"$f":"EA100","v":0.29649999999999999},{"$f":"EB100","v":0.90920000000000001},null,null,{"$f":"EE100","v":-3.0391600000000001E-2},"Vf : Min.Typ.Max","SPHCW1HDNA25",null,null,null,null,null,null,null,"SCS8UT78EFL1","FC PKG","LM131A","3500K",80]
[{"$f":"G16","v":"COB"},{"$f":"VLOOKUP(A111,[1]Base!$G$5:$H$17,2,FALSE)","v":112},null,null,null,null,null,null,null,null,null,null,null,null,null,null,null,null,null,null,null,null,null,null,null,null,null,null,null,null,null,"",null,null,null,null,null,null,null,null,null,null,null,null,null,null,null,null,null,null,null,null,null,null,null,null,null,null,null,null,null,null,null,null,null,null,null,null,null,null,null,null,null,80,5700,null,null,null,null,null,null,null,null,null,{"$f":"$BU$96*BW111","v":4634100},80,"-","-","-",370733780,null,"-","-",{"$f":"AVERAGE(1440,1560)","v":1500},{"$f":"AVERAGE(1560,1680)","v":1620},{"$f":"AVERAGE(1680,1800)","v":1740},{"$f":"AVERAGE(1800,1920)","v":1860},"-","-","-","-","15 (1440-1560)","16 (1560-1680)","17 (1680-1800)","18 (1800-1920)","-",null,32.5,35.5,38.5,"-","-","-","-","Min (32.5)","Typ (35.5)","Max (38.5)","-","-","-","-",null,{"$f":"DS110","v":-1.0203},{"$f":"DT110","v":3.0430999999999999},3.6700000000000003E-2,null,null,{"$f":"DX96","v":-1.8666666666666669E-3},null,-0.12330000000000001,0.29649999999999999,0.90920000000000001,null,null,-3.0391600000000001E-2,null,"SPHCW1HDNA25",null,null,null,null,null,null,null,"SCS8VT78EFL1","FC PKG","LM131A","3000K",80]
[null,null,{"$f":"BT268","v":"LC006B"},0.18,0.32,150,3,{"$f":"3.14*4*4","v":50.24},25,{"$f":"CO281","v":1016.5},{"$f":"DE281","v":35.5},{"$f":"D112*K112","v":6.39},{"$f":"E112*K112","v":11.36},{"$f":"J112/L112","v":159.07668231611893},{"$f":"IF(I112=25,I112,I112-L112*G112)","v":25},"LED performances @mean/flux_rank","13.5x13.5x1.5 Φ8.0",null,null,null,null,null,null,null,null,null,null,null,null,null,null,"▷R-series Gen3+",null,null,null,null,null,null,null,null,null,null,null,null,null,null,null,null,null,null,null,null,null,null,null,null,null,null,null,null,null,null,null,null,null,null,null,null,null,null,null,"LC026B",814,80,2700,2700,3000,3500,4000,5000,5700,"-","-","-",{"$f":"$BU$112*BW112","v":2197800},80,90,95,"-",{"$f":"$BU$112*BV112*BW112+BV112+BW112","v":175826780},"Flux : 28,29,30,31","-",{"$f":"AVERAGE(2710,2920)","v":2815},{"$f":"AVERAGE(2920,3130)","v":3025},{"$f":"AVERAGE(3130,3340)","v":3235},{"$f":"AVERAGE(3340,3550)","v":3445},{"$f":"AVERAGE(3550,3760)","v":3655},{"$f":"AVERAGE(3760,3970)","v":3865},"-","-","28 (2710-2920)","29 (2920-3130)","30 (3130-3340)","31 (3340-3550)","32 (3550-3760)","33 (3760-3970)","-",32.5,35.5,38.5,"-","-","-","-","Min (32.5)","Typ (35.5)","Max (38.5)","-","-","-","-",null,-0.28349999999999997,1.607,-0.01,null,null,-1.8666666666666669E-3,null,-3.2599999999999997E-2,0.1479,0.91039999999999999,null,null,-3.3221200000000027E-2,"Vf : Min.Typ.Max","SPHWW1HDNC25",null,null,null,null,null,null,null,"SCS8WT78EFL1","FC PKG","LM131A","2700K",80]
[null,null,{"$f":"BT284","v":"LC008B"},0.24,0.43,150,2,{"$f":"3.14*4*4","v":50.24},25,{"$f":"CO298","v":1143.5},{"$f":"DE297","v":35.5},8.52,15.265000000000001,134.21361502347418,25,"LED performances @mean/flux_rank","13.5x13.5x1.5 Φ8.0",null,null,null,null,null,null,null,null,null,null,null,null,null,null,{"$f":"C204","v":"LC013D Vivid White_G3 plus"},null,null,null,null,null,null,null,null,null,null,null,null,null,null,null,null,null,null,null,null,null,null,null,null,null,null,null,null,null,null,null,null,null,null,null,null,null,null,null,null,null,90,2700,null,null,null,null,null,null,null,null,null,null,null,null,null,null,197804790,"Flux : 21,22,23,24",{"$f":"AVERAGE(2110,2345)","v":2227.5},{"$f":"AVERAGE(2345,2580)","v":2462.5},{"$f":"AVERAGE(2580,2815)","v":2697.5},{"$f":"AVERAGE(2815,3050)","v":2932.5},{"$f":"AVERAGE(3050,3380)","v":3215},"-","-","-","21 (2110-2345)","22 (2345-2580)","23 (2580-2815)","24 (2815-3050)","25 (3050-3380)","-","-","-",32.5,35.5,38.5,"-","-","-","-","Min (32.5)","Typ (35.5)","Max (38.5)","-","-","-","-",null,{"$f":"DS112","v":-0.28349999999999997},1.607,-0.01,null,null,-1.5999999999999999E-3,null,{"$f":"DZ112","v":-3.2599999999999997E-2},{"$f":"EA112","v":0.1479},{"$f":"EB112","v":0.91039999999999999},null,null,{"$f":"EE112","v":-3.3221200000000027E-2},"Vf : Min.Typ.Max","SPHWW1HDNC27",null,null,null,null,null,null,null,"SCS6RTB6EFL1","FC PKG","LH141A","5000K",68]
[null,null,{"$f":"BT96","v":"LC013B"},0.36,0.66,150,1.6,{"$f":"3.14*5.5*5.5","v":94.984999999999999},25,{"$f":"CP110","v":1500},{"$f":"DE110","v":35.5},12.78,23.43,117.37089201877934,25,"LED performances @mean/flux_rank","17.0x17.0x1.5 Φ11.0",null,null,null,null,null,null,null,null,null,null,null,null,null,null,{"$f":"C205","v":"LC016D Vivid White_G3 plus"},null,null,null,null,null,null,null,null,null,null,null,null,null,null,null,null,null,null,null,null,null,null,null,null,null,null,null,null,null,null,null,null,null,null,null,null,null,null,null,null,null,95,2700,null,null,null,null,null,null,null,null,null,null,null,null,null,null,208793795,null,{"$f":"AVERAGE(2321,2578)","v":2449.5},{"$f":"AVERAGE(2578,2836)","v":2707},"-","-","-","-","-","-","21 (2321-2578)","22 (2578-2836)","-","-","-","-","-","-",32.5,35.5,38.5,"-","-","-","-","Min (32.5)","Typ (35.5)","Max (38.5)","-","-","-","-",null,-0.28349999999999997,1.607,-0.01,null,null,{"$f":"DX113","v":-1.5999999999999999E-3},null,{"$f":"DZ113","v":-3.2599999999999997E-2},0.1479,0.91039999999999999,null,null,{"$f":"EE113","v":-3.3221200000000027E-2},null,"SPHWW1HDNC28",null,null,null,null,null,null,null,"SPMWHT221MC5","MPL 2323","LM231A","White",80]
[null,null,{"$f":"BT300","v":"LC019B"},0.54,0.98,150,1.5,{"$f":"3.14*6.2*6.2","v":120.7016},25,{"$f":"CO314","v":2553.5},{"$f":"DE287","v":35.5},19.170000000000002,34.79,133.20292123109024,25,"LED performances @mean/flux_rank","17.0x17.0x1.5 Φ12.4",null,null,null,null,null,null,null,null,null,null,null,null,null,null,{"$f":"C206","v":"LC019D Vivid White_G3 plus"},null,null,null,null,null,null,null,null,null,null,null,null,null,null,null,null,null,null,null,null,null,null,null,null,null,null,null,null,null,null,null,null,null,null,null,null,null,null,null,null,null,70,3000,null,null,null,null,null,null,null,null,null,{"$f":"$BU$112*BW115","v":2442000},70,80,90,95,170943070,"Flux : 31,32",{"$f":"AVERAGE(3266,3711)","v":3488.5},{"$f":"AVERAGE(3711,4157)","v":3934},"-","-","-","-","-","-","31 (3266-3711)","32 (3711-4157)","-","-","-","-","-","-",32.5,35.5,38.5,"-","-","-","-","Min (32.5)","Typ (35.5)","Max (38.5)","-","-","-","-",null,-0.28349999999999997,1.607,-0.01,null,null,{"$f":"DX112","v":-1.8666666666666669E-3},null,-3.2599999999999997E-2,0.1479,0.91039999999999999,null,null,-3.3221200000000027E-2,"Vf : Min.Typ.Max","SPHWW1HDNC23",null,null,null,null,null,null,null,"SPMWHT221MD5","MPL 2323","LM231A","White",80]
[null,null,{"$f":"BT112","v":"LC026B"},0.72,1.3,150,0.9,{"$f":"3.14*8.5*8.5","v":226.86500000000001},25,{"$f":"CQ126","v":3935},{"$f":"DE125","v":35.5},25.56,46.15,153.95148669796558,25,"LED performances @mean/flux_rank","21.5x21.5x1.5 Φ17.0",null,null,null,null,null,null,null,null,null,null,null,null,null,null,{"$f":"C207","v":"LC026D Vivid White_G3 plus"},null,null,null,null,null,null,null,null,null,null,null,null,null,null,null,null,null,null,null,null,null,null,null,null,null,null,null,null,null,null,null,null,null,null,null,null,null,null,null,null,null,80,3000,null,null,null,null,null,null,null,null,null,null,null,null,null,null,195363080,"Flux : 28,29,30,31","-",{"$f":"AVERAGE(2890,3110)","v":3000},{"$f":"AVERAGE(3110,3330)","v":3220},{"$f":"AVERAGE(3330,3550)","v":3440},{"$f":"AVERAGE(3550,3770)","v":3660},{"$f":"AVERAGE(3770,3990)","v":3880},"-","-","-","28 (2890-3110)","29 (3110-3330)","30 (3330-3550)","31 (3550-3770)","32 (3770-3990)","-","-",32.5,35.5,38.5,"-","-","-","-","Min (32.5)","Typ (35.5)","Max (38.5)","-","-","-","-",null,-0.28349999999999997,1.607,-0.01,null,null,{"$f":"DX112","v":-1.8666666666666669E-3},null,-3.2599999999999997E-2,0.1479,0.91039999999999999,null,null,-3.3221200000000027E-2,"Vf : Min.Typ.Max","SPHWW1HDNC25",null,null,null,null,null,null,null,"SPMWHT223MD5","MPL 2323","LM231B","White",80]
[null,null,{"$f":"BT316","v":"LC033B"},0.9,1.62,150,0.9,{"$f":"3.14*8.5*8.5","v":226.86500000000001},25,{"$f":"CO330","v":4321.5},{"$f":"DE304","v":35.5},31.95,57.510000000000005,135.25821596244131,25,"LED performances @mean/flux_rank","21.5x21.5x1.5 Φ17.0",null,null,null,null,null,null,null,null,null,null,null,null,null,null,{"$f":"C208","v":"LC033D Vivid White_G3 plus"},null,null,null,null,null,null,null,null,null,null,null,null,null,null,null,null,null,null,null,null,null,null,null,null,null,null,null,null,null,null,null,null,null,null,null,null,null,null,null,null,null,90,3000,null,null,null,null,null,null,null,null,null,null,null,null,null,null,219783090,"Flux : 21,22,23,24",{"$f":"AVERAGE(2150,2390)","v":2270},{"$f":"AVERAGE(2390,2630)","v":2510},{"$f":"AVERAGE(2630,2870)","v":2750},{"$f":"AVERAGE(2870,3110)","v":2990},{"$f":"AVERAGE(3110,3440)","v":3275},"-","-","-","21 (2150-2390)","22 (2390-2630)","23 (2630-2870)","24 (2870-3110)","25 (3110-3440)","-","-","-",32.5,35.5,38.5,"-","-","-","-","Min (32.5)","Typ (35.5)","Max (38.5)","-","-","-","-",null,-0.28349999999999997,1.607,-0.01,null,null,{"$f":"DX113","v":-1.5999999999999999E-3},null,-3.2599999999999997E-2,0.1479,0.91039999999999999,null,null,-3.3221200000000027E-2,"Vf : Min.Typ.Max","SPHWW1HDNC27",null,null,null,null,null,null,null,"SPMWHT223MD7","MPL 2323","LM231B","White",90]
[null,null,{"$f":"BT128","v":"LC040B"},1.08,1.9,150,0.8,{"$f":"3.14*8.5*8.5","v":226.86500000000001},25,{"$f":"CP142","v":5097.5},{"$f":"DE142","v":35.5},38.340000000000003,67.45,132.95513823682836,25,"LED performances @mean/flux_rank","21.5x21.5x1.5 Φ17.0",null,null,null,null,null,null,null,null,null,null,null,null,null,null,{"$f":"C209","v":"LC040D Vivid White_G3 plus"},null,null,null,null,null,null,null,null,null,null,null,null,null,null,null,null,null,null,null,null,null,null,null,null,null,null,null,null,null,null,null,null,null,null,null,null,null,null,null,null,null,95,3000,null,null,null,null,null,null,null,null,null,null,null,null,null,null,231993095,null,{"$f":"AVERAGE(2392,2658)","v":2525},{"$f":"AVERAGE(2658,2924)","v":2791},"-","-","-","-","-","-","21 (2392-2658)","22 (2658-2924)","-","-","-","-","-","-",32.5,35.5,38.5,"-","-","-","-","Min (32.5)","Typ (35.5)","Max (38.5)","-","-","-","-",null,-0.28349999999999997,1.607,-0.01,null,null,{"$f":"DX113","v":-1.5999999999999999E-3},null,-3.2599999999999997E-2,0.1479,0.91039999999999999,null,null,-3.3221200000000027E-2,null,"SPHWW1HDNC28",null,null,null,null,null,null,null,"SPMWHT327FD5","MPL 3030","LM302A","White",80]
[null,null,{"$f":"BT1157","v":"LC010C-G2"},0.3,0.38,140,1.5,{"$f":"3.14*3*3","v":28.259999999999998},85,null,null,null,null,null,null,"LED performances @mean/flux_rank","13.5x13.5x1.5 Φ6.0",null,null,null,null,null,null,null,null,null,null,null,null,null,null,"",null,null,null,null,null,null,null,null,null,null,null,null,null,null,null,null,null,null,null,null,null,null,null,null,null,null,null,null,null,null,null,null,null,null,null,null,null,null,null,null,null,80,3500,null,null,null,null,null,null,null,null,null,{"$f":"$BU$112*BW119","v":2849000},80,90,95,"-",227923580,"Flux : 28,29,30,31","-",{"$f":"AVERAGE(3000,3220)","v":3110},{"$f":"AVERAGE(3220,3440)","v":3330},{"$f":"AVERAGE(3440,3660)","v":3550},{"$f":"AVERAGE(3660,3880)","v":3770},{"$f":"AVERAGE(3880,4100)","v":3990},"-","-","-","28 (3000-3220)","29 (3220-3440)","30 (3440-3660)","31 (3660-3880)","32 (3880-4100)","-","-",32.5,35.5,38.5,"-","-","-","-","Min (32.5)","Typ (35.5)","Max (38.5)","-","-","-","-",null,-0.28349999999999997,1.607,-0.01,null,null,{"$f":"DX112","v":-1.8666666666666669E-3},null,-3.2599999999999997E-2,0.1479,0.91039999999999999,null,null,-3.3221200000000027E-2,"Vf : Min.Typ.Max","SPHWW1HDNC25",null,null,null,null,null,null,null,"SPMWHT327FD3","MPL 3030","LM302A","White",70]
[null,null,{"$f":"BT1167","v":"LC020C-G2"},0.6,0.92,140,0.9,{"$f":"3.14*4.25*4.25","v":56.716250000000002},85,null,null,null,null,null,null,"LED performances @mean/flux_rank","19.0x19.0x1.5 Φ8.5",null,null,null,null,null,null,null,null,null,null,null,null,null,null,"▷Tunable_COB",null,null,null,null,null,null,null,null,null,null,null,null,null,null,null,null,null,null,null,null,null,null,null,null,null,null,null,null,null,null,null,null,null,null,null,null,null,null,null,null,null,90,3500,null,null,null,null,null,null,null,null,null,null,null,null,null,null,256413590,"Flux : 21,22,23,24",{"$f":"AVERAGE(2220,2465)","v":2342.5},{"$f":"AVERAGE(2465,2710)","v":2587.5},{"$f":"AVERAGE(2710,2955)","v":2832.5},{"$f":"AVERAGE(2955,3200)","v":3077.5},{"$f":"AVERAGE(3200,3530)","v":3365},"-","-","-","21 (2220-2465)","22 (2465-2710)","23 (2710-2955)","24 (2955-3200)","25 (3200-3530)","-","-","-",32.5,35.5,38.5,"-","-","-","-","Min (32.5)","Typ (35.5)","Max (38.5)","-","-","-","-",null,-0.28349999999999997,1.607,-0.01,null,null,{"$f":"DX113","v":-1.5999999999999999E-3},null,-3.2599999999999997E-2,0.1479,0.91039999999999999,null,null,-3.3221200000000027E-2,"Vf : Min.Typ.Max","SPHWW1HDNC27",null,null,null,null,null,null,null,"SPMWHT327FD7","MPL 3030","LM302A","White",90]
[null,null,{"$f":"BT1177","v":"LC030C-G2"},0.9,1.38,140,0.6,{"$f":"3.14*5.75*5.75","v":103.81625},85,null,null,null,null,null,null,"LED performances @mean/flux_rank","19.0x19.0x1.5 Φ11.5",null,null,null,null,null,null,null,null,null,null,null,null,null,null,{"$f":"C195","v":"LC010T Tunable COB"},null,null,null,null,null,null,null,null,null,null,null,null,null,null,null,null,null,null,null,null,null,null,null,null,null,null,null,null,null,null,null,null,null,null,null,null,null,null,null,null,null,95,3500,null,null,null,null,null,null,null,null,null,null,null,null,null,null,270658595,null,{"$f":"AVERAGE(2440,2711)","v":2575.5},{"$f":"AVERAGE(2711,2983)","v":2847},"-","-","-","-","-","-","21 (2440-2711)","22 (2711-2983)","-","-","-","-","-","-",32.5,35.5,38.5,"-","-","-","-","Min (32.5)","Typ (35.5)","Max (38.5)","-","-","-","-",null,-0.28349999999999997,1.607,-0.01,null,null,{"$f":"DX113","v":-1.5999999999999999E-3},null,-3.2599999999999997E-2,0.1479,0.91039999999999999,null,null,-3.3221200000000027E-2,null,"SPHWW1HDNC28",null,null,null,null,null,null,null,"SPMWHT329FD3","MPL 3030","LM302B","White",70]
[null,null,{"$f":"BT1187","v":"LC040C-G2"},1.05,1.61,140,0.5,{"$f":"3.14*5.75*5.75","v":103.81625},85,null,null,null,null,null,null,"LED performances @mean/flux_rank","19.0x19.0x1.5 Φ11.5",null,null,null,null,null,null,null,null,null,null,null,null,null,null,{"$f":"C196","v":"LC020T Tunable COB"},null,null,null,null,null,null,null,null,null,null,null,null,null,null,null,null,null,null,null,null,null,null,null,null,null,null,null,null,null,null,null,null,null,null,null,null,null,null,null,null,null,70,4000,null,null,null,null,null,null,null,null,null,{"$f":"$BU$112*BW122","v":3256000},70,80,90,"-",227924070,"Flux : 31,32",{"$f":"AVERAGE(3429,3897)","v":3663},{"$f":"AVERAGE(3897,4365)","v":4131},"-","-","-","-","-","-","31 (3429-3897)","32 (3897-4365)","-","-","-","-","-","-",32.5,35.5,38.5,"-","-","-","-","Min (32.5)","Typ (35.5)","Max (38.5)","-","-","-","-",null,-0.28349999999999997,1.607,-0.01,null,null,{"$f":"DX112","v":-1.8666666666666669E-3},null,-3.2599999999999997E-2,0.1479,0.91039999999999999,null,null,-3.3221200000000027E-2,"Vf : Min.Typ.Max","SPHWW1HDNC23",null,null,null,null,null,null,null,"SPMWHT329FD5","MPL 3030","LM302B","White",80]
[null,null,{"$f":"BT1197","v":"LC003D_G1"},0.09,0.23,140,4.2,{"$f":"3.14*5.6*5.6","v":98.470399999999998},85,null,null,null,null,null,null,"LED performances @mean/flux_rank","13.5x13.5x1.5 Φ9.8",null,null,null,null,null,null,null,null,null,null,null,null,null,null,{"$f":"C197","v":"LC035T Tunable COB"},null,null,null,null,null,null,null,null,null,null,null,null,null,null,null,null,null,null,null,null,null,null,null,null,null,null,null,null,null,null,null,null,null,null,null,null,null,null,null,null,null,80,4000,null,null,null,null,null,null,null,null,null,null,null,null,null,null,260484080,"Flux : 28,29,30,31","-",{"$f":"AVERAGE(3080,3310)","v":3195},{"$f":"AVERAGE(3310,3540)","v":3425},{"$f":"AVERAGE(3540,3770)","v":3655},{"$f":"AVERAGE(3770,4000)","v":3885},{"$f":"AVERAGE(4000,4230)","v":4115},"-","-","-","28 (3080-3310)","29 (3310-3540)","30 (3540-3770)","31 (3770-4000)","32 (4000-4230)","-","-",32.5,35.5,38.5,"-","-","-","-","Min (32.5)","Typ (35.5)","Max (38.5)","-","-","-","-",null,-0.28349999999999997,1.607,-0.01,null,null,{"$f":"DX112","v":-1.8666666666666669E-3},null,-3.2599999999999997E-2,0.1479,0.91039999999999999,null,null,-3.3221200000000027E-2,"Vf : Min.Typ.Max","SPHWW1HDNC25",null,null,null,null,null,null,null,"SPMWHT329FD7","MPL 3030","LM302B","White",90]
[null,null,{"$f":"BT1208","v":"LC006D_G1"},0.18,0.46,140,2.4,{"$f":"3.14*5.6*5.6","v":98.470399999999998},85,null,null,null,null,null,null,"LED performances @mean/flux_rank","13.5x13.5x1.5 Φ9.8",null,null,null,null,null,null,null,null,null,null,null,null,null,null,"",null,null,null,null,null,null,null,null,null,null,null,null,null,null,null,null,null,null,null,null,null,null,null,null,null,null,null,null,null,null,null,null,null,null,null,null,null,null,null,null,null,90,4000,null,null,null,null,null,null,null,null,null,null,null,null,null,null,293044090,"Flux : 21,22,23,24",{"$f":"AVERAGE(2285,2535)","v":2410},{"$f":"AVERAGE(2535,2785)","v":2660},{"$f":"AVERAGE(2785,3035)","v":2910},{"$f":"AVERAGE(3035,3285)","v":3160},{"$f":"AVERAGE(3285,3615)","v":3450},"-","-","-","21 (2285-2535)","22 (2535-2785)","23 (2785-3035)","24 (3035-3285)","25 (3285-3615)","-","-","-",32.5,35.5,38.5,"-","-","-","-","Min (32.5)","Typ (35.5)","Max (38.5)","-","-","-","-",null,-0.28349999999999997,1.607,-0.01,null,null,{"$f":"DX113","v":-1.5999999999999999E-3},null,-3.2599999999999997E-2,0.1479,0.91039999999999999,null,null,-3.3221200000000027E-2,"Vf : Min.Typ.Max","SPHWW1HDNC27",null,null,null,null,null,null,null,"SPMWHT32BMD5","MPL 3030","LM302C","White",80]
[null,null,{"$f":"BT1219","v":"LC009D_G1"},0.27,0.69,140,1.7,{"$f":"3.14*5.6*5.6","v":98.470399999999998},85,null,null,null,null,null,null,"LED performances @mean/flux_rank","13.5x13.5x1.5 Φ9.8",null,null,null,null,null,null,null,null,null,null,null,null,null,null,"-",null,null,null,null,null,null,null,null,null,null,null,null,null,null,null,null,null,null,null,null,null,null,null,null,null,null,null,null,null,null,null,null,null,null,null,null,null,null,null,null,null,70,5000,null,null,null,null,null,null,null,null,null,{"$f":"$BU$112*BW125","v":4070000},70,80,"-","-",284905070,"Flux : 31,32",{"$f":"AVERAGE(3462,3934)","v":3698},{"$f":"AVERAGE(3934,4406)","v":4170},"-","-","-","-","-","-","31 (3462-3934)","32 (3934-4406)","-","-","-","-","-","-",32.5,35.5,38.5,"-","-","-","-","Min (32.5)","Typ (35.5)","Max (38.5)","-","-","-","-",null,-0.28349999999999997,1.607,-0.01,null,null,{"$f":"DX112","v":-1.8666666666666669E-3},null,-3.2599999999999997E-2,0.1479,0.91039999999999999,null,null,-3.3221200000000027E-2,"Vf : Min.Typ.Max","SPHCW1HDNC23",null,null,null,null,null,null,null,"SPMWH3326FD5","MPL 3030","LM302Z","White",80]
[null,null,{"$f":"BT1230","v":"LC013D_G1"},0.36,0.92,140,1.4,{"$f":"3.14*5.6*5.6","v":98.470399999999998},85,null,null,null,null,null,null,"LED performances @mean/flux_rank","13.5x13.5x1.5 Φ9.8",null,null,null,null,null,null,null,null,null,null,null,null,null,null,"-",null,null,null,null,null,null,null,null,null,null,null,null,null,null,null,null,null,null,null,null,null,null,null,null,null,null,null,null,null,null,null,null,null,null,null,null,null,null,null,null,null,80,5000,null,null,null,null,null,null,null,null,null,null,null,null,null,null,325605080,"Flux : 32,33,34,35",{"$f":"AVERAGE(3130,3360)","v":3245},{"$f":"AVERAGE(3360,3590)","v":3475},{"$f":"AVERAGE(3590,3820)","v":3705},{"$f":"AVERAGE(3820,4050)","v":3935},{"$f":"AVERAGE(4050,4280)","v":4165},"-","-","-","32 (3130-3360)","33 (3360-3590)","34 (3590-3820)","35 (3820-4050)","36 (4050-4280)","-","-","-",32.5,35.5,38.5,"-","-","-","-","Min (32.5)","Typ (35.5)","Max (38.5)","-","-","-","-",null,-0.28349999999999997,1.607,-0.01,null,null,{"$f":"DX112","v":-1.8666666666666669E-3},null,-3.2599999999999997E-2,0.1479,0.91039999999999999,null,null,-3.3221200000000027E-2,"Vf : Min.Typ.Max","SPHCW1HDNC25",null,null,null,null,null,null,null,"SPMWH3326MD5","MPL 3030","LM301Z","White",80]
[null,null,{"$f":"BT1241","v":"LC016D_G1"},0.45,1.1499999999999999,140,1.1000000000000001,{"$f":"8.5*8.5*3.14","v":226.86500000000001},85,null,null,null,null,null,null,"LED performances @mean/flux_rank","19.0x19.0x1.5 Φ15.5",null,null,null,null,null,null,null,null,null,null,null,null,null,null,"-",null,null,null,null,null,null,null,null,null,null,null,null,null,null,null,null,null,null,null,null,null,null,null,null,null,null,null,null,null,null,null,null,null,null,null,null,null,null,null,null,null,80,5700,null,null,null,null,null,null,null,null,null,{"$f":"$BU$112*BW127","v":4639800},80,"-","-","-",371189780,null,{"$f":"AVERAGE(3130,3360)","v":3245},{"$f":"AVERAGE(3360,3590)","v":3475},{"$f":"AVERAGE(3590,3820)","v":3705},{"$f":"AVERAGE(3820,4050)","v":3935},{"$f":"AVERAGE(4050,4280)","v":4165},"-","-","-","32 (3130-3360)","33 (3360-3590)","34 (3590-3820)","35 (3820-4050)","36 (4050-4280)","-","-","-",32.5,35.5,38.5,"-","-","-","-","Min (32.5)","Typ (35.5)","Max (38.5)","-","-","-","-",null,-0.28349999999999997,1.607,-0.01,null,null,{"$f":"DX112","v":-1.8666666666666669E-3},null,-3.2599999999999997E-2,0.1479,0.91039999999999999,null,null,{"$f":"EE126","v":-3.3221200000000027E-2},"Vf : Min.Typ.Max","SPHCW1HDNC25",null,null,null,null,null,null,null,"SPMWHT326LD5","MPL 3535","LM351A","White",80]
[null,null,{"$f":"BT1252","v":"LC019D_G1"},0.54,1.38,140,1,{"$f":"8.5*8.5*3.14","v":226.86500000000001},85,null,null,null,null,null,null,"LED performances @mean/flux_rank","19.0x19.0x1.5 Φ15.5",null,null,null,null,null,null,null,null,null,null,null,null,null,null,"-",null,null,null,null,null,null,null,null,null,null,null,null,null,null,null,null,null,null,null,null,null,null,null,null,null,null,null,null,null,null,null,null,null,null,null,null,null,null,null,"LC040B",815,80,2700,2700,3000,3500,4000,5000,5700,"-","-","-",{"$f":"$BU$128*BW128","v":2200500},80,90,95,"-",{"$f":"$BU$128*BV128*BW128+BV128+BW128","v":176042780},"Flux : 42,43,44,45","-",{"$f":"AVERAGE(4050,4400)","v":4225},{"$f":"AVERAGE(4400,4750)","v":4575},{"$f":"AVERAGE(4750,5100)","v":4925},{"$f":"AVERAGE(5100,5450)","v":5275},{"$f":"AVERAGE(5450,5800)","v":5625},"-","-","-","42 (4050-4400)","43 (4400-4750)","44 (4750-5100)","45 (5100-5450)","46 (5450-5800)","-","-",32.5,35.5,38.5,"-","-","-","-","Min (32.5)","Typ (35.5)","Max (38.5)","-","-","-","-",null,-8.2600000000000007E-2,1.0033000000000001,1.2999999999999999E-2,null,null,-1.7333333333333335E-3,null,-1E-14,8.6599999999999996E-2,0.90649999999999997,null,null,-3.162533333333338E-2,"Vf : Min.Typ.Max","SPHWW1HDNE25",null,null,null,null,null,null,null,"SPMWHT325AD3","MPL 3623","LM362A","White",68]
[null,null,{"$f":"BT1263","v":"LC026D_G1"},0.72,1.84,140,1,{"$f":"8.5*8.5*3.14","v":226.86500000000001},85,null,null,null,null,null,null,"LED performances @mean/flux_rank","19.0x19.0x1.5 Φ15.5",null,null,null,null,null,null,null,null,null,null,null,null,null,null,"-",null,null,null,null,null,null,null,null,null,null,null,null,null,null,null,null,null,null,null,null,null,null,null,null,null,null,null,null,null,null,null,null,null,null,null,null,null,null,null,null,null,90,2700,null,null,null,null,null,null,null,null,null,null,null,null,null,null,198047790,"Flux : 41,42,43,44","-",{"$f":"AVERAGE(3465,3795)","v":3630},{"$f":"AVERAGE(3795,4126)","v":3960.5},{"$f":"AVERAGE(4126,4456)","v":4291},{"$f":"AVERAGE(4456,4906)","v":4681},"-","-","-","-","42 (3465-3795)","43 (3795-4126)","44 (4126-4456)","45 (4456-4906)","-","-","-",32.5,35.5,38.5,"-","-","-","-","Min (32.5)","Typ (35.5)","Max (38.5)","-","-","-","-",null,{"$f":"DS128","v":-8.2600000000000007E-2},{"$f":"DT128","v":1.0033000000000001},{"$f":"DU128","v":1.2999999999999999E-2},null,null,-1.1999999999999997E-3,null,{"$f":"DZ128","v":-1E-14},8.6599999999999996E-2,0.90649999999999997,null,null,{"$f":"EE128","v":-3.162533333333338E-2},"Vf : Min.Typ.Max","SPHWW1HDNE27",null,null,null,null,null,null,null,"SPMWHT325AD5","MPL 3623","LM362A","White",80]
[null,null,{"$f":"BT1274","v":"LC040D_G1"},1.08,2.76,140,0.8,{"$f":"12.25*12.25*3.14","v":471.19625000000002},85,null,null,null,null,null,null,"LED performances @mean/flux_rank","28.0x28.0x1.5 Φ23.0",null,null,null,null,null,null,null,null,null,null,null,null,null,null,"-",null,null,null,null,null,null,null,null,null,null,null,null,null,null,null,null,null,null,null,null,null,null,null,null,null,null,null,null,null,null,null,null,null,null,null,null,null,null,null,null,null,95,2700,null,null,null,null,null,null,null,null,null,null,null,null,null,null,209050295,null,{"$f":"AVERAGE(3394,3771)","v":3582.5},{"$f":"AVERAGE(3771,4148)","v":3959.5},"-","-","-","-","-","-","31 (3394-3771)","32 (3771-4148)","-","-","-","-","-","-",32.5,35.5,38.5,"-","-","-","-","Min (32.5)","Typ (35.5)","Max (38.5)","-","-","-","-",null,{"$f":"DS129","v":-8.2600000000000007E-2},1.0033000000000001,1.2999999999999999E-2,null,null,{"$f":"DX129","v":-1.1999999999999997E-3},null,-1E-14,8.6599999999999996E-2,0.90649999999999997,null,null,-3.162533333333338E-2,null,"SPHWW1HDNE28",null,null,null,null,null,null,null,"SPMWHT325AD7","MPL 3623","LM362A","White",90]
[null,null,{"$f":"BT1285","v":"LC060D_G1"},1.08,2.76,140,0.5,{"$f":"12.25*12.25*3.14","v":471.19625000000002},85,null,null,null,null,null,null,"LED performances @mean/flux_rank","28.0x28.0x1.5 Φ24.5",null,null,null,null,null,null,null,null,null,null,null,null,null,null,"-",null,null,null,null,null,null,null,null,null,null,null,null,null,null,null,null,null,null,null,null,null,null,null,null,null,null,null,null,null,null,null,null,null,null,null,null,null,null,"",null,null,70,3000,null,null,null,null,null,null,null,null,null,{"$f":"$BU$128*BW131","v":2445000},70,80,90,95,171153070,"Flux : 41,42",{"$f":"AVERAGE(4776,5428)","v":5102},{"$f":"AVERAGE(5428,6079)","v":5753.5},"-","-","-","-","-","-","41 (4776-5428)","42 (5428-6079)","-","-","-","-","-","-",32.5,35.5,38.5,"-","-","-","-","Min (32.5)","Typ (35.5)","Max (38.5)","-","-","-","-",null,-8.2600000000000007E-2,1.0033000000000001,1.2999999999999999E-2,null,null,{"$f":"DX128","v":-1.7333333333333335E-3},null,-1E-14,8.6599999999999996E-2,0.90649999999999997,null,null,-3.162533333333338E-2,"Vf : Min.Typ.Max","SPHWW1HDNE23",null,null,null,null,null,null,null,"SPMWHT325AP4","MPL 3623","LM362A","White",80,"pana"]
[null,null,{"$f":"BT1295","v":"LC080D_G1"},1.62,4.1399999999999997,140,0.5,{"$f":"12.25*12.25*3.14","v":471.19625000000002},85,null,null,null,null,null,null,"LED performances @mean/flux_rank","28.0x28.0x1.5 Φ24.5",null,null,null,null,null,null,null,null,null,null,null,null,null,null,"-",null,null,null,null,null,null,null,null,null,null,null,null,null,null,null,null,null,null,null,null,null,null,null,null,null,null,null,null,null,null,null,null,null,null,null,null,null,null,"",null,null,80,3000,null,null,null,null,null,null,null,null,null,null,null,null,null,null,195603080,"Flux : 42,43,44,45","-",{"$f":"AVERAGE(4175,4535)","v":4355},{"$f":"AVERAGE(4535,4895)","v":4715},{"$f":"AVERAGE(4895,5255)","v":5075},{"$f":"AVERAGE(5255,5615)","v":5435},{"$f":"AVERAGE(5615,5975)","v":5795},"-","-","-","42 (4175-4535)","43 (4535-4895)","44 (4895-5255)","45 (5255-5615)","46 (5615-5975)","-","-",32.5,35.5,38.5,"-","-","-","-","Min (32.5)","Typ (35.5)","Max (38.5)","-","-","-","-",null,-8.2600000000000007E-2,1.0033000000000001,1.2999999999999999E-2,null,null,{"$f":"DX128","v":-1.7333333333333335E-3},null,-1E-14,8.6599999999999996E-2,0.90649999999999997,null,null,-3.162533333333338E-2,"Vf : Min.Typ.Max","SPHWW1HDNE25",null,null,null,null,null,null,null,"SPMWHT325AP5","MPL 3623","LM362A","White",80,"pana"]
[null,null,{"$f":"BT1305","v":"LC003D_G2"},0.09,0.23,150,2.56,{"$f":"3.14*5.6*5.6","v":98.470399999999998},85,null,null,null,null,null,null,"LED performances @mean/flux_rank","13.5x13.5x1.5 Φ9.8",null,null,null,null,null,null,null,null,null,null,null,null,null,null,"-",null,null,null,null,null,null,null,null,null,null,null,null,null,null,null,null,null,null,null,null,null,null,null,null,null,null,null,null,null,null,null,null,null,null,null,null,null,null,"",null,null,90,3000,null,null,null,null,null,null,null,null,null,null,null,null,null,null,220053090,"Flux : 41,42,43,44","-",{"$f":"AVERAGE(3536,3873)","v":3704.5},{"$f":"AVERAGE(3873,4120)","v":3996.5},{"$f":"AVERAGE(4120,4546)","v":4333},{"$f":"AVERAGE(4546,4996)","v":4771},"-","-","-","-","42 (3536-3873)","43 (3873-4120)","44 (4120-4546)","45 (4546-4996)","-","-","-",32.5,35.5,38.5,"-","-","-","-","Min (32.5)","Typ (35.5)","Max (38.5)","-","-","-","-",null,-8.2600000000000007E-2,1.0033000000000001,1.2999999999999999E-2,null,null,{"$f":"DX129","v":-1.1999999999999997E-3},null,-1E-14,8.6599999999999996E-2,0.90649999999999997,null,null,-3.162533333333338E-2,"Vf : Min.Typ.Max","SPHWW1HDNE27",null,null,null,null,null,null,null,"SPMWHT5225D5","MPL 5630","LM561A","White",80]
[null,null,{"$f":"BT1317","v":"LC006D_G2"},0.18,0.46,150,1.48,{"$f":"3.14*5.6*5.6","v":98.470399999999998},85,null,null,null,null,null,null,"LED performances @mean/flux_rank","13.5x13.5x1.5 Φ9.8",null,null,null,null,null,null,null,null,null,null,null,null,null,null,"-",null,null,null,null,null,null,null,null,null,null,null,null,null,null,null,null,null,null,null,null,null,null,null,null,null,null,null,null,null,null,null,null,null,null,null,null,null,null,"",null,null,95,3000,null,null,null,null,null,null,null,null,null,null,null,null,null,null,232278095,null,{"$f":"AVERAGE(3499,3888)","v":3693.5},{"$f":"AVERAGE(3888,4276)","v":4082},"-","-","-","-","-","-","31 (3499-3888)","32 (3888-4276)","-","-","-","-","-","-",32.5,35.5,38.5,"-","-","-","-","Min (32.5)","Typ (35.5)","Max (38.5)","-","-","-","-",null,-8.2600000000000007E-2,1.0033000000000001,1.2999999999999999E-2,null,null,{"$f":"DX129","v":-1.1999999999999997E-3},null,-1E-14,8.6599999999999996E-2,0.90649999999999997,null,null,-3.162533333333338E-2,null,"SPHWW1HDNE28",null,null,null,null,null,null,null,"SPMWHT541MD5","MPL 5630","LM561B","White",80]
[null,null,{"$f":"BT1329","v":"LC009D_G2"},0.27,0.69,150,0.99,{"$f":"3.14*5.6*5.6","v":98.470399999999998},85,null,null,null,null,null,null,"LED performances @mean/flux_rank","13.5x13.5x1.5 Φ9.8",null,null,null,null,null,null,null,null,null,null,null,null,null,null,"-",null,null,null,null,null,null,null,null,null,null,null,null,null,null,null,null,null,null,null,null,null,null,null,null,null,null,null,null,null,null,null,null,null,null,null,null,null,null,"",null,null,80,3500,null,null,null,null,null,null,null,null,null,{"$f":"$BU$128*BW135","v":2852500},80,90,95,"-",228203580,"Flux : 42,43,44,45","-",{"$f":"AVERAGE(4340,4720)","v":4530},{"$f":"AVERAGE(4720,5100)","v":4910},{"$f":"AVERAGE(5100,5480)","v":5290},{"$f":"AVERAGE(5480,5860)","v":5670},"-","-","-","-","42 (4340-4720)","43 (4720-5100)","44 (5100-5480)","45 (5480-5860)","-","-","-",32.5,35.5,38.5,"-","-","-","-","Min (32.5)","Typ (35.5)","Max (38.5)","-","-","-","-",null,-8.2600000000000007E-2,1.0033000000000001,1.2999999999999999E-2,null,null,{"$f":"DX128","v":-1.7333333333333335E-3},null,-1E-14,8.6599999999999996E-2,0.90649999999999997,null,null,-3.162533333333338E-2,"Vf : Min.Typ.Max","SPHWW1HDNE25",null,null,null,null,null,null,null,"SPMWHT541MD7","MPL 5630","LM561B","White",90]
[null,null,{"$f":"BT1344","v":"LC013D_G2"},0.36,0.92,150,0.85,{"$f":"3.14*5.6*5.6","v":98.470399999999998},85,null,null,null,null,null,null,"LED performances @mean/flux_rank","13.5x13.5x1.5 Φ9.8","Ra95+",null,null,null,null,null,null,null,null,null,null,null,null,null,"-",null,null,null,null,null,null,null,null,null,null,null,null,null,null,null,null,null,null,null,null,null,null,null,null,null,null,null,null,null,null,null,null,null,null,null,null,null,null,null,null,null,90,3500,null,null,null,null,null,null,null,null,null,null,null,null,null,null,256728590,"Flux : 41,42,43,44","-",{"$f":"AVERAGE(3642,3989)","v":3815.5},{"$f":"AVERAGE(3989,4336)","v":4162.5},{"$f":"AVERAGE(4336,4683)","v":4509.5},{"$f":"AVERAGE(4683,5133)","v":4908},"-","-","-","-","42 (3642-3989)","43 (3989-4336)","44 (4336-4683)","45 (4683-5133)","-","-","-",32.5,35.5,38.5,"-","-","-","-","Min (32.5)","Typ (35.5)","Max (38.5)","-","-","-","-",null,{"$f":"DS135","v":-8.2600000000000007E-2},{"$f":"DT135","v":1.0033000000000001},{"$f":"DU135","v":1.2999999999999999E-2},null,null,{"$f":"DX129","v":-1.1999999999999997E-3},null,{"$f":"DZ135","v":-1E-14},{"$f":"EA135","v":8.6599999999999996E-2},{"$f":"EB135","v":0.90649999999999997},null,null,{"$f":"EE135","v":-3.162533333333338E-2},"Vf : Min.Typ.Max","SPHWW1HDNE27",null,null,null,null,null,null,null,"SPMWHT541ME5","MPL 5630","LM561B","White ErP",80]
[null,null,{"$f":"BT1363","v":"LC016D_G2"},0.45,1.1499999999999999,150,0.67,{"$f":"8.5*8.5*3.14","v":226.86500000000001},85,null,null,null,null,null,null,"LED performances @mean/flux_rank","19.0x19.0x1.5 Φ15.5","Ra95+",null,null,null,null,null,null,null,null,null,null,null,null,null,"-",null,null,null,null,null,null,null,null,null,null,null,null,null,null,null,null,null,null,null,null,null,null,null,null,null,null,null,null,null,null,null,null,null,null,null,null,null,null,null,null,null,95,3500,null,null,null,null,null,null,null,null,null,null,null,null,null,null,270991095,null,{"$f":"AVERAGE(3604,4004)","v":3804},{"$f":"AVERAGE(4004,4405)","v":4204.5},"-","-","-","-","-","-","31 (3604-4004)","32 (4004-4405)","-","-","-","-","-","-",32.5,35.5,38.5,"-","-","-","-","Min (32.5)","Typ (35.5)","Max (38.5)","-","-","-","-",null,-8.2600000000000007E-2,1.0033000000000001,1.2999999999999999E-2,null,null,{"$f":"DX129","v":-1.1999999999999997E-3},null,-1E-14,8.6599999999999996E-2,0.90649999999999997,null,null,{"$f":"EE136","v":-3.162533333333338E-2},null,"SPHWW1HDNE28",null,null,null,null,null,null,null,"SPMWHT5492D5","MPL 5630","LM566B","White",80]
[null,null,{"$f":"BT1382","v":"LC019D_G2"},0.54,1.38,150,0.6,{"$f":"8.5*8.5*3.14","v":226.86500000000001},85,null,null,null,null,null,null,"LED performances @mean/flux_rank","19.0x19.0x1.5 Φ15.5","Ra95+",null,null,null,null,null,null,null,null,null,null,null,null,null,"-",null,null,null,null,null,null,null,null,null,null,null,null,null,null,null,null,null,null,null,null,null,null,null,null,null,null,null,null,null,null,null,null,null,null,null,null,null,null,null,null,null,70,4000,null,null,null,null,null,null,null,null,null,{"$f":"$BU$128*BW138","v":3260000},70,80,90,"-",228204070,"Flux : 41,42",{"$f":"AVERAGE(5063,5753)","v":5408},{"$f":"AVERAGE(5753,6444)","v":6098.5},"-","-","-","-","-","-","41 (5063-5753)","42 (5753-6444)","-","-","-","-","-","-",32.5,35.5,38.5,"-","-","-","-","Min (32.5)","Typ (35.5)","Max (38.5)","-","-","-","-",null,-8.2600000000000007E-2,1.0033000000000001,1.2999999999999999E-2,null,null,{"$f":"DX128","v":-1.7333333333333335E-3},null,-1E-14,8.6599999999999996E-2,0.90649999999999997,null,null,-3.162533333333338E-2,"Vf : Min.Typ.Max","SPHWW1HDNE23",null,null,null,null,null,null,null,"SPMWHT541ML3","MPL 5630","LM561C","White",70]
[null,null,{"$f":"BT1401","v":"LC026D_G2"},0.72,1.84,150,0.47,{"$f":"8.5*8.5*3.14","v":226.86500000000001},85,null,null,null,null,null,null,"LED performances @mean/flux_rank","19.0x19.0x1.5 Φ15.5","Ra95+",null,null,null,null,null,null,null,null,null,null,null,null,null,"-",null,null,null,null,null,null,null,null,null,null,null,null,null,null,null,null,null,null,null,null,null,null,null,null,null,null,null,null,null,null,null,null,null,null,null,null,null,null,null,null,null,80,4000,null,null,null,null,null,null,null,null,null,null,null,null,null,null,260804080,"Flux : 42,43,44,45","-",{"$f":"AVERAGE(4465,4855)","v":4660},{"$f":"AVERAGE(4855,5245)","v":5050},{"$f":"AVERAGE(5245,5635)","v":5440},{"$f":"AVERAGE(5635,6025)","v":5830},"-","-","-","-","42 (4465-4855)","43 (4855-5245)","44 (5245-5635)","45 (5635-6025)","-","-","-",32.5,35.5,38.5,"-","-","-","-","Min (32.5)","Typ (35.5)","Max (38.5)","-","-","-","-",null,-8.2600000000000007E-2,1.0033000000000001,1.2999999999999999E-2,null,null,{"$f":"DX128","v":-1.7333333333333335E-3},null,-1E-14,8.6599999999999996E-2,0.90649999999999997,null,null,-3.162533333333338E-2,"Vf : Min.Typ.Max","SPHWW1HDNE25",null,null,null,null,null,null,null,"SPMWHT541ML5","MPL 5630","LM561C","White",80]
[null,null,{"$f":"BT1420","v":"LC033D_G2"},0.9,2.2999999999999998,150,0.4,{"$f":"8.5*8.5*3.14","v":226.86500000000001},85,null,null,null,null,null,null,"LED performances @mean/flux_rank","19.0x19.0x1.5 Φ15.5","Ra95+",null,null,null,null,null,null,null,null,null,null,null,null,null,"-",null,null,null,null,null,null,null,null,null,null,null,null,null,null,null,null,null,null,null,null,null,null,null,null,null,null,null,null,null,null,null,null,null,null,null,null,null,null,null,null,null,90,4000,null,null,null,null,null,null,null,null,null,null,null,null,null,null,293404090,"Flux : 41,42,43,44","-",{"$f":"AVERAGE(3748,4105)","v":3926.5},{"$f":"AVERAGE(4105,4462)","v":4283.5},{"$f":"AVERAGE(4462,4819)","v":4640.5},{"$f":"AVERAGE(4819,5269)","v":5044},"-","-","-","-","42 (3748-4105)","43 (4105-4462)","44 (4462-4819)","45 (4819-5269)","-","-","-",32.5,35.5,38.5,"-","-","-","-","Min (32.5)","Typ (35.5)","Max (38.5)","-","-","-","-",null,-8.2600000000000007E-2,1.0033000000000001,1.2999999999999999E-2,null,null,{"$f":"DX129","v":-1.1999999999999997E-3},null,-1E-14,8.6599999999999996E-2,0.90649999999999997,null,null,-3.162533333333338E-2,"Vf : Min.Typ.Max","SPHWW1HDNE27",null,null,null,null,null,null,null,"SPMWHT541ML7","MPL 5630","LM561C","White",90]
[null,null,{"$f":"BT1439","v":"LC040D_G2"},1.08,2.76,150,0.32,{"$f":"12.25*12.25*3.14","v":471.19625000000002},85,null,null,null,null,null,null,"LED performances @mean/flux_rank","28.0x28.0x1.5 Φ23.0","Ra95+",null,null,null,null,null,null,null,null,null,null,null,null,null,"-",null,null,null,null,null,null,null,null,null,null,null,null,null,null,null,null,null,null,null,null,null,null,null,null,null,null,null,null,null,null,null,null,null,null,null,null,null,null,null,null,null,70,5000,null,null,null,null,null,null,null,null,null,{"$f":"$BU$128*BW141","v":4075000},70,80,"-","-",285255070,"Flux : 41,42",{"$f":"AVERAGE(5111,5808)","v":5459.5},{"$f":"AVERAGE(5808,6505)","v":6156.5},"-","-","-","-","-","-","51 (5111-5808)","52 (5808-6505)","-","-","-","-","-","-",32.5,35.5,38.5,"-","-","-","-","Min (32.5)","Typ (35.5)","Max (38.5)","-","-","-","-",null,-8.2600000000000007E-2,1.0033000000000001,1.2999999999999999E-2,null,null,{"$f":"DX128","v":-1.7333333333333335E-3},null,-1E-14,8.6599999999999996E-2,0.90649999999999997,null,null,-3.162533333333338E-2,"Vf : Min.Typ.Max","SPHCW1HDNE23",null,null,null,null,null,null,null,"SPMWHT541MP3","MPL 5630","LM561B+","White",70]
[null,null,{"$f":"BT1458","v":"LC060D_G2"},1.08,2.76,150,0.24,{"$f":"12.25*12.25*3.14","v":471.19625000000002},85,null,null,null,null,null,null,"LED performances @mean/flux_rank","28.0x28.0x1.5 Φ24.5",null,null,null,null,null,null,null,null,null,null,null,null,null,null,"-",null,null,null,null,null,null,null,null,null,null,null,null,null,null,null,null,null,null,null,null,null,null,null,null,null,null,null,null,null,null,null,null,null,null,null,null,null,null,null,null,null,80,5000,null,null,null,null,null,null,null,null,null,null,null,null,null,null,326005080,"Flux : 42,43,44,45","-",{"$f":"AVERAGE(4505,4900)","v":4702.5},{"$f":"AVERAGE(4900,5295)","v":5097.5},{"$f":"AVERAGE(5295,5690)","v":5492.5},{"$f":"AVERAGE(5690,6085)","v":5887.5},"-","-","-","-","42 (4505-4900)","43 (4900-5295)","44 (5295-5690)","45 (5690-6085)","-","-","-",32.5,35.5,38.5,"-","-","-","-","Min (32.5)","Typ (35.5)","Max (38.5)","-","-","-","-",null,-8.2600000000000007E-2,1.0033000000000001,1.2999999999999999E-2,null,null,{"$f":"DX128","v":-1.7333333333333335E-3},null,-1E-14,8.6599999999999996E-2,0.90649999999999997,null,null,-3.162533333333338E-2,"Vf : Min.Typ.Max","SPHCW1HDNE25",null,null,null,null,null,null,null,"SPMWHT541MP5","MPL 5630","LM561B+","White",80]
[null,null,{"$f":"BT1473","v":"LC080D_G2"},1.62,4.1399999999999997,150,0.16,{"$f":"12.25*12.25*3.14","v":471.19625000000002},85,null,null,null,null,null,null,"LED performances @mean/flux_rank","28.0x28.0x1.5 Φ24.5",null,null,null,null,null,null,null,null,null,null,null,null,null,null,"-",null,null,null,null,null,null,null,null,null,null,null,null,null,null,null,null,null,null,null,null,null,null,null,null,null,null,null,null,null,null,null,null,null,null,null,null,null,null,null,null,null,80,5700,null,null,null,null,null,null,null,null,null,{"$f":"$BU$128*BW143","v":4645500},80,"-","-","-",371645780,null,"-",{"$f":"AVERAGE(4505,4900)","v":4702.5},{"$f":"AVERAGE(4900,5295)","v":5097.5},{"$f":"AVERAGE(5295,5690)","v":5492.5},{"$f":"AVERAGE(5690,6085)","v":5887.5},"-","-","-","-","42 (4505-4900)","43 (4900-5295)","55 (5295-5690)","45 (5690-6085)","-","-","-",32.5,35.5,38.5,"-","-","-","-","Min (32.5)","Typ (35.5)","Max (38.5)","-","-","-","-",null,{"$f":"DS142","v":-8.2600000000000007E-2},1.0033000000000001,1.2999999999999999E-2,null,null,{"$f":"DX128","v":-1.7333333333333335E-3},null,-1E-14,8.6599999999999996E-2,0.90649999999999997,null,null,{"$f":"EE142","v":-3.162533333333338E-2},null,"SPHCW1HDNE25",null,null,null,null,null,null,null,"SPMWHT541MP7","MPL 5630","LM561B+","White",90]
[null,null,{"$f":"BT1489","v":"LC003D_G2 plus(17V)"},0.18,0.36,150,2.56,9.7999999999999989,85,null,null,null,null,null,85,"LED performances @mean/flux_rank",null,"@3000K","'20.11.12",null,null,null,null,null,null,null,null,null,null,null,null,"-",null,null,null,null,null,null,null,null,null,null,null,null,null,null,null,null,null,null,null,null,null,null,null,null,null,null,null,null,null,null,null,null,null,null,null,null,null,null,null,"LH351B",354,70,2200,2200,2700,3000,3500,4000,5000,5700,6000,6500,{"$f":"$BU$144*BW144","v":778800},70,80,"-","-",{"$f":"$BU$144*BV144*BW144+BV144+BW144","v":54518270},null,135,145,155,null,null,"-","-","-","K1 (130-140)","M1 (140-150)","N1 (150-160)",null,null,"-","-","-",2.65,2.9,"-","-","-","-","-","D2 (2.5-2.8)","F2 (2.8-3.0)","-","-","-","-","-",0.14180000000000001,-0.78849999999999998,3.0956000000000001,7.1000000000000004E-3,null,-1.2999999999999999E-3,-1.1999999999999999E-3,6.7400000000000002E-2,-0.1794,0.26179999999999998,0.92749999999999999,null,null,-1.6000000000000014E-3,"-","SPHWH2L3D30C",null,null,null,null,null,null,null,"SPMWHT328FD3","MPL 3030","LM301A","White",70]
[null,null,{"$f":"BT1501","v":"LC003D_G2 plus(34V)"},0.09,0.18,150,2.56,9.7999999999999989,85,null,null,null,null,null,85,"LED performances @mean/flux_rank",null,"@3000K","'20.11.12",null,null,null,null,null,null,null,null,null,null,null,null,"-",null,null,null,null,null,null,null,null,null,null,null,null,null,null,null,null,null,null,null,null,null,null,null,null,null,null,null,null,null,null,null,null,null,null,null,null,null,null,null,null,null,80,2200,"-","-","-","-","-","-","-","-","-",{"$f":"$BU$144*BW145","v":778800},"-","-","-","-",{"$f":"$BU$144*BV145*BW145+BV145+BW145","v":62306280},null,105,115,125,"-","-","-","-","-","G1 (100-110)","H1 (110-120)","J1 (120-130)","-","-","-","-","-",2.65,2.9,"-","-","-","-","-","D2 (2.5-2.8)","F2 (2.8-3.0)","-","-","-","-","-",0.14180000000000001,-0.78849999999999998,3.0956000000000001,7.1000000000000004E-3,null,-1.2999999999999999E-3,-1.1999999999999999E-3,6.7400000000000002E-2,-0.1794,0.26179999999999998,0.92749999999999999,null,null,-1.6000000000000014E-3,"-","SPHWH2L3D30E",null,null,null,null,null,null,null,"SPMWHT328FD5","MPL 3030","LM301A","White",80]
[null,null,{"$f":"BT1513","v":"LC006D_G2 plus"},0.18,0.36,150,1.48,9.7999999999999989,85,null,null,null,null,null,85,"LED performances @mean/flux_rank",null,"@3000K","'20.11.12",null,null,null,null,null,null,null,null,null,null,null,null,"-",null,null,null,null,null,null,null,null,null,null,null,null,null,null,null,null,null,null,null,null,null,null,null,null,null,null,null,null,null,null,null,null,null,null,null,null,null,null,null,null,null,70,2700,"-","-","-","-","-","-","-","-","-",955800,70,75,80,90,66908770,null,135,145,155,165,175,"-","-","-","K1 (130-140)","M1 (140-150)","N1 (150-160)","P1 (160-170)","Q1 (170-180)","-","-","-",2.65,2.9,"-","-","-","-","-","D2 (2.5-2.8)","F2 (2.8-3.0)","-","-","-","-","-",0.14180000000000001,-0.78849999999999998,3.0956000000000001,7.1000000000000004E-3,null,-1.2999999999999999E-3,-1.1999999999999999E-3,6.7400000000000002E-2,-0.1794,0.26179999999999998,0.92749999999999999,null,null,-1.6000000000000014E-3,"-","SPHWH2L3D30C",null,null,null,null,null,null,null,"SPMWHT328FD7","MPL 3030","LM301A","White",90]
[null,null,{"$f":"BT1525","v":"LC009D_G2 plus"},0.27,0.54,150,0.99,9.7999999999999989,85,null,null,null,null,null,85,"LED performances @mean/flux_rank",null,"@3000K","'20.11.12",null,null,null,null,null,null,null,null,null,null,null,null,null,null,null,null,null,null,null,null,null,null,null,null,null,null,null,null,null,null,null,null,null,null,null,null,null,null,null,null,null,null,null,null,null,null,null,null,null,null,null,null,null,null,75,2700,"-","-","-","-","-","-","-","-","-",955800,"-","-","-","-",71687775,null,135,145,155,165,175,"-","-","-","K1 (130-140)","M1 (140-150)","N1 (150-160)","P1 (160-170)","Q1 (170-180)","-","-","-",2.65,2.9,"-","-","-","-","-","D2 (2.5-2.8)","F2 (2.8-3.0)","-","-","-","-","-",0.14180000000000001,-0.78849999999999998,3.0956000000000001,7.1000000000000004E-3,null,-1.2999999999999999E-3,-1.1999999999999999E-3,6.7400000000000002E-2,-0.1794,0.26179999999999998,0.92749999999999999,null,null,-1.6000000000000014E-3,"-","SPHWH2L3D30D",null,null,null,null,null,null,null,"SPMWHD32AMD3","MPL 3030","LM301B","White",70]
[null,null,{"$f":"BT1540","v":"LC013D_G2 plus"},0.36,0.72,150,0.85,9.7999999999999989,85,null,null,null,null,null,85,"LED performances @mean/flux_rank",null,"@3000K","'20.11.12",null,null,null,null,null,null,null,null,null,null,null,null,null,null,null,null,null,null,null,null,null,null,null,null,null,null,null,null,null,null,null,null,null,null,null,null,null,null,null,null,null,null,null,null,null,null,null,null,null,null,null,null,null,null,80,2700,"-","-","-","-","-","-","-","-","-",955800,"-","-","-","-",76466780,null,125,135,145,155,"-","-","-","-","J1 (120-130)","K1 (130-140)","M1 (140-150)","N1 (150-160)","-","-","-","-",2.65,2.9,"-","-","-","-","-","D2 (2.5-2.8)","F2 (2.8-3.0)","-","-","-","-","-",0.14180000000000001,-0.78849999999999998,3.0956000000000001,7.1000000000000004E-3,null,-1.2999999999999999E-3,-1.1999999999999999E-3,6.7400000000000002E-2,-0.1794,0.26179999999999998,0.92749999999999999,null,null,-1.6000000000000014E-3,"-","SPHWH2L3D30E",null,null,null,null,null,null,null,"SPMWHD32AMD5","MPL 3030","LM301B","White",80]
[null,null,{"$f":"BT1555","v":"LC016D_G2 plus"},0.45,0.9,150,0.67,14.5,85,null,null,null,null,null,85,"LED performances @mean/flux_rank",null,"@3000K","'20.11.12",null,null,null,null,null,null,null,null,null,null,null,null,null,null,null,null,null,null,null,null,null,null,null,null,null,null,null,null,null,null,null,null,null,null,null,null,null,null,null,null,null,null,null,null,null,null,null,null,null,null,null,null,null,null,90,2700,"-","-","-","-","-","-","-","-","-",955800,"-","-","-","-",86024790,null,95,105,115,125,null,"-","-","-","F1 (90-100)","G1 (100-110)","H1 (110-120)","J1 (120-130)","-","-","-","-",2.65,2.9,"-","-","-","-","-","D2 (2.5-2.8)","F2 (2.8-3.0)","-","-","-","-","-",0.14180000000000001,-0.78849999999999998,3.0956000000000001,7.1000000000000004E-3,null,-1.2999999999999999E-3,-1.1999999999999999E-3,6.7400000000000002E-2,-0.1794,0.26179999999999998,0.92749999999999999,null,null,-1.6000000000000014E-3,"-","SPHWH2L3D30G",null,null,null,null,null,null,null,"SPMWHD32AMD7","MPL 3030","LM301B","White",90]
[null,null,{"$f":"BT1570","v":"LC019D_G2 plus"},0.54,1.08,150,0.6,14.5,85,null,null,null,null,null,85,"LED performances @mean/flux_rank",null,"@3000K","'20.11.12",null,null,null,null,null,null,null,null,null,null,null,null,null,null,null,null,null,null,null,null,null,null,null,null,null,null,null,null,null,null,null,null,null,null,null,null,null,null,null,null,null,null,null,null,null,null,null,null,null,null,null,null,null,null,70,3000,"-","-","-","-","-","-","-","-","-",1062000,70,75,80,90,74343070,null,145,155,165,175,175,"-","-","-","M1 (140-150)","N1 (150-160)","P1 (160-170)","Q1 (170-180)","Q1 (170-180)","-","-","-",2.65,2.9,"-","-","-","-","-","D2 (2.5-2.8)","F2 (2.8-3.0)","-","-","-","-","-",0.14180000000000001,-0.78849999999999998,3.0956000000000001,7.1000000000000004E-3,null,-1.2999999999999999E-3,-1.1999999999999999E-3,6.7400000000000002E-2,-0.1794,0.26179999999999998,0.92749999999999999,null,null,-1.6000000000000014E-3,"-","SPHWH2L3D30C",null,null,null,null,null,null,null,"SCS7VT78EPL1","CSP 1212","LM101A","3000K",70]
[null,null,{"$f":"BT1585","v":"LC026D_G2 plus"},0.72,1.44,150,0.47,14.5,85,null,null,null,null,null,85,"LED performances @mean/flux_rank",null,"@3000K","'20.11.12",null,null,null,null,null,null,null,null,null,null,null,null,null,null,null,null,null,null,null,null,null,null,null,null,null,null,null,null,null,null,null,null,null,null,null,null,null,null,null,null,null,null,null,null,null,null,null,null,null,null,null,null,null,null,75,3000,"-","-","-","-","-","-","-","-","-",1062000,"-","-","-","-",79653075,null,145,155,165,175,"-","-","-","-","M1 (140-150)","N1 (150-160)","P1 (160-170)","Q1 (170-180)","-","-","-","-",2.65,2.9,"-","-","-","-","-","D2 (2.5-2.8)","F2 (2.8-3.0)","-","-","-","-","-",0.14180000000000001,-0.78849999999999998,3.0956000000000001,7.1000000000000004E-3,null,-1.2999999999999999E-3,-1.1999999999999999E-3,6.7400000000000002E-2,-0.1794,0.26179999999999998,0.92749999999999999,null,null,-1.6000000000000014E-3,"-","SPHWH2L3D30D",null,null,null,null,null,null,null,"SCS7UT78EPL1","CSP 1212","LM101A","3500K",70]
[null,null,{"$f":"BT1600","v":"LC033D_G2 plus"},0.9,1.8,150,0.4,14.5,85,null,null,null,null,null,85,"LED performances @mean/flux_rank",null,"@3000K","'20.11.12",null,null,null,null,null,null,null,null,null,null,null,null,null,null,null,null,null,null,null,null,null,null,null,null,null,null,null,null,null,null,null,null,null,null,null,null,null,null,null,null,null,null,null,null,null,null,null,null,null,null,null,null,null,null,80,3000,"-","-","-","-","-","-","-","-","-",1062000,"-","-","-","-",84963080,null,125,135,145,155,165,"-","-","-","J1 (120-130)","K1 (130-140)","M1 (140-150)","N1 (150-160)","P1 (160-170)","-","-","-",2.65,2.9,"-","-","-","-","-","D2 (2.5-2.8)","F2 (2.8-3.0)","-","-","-","-","-",0.14180000000000001,-0.78849999999999998,3.0956000000000001,7.1000000000000004E-3,null,-1.2999999999999999E-3,-1.1999999999999999E-3,6.7400000000000002E-2,-0.1794,0.26179999999999998,0.92749999999999999,null,null,-1.6000000000000014E-3,"-","SPHWH2L3D30E",null,null,null,null,null,null,null,"SCS7TT78EPL1","CSP 1212","LM101A","4000K",70]
[null,null,{"$f":"BT1615","v":"LC040D_G2 plus"},1.08,2.16,150,0.32,22,85,null,null,null,null,null,85,"LED performances @mean/flux_rank",null,"@3000K","'20.11.12",null,null,null,null,null,null,null,null,null,null,null,null,null,null,null,null,null,null,null,null,null,null,null,null,null,null,null,null,null,null,null,null,null,null,null,null,null,null,null,null,null,null,null,null,null,null,null,null,null,null,null,null,null,null,90,3000,"-","-","-","-","-","-","-","-","-",1062000,"-","-","-","-",95583090,null,105,115,125,135,"-","-","-","-","G1 (100-110)","H1 (110-120)","J1 (120-130)","K1 (130-140)","-","-","-","-",2.65,2.9,"-","-","-","-","-","D2 (2.5-2.8)","F2 (2.8-3.0)","-","-","-","-","-",0.14180000000000001,-0.78849999999999998,3.0956000000000001,7.1000000000000004E-3,null,-1.2999999999999999E-3,-1.1999999999999999E-3,6.7400000000000002E-2,-0.1794,0.26179999999999998,0.92749999999999999,null,null,-1.6000000000000014E-3,"-","SPHWH2L3D30G",null,null,null,null,null,null,null,"SCS7RT78EPL1","CSP 1212","LM101A","5000K",70]
[null,null,{"$f":"BT1630","v":"LC060D_G2 plus"},1.08,2.16,150,0.24,22,85,null,null,null,null,null,85,"LED performances @mean/flux_rank",null,"@3000K","'20.11.12",null,null,null,null,null,null,null,null,null,null,null,null,null,null,null,null,null,null,null,null,null,null,null,null,null,null,null,null,null,null,null,null,null,null,null,null,null,null,null,null,null,null,null,null,null,null,null,null,null,null,null,null,null,null,70,3500,"-","-","-","-","-","-","-","-","-",1239000,70,75,80,90,86733570,null,135,145,155,165,175,"-","-","-","M1 (140-150)","M1 (140-150)","N1 (150-160)","P1 (160-170)","Q1 (170-180)","-","-","-",2.65,2.9,"-","-","-","-","-","D2 (2.5-2.8)","F2 (2.8-3.0)","-","-","-","-","-",0.14180000000000001,-0.78849999999999998,3.0956000000000001,7.1000000000000004E-3,null,-1.2999999999999999E-3,-1.1999999999999999E-3,6.7400000000000002E-2,-0.1794,0.26179999999999998,0.92749999999999999,null,null,-1.6000000000000014E-3,"-","SPHWH2L3D30C",null,null,null,null,null,null,null,"SCS7QT78EPL1","CSP 1212","LM101A","5700K",70]
[null,null,{"$f":"BT1645","v":"LC080D_G2 plus"},1.62,3.24,150,0.16,22,85,null,null,null,null,null,85,"LED performances @mean/flux_rank",null,"@3000K","'20.11.12",null,null,null,null,null,null,null,null,null,null,null,null,null,null,null,null,null,null,null,null,null,null,null,null,null,null,null,null,null,null,null,null,null,null,null,null,null,null,null,null,null,null,null,null,null,null,null,null,null,null,null,null,null,null,75,3500,"-","-","-","-","-","-","-","-","-",1239000,"-","-","-","-",92928575,null,135,145,155,165,175,"-","-","-","K1 (130-140)","M1 (140-150)","N1 (150-160)","P1 (160-170)","Q1 (170-180)","-","-","-",2.65,2.9,"-","-","-","-","-","D2 (2.5-2.8)","F2 (2.8-3.0)","-","-","-","-","-",0.14180000000000001,-0.78849999999999998,3.0956000000000001,7.1000000000000004E-3,null,-1.2999999999999999E-3,-1.1999999999999999E-3,6.7400000000000002E-2,-0.1794,0.26179999999999998,0.92749999999999999,null,null,-1.6000000000000014E-3,"-","SPHWH2L3D30D",null,null,null,null,null,null,null,"SCS7PT78EPL1","CSP 1212","LM101A","6500K",70]
[null,null,{"$f":"BT1660","v":"LC003D_G3"},0.09,0.23,150,2.4300000000000002,{"$f":"5.6*5.6*3.14","v":98.470399999999998},85,null,null,null,null,null,null,"LED performances @mean/flux_rank","13.5x13.5x1.5 Φ11.2",null,null,null,null,null,null,null,null,null,null,null,null,null,null,null,null,null,null,null,null,null,null,null,null,null,null,null,null,null,null,null,null,null,null,null,null,null,null,null,null,null,null,null,null,null,null,null,null,null,null,null,null,null,null,null,null,80,3500,"-","-","-","-","-","-","-","-","-",1239000,"-","-","-","-",99123580,null,135,145,155,165,"-","-","-","-","K1 (130-140)","M1 (140-150)","N1 (150-160)","P1 (160-170)","-","-","-","-",2.65,2.9,"-","-","-","-","-","D2 (2.5-2.8)","F2 (2.8-3.0)","-","-","-","-","-",0.14180000000000001,-0.78849999999999998,3.0956000000000001,7.1000000000000004E-3,null,-1.2999999999999999E-3,-1.1999999999999999E-3,6.7400000000000002E-2,-0.1794,0.26179999999999998,0.92749999999999999,null,null,-1.6000000000000014E-3,"-","SPHWH2L3D30E",null,null,null,null,null,null,null,"SCS8WT78EPL1","CSP 1212","LM101A","2700K",80]
[null,null,{"$f":"BT1672","v":"LC006D_G3"},0.18,0.46,150,1.41,{"$f":"5.6*5.6*3.14","v":98.470399999999998},85,null,null,null,null,null,null,"LED performances @mean/flux_rank","13.5x13.5x1.5 Φ11.2",null,null,null,null,null,null,null,null,null,null,null,null,null,null,null,null,null,null,null,null,null,null,null,null,null,null,null,null,null,null,null,null,null,null,null,null,null,null,null,null,null,null,null,null,null,null,null,null,null,null,null,null,null,null,null,null,90,3500,"-","-","-","-","-","-","-","-","-",1239000,"-","-","-","-",111513590,null,105,115,125,135,"-","-","-","-","G1 (100-110)","H1 (110-120)","J1 (120-130)","K1 (130-140)","-","-","-","-",2.65,2.9,"-","-","-","-","-","D2 (2.5-2.8)","F2 (2.8-3.0)","-","-","-","-","-",0.14180000000000001,-0.78849999999999998,3.0956000000000001,7.1000000000000004E-3,null,-1.2999999999999999E-3,-1.1999999999999999E-3,6.7400000000000002E-2,-0.1794,0.26179999999999998,0.92749999999999999,null,null,-1.6000000000000014E-3,"-","SPHWH2L3D30G",null,null,null,null,null,null,null,"SCS8VT78EPL1","CSP 1212","LM101A","3000K",80]
[null,null,{"$f":"BT1684","v":"LC009D_G3"},0.27,0.69,150,0.94,{"$f":"5.6*5.6*3.14","v":98.470399999999998},85,null,null,null,null,null,null,"LED performances @mean/flux_rank","13.5x13.5x1.5 Φ11.2",null,null,null,null,null,null,null,null,null,null,null,null,null,null,null,null,null,null,null,null,null,null,null,null,null,null,null,null,null,null,null,null,null,null,null,null,null,null,null,null,null,null,null,null,null,null,null,null,null,null,null,null,null,null,null,null,70,4000,"-","-","-","-","-","-","-","-","-",1416000,70,75,80,90,99124070,null,155,165,175,185,195,"-","-","-","N1 (150-160)","P1 (160-170)","Q1 (170-180)","R1 (180-190)","S1(190-200)","-","-","-",2.65,2.9,"-","-","-","-","-","D2 (2.5-2.8)","F2 (2.8-3.0)","-","-","-","-","-",0.14180000000000001,-0.78849999999999998,3.0956000000000001,7.1000000000000004E-3,null,-1.2999999999999999E-3,-1.1999999999999999E-3,6.7400000000000002E-2,-0.1794,0.26179999999999998,0.92749999999999999,null,null,-1.6000000000000014E-3,"-","SPHWH2L3D30C",null,null,null,null,null,null,null,"SCS8TT78EPL1","CSP 1212","LM101A","4000K",80]
[null,null,{"$f":"BT1699","v":"LC013D_G3"},0.36,0.92,150,0.81,{"$f":"5.6*5.6*3.14","v":98.470399999999998},85,null,null,null,null,null,null,"LED performances @mean/flux_rank","13.5x13.5x1.5 Φ11.2",null,null,null,null,null,null,null,null,null,null,null,null,null,null,null,null,null,null,null,null,null,null,null,null,null,null,null,null,null,null,null,null,null,null,null,null,null,null,null,null,null,null,null,null,null,null,null,null,null,null,null,null,null,null,null,null,75,4000,"-","-","-","-","-","-","-","-","-",1416000,"-","-","-","-",106204075,null,155,165,175,185,"-","-","-","-","N1 (150-160)","P1 (160-170)","Q1 (170-180)","R1 (180-190)","-","-","-","-",2.65,2.9,"-","-","-","-","-","D2 (2.5-2.8)","F2 (2.8-3.0)","-","-","-","-","-",0.14180000000000001,-0.78849999999999998,3.0956000000000001,7.1000000000000004E-3,null,-1.2999999999999999E-3,-1.1999999999999999E-3,6.7400000000000002E-2,-0.1794,0.26179999999999998,0.92749999999999999,null,null,-1.6000000000000014E-3,"-","SPHWH2L3D30D",null,null,null,null,null,null,null,"SCS8RT78EPL1","CSP 1212","LM101A","5000K",80]
[null,null,{"$f":"BT1717","v":"LC016D_G3"},0.45,1.1499999999999999,150,0.64,{"$f":"8.5*8.5*3.14","v":226.86500000000001},85,null,null,null,null,null,null,"LED performances @mean/flux_rank","19.0x19.0x1.5 Φ17.0",null,null,null,null,null,null,null,null,null,null,null,null,null,null,null,null,null,null,null,null,null,null,null,null,null,null,null,null,null,null,null,null,null,null,null,null,null,null,null,null,null,null,null,null,null,null,null,null,null,null,null,null,null,null,null,null,80,4000,"-","-","-","-","-","-","-","-","-",1416000,"-","-","-","-",113284080,null,135,145,155,165,"-","-","-","-","K1 (130-140)","M1 (140-150)","N1 (150-160)","P1 (160-170)","-","-","-","-",2.65,2.9,"-","-","-","-","-","D2 (2.5-2.8)","F2 (2.8-3.0)","-","-","-","-","-",0.14180000000000001,-0.78849999999999998,3.0956000000000001,7.1000000000000004E-3,null,-1.2999999999999999E-3,-1.1999999999999999E-3,6.7400000000000002E-2,-0.1794,0.26179999999999998,0.92749999999999999,null,null,-1.6000000000000014E-3,"-","SPHWH2L3D30E",null,null,null,null,null,null,null,"SCS8PT78EPL1","CSP 1212","LM101A","6500K",80]
[null,null,{"$f":"BT1735","v":"LC019D_G3"},0.54,1.38,150,0.56999999999999995,{"$f":"8.5*8.5*3.14","v":226.86500000000001},85,null,null,null,null,null,null,"LED performances @mean/flux_rank","19.0x19.0x1.5 Φ17.0",null,null,null,null,null,null,null,null,null,null,null,null,null,null,null,null,null,null,null,null,null,null,null,null,null,null,null,null,null,null,null,null,null,null,null,null,null,null,null,null,null,null,null,null,null,null,null,null,null,null,null,null,null,null,null,null,90,4000,"-","-","-","-","-","-","-","-","-",1416000,"-","-","-","-",127444090,null,125,135,145,"-","-","-","-","-","J1 (120-130)","K1 (130-140)","M1 (140-150)","-","-","-","-","-",2.65,2.9,"-","-","-","-","-","D2 (2.5-2.8)","F2 (2.8-3.0)","-","-","-","-","-",0.14180000000000001,-0.78849999999999998,3.0956000000000001,7.1000000000000004E-3,null,-1.2999999999999999E-3,-1.1999999999999999E-3,6.7400000000000002E-2,-0.1794,0.26179999999999998,0.92749999999999999,null,null,-1.6000000000000014E-3,"-","SPHWH2L3D30G",null,null,null,null,null,null,null,"SCS9WT78EPL1","CSP 1212","LM101A","2700K",90]
[null,null,{"$f":"BT1753","v":"LC026D_G3"},0.72,1.84,150,0.45,{"$f":"8.5*8.5*3.14","v":226.86500000000001},85,null,null,null,null,null,null,"LED performances @mean/flux_rank","19.0x19.0x1.5 Φ17.0",null,null,null,null,null,null,null,null,null,null,null,null,null,null,null,null,null,null,null,null,null,null,null,null,null,null,null,null,null,null,null,null,null,null,null,null,null,null,null,null,null,null,null,null,null,null,null,null,null,null,null,null,null,null,null,null,70,5000,"-","-","-","-","-","-","-","-","-",1770000,70,75,80,90,123905070,null,145,155,165,175,185,"-","-","-","M1 (140-150)","N1 (150-160)","P1 (160-170)","Q1 (170-180)","R1 (180-190)","-","-","-",2.65,2.9,"-","-","-","-","-","D2 (2.5-2.8)","F2 (2.8-3.0)","-","-","-","-","-",0.14180000000000001,-0.78849999999999998,3.0956000000000001,7.1000000000000004E-3,null,-1.2999999999999999E-3,-1.1999999999999999E-3,6.7400000000000002E-2,-0.1794,0.26179999999999998,0.92749999999999999,null,null,-1.6000000000000014E-3,"-","SPHWH2L3D30C",null,null,null,null,null,null,null,"SCS9VT78EPL1","CSP 1212","LM101A","3000K",90]
[null,null,{"$f":"BT1771","v":"LC033D_G3"},0.9,2.2999999999999998,150,0.38,{"$f":"8.5*8.5*3.14","v":226.86500000000001},85,null,null,null,null,null,null,"LED performances @mean/flux_rank","19.0x19.0x1.5 Φ17.0",null,null,null,null,null,null,null,null,null,null,null,null,null,null,null,null,null,null,null,null,null,null,null,null,null,null,null,null,null,null,null,null,null,null,null,null,null,null,null,null,null,null,null,null,null,null,null,null,null,null,null,null,null,null,null,null,75,5000,"-","-","-","-","-","-","-","-","-",1770000,"-","-","-","-",132755075,null,145,155,165,175,185,"-","-","-","M1 (140-150)","N1 (150-160)","P1 (160-170)","Q1 (170-180)","R1 (180-190)","-","-","-",2.65,2.9,"-","-","-","-","-","D2 (2.5-2.8)","F2 (2.8-3.0)","-","-","-","-","-",0.14180000000000001,-0.78849999999999998,3.0956000000000001,7.1000000000000004E-3,null,-1.2999999999999999E-3,-1.1999999999999999E-3,6.7400000000000002E-2,-0.1794,0.26179999999999998,0.92749999999999999,null,null,-1.6000000000000014E-3,"-","SPHWH2L3D30D",null,null,null,null,null,null,null,"SCS9UT78EPL1","CSP 1212","LM101A","3500K",90]
[null,null,{"$f":"BT1789","v":"LC040D_G3"},1.08,2.76,150,0.3,{"$f":"12.25*12.25*3.14","v":471.19625000000002},85,null,null,null,null,null,null,"LED performances @mean/flux_rank","28.0x28.0x1.5 Φ24.5",null,null,null,null,null,null,null,null,null,null,null,null,null,null,null,null,null,null,null,null,null,null,null,null,null,null,null,null,null,null,null,null,null,null,null,null,null,null,null,null,null,null,null,null,null,null,null,null,null,null,null,null,null,null,null,null,80,5000,"-","-","-","-","-","-","-","-","-",1770000,"-","-","-","-",141605080,null,145,155,165,175,"-","-","-","-","M1 (140-150)","N1 (150-160)","P1 (160-170)","Q1 (170-180)","-","-","-","-",2.65,2.9,"-","-","-","-","-","D2 (2.5-2.8)","F2 (2.8-3.0)","-","-","-","-","-",0.14180000000000001,-0.78849999999999998,3.0956000000000001,7.1000000000000004E-3,null,-1.2999999999999999E-3,-1.1999999999999999E-3,6.7400000000000002E-2,-0.1794,0.26179999999999998,0.92749999999999999,null,null,-1.6000000000000014E-3,"-","SPHWH2L3D30E",null,null,null,null,null,null,null,"SCS7VT93HPL2","CSP 1313","LM102A","3000K",70]
[null,null,{"$f":"BT1807","v":"LC060D_G3"},1.08,2.76,150,0.23,{"$f":"12.25*12.25*3.14","v":471.19625000000002},85,null,null,null,null,null,null,"LED performances @mean/flux_rank","28.0x28.0x1.5 Φ24.5",null,null,null,null,null,null,null,null,null,null,null,null,null,null,null,null,null,null,null,null,null,null,null,null,null,null,null,null,null,null,null,null,null,null,null,null,null,null,null,null,null,null,null,null,null,null,null,null,null,null,null,null,null,null,null,null,90,5000,"-","-","-","-","-","-","-","-","-",1770000,"-","-","-","-",159305090,null,135,145,155,"-","-","-","-","-","K1 (130-140)","M1 (140-150)","N1 (150-160)","-","-","-","-","-",2.65,2.9,"-","-","-","-","-","D2 (2.5-2.8)","F2 (2.8-3.0)","-","-","-","-","-",0.14180000000000001,-0.78849999999999998,3.0956000000000001,7.1000000000000004E-3,null,-1.2999999999999999E-3,-1.1999999999999999E-3,6.7400000000000002E-2,-0.1794,0.26179999999999998,0.92749999999999999,null,null,-1.6000000000000014E-3,"-","SPHWH2L3D30G",null,null,null,null,null,null,null,"SCS7UT93HPL2","CSP 1313","LM102A","3500K",70]
[null,null,{"$f":"BT1825","v":"LC080D_G3"},1.62,4.1399999999999997,150,0.15,{"$f":"12.25*12.25*3.14","v":471.19625000000002},85,null,null,null,null,null,null,"LED performances @mean/flux_rank","28.0x28.0x1.5 Φ24.5","\"Vivid Color\"=69",null,null,null,null,null,null,null,null,null,null,null,null,null,null,null,null,null,null,null,null,null,null,null,null,null,null,null,null,null,null,null,null,null,null,null,null,null,null,null,null,null,null,null,null,null,null,null,null,null,null,null,null,null,null,null,70,5700,"-","-","-","-","-","-","-","-","-",2017800,70,75,80,"-",141251770,null,155,165,175,185,195,"-","-","-","N1 (150-160)","P1 (160-170)","Q1 (170-180)","R1 (180-190)","S1(190-200)","-","-","-",2.65,2.9,"-","-","-","-","-","D2 (2.5-2.8)","F2 (2.8-3.0)","-","-","-","-","-",0.14180000000000001,-0.78849999999999998,3.0956000000000001,7.1000000000000004E-3,null,-1.2999999999999999E-3,-1.1999999999999999E-3,6.7400000000000002E-2,-0.1794,0.26179999999999998,0.92749999999999999,null,null,-1.6000000000000014E-3,"-","SPHWH2L3D30C",null,null,null,null,null,null,null,"SCS7TT93HPL2","CSP 1313","LM102A","4000K",70]
[null,null,{"$f":"BT1843","v":"LC003D_G3 plus"},0.09,0.18,150,2.4300000000000002,9.7999999999999989,85,null,null,null,null,null,85,"LED performances @mean/flux_rank",null,"@3000K","'20.11.12",null,null,null,null,null,null,null,null,null,null,null,null,null,null,null,null,null,null,null,null,null,null,null,null,null,null,null,null,null,null,null,null,null,null,null,null,null,null,null,null,null,null,null,null,null,null,null,null,null,null,null,null,null,null,75,5700,"-","-","-","-","-","-","-","-","-",2017800,"-","-","-","-",151340775,null,155,165,175,185,"-","-","-","-","N1 (150-160)","P1 (160-170)","Q1 (170-180)","R1 (180-190)","-","-","-","-",2.65,2.9,"-","-","-","-","-","D2 (2.5-2.8)","F2 (2.8-3.0)","-","-","-","-","-",0.14180000000000001,-0.78849999999999998,3.0956000000000001,7.1000000000000004E-3,null,-1.2999999999999999E-3,-1.1999999999999999E-3,6.7400000000000002E-2,-0.1794,0.26179999999999998,0.92749999999999999,null,null,-1.6000000000000014E-3,"-","SPHWH2L3D30D",null,null,null,null,null,null,null,"SCS7RT93HPL2","CSP 1313","LM102A","5000K",70]
[null,null,{"$f":"BT1855","v":"LC006D_G3 plus"},0.18,0.36,150,1.41,9.7999999999999989,85,null,null,null,null,null,85,"LED performances @mean/flux_rank",null,"@3000K","'20.11.12",null,null,null,null,null,null,null,null,null,null,null,null,null,null,null,null,null,null,null,null,null,null,null,null,null,null,null,null,null,null,null,null,null,null,null,null,null,null,null,null,null,null,null,null,null,null,null,null,null,null,null,null,null,null,80,5700,"-","-","-","-","-","-","-","-","-",2017800,"-","-","-","-",161429780,null,145,155,165,"-","-","-","-","-","M1 (140-150)","N1 (150-160)","P1 (160-170)","-","-","-","-","-",2.65,2.9,"-","-","-","-","-","D2 (2.5-2.8)","F2 (2.8-3.0)","-","-","-","-","-",0.14180000000000001,-0.78849999999999998,3.0956000000000001,7.1000000000000004E-3,null,-1.2999999999999999E-3,-1.1999999999999999E-3,6.7400000000000002E-2,-0.1794,0.26179999999999998,0.92749999999999999,null,null,-1.6000000000000014E-3,"-","SPHWH2L3D30E",null,null,null,null,null,null,null,"SCS7QT93HPL2","CSP 1313","LM102A","5700K",70]
[null,null,{"$f":"BT1867","v":"LC009D_G3 plus"},0.27,0.54,150,0.94,9.7999999999999989,85,null,null,null,null,null,85,"LED performances @mean/flux_rank",null,"@3000K","'20.11.12",null,null,null,null,null,null,null,null,null,null,null,null,null,null,null,null,null,null,null,null,null,null,null,null,null,null,null,null,null,null,null,null,null,null,null,null,null,null,null,null,null,null,null,null,null,null,null,null,null,null,null,null,null,null,80,6000,"-","-","-","-","-","-","-","-","-",2124000,80,"-","-","-",169926080,null,135,145,155,165,"-","-","-","-","K1 (130-140)","M1 (140-150)","N1 (150-160)","P1 (160-170)","-","-","-","-",2.65,2.9,"-","-","-","-","-","D2 (2.5-2.8)","F2 (2.8-3.0)","-","-","-","-","-",0.14180000000000001,-0.78849999999999998,3.0956000000000001,7.1000000000000004E-3,null,-1.2999999999999999E-3,-1.1999999999999999E-3,6.7400000000000002E-2,-0.1794,0.26179999999999998,0.92749999999999999,null,null,-1.6000000000000014E-3,"-","SPHWH2L3D30E",null,null,null,null,null,null,null,"SCS7PT93HPL2","CSP 1313","LM102A","6500K",70]
[null,null,{"$f":"BT1882","v":"LC013D_G3 plus"},0.36,0.72,150,0.81,9.7999999999999989,85,null,null,null,null,null,85,"LED performances @mean/flux_rank",null,"@3000K","'20.11.12",null,null,null,null,null,null,null,null,null,null,null,null,null,null,null,null,null,null,null,null,null,null,null,null,null,null,null,null,null,null,null,null,null,null,null,null,null,null,null,null,null,null,null,null,null,null,null,null,null,null,null,null,null,null,70,6500,"-","-","-","-","-","-","-","-","-",2301000,70,75,80,"-",161076570,null,155,165,175,185,"-","-","-","-","N1 (150-160)","P1 (160-170)","Q1 (170-180)","R1 (180-190)","-","-","-","-",2.65,2.9,"-","-","-","-","-","D2 (2.5-2.8)","F2 (2.8-3.0)","-","-","-","-","-",0.14180000000000001,-0.78849999999999998,3.0956000000000001,7.1000000000000004E-3,null,-1.2999999999999999E-3,-1.1999999999999999E-3,6.7400000000000002E-2,-0.1794,0.26179999999999998,0.92749999999999999,null,null,-1.6000000000000014E-3,"-","SPHWH2L3D30C",null,null,null,null,null,null,null,"SCS8WT93HPL2","CSP 1313","LM102A","2700K",80]
[null,null,{"$f":"BT1897","v":"LC016D_G3 plus"},0.45,0.9,150,0.64,14.5,85,null,null,null,null,null,85,"LED performances @mean/flux_rank",null,"@3000K","'20.11.12",null,null,null,null,null,null,null,null,null,null,null,null,null,null,null,null,null,null,null,null,null,null,null,null,null,null,null,null,null,null,null,null,null,null,null,null,null,null,null,null,null,null,null,null,null,null,null,null,null,null,null,null,null,null,75,6500,"-","-","-","-","-","-","-","-","-",2301000,"-","-","-","-",172581575,null,155,165,175,185,"-",null,null,null,"N1 (150-160)","P1 (160-170)","Q1 (170-180)","R1 (180-190)","-",null,null,null,2.65,2.9,"-",null,null,null,null,"D2 (2.5-2.8)","F2 (2.8-3.0)","-",null,null,null,null,0.14180000000000001,-0.78849999999999998,3.0956000000000001,7.1000000000000004E-3,null,-1.2999999999999999E-3,-1.1999999999999999E-3,6.7400000000000002E-2,-0.1794,0.26179999999999998,0.92749999999999999,null,null,-1.6000000000000014E-3,"-","SPHWH2L3D30D",null,null,null,null,null,null,null,"SCS8VT93HPL2","CSP 1313","LM102A","3000K",80]
[null,null,{"$f":"BT1912","v":"LC019D_G3 plus"},0.54,1.08,150,0.56999999999999995,14.5,85,null,null,null,null,null,85,"LED performances @mean/flux_rank",null,"@3000K","'20.11.12",null,null,null,null,null,null,null,null,null,null,null,null,null,null,null,null,null,null,null,null,null,null,null,null,null,null,null,null,null,null,null,null,null,null,null,null,null,null,null,null,null,null,null,null,null,null,null,null,null,null,null,null,null,null,80,6500,"-","-","-","-","-","-","-","-","-",2301000,"-","-","-","-",{"$f":"$BU$144*BV172*BW172+BV172+BW172","v":184086580},null,135,145,155,165,"-","-","-","-","K1 (130-140)","M1 (140-150)","N1 (150-160)","P1 (160-170)","-","-","-","-",2.65,2.9,"-","-","-","-","-","D2 (2.5-2.8)","F2 (2.8-3.0)","-","-","-","-","-",0.14180000000000001,-0.78849999999999998,3.0956000000000001,7.1000000000000004E-3,null,-1.2999999999999999E-3,-1.1999999999999999E-3,6.7400000000000002E-2,-0.1794,0.26179999999999998,0.92749999999999999,null,null,-1.6000000000000014E-3,"-","SPHWH2L3D30E",null,null,null,null,null,null,null,"SCS8UT93HPL2","CSP 1313","LM102A","3500K",80]
[null,null,{"$f":"BT1927","v":"LC026D_G3 plus"},0.72,1.44,150,0.45,14.5,85,null,null,null,null,null,85,"LED performances @mean/flux_rank",null,"@3000K","'20.11.12",null,null,null,null,null,null,null,null,null,null,null,null,null,null,null,null,null,null,null,null,null,null,null,null,null,null,null,null,null,null,null,null,null,null,null,null,null,null,null,null,null,null,null,null,null,null,null,null,null,null,null,null,"LH351C",355,70,2200,2200,2700,3000,3500,4000,5000,5700,6500,"-",{"$f":"$BU$173*BW173","v":781000},70,"-","-","-",{"$f":"$BU$173*BV173*BW173+BV173+BW173","v":54672270},null,260,280,300,"-","-","-","-","-","MB(250-270)","NB (270-290)","PB (290-310)","-","-","-","-","-",2.75,3.05,"-","-","-","-","-","E2 (2.6-2.9)","G2 (2.9-3.1)","-","-","-","-","-",-3.61E-2,-0.1651,1.5167999999999999,3.15E-2,null,null,-1.5625000000000001E-3,2.5999999999999999E-3,-3.6400000000000002E-2,0.16550000000000001,0.90110000000000001,null,null,-1.6666666666666681E-3,"-","SPHWHTL3D50C",null,null,null,null,null,null,null,"SCS8TT93HPL2","CSP 1313","LM102A","4000K",80]
[null,null,{"$f":"BT1942","v":"LC033D_G3 plus"},0.9,1.8,150,0.38,14.5,85,null,null,null,null,null,85,"LED performances @mean/flux_rank",null,"@3000K","'20.11.12",null,null,null,null,null,null,null,null,null,null,null,null,null,null,null,null,null,null,null,null,null,null,null,null,null,null,null,null,null,null,null,null,null,null,null,null,null,null,null,null,null,null,null,null,null,null,null,null,null,null,null,null,null,null,70,2700,"-","-","-","-","-","-","-","-","-",{"$f":"$BU$173*BW174","v":958500},70,80,90,"-",{"$f":"$BU$173*BV174*BW174+BV174+BW174","v":67097770},null,260,280,300,"-","-","-","-","-","MB(250-270)","NB (270-290)","PB (290-310)","-","-","-","-","-",2.75,3.05,"-","-","-","-","-","E2 (2.6-2.9)","G2 (2.9-3.1)","-","-","-","-","-",-3.61E-2,-0.1651,1.5167999999999999,3.15E-2,null,null,-1.5625000000000001E-3,2.5999999999999999E-3,-3.6400000000000002E-2,0.16550000000000001,0.90110000000000001,null,null,-1.6666666666666681E-3,"-","SPHWHTL3D50C",null,null,null,null,null,null,null,"SCS8RT93HPL2","CSP 1313","LM102A","5000K",80]
[null,null,{"$f":"BT1957","v":"LC040D_G3 plus"},1.08,2.16,150,0.3,22,85,null,null,null,null,null,85,"LED performances @mean/flux_rank",null,"@3000K","'20.11.12",null,null,null,null,null,null,null,null,null,null,null,null,null,null,null,null,null,null,null,null,null,null,null,null,null,null,null,null,null,null,null,null,null,null,null,null,null,null,null,null,null,null,null,null,null,null,null,null,null,null,null,null,null,null,80,2700,"-","-","-","-","-","-","-","-","-",958500,"-","-","-","-",76682780,null,260,280,300,"-",null,"-","-","-","MB(250-270)","NB (270-290)","PB (290-310)","-","-","-","-","-",2.75,3.05,"-","-","-","-","-","E2 (2.6-2.9)","G2 (2.9-3.1)","-","-","-","-","-",-3.61E-2,-0.1651,1.5167999999999999,3.15E-2,null,null,-1.5625000000000001E-3,2.5999999999999999E-3,-3.6400000000000002E-2,0.16550000000000001,0.90110000000000001,null,null,-1.6666666666666681E-3,"-","SPHWHTL3D50E",null,null,null,null,null,null,null,"SCS8QT93HPL2","CSP 1313","LM102A","5700K",80]
[null,null,{"$f":"BT1972","v":"LC060D_G3 plus"},1.08,2.16,150,0.23,22,85,null,null,null,null,null,85,"LED performances @mean/flux_rank",null,"@3000K","'20.11.12",null,null,null,null,null,null,null,null,null,null,null,null,null,null,null,null,null,null,null,null,null,null,null,null,null,null,null,null,null,null,null,null,null,null,null,null,null,null,null,null,null,null,null,null,null,null,null,null,null,null,null,null,null,null,90,2700,"-","-","-","-","-","-","-","-","-",958500,"-","-","-","-",86267790,null,220,240,260,"-","-","-","-","-","JB (210-230)","KB (230-250)","MB(250-270)","-","-",null,null,null,2.75,3.05,"-","-","-","-","-","E2 (2.6-2.9)","G2 (2.9-3.1)","-","-","-","-","-",-3.61E-2,-0.1651,1.5167999999999999,3.15E-2,null,null,-1.5625000000000001E-3,2.5999999999999999E-3,-3.6400000000000002E-2,0.16550000000000001,0.90110000000000001,null,null,-1.6666666666666681E-3,"-","SPHWHTL3D50G",null,null,null,null,null,null,null,"SCS8PT93HPL2","CSP 1313","LM102A","6500K",80]
[null,null,{"$f":"BT1987","v":"LC080D_G3 plus"},1.62,3.24,150,0.15,22,85,null,null,null,null,null,85,"LED performances @mean/flux_rank",null,"@3000K","'20.11.12",null,null,null,null,null,null,null,null,null,null,null,null,null,null,null,null,null,null,null,null,null,null,null,null,null,null,null,null,null,null,null,null,null,null,null,null,null,null,null,null,null,null,null,null,null,null,null,null,null,null,null,null,null,null,70,3000,"-","-","-","-","-","-","-","-","-",1065000,70,75,80,90,74553070,null,280,300,320,360,"-","-","-","-","NB (270-290)","PB (290-310)","QB (310-330)","RB(330-350)","-","-","-","-",2.75,3.05,"-","-","-","-","-","E2 (2.6-2.9)","G2 (2.9-3.1)","-","-","-","-","-",-3.61E-2,-0.1651,1.5167999999999999,3.15E-2,null,null,-1.5625000000000001E-3,2.5999999999999999E-3,-3.6400000000000002E-2,0.16550000000000001,0.90110000000000001,null,null,-1.6666666666666681E-3,"-","SPHWHTL3D50C",null,null,null,null,null,null,null,"SCS9WT93HPL2","CSP 1313","LM102A","2700K",90]
[null,null,{"$f":"BT2002","v":"LC003D_G4"},0.09,0.23,150,2.4300000000000002,301.56560000000007,85,null,null,null,null,null,85,"LED performances @mean/flux_rank",null,null,null,null,null,null,null,null,null,null,null,null,null,null,null,null,null,null,null,null,null,null,null,null,null,null,null,null,null,null,null,null,null,null,null,null,null,null,null,null,null,null,null,null,null,null,null,null,null,null,null,null,null,null,null,null,null,75,3000,"-","-","-","-","-","-","-","-","-",1065000,null,null,null,null,79878075,null,300,320,340,"-","-","-","-","-","PB (290-310)","QB (310-330)","RB (330-350)","-","-","-","-","-",2.75,3.05,"-","-","-","-","-","E2 (2.6-2.9)","G2 (2.9-3.1)","-","-","-","-","-",-3.61E-2,-0.1651,1.5167999999999999,3.15E-2,null,null,-1.5625000000000001E-3,2.5999999999999999E-3,-3.6400000000000002E-2,0.16550000000000001,0.90110000000000001,null,null,-1.6666666666666681E-3,"-","SPHWHTL3D50D",null,null,null,null,null,null,null,"SCS9VT93HPL2","CSP 1313","LM102A","3000K",90]
[null,null,{"$f":"BT2014","v":"LC006D_G4"},0.18,0.46,150,1.41,301.56560000000007,85,null,null,null,null,null,85,"LED performances @mean/flux_rank",null,null,null,null,null,null,null,null,null,null,null,null,null,null,null,null,null,null,null,null,null,null,null,null,null,null,null,null,null,null,null,null,null,null,null,null,null,null,null,null,null,null,null,null,null,null,null,null,null,null,null,null,null,null,null,null,null,80,3000,"-","-","-","-","-","-","-","-","-",1065000,"-","-","-","-",85203080,null,280,300,320,"-","-","-","-","-","NB (270-290)","PB (290-310)","QB (310-330)","-","-","-","-","-",2.75,3.05,"-","-","-","-","-","E2 (2.6-2.9)","G2 (2.9-3.1)","-","-","-","-","-",-3.61E-2,-0.1651,1.5167999999999999,3.15E-2,null,null,-1.5625000000000001E-3,2.5999999999999999E-3,-3.6400000000000002E-2,0.16550000000000001,0.90110000000000001,null,null,-1.6666666666666681E-3,"-","SPHWHTL3D50E",null,null,null,null,null,null,null,"SCS9UT93HPL2","CSP 1313","LM102A","3500K",90]
[null,null,{"$f":"BT2026","v":"LC009D_G4"},0.27,0.69,150,0.94,301.56560000000007,85,null,null,null,null,null,85,"LED performances @mean/flux_rank",null,null,null,null,null,null,null,null,null,null,null,null,null,null,null,null,null,null,null,null,null,null,null,null,null,null,null,null,null,null,null,null,null,null,null,null,null,null,null,null,null,null,null,null,null,null,null,null,null,null,null,null,null,null,null,null,null,90,3000,"-","-","-","-","-","-","-","-","-",1065000,"-","-","-","-",95853090,null,220,240,260,"-","-","-","-","-","JB (210-230)","KB (230-250)","MB(250-270)","-","-","-","-","-",2.75,3.05,"-","-","-","-","-","E2 (2.6-2.9)","G2 (2.9-3.1)","-","-","-","-","-",-3.61E-2,-0.1651,1.5167999999999999,3.15E-2,null,null,-1.5625000000000001E-3,2.5999999999999999E-3,-3.6400000000000002E-2,0.16550000000000001,0.90110000000000001,null,null,-1.6666666666666681E-3,"-","SPHWHTL3D50G",null,null,null,null,null,null,null,"SPHWHAHDNA25","COB-D series","LC003D","White",80]
[null,null,{"$f":"BT2041","v":"LC013D_G4"},0.36,0.92,150,0.81,301.56560000000007,85,null,null,null,null,null,85,"LED performances @mean/flux_rank",null,null,null,null,null,null,null,null,null,null,null,null,null,null,null,null,null,null,null,null,null,null,null,null,null,null,null,null,null,null,null,null,null,null,null,null,null,null,null,null,null,null,null,null,null,null,null,null,null,null,null,null,null,null,null,null,null,70,3500,"-","-","-","-","-","-","-","-","-",1242500,70,75,80,90,86978570,null,300,320,340,"-","-","-","-","-","PB (290-310)","QB (310-330)","RB (330-350)","-","-","-","-","-",2.75,3.05,"-","-","-","-","-","E2 (2.6-2.9)","G2 (2.9-3.1)","-","-","-","-","-",-3.61E-2,-0.1651,1.5167999999999999,3.15E-2,null,null,-1.5625000000000001E-3,2.5999999999999999E-3,-3.6400000000000002E-2,0.16550000000000001,0.90110000000000001,null,null,-1.6666666666666681E-3,"-","SPHWHTL3D50C",null,null,null,null,null,null,null,"SPHWHAHDNA27","COB-D series","LC003D","White",90]
[null,null,{"$f":"BT2059","v":"LC016D_G4"},0.45,1.1499999999999999,150,0.64,660.18500000000006,85,null,null,null,null,null,85,"LED performances @mean/flux_rank",null,null,null,null,null,null,null,null,null,null,null,null,null,null,null,null,null,null,null,null,null,null,null,null,null,null,null,null,null,null,null,null,null,null,null,null,null,null,null,null,null,null,null,null,null,null,null,null,null,null,null,null,null,null,null,null,null,75,3500,"-","-","-","-","-","-","-","-","-",1242500,null,null,null,null,93191075,null,300,320,340,"-","-","-","-","-","PB (290-310)","QB (310-330)","RB (330-350)","-","-","-","-","-",2.75,3.05,"-","-","-","-","-","E2 (2.6-2.9)","G2 (2.9-3.1)","-","-","-","-","-",-3.61E-2,-0.1651,1.5167999999999999,3.15E-2,null,null,-1.5625000000000001E-3,2.5999999999999999E-3,-3.6400000000000002E-2,0.16550000000000001,0.90110000000000001,null,null,-1.6666666666666681E-3,"-","SPHWHTL3D50D",null,null,null,null,null,null,null,"SPHWHAHDNB25","COB-D series","LC006D","White",80]
[null,null,{"$f":"BT2077","v":"LC019D_G4"},0.54,1.38,150,0.56999999999999995,660.18500000000006,85,null,null,null,null,null,85,"LED performances @mean/flux_rank",null,null,null,null,null,null,null,null,null,null,null,null,null,null,null,null,null,null,null,null,null,null,null,null,null,null,null,null,null,null,null,null,null,null,null,null,null,null,null,null,null,null,null,null,null,null,null,null,null,null,null,null,null,null,null,null,null,80,3500,"-","-","-","-","-","-","-","-","-",1242500,"-","-","-","-",99403580,null,280,300,320,"-","-","-","-","-","NB (270-290)","PB (290-310)","QB (310-330)","-","-","-","-","-",2.75,3.05,"-","-","-","-","-","E2 (2.6-2.9)","G2 (2.9-3.1)","-","-","-","-","-",-3.61E-2,-0.1651,1.5167999999999999,3.15E-2,null,null,-1.5625000000000001E-3,2.5999999999999999E-3,-3.6400000000000002E-2,0.16550000000000001,0.90110000000000001,null,null,-1.6666666666666681E-3,"-","SPHWHTL3D50E",null,null,null,null,null,null,null,"SPHWHAHDNB27","COB-D series","LC006D","White",90]
[null,null,{"$f":"BT2095","v":"LC026D_G4"},0.72,1.84,150,0.45,660.18500000000006,85,null,null,null,null,null,85,"LED performances @mean/flux_rank",null,null,null,null,null,null,null,null,null,null,null,null,null,null,null,null,null,null,null,null,null,null,null,null,null,null,null,null,null,null,null,null,null,null,null,null,null,null,null,null,null,null,null,null,null,null,null,null,null,null,null,null,null,null,null,null,null,90,3500,"-","-","-","-","-","-","-","-","-",1242500,"-","-","-","-",111828590,null,240,260,280,"-","-","-","-","-","KB (230-250)","MB(250-270)","NB(270-290)","-","-","-","-","-",2.75,3.05,"-","-","-","-","-","E2 (2.6-2.9)","G2 (2.9-3.1)","-","-","-","-","-",-3.61E-2,-0.1651,1.5167999999999999,3.15E-2,null,null,-1.5625000000000001E-3,2.5999999999999999E-3,-3.6400000000000002E-2,0.16550000000000001,0.90110000000000001,null,null,-1.6666666666666681E-3,"-","SPHWHTL3D50G",null,null,null,null,null,null,null,"SPHWHAHDNC25","COB-D series","LC009D","White",80]
[null,null,{"$f":"BT2113","v":"LC033D_G4"},0.9,2.2999999999999998,150,0.38,660.18500000000006,85,null,null,null,null,null,85,"LED performances @mean/flux_rank",null,null,null,null,null,null,null,null,null,null,null,null,null,null,null,null,null,null,null,null,null,null,null,null,null,null,null,null,null,null,null,null,null,null,null,null,null,null,null,null,null,null,null,null,null,null,null,null,null,null,null,null,null,null,null,null,null,70,4000,"-","-","-","-","-","-","-","-","-",1420000,70,75,80,90,99404070,null,300,320,340,360,"-","-","-","-","PB (290-310)","QB (310-330)","RB (330-350)","SB(350-370)","-","-","-","-",2.75,3.05,"-","-","-","-","-","E2 (2.6-2.9)","G2 (2.9-3.1)","-","-","-","-","-",-3.61E-2,-0.1651,1.5167999999999999,3.15E-2,null,null,-1.5625000000000001E-3,2.5999999999999999E-3,-3.6400000000000002E-2,0.16550000000000001,0.90110000000000001,null,null,-1.6666666666666681E-3,"-","SPHWHTL3D50C",null,null,null,null,null,null,null,"SPHWHAHDNC27","COB-D series","LC009D","White",90]
[null,null,{"$f":"BT2131","v":"LC040D_G4"},1.08,2.76,150,0.3,1519.76,85,null,null,null,null,null,85,"LED performances @mean/flux_rank",null,null,null,null,null,null,null,null,null,null,null,null,null,null,null,null,null,null,null,null,null,null,null,null,null,null,null,null,null,null,null,null,null,null,null,null,null,null,null,null,null,null,null,null,null,null,null,null,null,null,null,null,null,null,null,null,null,75,4000,"-","-","-","-","-","-","-","-","-",1420000,null,null,null,null,106504075,null,300,320,340,"-","-","-","-","-","PB (290-310)","QB (310-330)","RB (330-350)","-","-","-","-","-",2.75,3.05,"-","-","-","-","-","E2 (2.6-2.9)","G2 (2.9-3.1)","-","-","-","-","-",-3.61E-2,-0.1651,1.5167999999999999,3.15E-2,null,null,-1.5625000000000001E-3,2.5999999999999999E-3,-3.6400000000000002E-2,0.16550000000000001,0.90110000000000001,null,null,-1.6666666666666681E-3,"-","SPHWHTL3D50D",null,null,null,null,null,null,null,"SPHWHAHDND25","COB-D series","LC013D","White",80]
[null,null,{"$f":"BT2149","v":"LC060D_G4"},1.08,2.76,150,0.23,1519.76,85,null,null,null,null,null,85,"LED performances @mean/flux_rank",null,null,null,null,null,null,null,null,null,null,null,null,null,null,null,null,null,null,null,null,null,null,null,null,null,null,null,null,null,null,null,null,null,null,null,null,null,null,null,null,null,null,null,null,null,null,null,null,null,null,null,null,null,null,null,null,null,80,4000,"-","-","-","-","-","-","-","-","-",1420000,"-","-","-","-",113604080,null,280,300,320,"-","-","-","-","-","NB (270-290)","PB (290-310)","QB (310-330)","-","-","-","-","-",2.75,3.05,"-","-","-","-","-","E2 (2.6-2.9)","G2 (2.9-3.1)","-","-","-","-","-",-3.61E-2,-0.1651,1.5167999999999999,3.15E-2,null,null,-1.5625000000000001E-3,2.5999999999999999E-3,-3.6400000000000002E-2,0.16550000000000001,0.90110000000000001,null,null,-1.6666666666666681E-3,"-","SPHWHTL3D50E",null,null,null,null,null,null,null,"SPHWHAHDND27","COB-D series","LC013D","White",90]
[null,null,{"$f":"BT2167","v":"LC080D_G4"},1.62,4.1399999999999997,150,0.15,1519.76,85,null,null,null,null,null,85,"LED performances @mean/flux_rank",null,null,null,null,null,null,null,null,null,null,null,null,null,null,null,null,null,null,null,null,null,null,null,null,null,null,null,null,null,null,null,null,null,null,null,null,null,null,null,null,null,null,null,null,null,null,null,null,null,null,null,null,null,null,null,null,null,90,4000,"-","-","-","-","-","-","-","-","-",1420000,"-","-","-","-",127804090,null,240,260,280,"-","-","-","-","-","KB (230-250)","MB(250-270)","NB(270-290)","-","-","-","-","-",2.75,3.05,"-","-","-","-","-","E2 (2.6-2.9)","G2 (2.9-3.1)","-","-","-","-","-",-3.61E-2,-0.1651,1.5167999999999999,3.15E-2,null,null,-1.5625000000000001E-3,2.5999999999999999E-3,-3.6400000000000002E-2,0.16550000000000001,0.90110000000000001,null,null,-1.6666666666666681E-3,"-","SPHWHTL3D50G",null,null,null,null,null,null,null,"SPHWHAHDNE25","COB-D series","LC016D","White",80]
[null,null,{"$f":"BT2298","v":"LC013D_R-series"},0.36,0.92,130,1.27,{"$f":"5.6*5.6*3.14","v":98.470399999999998},85,null,null,null,null,null,null,"LED performances @mean/flux_rank","13.5x13.5x1.5 Φ11.2","\"Vivid White\"=68",null,null,null,null,null,null,null,null,null,null,null,null,null,null,null,null,null,null,null,null,null,null,null,null,null,null,null,null,null,null,null,null,null,null,null,null,null,null,null,null,null,null,null,null,null,null,null,null,null,null,null,null,null,null,null,70,5000,"-","-","-","-","-","-","-","-","-",1775000,70,75,80,90,124255070,null,300,320,340,360,"-","-","-","-","PB (290-310)","QB (310-330)","RB (330-350)","SB(350-370)","-","-","-","-",2.75,3.05,"-","-","-","-","-","E2 (2.6-2.9)","G2 (2.9-3.1)","-","-","-","-","-",-3.61E-2,-0.1651,1.5167999999999999,3.15E-2,null,null,-1.5625000000000001E-3,2.5999999999999999E-3,-3.6400000000000002E-2,0.16550000000000001,0.90110000000000001,null,null,-1.6666666666666681E-3,"-","SPHWHTL3D50C",null,null,null,null,null,null,null,"SPHWHAHDNE27","COB-D series","LC016D","White",90]
[null,null,{"$f":"BT2307","v":"LC016D_R-series"},0.45,1.1499999999999999,130,1.01,{"$f":"8.5*8.5*3.14","v":226.86500000000001},85,null,null,null,null,null,null,"LED performances @mean/flux_rank","19.0x19.0x1.5 Φ17.0","\"Meat\"=67",null,null,null,null,null,null,null,null,null,null,null,null,null,null,null,null,null,null,null,null,null,null,null,null,null,null,null,null,null,null,null,null,null,null,null,null,null,null,null,null,null,null,null,null,null,null,null,null,null,null,null,null,null,null,null,75,5000,"-","-","-","-","-","-","-","-","-",1775000,null,null,null,null,133130075,null,300,320,340,360,"-","-","-","-","PB (290-310)","QB (310-330)","RB (330-350)","SB(350-370)","-","-","-","-",2.75,3.05,"-","-","-","-","-","E2 (2.6-2.9)","G2 (2.9-3.1)","-","-","-","-","-",-3.61E-2,-0.1651,1.5167999999999999,3.15E-2,null,null,-1.5625000000000001E-3,2.5999999999999999E-3,-3.6400000000000002E-2,0.16550000000000001,0.90110000000000001,null,null,-1.6666666666666681E-3,"-","SPHWHTL3D50D",null,null,null,null,null,null,null,"SPHWHAHDNF25","COB-D series","LC019D","White",80]
[null,null,{"$f":"BT2316","v":"LC019D_R-series"},0.54,1.38,130,0.9,{"$f":"8.5*8.5*3.14","v":226.86500000000001},85,null,null,null,null,null,null,"LED performances @mean/flux_rank","19.0x19.0x1.5 Φ17.0","\"Vegetable\"=66",null,null,null,null,null,null,null,null,null,null,null,null,null,null,null,null,null,null,null,null,null,null,null,null,null,null,null,null,null,null,null,null,null,null,null,null,null,null,null,null,null,null,null,null,null,null,null,null,null,null,null,null,null,null,null,80,5000,"-","-","-","-","-","-","-","-","-",1775000,"-","-","-","-",142005080,null,280,300,320,340,"-","-","-","-","NB (270-290)","PB (290-310)","QB (310-330)","RB(330-350)","-","-","-","-",2.75,3.05,"-","-","-","-","-","E2 (2.6-2.9)","G2 (2.9-3.1)","-","-","-","-","-",-3.61E-2,-0.1651,1.5167999999999999,3.15E-2,null,null,-1.5625000000000001E-3,2.5999999999999999E-3,-3.6400000000000002E-2,0.16550000000000001,0.90110000000000001,null,null,-1.6666666666666681E-3,"-","SPHWHTL3D50E",null,null,null,null,null,null,null,"SPHWHAHDNF27","COB-D series","LC019D","White",90]
[null,null,{"$f":"BT2325","v":"LC026D_R-series"},0.72,1.84,130,0.71,{"$f":"8.5*8.5*3.14","v":226.86500000000001},85,null,null,null,null,null,null,"LED performances @mean/flux_rank","19.0x19.0x1.5 Φ17.0",null,null,null,null,null,null,null,null,null,null,null,null,null,null,null,null,null,null,null,null,null,null,null,null,null,null,null,null,null,null,null,null,null,null,null,null,null,null,null,null,null,null,null,null,null,null,null,null,null,null,null,null,null,null,null,null,90,5000,"-","-","-","-","-","-","-","-","-",1775000,"-","-","-","-",159755090,null,260,280,300,"-","-","-","-","-","MB(250-270)","NB (270-290)","PB (290-310)","-","-","-","-","-",2.75,3.05,"-","-","-","-","-","E2 (2.6-2.9)","G2 (2.9-3.1)","-","-","-","-","-",-3.61E-2,-0.1651,1.5167999999999999,3.15E-2,null,null,-1.5625000000000001E-3,2.5999999999999999E-3,-3.6400000000000002E-2,0.16550000000000001,0.90110000000000001,null,null,-1.6666666666666681E-3,"-","SPHWHTL3D50G",null,null,null,null,null,null,null,"SPHWHAHDNG25","COB-D series","LC026D","White",80]
[null,null,{"$f":"BT2334","v":"LC033D_R-series"},0.9,2.2999999999999998,130,0.6,{"$f":"8.5*8.5*3.14","v":226.86500000000001},85,null,null,null,null,null,null,"LED performances @mean/flux_rank","19.0x19.0x1.5 Φ17.0",null,null,null,null,null,null,null,null,null,null,null,null,null,null,null,null,null,null,null,null,null,null,null,null,null,null,null,null,null,null,null,null,null,null,null,null,null,null,null,null,null,null,null,null,null,null,null,null,null,null,null,null,null,null,null,null,70,5700,"-","-","-","-","-","-","-","-","-",2023500,70,75,80,90,141650770,null,300,320,340,360,"-","-","-","-","PB (290-310)","QB (310-330)","RB (330-350)","SB(350-370)","-","-","-","-",2.75,3.05,"-","-","-","-","-","E2 (2.6-2.9)","G2 (2.9-3.1)","-","-","-","-","-",-3.61E-2,-0.1651,1.5167999999999999,3.15E-2,null,null,-1.5625000000000001E-3,2.5999999999999999E-3,-3.6400000000000002E-2,0.16550000000000001,0.90110000000000001,null,null,-1.6666666666666681E-3,"-","SPHWHTL3D50C",null,null,null,null,null,null,null,"SPHWHAHDNG27","COB-D series","LC026D","White",90]
[null,null,{"$f":"BT2343","v":"LC040D_R-series"},1.08,2.7,130,0.48,471.19,85,null,null,null,null,null,null,"LED performances @mean/flux_rank","28.0x28.0x1.5 Φ24.5",null,null,null,null,null,null,null,null,null,null,null,null,null,null,null,null,null,null,null,null,null,null,null,null,null,null,null,null,null,null,null,null,null,null,null,null,null,null,null,null,null,null,null,null,null,null,null,null,null,null,null,null,null,null,null,null,75,5700,"-","-","-","-","-","-","-","-","-",2023500,"-","-","-","-",151768275,null,300,320,340,360,"-","-","-","-","PB (290-310)","QB (310-330)","RB (330-350)","SB(350-370)","-","-","-","-",2.75,3.05,"-","-","-","-","-","E2 (2.6-2.9)","G2 (2.9-3.1)","-","-","-","-","-",-3.61E-2,-0.1651,1.5167999999999999,3.15E-2,null,null,-1.5625000000000001E-3,2.5999999999999999E-3,-3.6400000000000002E-2,0.16550000000000001,0.90110000000000001,null,null,-1.6666666666666681E-3,"-","SPHWHTL3D50D",null,null,null,null,null,null,null,"SPHWHAHDNH25","COB-D series","LC033D","White",80]
[null,null,{"$f":"BT2350","v":"LC010T Tunable COB"},0.28000000000000003,0.4,130,3.32,9.8000000000000007,25,null,null,null,null,null,25,"LED performances @typ","19.0x19.0x1.0 Φ9.8",null,null,null,null,null,null,null,null,null,null,null,null,null,null,null,null,null,null,null,null,null,null,null,null,null,null,null,null,null,null,null,null,null,null,null,null,null,null,null,null,null,null,null,null,null,null,null,null,null,null,null,null,null,null,null,null,80,5700,"-","-","-","-","-","-","-","-","-",2023500,"-","-","-","-",161885780,null,280,300,320,340,"-","-","-","-","NB (270-290)","PB (290-310)","QB (310-330)","RB(330-350)","-","-","-","-",2.75,3.05,"-","-","-","-","-","E2 (2.6-2.9)","G2 (2.9-3.1)","-","-","-","-","-",-3.61E-2,-0.1651,1.5167999999999999,3.15E-2,null,null,-1.5625000000000001E-3,2.5999999999999999E-3,-3.6400000000000002E-2,0.16550000000000001,0.90110000000000001,null,null,-1.6666666666666681E-3,"-","SPHWHTL3D50E",null,null,null,null,null,null,null,"SPHWHAHDNH27","COB-D series","LC033D","White",90]
[null,null,{"$f":"BT2354","v":"LC020T Tunable COB"},0.56000000000000005,0.8,130,1.73,13,25,null,null,null,null,null,25,"LED performances @typ","19.0x19.0x1.0 Φ13.0",null,null,null,null,null,null,null,null,null,null,null,null,null,null,null,null,null,null,null,null,null,null,null,null,null,null,null,null,null,null,null,null,null,null,null,null,null,null,null,null,null,null,null,null,null,null,null,null,null,null,null,null,null,null,null,null,90,5700,"-","-","-","-","-","-","-","-","-",2023500,"-","-","-","-",182120790,null,260,280,300,"-","-","-","-","-","MB(250-270)","NB (270-290)","PB (290-310)","-","-","-","-","-",2.75,3.05,"-","-","-","-","-","E2 (2.6-2.9)","G2 (2.9-3.1)","-","-","-","-","-",-3.61E-2,-0.1651,1.5167999999999999,3.15E-2,null,null,-1.5625000000000001E-3,2.5999999999999999E-3,-3.6400000000000002E-2,0.16550000000000001,0.90110000000000001,null,null,-1.6666666666666681E-3,"-","SPHWHTL3D50G",null,null,null,null,null,null,null,"SPHWHAHDNK25","COB-D series","LC040D","White",80]
[null,null,{"$f":"BT2358","v":"LC035T Tunable COB"},0.98,1.25,130,0.95,22,25,null,null,null,null,null,25,"LED performances @typ","26.0x26.0x1.0 Φ22.0",null,null,null,null,null,null,null,null,null,null,null,null,null,null,null,null,null,null,null,null,null,null,null,null,null,null,null,null,null,null,null,null,null,null,null,null,null,null,null,null,null,null,null,null,null,null,null,null,null,null,null,null,null,null,null,null,70,6500,"-","-","-","-","-","-","-","-","-",2307500,70,"-","-","-",161531570,null,300,320,340,"-","-","-","-","-","PB (290-310)","QB (310-330)","RB (330-350)","-","-","-","-","-",2.75,3.05,"-","-","-","-","-","E2 (2.6-2.9)","G2 (2.9-3.1)","-","-","-","-","-",-3.61E-2,-0.1651,1.5167999999999999,3.15E-2,null,null,-1.5625000000000001E-3,2.5999999999999999E-3,-3.6400000000000002E-2,0.16550000000000001,0.90110000000000001,null,null,-1.6666666666666681E-3,"-","SPHWHTL3D50C",null,null,null,null,null,null,null,"SPHWHAHDNK27","COB-D series","LC040D","White",90]
[null,null,{"$f":"BT2362","v":"LC013D Vivid White_G2 plus"},0.36,0.72,150,0.85,9.7999999999999989,85,null,null,null,null,null,85,"LED performances @mean/flux_rank",null,null,null,null,null,null,null,null,null,null,null,null,null,null,null,null,null,null,null,null,null,null,null,null,null,null,null,null,null,null,null,null,null,null,null,null,null,null,null,null,null,null,null,null,null,null,null,null,null,null,null,null,null,null,null,"LH351D",356,70,2700,2700,3000,3500,4000,5000,5300,5700,6000,6500,961200,70,80,90,"-",67286770,null,430,450,470,490,"-","-","-","-","U2 (420-440)","V2 (440-460)","W2 (460-480)","Y2 (480-500)","-","-","-","-",2.7,2.9,3.1,"-","-","-","-","D2 (2.6-2.8)","F2 (2.8-3.0)","H2 (3.0-3.2)","-","-","-","-",5.3600000000000002E-2,-0.25180000000000002,1.1618999999999999,-4.4000000000000003E-3,null,null,-1.6239316239316257E-3,6.7000000000000002E-3,-4.1500000000000002E-2,0.14779999999999999,0.88280000000000003,null,null,-1.0166666666666657E-3,"-","SPHWHTL3DA0C",null,null,null,null,null,null,null,"SPHWHAHDNL23","COB-D series","LC060D","White",70]
[null,null,{"$f":"BT2365","v":"LC016D Vivid White_G2 plus"},0.45,0.9,150,0.67,14.5,85,null,null,null,null,null,85,"LED performances @mean/flux_rank",null,null,null,null,null,null,null,null,null,null,null,null,null,null,null,null,null,null,null,null,null,null,null,null,null,null,null,null,null,null,null,null,null,null,null,null,null,null,null,null,null,null,null,null,null,null,null,null,null,null,null,null,null,null,null,null,null,80,2700,"-","-","-","-","-","-","-","-","-",961200,"-","-","-","-",76898780,null,350,370,390,410,"-","-","-","-","Q2 (340-360)","R2 (360-380)","S2 (380-400)","T2 (400-420)","-","-","-",null,2.7,2.9,3.1,"-","-","-","-","D2 (2.6-2.8)","F2 (2.8-3.0)","H2 (3.0-3.2)","-","-","-","-",5.3600000000000002E-2,-0.25180000000000002,1.1618999999999999,-4.4000000000000003E-3,null,null,-1.6239316239316257E-3,6.7000000000000002E-3,-4.1500000000000002E-2,0.14779999999999999,0.88280000000000003,null,null,-1.0166666666666657E-3,"-","SPHWHTL3DA0E",null,null,null,null,null,null,null,"SPHWHAHDNL25","COB-D series","LC060D","White",80]
[null,null,{"$f":"BT2368","v":"LC019D Vivid White_G2 plus"},0.54,1.08,150,0.6,14.5,85,null,null,null,null,null,85,"LED performances @mean/flux_rank",null,null,null,null,null,null,null,null,null,null,null,null,null,null,null,null,null,null,null,null,null,null,null,null,null,null,null,null,null,null,null,null,null,null,null,null,null,null,null,null,null,null,null,null,null,null,null,null,null,null,null,null,null,null,null,null,null,90,2700,"-","-","-","-","-","-","-","-","-",961200,"-","-","-","-",86510790,null,290,310,330,350,"-","-","-","-","M2 (280-300)","N2 (300-320)","P2 (320-340)","Q2 (340-360)","-","-","-","-",2.7,2.9,3.1,"-","-","-","-","D2 (2.6-2.8)","F2 (2.8-3.0)","H2 (3.0-3.2)","-","-","-","-",5.3600000000000002E-2,-0.25180000000000002,1.1618999999999999,-4.4000000000000003E-3,null,null,-1.6239316239316257E-3,6.7000000000000002E-3,-4.1500000000000002E-2,0.14779999999999999,0.88280000000000003,null,null,-1.0166666666666657E-3,"-","SPHWHTL3DA0G",null,null,null,null,null,null,null,"SPHWHAHDNM23","COB-D series","LC080D","White",70]
[null,null,{"$f":"BT2371","v":"LC026D Vivid White_G2 plus"},0.72,1.44,150,0.47,14.5,85,null,null,null,null,null,85,"LED performances @mean/flux_rank",null,null,null,null,null,null,null,null,null,null,null,null,null,null,null,null,null,null,null,null,null,null,null,null,null,null,null,null,null,null,null,null,null,null,null,null,null,null,null,null,null,null,null,null,null,null,null,null,null,null,null,null,null,null,null,null,null,70,3000,"-","-","-","-","-","-","-","-","-",1068000,70,80,90,"-",74763070,null,450,470,490,510,"-","-","-","-","V2 (440-460)","W2 (460-480)","Y2 (480-500)"," Z2 (500-520)","-","-","-","-",2.7,2.9,3.1,"-","-","-","-","D2 (2.6-2.8)","F2 (2.8-3.0)","H2 (3.0-3.2)","-","-","-","-",5.3600000000000002E-2,-0.25180000000000002,1.1618999999999999,-4.4000000000000003E-3,null,null,-1.6239316239316257E-3,6.7000000000000002E-3,-4.1500000000000002E-2,0.14779999999999999,0.88280000000000003,null,null,-1.0166666666666657E-3,"-","SPHWHTL3DA0C",null,null,null,null,null,null,null,"SPHWHAHDNM25","COB-D series","LC080D","White",80]
[null,null,{"$f":"BT2374","v":"LC033D Vivid White_G2 plus"},0.9,1.8,150,0.4,14.5,85,null,null,null,null,null,85,"LED performances @mean/flux_rank",null,null,null,null,null,null,null,null,null,null,null,null,null,null,null,null,null,null,null,null,null,null,null,null,null,null,null,null,null,null,null,null,null,null,null,null,null,null,null,null,null,null,null,null,null,null,null,null,null,null,null,null,null,null,null,null,null,80,3000,"-","-","-","-","-","-","-","-","-",1068000,"-","-","-","-",85443080,null,370,390,410,"-","-","-","-","-","R2 (360-380)","S2 (380-400)","T2 (400-420)","-","-","-","-","-",2.7,2.9,3.1,"-","-","-","-","D2 (2.6-2.8)","F2 (2.8-3.0)","H2 (3.0-3.2)","-","-","-","-",5.3600000000000002E-2,-0.25180000000000002,1.1618999999999999,-4.4000000000000003E-3,null,null,-1.6239316239316257E-3,6.7000000000000002E-3,-4.1500000000000002E-2,0.14779999999999999,0.88280000000000003,null,null,-1.0166666666666657E-3,"-","SPHWHTL3DA0E",null,null,null,null,null,null,null,"SPHWHAHDND2V","COB-D Vivid","LC013D","White","Vivid"]
[null,null,{"$f":"BT2377","v":"LC040D Vivid White_G2 plus"},1.08,2.16,150,0.32,22,85,null,null,null,null,null,85,"LED performances @mean/flux_rank",null,null,null,null,null,null,null,null,null,null,null,null,null,null,null,null,null,null,null,null,null,null,null,null,null,null,null,null,null,null,null,null,null,null,null,null,null,null,null,null,null,null,null,null,null,null,null,null,null,null,null,null,null,null,null,null,null,90,3000,"-","-","-","-","-","-","-","-","-",1068000,"-","-","-","-",96123090,null,310,330,350,370,"-","-","-","-","N2 (300-320)","P2 (320-340)","Q2 (340-360)","R2 (360-380)","-","-","-","-",2.7,2.9,3.1,"-","-","-","-","D2 (2.6-2.8)","F2 (2.8-3.0)","H2 (3.0-3.2)","-","-","-","-",5.3600000000000002E-2,-0.25180000000000002,1.1618999999999999,-4.4000000000000003E-3,null,null,-1.6239316239316257E-3,6.7000000000000002E-3,-4.1500000000000002E-2,0.14779999999999999,0.88280000000000003,null,null,-1.0166666666666657E-3,"-","SPHWHTL3DA0G",null,null,null,null,null,null,null,"SPHWHAHDNE2V","COB-D Vivid","LC016D","White","Vivid"]
[null,null,{"$f":"BT2380","v":"LC013D Vivid White_G3 plus"},0.36,0.72,150,0.81,9.7999999999999989,85,null,null,null,null,null,85,"LED performances @mean/flux_rank",null,null,null,null,null,null,null,null,null,null,null,null,null,null,null,null,null,null,null,null,null,null,null,null,null,null,null,null,null,null,null,null,null,null,null,null,null,null,null,null,null,null,null,null,null,null,null,null,null,null,null,null,null,null,null,null,null,70,3500,"-","-","-","-","-","-","-","-","-",1246000,70,80,90,"-",87223570,null,430,450,470,490,510,"-","-","-","U2 (420-440)","V2 (440-460)","W2 (460-480)","Y2 (480-500)","Z2 (500-520)","-","-","-",2.7,2.9,3.1,"-","-","-","-","D2 (2.6-2.8)","F2 (2.8-3.0)","H2 (3.0-3.2)","-","-","-","-",5.3600000000000002E-2,-0.25180000000000002,1.1618999999999999,-4.4000000000000003E-3,null,null,-1.6239316239316257E-3,6.7000000000000002E-3,-4.1500000000000002E-2,0.14779999999999999,0.88280000000000003,null,null,-1.0166666666666657E-3,"-","SPHWHTL3DA0C",null,null,null,null,null,null,null,"SPHWHAHDNF2V","COB-D Vivid","LC019D","White","Vivid"]
[null,null,{"$f":"BT2383","v":"LC016D Vivid White_G3 plus"},0.45,0.9,150,0.64,14.5,85,null,null,null,null,null,85,"LED performances @mean/flux_rank",null,null,null,null,null,null,null,null,null,null,null,null,null,null,null,null,null,null,null,null,null,null,null,null,null,null,null,null,null,null,null,null,null,null,null,null,null,null,null,null,null,null,null,null,null,null,null,null,null,null,null,null,null,null,null,null,null,80,3500,"-","-","-","-","-","-","-","-","-",1246000,"-","-","-","-",99683580,null,370,390,410,430,"-","-","-","-","R2 (360-380)","S2 (380-400)","T2 (400-420)","U2 (420-440)","-","-",null,"-",2.7,2.9,3.1,"-","-","-","-","D2 (2.6-2.8)","F2 (2.8-3.0)","H2 (3.0-3.2)","-","-","-","-",5.3600000000000002E-2,-0.25180000000000002,1.1618999999999999,-4.4000000000000003E-3,null,null,-1.6239316239316257E-3,6.7000000000000002E-3,-4.1500000000000002E-2,0.14779999999999999,0.88280000000000003,null,null,-1.0166666666666657E-3,"-","SPHWHTL3DA0E",null,null,null,null,null,null,null,"SPHWHAHDNG2V","COB-D Vivid","LC026D","White","Vivid"]
[null,null,{"$f":"BT2386","v":"LC019D Vivid White_G3 plus"},0.54,1.08,150,0.56999999999999995,14.5,85,null,null,null,null,null,85,"LED performances @mean/flux_rank",null,null,null,null,null,null,null,null,null,null,null,null,null,null,null,null,null,null,null,null,null,null,null,null,null,null,null,null,null,null,null,null,null,null,null,null,null,null,null,null,null,null,null,null,null,null,null,null,null,null,null,null,null,null,null,null,null,90,3500,"-","-","-","-","-","-","-","-","-",1246000,"-","-","-","-",112143590,null,310,330,350,370,"-","-","-","-","N2 (300-320)","P2 (320-340)","Q2 (340-360)","R2 (360-380)","-","-","-","-",2.7,2.9,3.1,"-","-","-","-","D2 (2.6-2.8)","F2 (2.8-3.0)","H2 (3.0-3.2)","-","-","-","-",5.3600000000000002E-2,-0.25180000000000002,1.1618999999999999,-4.4000000000000003E-3,null,null,-1.6239316239316257E-3,6.7000000000000002E-3,-4.1500000000000002E-2,0.14779999999999999,0.88280000000000003,null,null,-1.0166666666666657E-3,"-","SPHWHTL3DA0G",null,null,null,null,null,null,null,"SPHWHAHDNH2V","COB-D Vivid","LC033D","White","Vivid"]
[null,null,{"$f":"BT2389","v":"LC026D Vivid White_G3 plus"},0.72,1.44,150,0.45,14.5,85,null,null,null,null,null,85,"LED performances @mean/flux_rank",null,null,null,null,null,null,null,null,null,null,null,null,null,null,null,null,null,null,null,null,null,null,null,null,null,null,null,null,null,null,null,null,null,null,null,null,null,null,null,null,null,null,null,null,null,null,null,null,null,null,null,null,null,null,null,null,null,70,4000,"-","-","-","-","-","-","-","-","-",1424000,70,80,90,"-",99684070,null,470,490,510,530,"-","-","-","-","W2 (460-480)","Y2 (480-500)","Z2 (500-520)","12 (520-540)","-","-","-","-",2.7,2.9,3.1,"-","-","-","-","D2 (2.6-2.8)","F2 (2.8-3.0)","H2 (3.0-3.2)","-","-","-","-",5.3600000000000002E-2,-0.25180000000000002,1.1618999999999999,-4.4000000000000003E-3,null,null,-1.6239316239316257E-3,6.7000000000000002E-3,-4.1500000000000002E-2,0.14779999999999999,0.88280000000000003,null,null,-1.0166666666666657E-3,"-","SPHWHTL3DA0C",null,null,null,null,null,null,null,"SCA8WT78HAL4","CSP 3030(2x2)","LH204A","2700K",80]
[null,null,{"$f":"BT2392","v":"LC033D Vivid White_G3 plus"},0.9,1.8,150,0.38,14.5,85,null,null,null,null,null,85,"LED performances @mean/flux_rank",null,null,null,null,null,null,null,null,null,null,null,null,null,null,null,null,null,null,null,null,null,null,null,null,null,null,null,null,null,null,null,null,null,null,null,null,null,null,null,null,null,null,null,null,null,null,null,null,null,null,null,null,null,null,null,null,null,80,4000,"-","-","-","-","-","-","-","-","-",1424000,"-","-","-","-",113924080,null,390,410,430,450,"-","-","-","-","S2 (380-400)","T2 (400-420)","U2 (420-440)","V2 (440-460)","-","-",null,"-",2.7,2.9,3.1,"-","-","-","-","D2 (2.6-2.8)","F2 (2.8-3.0)","H2 (3.0-3.2)","-","-","-","-",5.3600000000000002E-2,-0.25180000000000002,1.1618999999999999,-4.4000000000000003E-3,null,null,-1.6239316239316257E-3,6.7000000000000002E-3,-4.1500000000000002E-2,0.14779999999999999,0.88280000000000003,null,null,-1.0166666666666657E-3,"-","SPHWHTL3DA0E",null,null,null,null,null,null,null,"SCA9WT78HAL4","CSP 3030(2x2)","LH204A","2700K",90]
[null,null,{"$f":"BT2395","v":"LC040D Vivid White_G3 plus"},1.08,2.16,150,0.3,22,85,null,null,null,null,null,85,"LED performances @mean/flux_rank",null,null,null,null,null,null,null,null,null,null,null,null,null,null,null,null,null,null,null,null,null,null,null,null,null,null,null,null,null,null,null,null,null,null,null,null,null,null,null,null,null,null,null,null,null,null,null,null,null,null,null,null,null,null,null,null,null,90,4000,"-","-","-","-","-","-","-","-","-",1424000,"-","-","-","-",128164090,null,330,350,370,390,"-","-","-","-","P2 (320-340)","Q2 (340-360)","R2 (360-380)","S2 (380-400)","-","-","-","-",2.7,2.9,3.1,"-","-","-","-","D2 (2.6-2.8)","F2 (2.8-3.0)","H2 (3.0-3.2)","-","-","-","-",5.3600000000000002E-2,-0.25180000000000002,1.1618999999999999,-4.4000000000000003E-3,null,null,-1.6239316239316257E-3,6.7000000000000002E-3,-4.1500000000000002E-2,0.14779999999999999,0.88280000000000003,null,null,-1.0166666666666657E-3,"-","SPHWHTL3DA0G",null,null,null,null,null,null,null,"SCA7VT78HAL4","CSP 3030(2x2)","LH204A","3000K",70]
[null,null,null,null,null,null,null,null,null,null,null,null,null,null,null,null,null,null,null,null,null,null,null,null,null,null,null,null,null,null,null,null,null,null,null,null,null,null,null,null,null,null,null,null,null,null,null,null,null,null,null,null,null,null,null,null,null,null,null,null,null,null,null,null,null,null,null,null,null,null,null,null,null,70,5000,"-","-","-","-","-","-","-","-","-",1780000,70,80,90,"-",124605070,null,470,490,510,530,"-","-","-","-","W2 (460-480)","Y2 (480-500)","Z2 (500-520)","12 (520-540)","-","-","-","-",2.7,2.9,3.1,"-","-","-","-","D2 (2.6-2.8)","F2 (2.8-3.0)","H2 (3.0-3.2)","-","-","-","-",5.3600000000000002E-2,-0.25180000000000002,1.1618999999999999,-4.4000000000000003E-3,null,null,-1.6239316239316257E-3,6.7000000000000002E-3,-4.1500000000000002E-2,0.14779999999999999,0.88280000000000003,null,null,-1.0166666666666657E-3,"-","SPHWHTL3DA0C",null,null,null,null,null,null,null,"SCA8VT78HAL4","CSP 3030(2x2)","LH204A","3000K",80]
[null,null,null,null,null,null,null,null,null,null,null,null,null,null,null,null,null,null,null,null,null,null,null,null,null,null,null,null,null,null,null,null,null,null,null,null,null,null,null,null,null,null,null,null,null,null,null,null,null,null,null,null,null,null,null,null,null,null,null,null,null,null,null,null,null,null,null,null,null,null,null,null,null,80,5000,"-","-","-","-","-","-","-","-","-",1780000,"-","-","-","-",142405080,null,410,430,450,470,"-","-","-","-","T2 (400-420)","U2 (420-440)","V2 (440-460)","W2 (460-480)","-","-",null,"-",2.7,2.9,3.1,"-","-","-","-","D2 (2.6-2.8)","F2 (2.8-3.0)","H2 (3.0-3.2)","-","-","-","-",5.3600000000000002E-2,-0.25180000000000002,1.1618999999999999,-4.4000000000000003E-3,null,null,-1.6239316239316257E-3,6.7000000000000002E-3,-4.1500000000000002E-2,0.14779999999999999,0.88280000000000003,null,null,-1.0166666666666657E-3,"-","SPHWHTL3DA0E",null,null,null,null,null,null,null,"SCA9VT78HAL4","CSP 3030(2x2)","LH204A","3000K",90]
[null,null,null,null,null,null,null,null,null,null,null,null,null,null,null,null,null,null,null,null,null,null,null,null,null,null,null,null,null,null,null,null,null,null,null,null,null,null,null,null,null,null,null,null,null,null,null,null,null,null,null,null,null,null,null,null,null,null,null,null,null,null,null,null,null,null,null,null,null,null,null,null,null,90,5000,"-","-","-","-","-","-","-","-","-",1780000,"-","-","-","-",160205090,null,370,390,410,430,"-","-","-","-","R2 (360-380)","S2 (380-400)","T2 (400-420)","U2 (420-440)","-","-","-","-",2.7,2.9,3.1,"-","-","-","-","D2 (2.6-2.8)","F2 (2.8-3.0)","H2 (3.0-3.2)","-","-","-","-",5.3600000000000002E-2,-0.25180000000000002,1.1618999999999999,-4.4000000000000003E-3,null,null,-1.6239316239316257E-3,6.7000000000000002E-3,-4.1500000000000002E-2,0.14779999999999999,0.88280000000000003,null,null,-1.0166666666666657E-3,"-","SPHWHTL3DA0G",null,null,null,null,null,null,null,"SCA7UT78HAL4","CSP 3030(2x2)","LH204A","3500K",70]
[null,null,null,null,null,null,null,null,null,null,null,null,null,null,null,null,null,null,null,null,null,null,null,null,null,null,null,null,null,null,null,null,null,null,null,null,null,null,null,null,null,null,null,null,null,null,null,null,null,null,null,null,null,null,null,null,null,null,null,null,null,null,null,null,null,null,null,null,null,null,null,null,null,80,5300,"-","-","-","-","-","-","-","-","-",1886800,80,"-","-","-",150949380,null,410,430,450,470,"-","-","-","-","T2 (400-420)","U2 (420-440)","V2 (440-460)","W2 (460-480)","-","-","-","-",2.7,2.9,3.1,"-","-","-","-","D2 (2.6-2.8)","F2 (2.8-3.0)","H2 (3.0-3.2)","-","-","-","-",5.3600000000000002E-2,-0.25180000000000002,1.1618999999999999,-4.4000000000000003E-3,null,null,-1.6239316239316257E-3,6.7000000000000002E-3,-4.1500000000000002E-2,0.14779999999999999,0.88280000000000003,null,null,-1.0166666666666657E-3,"-","SPHWHTL3DA0E",null,null,null,null,null,null,null,"SCA8UT78HAL4","CSP 3030(2x2)","LH204A","3500K",80]
[null,null,null,null,null,null,null,null,null,null,null,null,null,null,null,null,null,null,null,null,null,null,null,null,null,null,null,null,null,null,null,null,null,null,null,null,null,null,null,null,null,null,null,null,null,null,null,null,null,null,null,null,null,null,null,null,null,null,null,null,null,null,null,null,null,null,null,null,null,null,null,null,null,70,5700,"-","-","-","-","-","-","-","-","-",2029200,70,80,"-","-",142049770,null,470,490,510,530,"-","-","-","-","W2 (460-480)","Y2 (480-500)","Z2 (500-520)","12 (520-540)","-","-","-","-",2.7,2.9,3.1,"-","-","-","-","D2 (2.6-2.8)","F2 (2.8-3.0)","H2 (3.0-3.2)","-","-","-","-",5.3600000000000002E-2,-0.25180000000000002,1.1618999999999999,-4.4000000000000003E-3,null,null,-1.6239316239316257E-3,6.7000000000000002E-3,-4.1500000000000002E-2,0.14779999999999999,0.88280000000000003,null,null,-1.0166666666666657E-3,"-","SPHWHTL3DA0C",null,null,null,null,null,null,null,"SCA9UT78HAL4","CSP 3030(2x2)","LH204A","3500K",90]
[null,null,null,null,null,null,null,null,null,null,null,null,null,null,null,null,null,null,null,null,null,null,null,null,null,null,null,null,null,null,null,null,null,null,null,null,null,null,null,null,null,null,null,null,null,null,null,null,null,null,null,null,null,null,null,null,null,null,null,null,null,null,null,null,null,null,null,null,null,null,null,null,null,80,5700,"-","-","-","-","-","-","-","-","-",2029200,"-","-","-","-",162341780,null,410,430,450,470,"-","-","-","-","T2 (400-420)","U2 (420-440)","V2 (440-460)","W2 (460-480)","-","-",null,"-",2.7,2.9,3.1,"-","-","-","-","D2 (2.6-2.8)","F2 (2.8-3.0)","H2 (3.0-3.2)","-","-","-","-",5.3600000000000002E-2,-0.25180000000000002,1.1618999999999999,-4.4000000000000003E-3,null,null,-1.6239316239316257E-3,6.7000000000000002E-3,-4.1500000000000002E-2,0.14779999999999999,0.88280000000000003,null,null,-1.0166666666666657E-3,"-","SPHWHTL3DA0E",null,null,null,null,null,null,null,"SCA7TT78HAL4","CSP 3030(2x2)","LH204A","4000K",70]
[null,null,null,null,null,null,null,null,null,null,null,null,null,null,null,null,null,null,null,null,null,null,null,null,null,null,null,null,null,null,null,null,null,null,null,null,null,null,null,null,null,null,null,null,null,null,null,null,null,null,null,null,null,null,null,null,null,null,null,null,null,null,null,null,null,null,null,null,null,null,null,null,null,80,6000,"-","-","-","-","-","-","-","-","-",2136000,80,90,"-","-",170886080,null,410,430,450,470,"-","-","-","-","T2 (400-420)","U2 (420-440)","V2 (440-460)","W2 (460-480)","-","-",null,"-",2.7,2.9,3.1,"-","-","-","-","D2 (2.6-2.8)","F2 (2.8-3.0)","H2 (3.0-3.2)","-","-","-","-",5.3600000000000002E-2,-0.25180000000000002,1.1618999999999999,-4.4000000000000003E-3,null,null,-1.6239316239316257E-3,6.7000000000000002E-3,-4.1500000000000002E-2,0.14779999999999999,0.88280000000000003,null,null,-1.0166666666666657E-3,"-","SPHWHTL3DA0E",null,null,null,null,null,null,null,"SCA8TT78HAL4","CSP 3030(2x2)","LH204A","4000K",80]
[null,null,null,null,null,null,null,null,null,null,null,null,null,null,null,null,null,null,null,null,null,null,null,null,null,null,null,null,null,null,null,null,null,null,null,null,null,null,null,null,null,null,null,null,null,null,null,null,null,null,null,null,null,null,null,null,null,null,null,null,null,null,null,null,null,null,null,null,null,null,null,null,null,90,6000,"-","-","-","-","-","-","-","-","-",2136000,"-","-","-","-",192246090,null,430,450,470,490,"-","-","-","-","R2 (360-380)","S2 (380-400)","T2 (400-420)","U2 (420-440)","-","-","-","-",2.7,2.9,3.1,"-","-","-","-","D2 (2.6-2.8)","F2 (2.8-3.0)","H2 (3.0-3.2)","-","-","-","-",5.3600000000000002E-2,-0.25180000000000002,1.1618999999999999,-4.4000000000000003E-3,null,null,-1.6239316239316257E-3,6.7000000000000002E-3,-4.1500000000000002E-2,0.14779999999999999,0.88280000000000003,null,null,-1.0166666666666657E-3,"-","SPHWHTL3DA0G",null,null,null,null,null,null,null,"SCA9TT78HAL4","CSP 3030(2x2)","LH204A","4000K",90]
[null,null,null,null,null,null,null,null,null,null,null,null,null,null,null,null,null,null,null,null,null,null,null,null,null,null,null,null,null,null,null,null,null,null,null,null,null,null,null,null,null,null,null,null,null,null,null,null,null,null,null,null,null,null,null,null,null,null,null,null,null,null,null,null,null,null,null,null,null,null,null,null,null,70,6500,"-","-","-","-","-","-","-","-","-",2314000,70,80,"-","-",161986570,null,470,490,510,530,"-","-","-","-","W2 (460-480)","Y2 (480-500)","Z2 (500-520)","12 (520-540)","-","-","-","-",2.5,2.7,2.9,"-","-","-","-","D2 (2.6-2.8)","F2 (2.8-3.0)","H2 (3.0-3.2)","-","-","-","-",5.3600000000000002E-2,-0.25180000000000002,1.1618999999999999,-4.4000000000000003E-3,null,null,-1.6239316239316257E-3,6.7000000000000002E-3,-4.1500000000000002E-2,0.14779999999999999,0.88280000000000003,null,null,-1.0166666666666657E-3,"-","SPHWHTL3DA0C",null,null,null,null,null,null,null,"SCA7RT78HAL4","CSP 3030(2x2)","LH204A","5000K",70]
[null,null,null,null,null,null,null,null,null,null,null,null,null,null,null,null,null,null,null,null,null,null,null,null,null,null,null,null,null,null,null,null,null,null,null,null,null,null,null,null,null,null,null,null,null,null,null,null,null,null,null,null,null,null,null,null,null,null,null,null,null,null,null,null,null,null,null,null,null,null,null,null,null,80,6500,"-","-","-","-","-","-","-","-","-",2314000,"-","-","-","-",185126580,null,410,430,450,470,"-","-","-","-","T2 (400-420)","U2 (420-440)","V2 (440-460)","W2 (460-480)","-","-",null,null,2.5,2.7,2.9,"-","-","-","-","D2 (2.6-2.8)","F2 (2.8-3.0)","H2 (3.0-3.2)","-","-","-","-",5.3600000000000002E-2,-0.25180000000000002,1.1618999999999999,-4.4000000000000003E-3,null,null,-1.6239316239316257E-3,6.7000000000000002E-3,-4.1500000000000002E-2,0.14779999999999999,0.88280000000000003,null,null,-1.0166666666666657E-3,"-","SPHWHTL3DA0E",null,null,null,null,null,null,null,"SCA8RT78HAL4","CSP 3030(2x2)","LH204A","5000K",80]
[null,null,null,null,null,null,null,null,null,null,null,null,null,null,null,null,null,null,null,null,null,null,null,null,null,null,null,null,null,null,null,null,null,null,null,null,null,null,null,null,null,null,null,null,null,null,null,null,null,null,null,null,null,null,null,null,null,null,null,null,null,null,null,null,null,null,null,null,null,null,null,"LM351A",357,80,2700,2700,3000,3500,4000,5000,5700,6500,"-","-",{"$f":"$BU$220*BW220","v":963900},80,"-","-","-",{"$f":"$BU$220*BV220*BW220+BV220+BW220","v":77114780},"Flux : S1,S2,S3",{"$f":"AVERAGE(62,69)","v":65.5},{"$f":"AVERAGE(69,76.5)","v":72.75},{"$f":"AVERAGE(76.5,84.5)","v":80.5},"-","-","-","-","-","S1 (62.0-69.0)","S2 (69.0-76.5)","S3 (76.5-84.5)","-","-","-","-","-",3.05,3.15,3.25,3.35,3.45,"-","-","A1 (3.0-3.1)","A2 (3.1-3.2)","A3 (3.2-3.3)","A4 (3.3-3.4)","A5 (3.4-3.5)","-","-",null,-2.7263999999999999,6.9194000000000004,2.35E-2,null,null,-1.5817918186212063E-3,null,-0.3372,0.50590000000000002,0.93169999999999997,null,null,-2.013E-3,"Vf : A1,A2,A3,A4,A5","SPMWHT326LD5",null,null,null,null,null,null,null,"SCA7QT78HAL4","CSP 3030(2x2)","LH204A","5700K",70]
[null,null,null,null,null,null,null,null,null,null,null,null,null,null,null,null,null,null,null,null,null,null,null,null,null,null,null,null,null,null,null,null,null,null,null,null,null,null,null,null,null,null,null,null,null,null,null,null,null,null,null,null,null,null,null,null,null,null,null,null,null,null,null,null,null,null,null,null,null,null,null,null,null,80,3000,null,null,null,null,null,null,null,null,null,1071000,80,"-","-","-",85683080,"Flux : S1,S2,S3",{"$f":"AVERAGE(65,72.5)","v":68.75},{"$f":"AVERAGE(72.5,80)","v":76.25},{"$f":"AVERAGE(80,88.5)","v":84.25},"-","-","-","-","-","S1 (65.0-72.5)","S2 (72.5-80.0)","S3 (80.0-88.5)","-","-","-","-","-",3.05,3.15,3.25,3.35,3.45,"-","-","A1 (3.0-3.1)","A2 (3.1-3.2)","A3 (3.2-3.3)","A4 (3.3-3.4)","A5 (3.4-3.5)","-","-",null,{"$f":"DS220","v":-2.7263999999999999},6.9194000000000004,2.35E-2,null,null,{"$f":"DX220","v":-1.5817918186212063E-3},null,{"$f":"DZ220","v":-0.3372},0.50590000000000002,0.93169999999999997,null,null,{"$f":"EE220","v":-2.013E-3},"Vf : A1,A2,A3,A4,A5","SPMWHT326LD5",null,null,null,null,null,null,null,"SCA7PT78HAL4","CSP 3030(2x2)","LH204A","6500K",70]
[null,null,null,null,null,null,null,null,null,null,null,null,null,null,null,null,null,null,null,null,null,null,null,null,null,null,null,null,null,null,null,null,null,null,null,null,null,null,null,null,null,null,null,null,null,null,null,null,null,null,null,null,null,null,null,null,null,null,null,null,null,null,null,null,null,null,null,null,null,null,null,null,null,80,3500,null,null,null,null,null,null,null,null,null,1249500,80,"-","-","-",99963580,"Flux : S1,S2,S3",{"$f":"AVERAGE(68,75.5)","v":71.75},{"$f":"AVERAGE(75.5,83.5)","v":79.5},{"$f":"AVERAGE(83.5,92.5)","v":88},"-","-","-","-","-","S1 (68.0-75.5)","S2 (75.5-83.5)","S3 (83.5-92.5)","-","-","-","-","-",3.05,3.15,3.25,3.35,3.45,"-","-","A1 (3.0-3.1)","A2 (3.1-3.2)","A3 (3.2-3.3)","A4 (3.3-3.4)","A5 (3.4-3.5)","-","-",null,-2.7263999999999999,6.9194000000000004,2.35E-2,null,null,-1.5817918186212063E-3,null,-0.3372,0.50590000000000002,0.93169999999999997,null,null,-2.013E-3,"Vf : A1,A2,A3,A4,A5","SPMWHT326LD5",null,null,null,null,null,null,null,"SCA8WT78HAL9","CSP 5050(3x3)","LH309A","2700K",80]
[null,null,null,null,null,null,null,null,null,null,null,null,null,null,null,null,null,null,null,null,null,null,null,null,null,null,null,null,null,null,null,null,null,null,null,null,null,null,null,null,null,null,null,null,null,null,null,null,null,null,null,null,null,null,null,null,null,null,null,null,null,null,null,null,null,null,null,null,null,null,null,null,null,80,4000,null,null,null,null,null,null,null,null,null,1428000,80,"-","-","-",114244080,"Flux : S1,S2,S3",{"$f":"AVERAGE(70,78)","v":74},{"$f":"AVERAGE(78,86)","v":82},{"$f":"AVERAGE(86,95)","v":90.5},"-","-","-","-","-","S1 (70.0-78.0)","S2 (78.0-86.0)","S3 (86.0-95.0)","-","-","-","-","-",3.05,3.15,3.25,3.35,3.45,"-","-","A1 (3.0-3.1)","A2 (3.1-3.2)","A3 (3.2-3.3)","A4 (3.3-3.4)","A5 (3.4-3.5)","-","-",null,-2.7263999999999999,6.9194000000000004,2.35E-2,null,null,-1.5817918186212063E-3,null,-0.3372,0.50590000000000002,0.93169999999999997,null,null,-2.013E-3,"Vf : A1,A2,A3,A4,A5","SPMWHT326LD5",null,null,null,null,null,null,null,"SCA9WT78HAL9","CSP 5050(3x3)","LH309A","2700K",90]
[null,null,null,null,null,null,null,null,null,null,null,null,null,null,null,null,null,null,null,null,null,null,null,null,null,null,null,null,null,null,null,null,null,null,null,null,null,null,null,null,null,null,null,null,null,null,null,null,null,null,null,null,null,null,null,null,null,null,null,null,null,null,null,null,null,null,null,null,null,null,null,null,null,80,5000,null,null,null,null,null,null,null,null,null,1785000,80,"-","-","-",142805080,"Flux : S1,S2,S3",{"$f":"AVERAGE(72.5,80.5)","v":76.5},{"$f":"AVERAGE(80.5,89)","v":84.75},{"$f":"AVERAGE(89,98)","v":93.5},"-","-","-","-","-","S1 (72.5-80.5)","S2 (80.5-89.0)","S3 (89.0-98.0)","-","-","-","-","-",3.05,3.15,3.25,3.35,3.45,"-","-","A1 (3.0-3.1)","A2 (3.1-3.2)","A3 (3.2-3.3)","A4 (3.3-3.4)","A5 (3.4-3.5)","-","-",null,-2.7263999999999999,6.9194000000000004,2.35E-2,null,null,-1.5817918186212063E-3,null,-0.3372,0.50590000000000002,0.93169999999999997,null,null,-2.013E-3,"Vf : A1,A2,A3,A4,A5","SPMWHT326LD5",null,null,null,null,null,null,null,"SCA7VT78HAL9","CSP 5050(3x3)","LH309A","3000K",70]
[null,null,null,null,null,null,null,null,null,null,null,null,null,null,null,null,null,null,null,null,null,null,null,null,null,null,null,null,null,null,null,null,null,null,null,null,null,null,null,null,null,null,null,null,null,null,null,null,null,null,null,null,null,null,null,null,null,null,null,null,null,null,null,null,null,null,null,null,null,null,null,null,null,80,5700,null,null,null,null,null,null,null,null,null,2034900,80,"-","-","-",162797780,"Flux : S1,S2,S3",{"$f":"AVERAGE(70,78)","v":74},{"$f":"AVERAGE(78,86)","v":82},{"$f":"AVERAGE(86,95)","v":90.5},"-","-","-","-","-","S1 (70.0-78.0)","S2 (78.0-86.0)","S3 (86.0-95.0)","-","-","-","-","-",3.05,3.15,3.25,3.35,3.45,"-","-","A1 (3.0-3.1)","A2 (3.1-3.2)","A3 (3.2-3.3)","A4 (3.3-3.4)","A5 (3.4-3.5)","-","-",null,-2.7263999999999999,6.9194000000000004,2.35E-2,null,null,-1.5817918186212063E-3,null,-0.3372,0.50590000000000002,0.93169999999999997,null,null,-2.013E-3,"Vf : A1,A2,A3,A4,A5","SPMWHT326LD5",null,null,null,null,null,null,null,"SCA8VT78HAL9","CSP 5050(3x3)","LH309A","3000K",80]
[null,null,null,null,null,null,null,null,null,null,null,null,null,null,null,null,null,null,null,null,null,null,null,null,null,null,null,null,null,null,null,null,null,null,null,null,null,null,null,null,null,null,null,null,null,null,null,null,null,null,null,null,null,null,null,null,null,null,null,null,null,null,null,null,null,null,null,null,null,null,null,null,null,80,6500,null,null,null,null,null,null,null,null,null,2320500,80,"-","-","-",185646580,"Flux : S1,S2,S3",{"$f":"AVERAGE(68.5,76.5)","v":72.5},{"$f":"AVERAGE(76.5,84.5)","v":80.5},{"$f":"AVERAGE(84.5,93)","v":88.75},"-","-","-","-","-","S1 (68.5-76.5)","S2 (76.5-84.5)","S3 (84.5-93.0)","-","-","-","-","-",3.05,3.15,3.25,3.35,3.45,"-","-","A1 (3.0-3.1)","A2 (3.1-3.2)","A3 (3.2-3.3)","A4 (3.3-3.4)","A5 (3.4-3.5)","-","-",null,-2.7263999999999999,6.9194000000000004,2.35E-2,null,null,-1.5817918186212063E-3,null,-0.3372,0.50590000000000002,0.93169999999999997,null,null,-2.013E-3,"Vf : A1,A2,A3,A4,A5","SPMWHT326LD5",null,null,null,null,null,null,null,"SCA9VT78HAL9","CSP 5050(3x3)","LH309A","3000K",90]
[null,null,null,null,null,null,null,null,null,null,null,null,null,null,null,null,null,null,null,null,null,null,null,null,null,null,null,null,null,null,null,null,null,null,null,null,null,null,null,null,null,null,null,null,null,null,null,null,null,null,null,null,null,null,null,null,null,null,null,null,null,null,null,null,null,null,null,null,null,null,null,"LM131A",131,80,2700,2700,3000,4000,5000,6500,"-","-","-","-",{"$f":"$BU$227*BW227","v":353700},80,"-","-","-",{"$f":"$BU$227*BV227*BW227+BV227+BW227","v":28298780},"Flux : 8A,AC",{"$f":"AVERAGE(82,90)","v":86},{"$f":"AVERAGE(90,98)","v":94},{"$f":"AVERAGE(98,106)","v":102},"-","-","-","-","-","8A (82-90)","AC (90-98)","CE (98-106)","-","-","-","-","-",3.1,3.3,"-","-","-","-","-","CG (3.0-3.2)","GK (3.2-3.4)","-","-","-","-","-",null,-2.4,3.96,2.8000000000000001E-2,null,null,-1.3333333333333326E-3,null,-0.3125,0.51559999999999995,0.87339999999999995,null,null,-2.1333333333333352E-3,"Vf : CE,EG,GI,IK","SCS8WT78EFL1",null,null,null,null,null,null,null,"SCA7UT78HAL9","CSP 5050(3x3)","LH309A","3500K",70]
[null,null,null,null,null,null,null,null,null,null,null,null,null,null,null,null,null,null,null,null,null,null,null,null,null,null,null,null,null,null,null,null,null,null,null,null,null,null,null,null,null,null,null,null,null,null,null,null,null,null,null,null,null,null,null,null,null,null,null,null,null,null,null,null,null,null,null,null,null,null,null,null,null,80,3000,null,null,null,null,null,null,null,null,null,{"$f":"$BU$227*BW228","v":393000},80,"-","-","-",{"$f":"$BU$227*BV228*BW228+BV228+BW228","v":31443080},"Flux : 8A,AC",{"$f":"AVERAGE(86,94)","v":90},{"$f":"AVERAGE(94,102)","v":98},{"$f":"AVERAGE(102,110)","v":106},"-","-","-","-","-","9B (86-94)","BD (94-102)","DF (102-110)","-","-","-","-","-",3.1,3.3,"-","-","-","-","-","CG (3.0-3.2)","GK (3.2-3.4)","-","-","-","-","-",null,{"$f":"DS227","v":-2.4},3.96,2.8000000000000001E-2,null,null,-1.3333333333333326E-3,null,{"$f":"DZ227","v":-0.3125},0.51559999999999995,0.87339999999999995,null,null,-2.1333333333333352E-3,"Vf : CE,EG,GI,IK","SCS8VT78EFL1",null,null,null,null,null,null,null,"SCA8UT78HAL9","CSP 5050(3x3)","LH309A","3500K",80]
[null,null,null,null,null,null,null,null,null,null,null,null,null,null,null,null,null,null,null,null,null,null,null,null,null,null,null,null,null,null,null,null,null,null,null,null,null,null,null,null,null,null,null,null,null,null,null,null,null,null,null,null,null,null,null,null,null,null,null,null,null,null,null,null,null,null,null,null,null,null,null,null,null,80,4000,null,null,null,null,null,null,null,null,null,{"$f":"$BU$227*BW229","v":524000},80,"-","-","-",{"$f":"$BU$227*BV229*BW229+BV229+BW229","v":41924080},"Flux : AC,CE",{"$f":"AVERAGE(94,102)","v":98},{"$f":"AVERAGE(102,110)","v":106},{"$f":"AVERAGE(110,118)","v":114},"-","-","-","-","-","BD (94-102)","DF (102-110)","FH (110-118)","-","-","-","-","-",3.1,3.3,"-","-","-","-","-","CG (3.0-3.2)","GK (3.2-3.4)","-","-","-","-","-",null,-2.4,3.96,2.8000000000000001E-2,null,null,-1.3333333333333326E-3,null,-0.3125,0.51559999999999995,0.87339999999999995,null,null,-2.1333333333333352E-3,"Vf : CE,EG,GI,IK","SCS8TT78EFL1",null,null,null,null,null,null,null,"SCA9UT78HAL9","CSP 5050(3x3)","LH309A","3500K",90]
[null,null,null,null,null,null,null,null,null,null,null,null,null,null,null,null,null,null,null,null,null,null,null,null,null,null,null,null,null,null,null,null,null,null,null,null,null,null,null,null,null,null,null,null,null,null,null,null,null,null,null,null,null,null,null,null,null,null,null,null,null,null,null,null,null,null,null,null,null,null,null,null,null,80,5000,null,null,null,null,null,null,null,null,null,{"$f":"$BU$227*BW230","v":655000},80,"-","-","-",{"$f":"$BU$227*BV230*BW230+BV230+BW230","v":52405080},"Flux : BD,DF",{"$f":"AVERAGE(98,106)","v":102},{"$f":"AVERAGE(106,114)","v":110},{"$f":"AVERAGE(114,122)","v":118},"-","-","-","-","-","CE (98-106)","EG (106-114)","GI (114-122)","-","-","-","-","-",3.1,3.3,"-","-","-","-","-","CG (3.0-3.2)","GK (3.2-3.4)","-","-","-","-","-",null,-2.4,3.96,2.8000000000000001E-2,null,null,-1.3333333333333326E-3,null,-0.3125,0.51559999999999995,0.87339999999999995,null,null,-2.1333333333333352E-3,"Vf : CE,EG,GI,IK","SCS8RT78EFL1",null,null,null,null,null,null,null,"SCA7TT78HAL9","CSP 5050(3x3)","LH309A","4000K",70]
[null,null,null,null,null,null,null,null,null,null,null,null,null,null,null,null,null,null,null,null,null,null,null,null,null,null,null,null,null,null,null,null,null,null,null,null,null,null,null,null,null,null,null,null,null,null,null,null,null,null,null,null,null,null,null,null,null,null,null,null,null,null,null,null,null,null,null,null,null,null,null,null,null,80,6500,null,null,null,null,null,null,null,null,null,{"$f":"$BU$227*BW231","v":851500},80,"-","-","-",{"$f":"$BU$227*BV231*BW231+BV231+BW231","v":68126580},"Flux : AC,CE",{"$f":"AVERAGE(94,102)","v":98},{"$f":"AVERAGE(102,110)","v":106},{"$f":"AVERAGE(110,118)","v":114},"-","-","-","-","-","BD (94-102)","DF (102-110)","FH (110-118)","-","-","-","-","-",3.1,3.3,"-","-","-","-","-","CG (3.0-3.2)","GK (3.2-3.4)","-","-","-","-","-",null,-2.4,3.96,2.8000000000000001E-2,null,null,-1.3333333333333326E-3,null,-0.3125,0.51559999999999995,0.87339999999999995,null,null,-2.1333333333333352E-3,"Vf : CE,EG,GI,IK","SCS8PT78EFL1",null,null,null,null,null,null,null,"SCA8TT78HAL9","CSP 5050(3x3)","LH309A","4000K",80]
[null,null,null,null,null,null,null,null,null,null,null,null,null,null,null,null,null,null,null,null,null,null,null,null,null,null,null,null,null,null,null,null,null,null,null,null,null,null,null,null,null,null,null,null,null,null,null,null,null,null,null,null,null,null,null,null,null,null,null,null,null,null,null,null,null,null,null,null,null,null,null,"LM302A (6V)",302,80,2700,2700,3000,3500,4000,5000,5700,6500,"-","-",{"$f":"$BU$232*BW232","v":815400},80,90,"-","-",{"$f":"$BU$232*BV232*BW232+BV232+BW232","v":65234780},"Flux : S1,S2,S3",{"$f":"AVERAGE(102,110)","v":106},{"$f":"AVERAGE(110,118)","v":114},{"$f":"AVERAGE(118,126)","v":122},"-","-","-","-","-","S2 (102-110)","S3 (110-118)","S4 (118-126)","-","-","-","-","-",5.9,6.1,6.3,6.5,6.7,"-","-","BZ (5.8-6.0)","B1 (6.0-6.2)","B2 (6.2-6.4)","B3 (6.4-6.6)","B4 (6.6-6.8)","-","-",null,-11.182,8.3485999999999994,-6.9999999999999999E-4,null,null,-1.8181818181818177E-3,null,-0.96,1.0720000000000001,0.86080000000000001,null,null,-2.0833333333333333E-3,"Vf : BZ,B1,B2,B3,B4","SPMWHT327FD5",null,null,null,null,null,null,null,"SCA9TT78HAL9","CSP 5050(3x3)","LH309A","4000K",90]
[null,null,null,null,null,null,null,null,null,null,null,null,null,null,null,null,null,null,null,null,null,null,null,null,null,null,null,null,null,null,null,null,null,null,null,null,null,null,null,null,null,null,null,null,null,null,null,null,null,null,null,null,null,null,null,null,null,null,null,null,null,null,null,null,null,null,null,null,null,null,null,null,null,90,2700,null,null,null,null,null,null,null,null,null,null,null,null,null,null,73388790,null,{"$f":"AVERAGE(80,88)","v":84},{"$f":"AVERAGE(88,96)","v":92},"-","-","-","-","-","-","S1 (80-88)","S2 (88-96)","-","-","-","-","-","-",5.7,5.9,6.1,6.3,6.5,"-","-","BY (5.6-5.8)","BZ (5.8-6.0)","B1 (6.0-6.2)","B2 (6.2-6.4)","B3 (6.4-6.6)","-","-",null,-12,8.48,-2E-3,null,null,{"$f":"DX232","v":-1.8181818181818177E-3},null,{"$f":"DZ232","v":-0.96},{"$f":"EA232","v":1.0720000000000001},{"$f":"EB232","v":0.86080000000000001},null,null,{"$f":"EE232","v":-2.0833333333333333E-3},null,"SPMWHT327FD7",null,null,null,null,null,null,null,"SCA7RT78HAL9","CSP 5050(3x3)","LH309A","5000K",70]
[null,null,null,null,null,null,null,null,null,null,null,null,null,null,null,null,null,null,null,null,null,null,null,null,null,null,null,null,null,null,null,null,null,null,null,null,null,null,null,null,null,null,null,null,null,null,null,null,null,null,null,null,null,null,null,null,null,null,null,null,null,null,null,null,null,null,null,null,null,null,null,null,null,70,3000,null,null,null,null,null,null,null,null,null,{"$f":"$BU$232*BW234","v":906000},70,80,90,"-",63423070,"Flux : S1,S2,S3",{"$f":"AVERAGE(112,120)","v":116},{"$f":"AVERAGE(120,128)","v":124},"-","-","-","-","-","-","S3 (112-120)","S4 (120-128)","-","-","-","-","-","-",5.9,6.1,6.3,6.5,6.7,"-","-","BZ (5.8-6.0)","B1 (6.0-6.2)","B2 (6.2-6.4)","B3 (6.4-6.6)","B4 (6.6-6.8)","-","-",null,-11.182,8.3485999999999994,-6.9999999999999999E-4,null,null,{"$f":"DX233","v":-1.8181818181818177E-3},null,{"$f":"DZ233","v":-0.96},1.0720000000000001,0.86080000000000001,null,null,{"$f":"EE233","v":-2.0833333333333333E-3},{"$f":"EF232","v":"Vf : BZ,B1,B2,B3,B4"},"SPMWHT327FD3",null,null,null,null,null,null,null,"SCA8RT78HAL9","CSP 5050(3x3)","LH309A","5000K",80]
[null,null,null,null,null,null,null,null,null,null,null,null,null,null,null,null,null,null,null,null,null,null,null,null,null,null,null,null,null,null,null,null,null,null,null,null,null,null,null,null,null,null,null,null,null,null,null,null,null,null,null,null,null,null,null,null,null,null,null,null,null,null,null,null,null,null,null,null,null,null,null,null,null,80,3000,null,null,null,null,null,null,null,null,null,null,null,null,null,null,72483080,null,{"$f":"AVERAGE(104,112)","v":108},{"$f":"AVERAGE(112,120)","v":116},{"$f":"AVERAGE(120,128)","v":124},"-","-","-","-","-","S2 (104-112)","S3 (112-120)","S4 (120-128)","-","-","-","-","-",5.9,6.1,6.3,6.5,6.7,"-","-","BZ (5.8-6.0)","B1 (6.0-6.2)","B2 (6.2-6.4)","B3 (6.4-6.6)","B4 (6.6-6.8)","-","-",null,{"$f":"DS232","v":-11.182},8.3485999999999994,-6.9999999999999999E-4,null,null,-1.8181818181818177E-3,null,-0.96,1.0720000000000001,0.86080000000000001,null,null,-2.0833333333333333E-3,null,"SPMWHT327FD5",null,null,null,null,null,null,null,"SCA7QT78HAL9","CSP 5050(3x3)","LH309A","5700K",70]
[null,null,null,null,null,null,null,null,null,null,null,null,null,null,null,null,null,null,null,null,null,null,null,null,null,null,null,null,null,null,null,null,null,null,null,null,null,null,null,null,null,null,null,null,null,null,null,null,null,null,null,null,null,null,null,null,null,null,null,null,null,null,null,null,null,null,null,null,null,null,null,null,null,90,3000,null,null,null,null,null,null,null,null,null,null,null,null,null,null,81543090,null,{"$f":"AVERAGE(85,93)","v":89},{"$f":"AVERAGE(93,101)","v":97},"-","-","-","-","-","-","S1 (85-93)","S2 (93-101)","-","-","-","-","-","-",5.7,5.9,6.1,6.3,6.5,"-","-","BY (5.6-5.8)","BZ (5.8-6.0)","B1 (6.0-6.2)","B2 (6.2-6.4)","B3 (6.4-6.6)","-","-",null,-12,8.48,-2E-3,null,null,-1.8181818181818177E-3,null,-0.96,1.0720000000000001,0.86080000000000001,null,null,-2.0833333333333333E-3,null,"SPMWHT327FD7",null,null,null,null,null,null,null,"SCA7PT78HAL9","CSP 5050(3x3)","LH309A","6500K",70]
[null,null,null,null,null,null,null,null,null,null,null,null,null,null,null,null,null,null,null,null,null,null,null,null,null,null,null,null,null,null,null,null,null,null,null,null,null,null,null,null,null,null,null,null,null,null,null,null,null,null,null,null,null,null,null,null,null,null,null,null,null,null,null,null,null,null,null,null,null,null,null,null,null,80,3500,null,null,null,null,null,null,null,null,null,{"$f":"$BU$232*BW237","v":1057000},80,90,"-","-",84563580,"Flux : S1,S2,S3",{"$f":"AVERAGE(107,115)","v":111},{"$f":"AVERAGE(115,123)","v":119},{"$f":"AVERAGE(123,131)","v":127},"-","-","-","-","-","S2 (107-115)","S3 (115-123)","S4 (123-131)","-","-","-","-","-",5.9,6.1,6.3,6.5,6.7,"-","-","BZ (5.8-6.0)","B1 (6.0-6.2)","B2 (6.2-6.4)","B3 (6.4-6.6)","B4 (6.6-6.8)","-","-",null,{"$f":"DS232","v":-11.182},{"$f":"DT232","v":8.3485999999999994},{"$f":"DU232","v":-6.9999999999999999E-4},null,null,-1.8181818181818177E-3,null,-0.96,1.0720000000000001,0.86080000000000001,null,null,-2.0833333333333333E-3,{"$f":"EF234","v":"Vf : BZ,B1,B2,B3,B4"},"SPMWHT327FD5",null,null,null,null,null,null,null,"SCP7WTF1HPL1","CSP 1818","LH181A","2700K",70]
[null,null,null,null,null,null,null,null,null,null,null,null,null,null,null,null,null,null,null,null,null,null,null,null,null,null,null,null,null,null,null,null,null,null,null,null,null,null,null,null,null,null,null,null,null,null,null,null,null,null,null,null,null,null,null,null,null,null,null,null,null,null,null,null,null,null,null,null,null,null,null,null,null,90,3500,null,null,null,null,null,null,null,null,null,null,null,null,null,null,95133590,null,{"$f":"AVERAGE(86.8,94.8)","v":90.8},{"$f":"AVERAGE(94.8,102.8)","v":98.8},"-","-","-","-","-","-","S1 (86.8-94.8)","S2 (94.8-102.8)","-","-","-","-","-","-",5.7,5.9,6.1,6.3,6.5,"-","-","BY (5.6-5.8)","BZ (5.8-6.0)","B1 (6.0-6.2)","B2 (6.2-6.4)","B3 (6.4-6.6)","-","-",null,{"$f":"DS236","v":-12},{"$f":"DT236","v":8.48},{"$f":"DU236","v":-2E-3},null,null,-1.8181818181818177E-3,null,-0.96,1.0720000000000001,0.86080000000000001,null,null,-2.0833333333333333E-3,null,"SPMWHT327FD7",null,null,null,null,null,null,null,"SCP7VTF1HPL1","CSP 1818","LH181A","3000K",70]
[null,null,null,null,null,null,null,null,null,null,null,null,null,null,null,null,null,null,null,null,null,null,null,null,null,null,null,null,null,null,null,null,null,null,null,null,null,null,null,null,null,null,null,null,null,null,null,null,null,null,null,null,null,null,null,null,null,null,null,null,null,null,null,null,null,null,null,null,null,null,null,null,null,70,4000,null,null,null,null,null,null,null,null,null,{"$f":"$BU$232*BW239","v":1208000},70,80,90,"-",84564070,"Flux : S1,S2,S3",{"$f":"AVERAGE(117,125)","v":121},{"$f":"AVERAGE(125,133)","v":129},"-","-","-","-","-","-","S3 (117-125)","S4 (125-133)","-","-","-","-","-","-",5.9,6.1,6.3,6.5,6.7,"-","-","BZ (5.8-6.0)","B1 (6.0-6.2)","B2 (6.2-6.4)","B3 (6.4-6.6)","B4 (6.6-6.8)","-","-",null,{"$f":"DS234","v":-11.182},{"$f":"DT234","v":8.3485999999999994},{"$f":"DU234","v":-6.9999999999999999E-4},null,null,-1.8181818181818177E-3,null,-0.96,1.0720000000000001,0.86080000000000001,null,null,-2.0833333333333333E-3,{"$f":"EF237","v":"Vf : BZ,B1,B2,B3,B4"},"SPMWHT327FD3",null,null,null,null,null,null,null,"SCP7UTF1HPL1","CSP 1818","LH181A","3500K",70]
[null,null,null,null,null,null,null,null,null,null,null,null,null,null,null,null,null,null,null,null,null,null,null,null,null,null,null,null,null,null,null,null,null,null,null,null,null,null,null,null,null,null,null,null,null,null,null,null,null,null,null,null,null,null,null,null,null,null,null,null,null,null,null,null,null,null,null,null,null,null,null,null,null,80,4000,null,null,null,null,null,null,null,null,null,null,null,null,null,null,96644080,null,{"$f":"AVERAGE(109,117)","v":113},{"$f":"AVERAGE(117,125)","v":121},{"$f":"AVERAGE(125,133)","v":129},"-","-","-","-","-","S2 (109-117)","S3 (117-125)","S4 (125-133)","-","-","-","-","-",5.9,6.1,6.3,6.5,6.7,"-","-","BZ (5.8-6.0)","B1 (6.0-6.2)","B2 (6.2-6.4)","B3 (6.4-6.6)","B4 (6.6-6.8)","-","-",null,{"$f":"DS232","v":-11.182},{"$f":"DT232","v":8.3485999999999994},{"$f":"DU232","v":-6.9999999999999999E-4},null,null,-1.8181818181818177E-3,null,-0.96,1.0720000000000001,0.86080000000000001,null,null,-2.0833333333333333E-3,null,"SPMWHT327FD5",null,null,null,null,null,null,null,"SCP7TTF1HPL1","CSP 1818","LH181A","4000K",70]
[null,null,null,null,null,null,null,null,null,null,null,null,null,null,null,null,null,null,null,null,null,null,null,null,null,null,null,null,null,null,null,null,null,null,null,null,null,null,null,null,null,null,null,null,null,null,null,null,null,null,null,null,null,null,null,null,null,null,null,null,null,null,null,null,null,null,null,null,null,null,null,null,null,90,4000,null,null,null,null,null,null,null,null,null,null,null,null,null,null,108724090,null,{"$f":"AVERAGE(88.6,96.6)","v":92.6},{"$f":"AVERAGE(96.6,104.6)","v":100.6},"-","-","-","-","-","-","S1 (88.6-96.6)","S2 (96.6-104.6)","-","-","-","-","-","-",5.7,5.9,6.1,6.3,6.5,"-","-","BY (5.6-5.8)","BZ (5.8-6.0)","B1 (6.0-6.2)","B2 (6.2-6.4)","B3 (6.4-6.6)","-","-",null,{"$f":"DS238","v":-12},{"$f":"DT238","v":8.48},{"$f":"DU238","v":-2E-3},null,null,-1.8181818181818177E-3,null,-0.96,1.0720000000000001,0.86080000000000001,null,null,-2.0833333333333333E-3,null,"SPMWHT327FD7",null,null,null,null,null,null,null,"SCP7RTF1HPL1","CSP 1818","LH181A","5000K",70]
[null,null,null,null,null,null,null,null,null,null,null,null,null,null,null,null,null,null,null,null,null,null,null,null,null,null,null,null,null,null,null,null,null,null,null,null,null,null,null,null,null,null,null,null,null,null,null,null,null,null,null,null,null,null,null,null,null,null,null,null,null,null,null,null,null,null,null,null,null,null,null,null,null,70,5000,null,null,null,null,null,null,null,null,null,{"$f":"$BU$232*BW242","v":1510000},70,80,90,"-",105705070,"Flux : S1,S2,S3",{"$f":"AVERAGE(121,129)","v":125},{"$f":"AVERAGE(129,137)","v":133},"-","-","-","-","-","-","S3 (121-129)","S4 (129-137)","-","-","-","-","-","-",5.9,6.1,6.3,6.5,6.7,"-","-","BZ (5.8-6.0)","B1 (6.0-6.2)","B2 (6.2-6.4)","B3 (6.4-6.6)","B4 (6.6-6.8)","-","-",null,{"$f":"DS234","v":-11.182},{"$f":"DT234","v":8.3485999999999994},{"$f":"DU234","v":-6.9999999999999999E-4},null,null,-1.8181818181818177E-3,null,-0.96,1.0720000000000001,0.86080000000000001,null,null,-2.0833333333333333E-3,{"$f":"EF239","v":"Vf : BZ,B1,B2,B3,B4"},"SPMWHT327FD3",null,null,null,null,null,null,null,"SCP7QTF1HPL1","CSP 1818","LH181A","5700K",70]
[null,null,null,null,null,null,null,null,null,null,null,null,null,null,null,null,null,null,null,null,null,null,null,null,null,null,null,null,null,null,null,null,null,null,null,null,null,null,null,null,null,null,null,null,null,null,null,null,null,null,null,null,null,null,null,null,null,null,null,null,null,null,null,null,null,null,null,null,null,null,null,null,null,80,5000,null,null,null,null,null,null,null,null,null,null,null,null,null,null,120805080,null,{"$f":"AVERAGE(115,123)","v":119},{"$f":"AVERAGE(123,131)","v":127},{"$f":"AVERAGE(129,137)","v":133},"-","-","-","-","-","S2 (113-121)","S3 (121-129)","S4 (129-137)","-","-","-","-","-",5.9,6.1,6.3,6.5,6.7,"-","-","BZ (5.8-6.0)","B1 (6.0-6.2)","B2 (6.2-6.4)","B3 (6.4-6.6)","B4 (6.6-6.8)","-","-",null,{"$f":"DS232","v":-11.182},{"$f":"DT232","v":8.3485999999999994},{"$f":"DU232","v":-6.9999999999999999E-4},null,null,-1.8181818181818177E-3,null,-0.96,1.0720000000000001,0.86080000000000001,null,null,-2.0833333333333333E-3,null,"SPMWHT327FD5",null,null,null,null,null,null,null,"SCP7PTF1HPL1","CSP 1818","LH181A","6500K",70]
[null,null,null,null,null,null,null,null,null,null,null,null,null,null,null,null,null,null,null,null,null,null,null,null,null,null,null,null,null,null,null,null,null,null,null,null,null,null,null,null,null,null,null,null,null,null,null,null,null,null,null,null,null,null,null,null,null,null,null,null,null,null,null,null,null,null,null,null,null,null,null,null,null,90,5000,null,null,null,null,null,null,null,null,null,null,null,null,null,null,135905090,null,{"$f":"AVERAGE(86.8,94.8)","v":90.8},{"$f":"AVERAGE(94.8,102.8)","v":98.8},"-","-","-","-","-","-","S1 (86.8-94.8)","S2 (94.8-102.8)","-","-","-","-","-","-",5.7,5.9,6.1,6.3,6.5,"-","-","BY (5.6-5.8)","BZ (5.8-6.0)","B1 (6.0-6.2)","B2 (6.2-6.4)","B3 (6.4-6.6)","-","-",null,{"$f":"DS241","v":-12},{"$f":"DT241","v":8.48},{"$f":"DU241","v":-2E-3},null,null,-1.8181818181818177E-3,null,-0.96,1.0720000000000001,0.86080000000000001,null,null,-2.0833333333333333E-3,null,"SPMWHT327FD7",null,null,null,null,null,null,null,"SCPERTF1HPL1","CSP 1818","LH181A","5000K",75]
[null,null,null,null,null,null,null,null,null,null,null,null,null,null,null,null,null,null,null,null,null,null,null,null,null,null,null,null,null,null,null,null,null,null,null,null,null,null,null,null,null,null,null,null,null,null,null,null,null,null,null,null,null,null,null,null,null,null,null,null,null,null,null,null,null,null,null,null,null,null,null,null,null,70,5700,null,null,null,null,null,null,null,null,null,{"$f":"$BU$232*BW245","v":1721400},70,80,90,"-",120503770,"Flux : S1,S2,S3",{"$f":"AVERAGE(119,127)","v":123},{"$f":"AVERAGE(127,135)","v":131},"-","-","-","-","-","-","S3 (119-127)","S4 (127-135)","-","-","-","-","-","-",5.9,6.1,6.3,6.5,6.7,"-","-","BZ (5.8-6.0)","B1 (6.0-6.2)","B2 (6.2-6.4)","B3 (6.4-6.6)","B4 (6.6-6.8)","-","-",null,{"$f":"DS234","v":-11.182},{"$f":"DT234","v":8.3485999999999994},{"$f":"DU234","v":-6.9999999999999999E-4},null,null,-1.8181818181818177E-3,null,-0.96,1.0720000000000001,0.86080000000000001,null,null,-2.0833333333333333E-3,{"$f":"EF242","v":"Vf : BZ,B1,B2,B3,B4"},"SPMWHT327FD3",null,null,null,null,null,null,null,"SCPEQTF1HPL1","CSP 1818","LH181A","5700K",75]
[null,null,null,null,null,null,null,null,null,null,null,null,null,null,null,null,null,null,null,null,null,null,null,null,null,null,null,null,null,null,null,null,null,null,null,null,null,null,null,null,null,null,null,null,null,null,null,null,null,null,null,null,null,null,null,null,null,null,null,null,null,null,null,null,null,null,null,null,null,null,null,null,null,80,5700,null,null,null,null,null,null,null,null,null,null,null,null,null,null,137717780,null,{"$f":"AVERAGE(111,119)","v":115},{"$f":"AVERAGE(119,127)","v":123},{"$f":"AVERAGE(127,135)","v":131},"-","-","-","-","-","S2 (111-119)","S3 (119-127)","S4 (127-135)","-","-","-","-","-",5.9,6.1,6.3,6.5,6.7,"-","-","BZ (5.8-6.0)","B1 (6.0-6.2)","B2 (6.2-6.4)","B3 (6.4-6.6)","B4 (6.6-6.8)","-","-",null,{"$f":"DS232","v":-11.182},{"$f":"DT232","v":8.3485999999999994},{"$f":"DU232","v":-6.9999999999999999E-4},null,null,-1.8181818181818177E-3,null,-0.96,1.0720000000000001,0.86080000000000001,null,null,-2.0833333333333333E-3,null,"SPMWHT327FD5",null,null,null,null,null,null,null,"SCP8WTF1HPL1","CSP 1818","LH181A","2700K",80]
[null,null,null,null,null,null,null,null,null,null,null,null,null,null,null,null,null,null,null,null,null,null,null,null,null,null,null,null,null,null,null,null,null,null,null,null,null,null,null,null,null,null,null,null,null,null,null,null,null,null,null,null,null,null,null,null,null,null,null,null,null,null,null,null,null,null,null,null,null,null,null,null,null,90,5700,null,null,null,null,null,null,null,null,null,null,null,null,null,null,154931790,null,{"$f":"AVERAGE(85,93)","v":89},{"$f":"AVERAGE(93,101)","v":97},"-","-","-","-","-","-","S1 (85-93)","S2 (93-101)","-","-","-","-","-","-",5.7,5.9,6.1,6.3,6.5,"-","-","BY (5.6-5.8)","BZ (5.8-6.0)","B1 (6.0-6.2)","B2 (6.2-6.4)","B3 (6.4-6.6)","-","-",null,{"$f":"DS244","v":-12},{"$f":"DT244","v":8.48},{"$f":"DU244","v":-2E-3},null,null,-1.8181818181818177E-3,null,-0.96,1.0720000000000001,0.86080000000000001,null,null,-2.0833333333333333E-3,null,"SPMWHT327FD7",null,null,null,null,null,null,null,"SCP8VTF1HPL1","CSP 1818","LH181A","3000K",80]
[null,null,null,null,null,null,null,null,null,null,null,null,null,null,null,null,null,null,null,null,null,null,null,null,null,null,null,null,null,null,null,null,null,null,null,null,null,null,null,null,null,null,null,null,null,null,null,null,null,null,null,null,null,null,null,null,null,null,null,null,null,null,null,null,null,null,null,null,null,null,null,null,null,80,6500,null,null,null,null,null,null,null,null,null,{"$f":"$BU$232*BW248","v":1963000},80,90,"-","-",157046580,"Flux : S1,S2,S3",{"$f":"AVERAGE(109,117)","v":113},{"$f":"AVERAGE(117,125)","v":121},{"$f":"AVERAGE(125,133)","v":129},"-","-","-","-","-","S2 (109-117)","S3 (117-125)","S4 (125-133)","-","-","-","-","-",5.9,6.1,6.3,6.5,6.7,"-","-","BZ (5.8-6.0)","B1 (6.0-6.2)","B2 (6.2-6.4)","B3 (6.4-6.6)","B4 (6.6-6.8)","-","-",null,{"$f":"DS232","v":-11.182},{"$f":"DT232","v":8.3485999999999994},{"$f":"DU232","v":-6.9999999999999999E-4},null,null,-1.8181818181818177E-3,null,-0.96,1.0720000000000001,0.86080000000000001,null,null,-2.0833333333333333E-3,{"$f":"EF245","v":"Vf : BZ,B1,B2,B3,B4"},"SPMWHT327FD5",null,null,null,null,null,null,null,"SCP8UTF1HPL1","CSP 1818","LH181A","3500K",80]
[null,null,null,null,null,null,null,null,null,null,null,null,null,null,null,null,null,null,null,null,null,null,null,null,null,null,null,null,null,null,null,null,null,null,null,null,null,null,null,null,null,null,null,null,null,null,null,null,null,null,null,null,null,null,null,null,null,null,null,null,null,null,null,null,null,null,null,null,null,null,null,null,null,90,6500,null,null,null,null,null,null,null,null,null,null,null,null,null,null,176676590,null,{"$f":"AVERAGE(83.2,91.2)","v":87.2},{"$f":"AVERAGE(91.2,99.2)","v":95.2},"-","-","-","-","-","-","S1 (83.2-91.2)","S2 (91.2-99.2)","-","-","-","-","-","-",5.7,5.9,6.1,6.3,6.5,"-","-","BY (5.6-5.8)","BZ (5.8-6.0)","B1 (6.0-6.2)","B2 (6.2-6.4)","B3 (6.4-6.6)","-","-",null,{"$f":"DS247","v":-12},{"$f":"DT247","v":8.48},{"$f":"DU247","v":-2E-3},null,null,-1.8181818181818177E-3,null,-0.96,1.0720000000000001,0.86080000000000001,null,null,-2.0833333333333333E-3,null,"SPMWHT327FD7",null,null,null,null,null,null,null,"SCP8TTF1HPL1","CSP 1818","LH181A","4000K",80]
[null,null,null,null,null,null,null,null,null,null,null,null,null,null,null,null,null,null,null,null,null,null,null,null,null,null,null,null,null,null,null,null,null,null,null,null,null,null,null,null,null,null,null,null,null,null,null,null,null,null,null,null,null,null,null,null,null,null,null,null,null,null,null,null,null,null,null,null,null,null,null,"LM302B (6V)",303,80,2700,2700,3000,3500,4000,5000,5700,6500,"-","-",{"$f":"$BU$250*BW250","v":818100},80,90,"-","-",{"$f":"$BU$250*BV250*BW250+BV250+BW250","v":65450780},null,{"$f":"AVERAGE(97,106)","v":101.5},{"$f":"AVERAGE(106,115)","v":110.5},"-","-","-","-","-","-","SC (97-106)","SD (106-115)","-","-","-","-","-","-",5.5,5.7,5.9,6.1,6.3,"-","-","AY (5.4-5.6)","AZ (5.6-5.8)","A1 (5.8-6.0)","A2 (6.0-6.2)","A3 (6.2-6.4)","-","-",-13.333,9.9999999999999998E-13,6.8333000000000004,0.02,null,null,-1.6000000000000014E-3,-1.6949000000000001,9.9999999999999998E-13,0.56359999999999999,0.92120000000000002,null,null,-4.200000000000011E-3,null,"SPMWHT329FD5",null,null,null,null,null,null,null,"SCP8RTF1HPL1","CSP 1818","LH181A","5000K",80]
[null,null,null,null,null,null,null,null,null,null,null,null,null,null,null,null,null,null,null,null,null,null,null,null,null,null,null,null,null,null,null,null,null,null,null,null,null,null,null,null,null,null,null,null,null,null,null,null,null,null,null,null,null,null,null,null,null,null,null,null,null,null,null,null,null,null,null,null,null,null,null,null,null,70,3000,null,null,null,null,null,null,null,null,null,{"$f":"$BU$250*BW252","v":909000},70,80,90,"-",63633070,null,{"$f":"AVERAGE(106,115)","v":110.5},{"$f":"AVERAGE(115,124)","v":119.5},"-","-","-","-","-","-","SD (106-115)","SE (115-124)","-","-","-","-","-","-",5.5,5.7,5.9,6.1,6.3,"-","-","AY (5.4-5.6)","AZ (5.6-5.8)","A1 (5.8-6.0)","A2 (6.0-6.2)","A3 (6.2-6.4)","-","-",-13.333,9.9999999999999998E-13,6.8333000000000004,0.02,null,null,-1.6000000000000014E-3,-1.6949000000000001,9.9999999999999998E-13,0.56359999999999999,0.92120000000000002,null,null,-4.200000000000011E-3,null,"SPMWHT329FD3",null,null,null,null,null,null,null,"SCP7WTJ5HEL1","CSP 2828","LH231B","2700K",70]
[null,null,null,null,null,null,null,null,null,null,null,null,null,null,null,null,null,null,null,null,null,null,null,null,null,null,null,null,null,null,null,null,null,null,null,null,null,null,null,null,null,null,null,null,null,null,null,null,null,null,null,null,null,null,null,null,null,null,null,null,null,null,null,null,null,null,null,null,null,null,null,null,null,70,5000,null,null,null,null,null,null,null,null,null,{"$f":"$BU$250*BW261","v":1515000},70,80,90,"-",106055070,null,{"$f":"AVERAGE(115,124)","v":119.5},{"$f":"AVERAGE(124,133)","v":128.5},"-","-","-","-","-","-","SE (115-124)","SF (124-133)","-","-","-","-","-","-",5.5,5.7,5.9,6.1,6.3,"-","-","AY (5.4-5.6)","AZ (5.6-5.8)","A1 (5.8-6.0)","A2 (6.0-6.2)","A3 (6.2-6.4)","-","-",-13.333,9.9999999999999998E-13,6.8333000000000004,0.02,null,null,-1.6000000000000014E-3,-1.6949000000000001,9.9999999999999998E-13,0.56359999999999999,0.92120000000000002,null,null,-4.200000000000011E-3,null,"SPMWHT329FD3",null,null,null,null,null,null,null,"SCP7TTJ5HEL1","CSP 2828","LH231B","4000K",70]
[null,null,null,null,null,null,null,null,null,null,null,null,null,null,null,null,null,null,null,null,null,null,null,null,null,null,null,null,null,null,null,null,null,null,null,null,null,null,null,null,null,null,null,null,null,null,null,null,null,null,null,null,null,null,null,null,null,null,null,null,null,null,null,null,null,null,null,null,null,null,null,null,null,95,3000,null,null,null,null,null,null,null,null,null,null,null,null,null,null,232563095,null,{"$f":"AVERAGE(583,648)","v":615.5},{"$f":"AVERAGE(648,713)","v":680.5},"-","-","-","-","-","-","C1 (583-648)","C2 (648-713)","-","-","-","-","-","-",32.5,35.5,38.5,"-","-","-","-","Min (32.5)","Typ (35.5)","Max (38.5)","-","-","-","-",null,-2.9740000000000002,6.0603999999999996,4.4999999999999997E-3,null,null,-2E-3,null,-0.3271,0.58260000000000001,0.90510000000000002,null,null,-2.2706387613939328E-2,null,"SPHWW1HDN828",null,null,null,null,null,null,null,"SPHWH1L5N607","EMC 5050","LH508A plus","White",90]
[null,null,null,null,null,null,null,null,null,null,null,null,null,null,null,null,null,null,null,null,null,null,null,null,null,null,null,null,null,null,null,null,null,null,null,null,null,null,null,null,null,null,null,null,null,null,null,null,null,null,null,null,null,null,null,null,null,null,null,null,null,null,null,null,null,null,null,null,null,null,null,null,null,90,4000,null,null,null,null,null,null,null,null,null,null,null,null,null,null,293764090,null,{"$f":"AVERAGE(695,755)","v":725},{"$f":"AVERAGE(755,816)","v":785.5},{"$f":"AVERAGE(816,876)","v":846},{"$f":"AVERAGE(876,956)","v":916},"-","-","-","-","C1 (695-755)","C2 (755-816)","C3 (816-876)","C4 (876-956)","-","-","-","-",32.5,35.5,38.5,"-","-","-","-","Min (32.5)","Typ (35.5)","Max (38.5)","-","-","-","-",null,-2.9740000000000002,6.0603999999999996,4.4999999999999997E-3,null,null,-2E-3,null,-0.3271,0.58260000000000001,0.90510000000000002,null,null,-2.2706387613939328E-2,null,"SPHWW1HDN827",null,null,null,null,null,null,null,"SPMWH1228FD5","MPL 2835","LM281B","White",80]
[null,null,null,null,null,null,null,null,null,null,null,null,null,null,null,null,null,null,null,null,null,null,null,null,null,null,null,null,null,null,null,null,null,null,null,null,null,null,null,null,null,null,null,null,null,null,null,null,null,null,null,null,null,null,null,null,null,null,null,null,null,null,null,null,null,null,null,null,null,null,null,null,null,90,3000,null,null,null,null,null,null,null,null,null,null,null,null,null,null,220593090,null,"-",{"$f":"AVERAGE(876,952)","v":914},{"$f":"AVERAGE(952,1029)","v":990.5},{"$f":"AVERAGE(1008,1083)","v":1045.5},"-","-","-","-","-","F2 (876-952)","F3 (952-1029)","F4 (1008-1083)","-","-","-","-",32.5,35.5,38.5,"-","-","-","-","Min (32.5)","Typ (35.5)","Max (38.5)","-","-","-","-",null,-2.4948000000000001,4.7645,6.9999999999999999E-4,null,null,-2E-3,null,-0.46689999999999998,0.66290000000000004,0.8679,null,null,-1.964473228926901E-2,null,"SPHWW1HDN947",null,null,null,null,null,null,null,"SPMWH12244D5","MPL 2835","LM286B","White",80]
[null,null,null,null,null,null,null,null,null,null,null,null,null,null,null,null,null,null,null,null,null,null,null,null,null,null,null,null,null,null,null,null,null,null,null,null,null,null,null,null,null,null,null,null,null,null,null,null,null,null,null,null,null,null,null,null,null,null,null,null,null,null,null,null,null,null,null,null,null,null,null,null,null,70,4000,null,null,null,null,null,null,null,null,null,{"$f":"$BU$284*BW294","v":3268000},70,80,90,"-",228764070,"Flux : K1,K2,K3",{"$f":"AVERAGE(1117,1270)","v":1193.5},{"$f":"AVERAGE(1270,1422)","v":1346},"-","-","-","-","-","-","M1 (1117-1270)","M2 (1270-1422)","-","-","-","-","-","-",32.5,35.5,38.5,"-","-","-","-","Min (32.5)","Typ (35.5)","Max (38.5)","-","-","-","-",null,-2.4948000000000001,4.7645,6.9999999999999999E-4,null,null,-2E-3,null,-0.46689999999999998,0.66290000000000004,0.8679,null,null,-1.964473228926901E-2,{"$f":"EF291","v":"Vf : Min.Typ.Max"},"SPHWW1HDN943",null,null,null,null,null,null,null,"SPMWH1221FQ5","MPL 2835","LM282B plus","White",80]
[null,null,null,null,null,null,null,null,null,null,null,null,null,null,null,null,null,null,null,null,null,null,null,null,null,null,null,null,null,null,null,null,null,null,null,null,null,null,null,null,null,null,null,null,null,null,null,null,null,null,null,null,null,null,null,null,null,null,null,null,null,null,null,null,null,null,null,null,null,null,null,null,null,90,3500,null,null,null,null,null,null,null,null,null,null,null,null,null,null,257673590,null,{"$f":"AVERAGE(1840,2015)","v":1927.5},{"$f":"AVERAGE(2015,2191)","v":2103},{"$f":"AVERAGE(2191,2366)","v":2278.5},{"$f":"AVERAGE(2366,2596)","v":2481},"-","-","-","-","21 (1840-2015)","22 (2015-2191)","23 (2191-2366)","24 (2366-2596)","-","-","-","-",32.5,35.5,38.5,"-","-","-","-","Min (32.5)","Typ (35.5)","Max (38.5)","-","-","-","-",null,-0.2702,1.9426000000000001,2.98E-2,null,null,-2E-3,null,-8.2400000000000001E-2,0.25119999999999998,0.88900000000000001,null,null,-2.3636363636363584E-2,null,"SPHWW1HDNB27",null,null,null,null,null,null,null,"SCP7RTF1HEL1","CSP 2323","LH181B","5000K",70]
[null,null,null,null,null,null,null,null,null,null,null,null,null,null,null,null,null,null,null,null,null,null,null,null,null,null,null,null,null,null,null,null,null,null,null,null,null,null,null,null,null,null,null,null,null,null,null,null,null,null,null,null,null,null,null,null,null,null,null,null,null,null,null,null,null,null,null,null,null,null,null,null,null,95,3500,null,null,null,null,null,null,null,null,null,null,null,null,null,null,271988595,null,{"$f":"AVERAGE(1820,2023)","v":1921.5},{"$f":"AVERAGE(2023,2225)","v":2124},"-","-","-","-","-","-","11 (1820-2023)","12 (2023-2225)","-","-","-","-","-","-",32.5,35.5,38.5,"-","-","-","-","Min (32.5)","Typ (35.5)","Max (38.5)","-","-","-","-",null,-0.2702,1.9426000000000001,2.98E-2,null,null,-2E-3,null,-8.2400000000000001E-2,0.25119999999999998,0.88900000000000001,null,null,-2.3636363636363584E-2,null,"SPHWW1HDNB28",null,null,null,null,null,null,null,"SCP8RTF1HEL1","CSP 2323","LH181B","5000K",80]
[null,null,null,null,null,null,null,null,null,null,null,null,null,null,null,null,null,null,null,null,null,null,null,null,null,null,null,null,null,null,null,null,null,null,null,null,null,null,null,null,null,null,null,null,null,null,null,null,null,null,null,null,null,null,null,null,null,null,null,null,null,null,null,null,null,null,null,null,null,null,null,null,null,95,2700,null,null,null,null,null,null,null,null,null,null,null,null,null,null,null,null,{"$f":"AVERAGE(2857,3175)","v":3016},{"$f":"AVERAGE(3175,3492)","v":3333.5},"-","-","-","-","-","-","31 (2857-3175)","32 (3175-3492)","-","-","-","-","-","-",32.5,35.5,38.5,"-","-","-","-","Min (32.5)","Typ (35.5)","Max (38.5)","-","-","-","-",null,-0.16869999999999999,1.2576000000000001,5.4999999999999997E-3,null,null,-2E-3,null,-2.64E-2,0.1429,0.89349999999999996,null,null,-1.8666666666666647E-2,null,"SPHWW1HDND28",null,null,null,null,null,null,null,"SCP9VT78HEL1","CSP 1717","LM101B","3000K",90]
[null,null,null,null,null,null,null,null,null,null,null,null,null,null,null,null,null,null,null,null,null,null,null,null,null,null,null,null,null,null,null,null,null,null,null,null,null,null,null,null,null,null,null,null,null,null,null,null,null,null,null,null,null,null,null,null,null,null,null,null,null,null,null,null,null,null,null,null,null,null,null,null,null,90,4000,null,null,null,null,null,null,null,null,null,null,null,null,null,null,294844090,null,{"$f":"AVERAGE(3205,3510)","v":3357.5},{"$f":"AVERAGE(3510,3815)","v":3662.5},{"$f":"AVERAGE(3815,4121)","v":3968},{"$f":"AVERAGE(4121,4511)","v":4316},"-","-","-","-","31 (3205-3510)","32 (3510-3815)","33 (3815-4121)","34 (4121-4511)","-","-","-","-",32.5,35.5,38.5,"-","-","-","-","Min (32.5)","Typ (35.5)","Max (38.5)","-","-","-","-",null,-0.16869999999999999,1.2576000000000001,5.4999999999999997E-3,null,null,-2E-3,null,-2.64E-2,0.1429,0.89349999999999996,null,null,-1.8666666666666647E-2,null,"SPHWW1HDND27",null,null,null,null,null,null,null,"SCP7PT78HEL1","CSP 1717","LM101B","6500K",70]
[null,null,null,null,null,null,null,null,null,null,null,null,null,null,null,null,null,null,null,null,null,null,null,null,null,null,null,null,null,null,null,null,null,null,null,null,null,null,null,null,null,null,null,null,null,null,null,null,null,null,null,null,null,null,null,null,null,null,null,null,null,null,null,null,null,null,null,null,null,null,null,null,null,80,3000,null,null,null,null,null,null,null,null,null,null,null,null,null,null,36003080,null,"-",{"$f":"AVERAGE(51,55)","v":53},{"$f":"AVERAGE(55,59)","v":57},{"$f":"AVERAGE(59,63)","v":61},"-","-","-","-","-","SC (51-55)","SD (55-59)","SE (59-63)","-","-","-","-",2.8,3,"-","-","-","-","-","6A (2.7-2.9)","AE (2.9-3.1)","-","-","-","-","-",-0.44440000000000002,-2.7111000000000001,6.7567000000000004,4.9000000000000002E-2,null,null,-1.2499999999999992E-3,0.62160000000000004,-0.87019999999999997,0.71330000000000005,0.91049999999999998,null,null,-2.1000000000000055E-3,null,"SCS8VT78EPL1"]
[null,null,null,null,null,null,null,null,null,null,null,null,null,null,null,null,null,null,null,null,null,null,null,null,null,null,null,null,null,null,null,null,null,null,null,null,null,null,null,null,null,null,null,null,null,null,null,null,null,null,null,null,null,null,null,null,null,null,null,null,null,null,null,null,null,null,null,null,null,null,null,null,null,80,5700,null,null,null,null,null,null,null,null,null,null,null,null,null,null,68405780,null,"-",{"$f":"AVERAGE(51,55)","v":53},57,61,"-","-","-","-","-","SC (51-55)","SD (55-59)","SE (59-63)","-","-","-","-",2.8,3,"-","-","-","-","-","6A (2.7-2.9)","AE (2.9-3.1)","-","-","-","-","-",-0.44440000000000002,-2.7111000000000001,6.7567000000000004,4.9000000000000002E-2,null,null,-1.2499999999999992E-3,0.62160000000000004,-0.87019999999999997,0.71330000000000005,0.91049999999999998,null,null,-2.1000000000000055E-3,null,"SCS8QT78EPL1"]
[null,null,null,null,null,null,null,null,null,null,null,null,null,null,null,null,null,null,null,null,null,null,null,null,null,null,null,null,null,null,null,null,null,null,null,null,null,null,null,null,null,null,null,null,null,null,null,null,null,null,null,null,null,null,null,null,null,null,null,null,null,null,null,null,null,null,null,null,null,null,null,null,null,70,3500,null,null,null,null,null,null,null,null,null,{"$f":"$BU$350*BW356","v":535500},70,80,90,"-",37488570,null,{"$f":"AVERAGE(63,67)","v":65},{"$f":"AVERAGE(67,71)","v":69},"-","-","-","-","-","-","SF (63-67)","SG (67-71)","-","-","-","-","-","-",2.8,3,"-","-","-","-","-","6A (2.7-2.9)","AE (2.9-3.1)","-","-","-","-","-",13.333,-12,8.3666999999999998,-0.03,null,null,-1.5000000000000013E-3,-0.1799,-8.09E-2,0.48970000000000002,0.92900000000000005,null,null,-1.2973333333333354E-3,null,"SCP7UT78HEL1"]
[null,null,null,null,null,null,null,null,null,null,null,null,null,null,null,null,null,null,null,null,null,null,null,null,null,null,null,null,null,null,null,null,null,null,null,null,null,null,null,null,null,null,null,null,null,null,null,null,null,null,null,null,null,null,null,null,null,null,null,null,null,null,null,null,null,null,null,null,null,null,null,null,null,70,5700,null,null,null,null,null,null,null,null,null,{"$f":"$BU$350*BW365","v":872100},70,80,"-","-",61052770,null,{"$f":"AVERAGE(63,67)","v":65},{"$f":"AVERAGE(67,71)","v":69},"-","-","-","-","-","-","SF (63-67)","SG (67-71)","-","-","-","-","-","-",2.8,3,"-","-","-","-","-","6A (2.7-2.9)","AE (2.9-3.1)","-","-","-","-","-",13.333,-12,8.3666999999999998,-0.03,null,null,-1.5000000000000013E-3,-0.1799,-8.09E-2,0.48970000000000002,0.92900000000000005,null,null,-1.2973333333333354E-3,null,"SCP7QT78HEL1"]
[null,null,null,null,null,null,null,null,null,null,null,null,null,null,null,null,null,null,null,null,null,null,null,null,null,null,null,null,null,null,null,null,null,null,null,null,null,null,null,null,null,null,null,null,null,null,null,null,null,null,null,null,null,null,null,null,null,null,null,null,null,null,null,null,null,null,null,null,null,null,null,null,null,70,6500,null,null,null,null,null,null,null,null,null,{"$f":"$BU$350*BW367","v":994500},70,80,"-","-",69621570,null,{"$f":"AVERAGE(63,67)","v":65},{"$f":"AVERAGE(67,71)","v":69},"-","-","-","-","-","-","SF (63-67)","SG (67-71)","-","-","-","-","-","-",2.8,3,"-","-","-","-","-","6A (2.7-2.9)","AE (2.9-3.1)","-","-","-","-","-",13.333,-12,8.3666999999999998,-0.03,null,null,{"$f":"DX366","v":-1.5000000000000013E-3},-0.1799,-8.09E-2,0.48970000000000002,0.92900000000000005,null,null,-1.2973333333333354E-3,null,"SCP7PT78HEL1"]
[null,null,null,null,null,null,null,null,null,null,null,null,null,null,null,null,null,null,null,null,null,null,null,null,null,null,null,null,null,null,null,null,null,null,null,null,null,null,null,null,null,null,null,null,null,null,null,null,null,null,null,null,null,null,null,null,null,null,null,null,null,null,null,null,null,null,null,null,null,null,null,null,null,90,3500,null,null,null,null,null,null,null,null,null,null,null,null,null,null,47568590,null,{"$f":"AVERAGE(79,87)","v":83},{"$f":"AVERAGE(87,95)","v":91},"-","-","-","-","-","-","SA (79-87)","SB (87-95)","-","-","-","-","-","-",5.75,6.0500000000000007,"-","-","-","-","-","39 (5.6-5.9)","9F (5.9-6.2)","-","-","-","-","-",25,-17,8.8375000000000004,-2.75E-2,null,null,-1.5000000000000013E-3,5.6306000000000003,-3.7162000000000002,1.1515,0.89190000000000003,null,null,-4.200000000000011E-3,null,"SCS9UT93HPL2"]
[null,null,null,null,null,null,null,null,null,null,null,null,null,null,null,null,null,null,null,null,null,null,null,null,null,null,null,null,null,null,null,null,null,null,null,null,null,null,null,null,null,null,null,null,null,null,null,null,null,null,null,null,null,null,null,null,null,null,null,null,null,null,null,null,null,null,null,null,null,null,null,"LH231B",156,70,2700,2700,3000,3500,4000,5000,5700,6500,"-","-",{"$f":"$BU$385*BW385","v":421200},70,80,90,"-",{"$f":"$BU$385*BV385*BW385+BV385+BW385","v":29486770},null,270,290,310,"-","-","-","-","-","NB (270-290)","PB (290-310)","QB (310-330)","-","-","-","-","-",2.8,3,"-","-","-","-","-","6A (2.7-2.9)","AE (2.9-3.1)","-","-","-","-","-",2.0400000000000001E-2,-0.17949999999999999,1.5339,7.2500000000000004E-3,null,null,-1.5000000000000013E-3,6.8999999999999999E-3,-3.4200000000000001E-2,0.15770000000000001,0.90400000000000003,null,null,-1.4064999999999993E-3,null,"SCP7WTJ5HEL1"]
[null,null,null,null,null,null,null,null,null,null,null,null,null,null,null,null,null,null,null,null,null,null,null,null,null,null,null,null,null,null,null,null,null,null,null,null,null,null,null,null,null,null,null,null,null,null,null,null,null,null,null,null,null,null,null,null,null,null,null,null,null,null,null,null,null,null,null,null,null,null,null,null,null,90,4000,null,null,null,null,null,null,null,null,null,null,null,null,null,null,56164090,null,210,230,250,"-","-","-","-","-","JB (210-230)","KB (230-250)","MB (250-270)","-","-","-","-","-",2.8,3,"-","-","-","-","-","6A (2.7-2.9)","AE (2.9-3.1)","-","-","-","-","-",2.0400000000000001E-2,-0.17949999999999999,1.5339,7.2500000000000004E-3,null,null,-1.5000000000000013E-3,6.8999999999999999E-3,-3.4200000000000001E-2,0.15770000000000001,0.90400000000000003,null,null,-1.4064999999999993E-3,null,"SCP9TTJ5HEL1"]
[null,null,null,null,null,null,null,null,null,null,null,null,null,null,null,null,null,null,null,null,null,null,null,null,null,null,null,null,null,null,null,null,null,null,null,null,null,null,null,null,null,null,null,null,null,null,null,null,null,null,null,null,null,null,null,null,null,null,null,null,null,null,null,null,null,null,null,null,null,null,null,null,null,null,null,null,null,null,null,null,null,null,null,null,null,null,null,null,null,null,null,null,null,null,null,null,null,null,null,null,null,null,null,null,null,null,null,null,null,null,null,null,null,null,null,null,null,null,null,null,null,null,null,null,null,null,null,null,null,null,null,null,null,null,null,null,"Preliminary"]
[null,null,null,null,null,null,null,null,null,null,null,null,null,null,null,null,null,null,null,null,null,null,null,null,null,null,null,null,null,null,null,null,null,null,null,null,null,null,null,null,null,null,null,null,null,null,null,null,null,null,null,null,null,null,null,null,null,null,null,null,null,null,null,null,null,null,null,null,null,null,null,null,null,90,3500,null,null,null,null,null,null,null,null,null,null,null,null,null,null,50088590,null,118,"-","-","-","-","-","-","-","G3 (100 - 130)","-","-","-","-","-","-","-",2.8,3,"-","-","-","-","-","6A (2.7-2.9)","AE (2.9-3.1)","-","-","-","-","-",9E-13,-1.0472999999999999,3.1917,1.14E-2,null,null,-1.6773178706138536E-3,0.34289999999999998,-0.55549999999999999,0.50519999999999998,0.87760000000000005,null,null,-1.6620079676300007E-3,null,"SCP9UT93KEL1"]
[null,null,null,null,null,null,null,null,null,null,null,null,null,null,null,null,null,null,null,null,null,null,null,null,null,null,null,null,null,null,null,null,null,null,null,null,null,null,null,null,null,null,null,null,null,null,null,null,null,null,null,null,null,null,null,null,null,null,null,null,null,null,null,null,null,null,null,null,null,null,null,"LH181A",157,70,2700,2700,3000,3500,4000,5000,5700,6500,"-","-",{"$f":"$BU$425*BW425","v":423900},70,80,"-","-",{"$f":"$BU$425*BV425*BW425+BV425+BW425","v":29675770},null,120,130,140,"-","-","-","-","-","J1 (120-130)","K1 (130-140)","M1 (140-150)","-","-","-","-","-",2.6,2.82,3,"-","-","-","-","Min (2.6)","Typ (2.82)","Max (3.0)","-","-","-","-",8.1600000000000006E-2,-0.82589999999999997,3.1686000000000001,-1.1299999999999999E-2,null,null,-1.6000000000000014E-3,3.6999999999999998E-2,-0.14080000000000001,0.25800000000000001,0.9254,null,null,-1.5040000000000016E-3,null,"SCP7WTF1HPL1"]
[null,null,null,null,null,null,null,null,null,null,null,null,null,null,null,null,null,null,null,null,null,null,null,null,null,null,null,null,null,null,null,null,null,null,null,null,null,null,null,null,null,null,null,null,null,null,null,null,null,null,null,null,null,null,null,null,null,null,null,null,null,null,null,null,null,null,null,null,null,null,null,null,null,80,4000,null,null,null,null,null,null,null,null,null,null,null,null,null,null,50244080,null,130,140,150,"-","-","-","-","-","K1 (130-140)","M1 (140-150)","N1 (150-160)","-","-","-","-","-",2.6,2.82,3,"-","-","-","-","Min (2.6)","Typ (2.82)","Max (3.0)","-","-","-","-",8.1600000000000006E-2,-0.82589999999999997,3.1686000000000001,-1.1299999999999999E-2,null,null,-1.6000000000000014E-3,3.6999999999999998E-2,-0.14080000000000001,0.25800000000000001,0.9254,null,null,-1.5040000000000016E-3,null,"SCP8TTF1HPL1"]
[null,null,null,null,null,null,null,null,null,null,null,null,null,null,null,null,null,null,null,null,null,null,null,null,null,null,null,null,null,null,null,null,null,null,null,null,null,null,null,null,null,null,null,null,null,null,null,null,null,null,null,null,null,null,null,null,null,null,null,null,null,null,null,null,null,null,null,null,null,null,null,"LH181B",158,70,2700,2700,3000,3500,4000,5000,5700,6500,"-","-",{"$f":"$BU$441*BW441","v":426600},70,80,90,"-",{"$f":"$BU$441*BV441*BW441+BV441+BW441","v":29864770},null,140,150,160,"-","-","-","-","-","M1 (140-150)","N1 (150-160)","P1 (160-170)","-","-","-","-","-",2.9,"-","-","-","-","-","-","4E (2.7-3.1)","-","-","-","-","-","-",9.98E-2,-0.61040000000000005,3.0525000000000002,2.0999999999999999E-3,null,null,-1.5166666666666662E-3,4.8599999999999997E-2,-0.1628,0.29249999999999998,0.91549999999999998,null,null,-1.5040000000000016E-3,null,"SCP7WTF1HEL1"]
[null,null,null,null,null,null,null,null,null,null,null,null,null,null,null,null,null,null,null,null,null,null,null,null,null,null,null,null,null,null,null,null,null,null,null,null,null,null,null,null,null,null,null,null,null,null,null,null,null,null,null,null,null,null,null,null,null,null,null,null,null,null,null,null,null,null,null,null,null,null,null,null,null,80,3000,null,null,null,null,null,null,null,null,null,null,null,null,null,null,37923080,null,130,140,150,"-","-","-","-","-","K1 (130-140)","M1 (140-150)","N1 (150-160)","-","-","-","-","-",2.9,"-","-","-","-","-","-","4E (2.7-3.1)","-","-","-","-","-","-",9.98E-2,-0.61040000000000005,3.0525000000000002,2.0999999999999999E-3,null,null,-1.5166666666666662E-3,4.8599999999999997E-2,-0.1628,0.29249999999999998,0.91549999999999998,null,null,-1.5040000000000016E-3,null,"SCP8VTF1HEL1"]
[null,null,null,null,null,null,null,null,null,null,null,null,null,null,null,null,null,null,null,null,null,null,null,null,null,null,null,null,null,null,null,null,null,null,null,null,null,null,null,null,null,null,null,null,null,null,null,null,null,null,null,null,null,null,null,null,null,null,null,null,null,null,null,null,null,null,null,null,null,null,null,null,null,90,4000,null,null,null,null,null,null,null,null,null,null,null,null,null,null,56884090,null,110,120,130,"-","-","-","-","-","H1 (110-120)","J1 (120-130)","K1 (130-140)","-","-","-","-","-",2.9,"-","-","-","-","-","-","4E (2.7-3.1)","-","-","-","-","-","-",9.98E-2,-0.61040000000000005,3.0525000000000002,2.0999999999999999E-3,null,null,-1.5166666666666662E-3,4.8599999999999997E-2,-0.1628,0.29249999999999998,0.91549999999999998,null,null,-1.5040000000000016E-3,null,"SCP9TTF1HEL1"]
[null,null,null,null,null,null,null,null,null,null,null,null,null,null,null,null,null,null,null,null,null,null,null,null,null,null,null,null,null,null,null,null,null,null,null,null,null,null,null,null,null,null,null,null,null,null,null,null,null,null,null,null,null,null,null,null,null,null,null,null,null,null,null,null,null,null,null,null,null,null,null,null,null,80,3500,null,null,null,null,null,null,null,null,null,1981000,80,"-","-","-",158483580,"Flux : S1,S2,S3",{"$f":"AVERAGE(40.4,44)","v":42.2},{"$f":"AVERAGE(44,47.6)","v":45.8},{"$f":"AVERAGE(47.6,51.4)","v":49.5},"-","-","-","-","-","S1 (40.4-44.0)","S2 (44.0-47.6)","S3 (47.6-51.4)","-","-","-","-","-",17.45,17.95,18.45,18.95,19.45,"-","-","AG (17.2-17.7)","BG (17.7-18.2)","CG (18.2-18.7)","DG (18.7-19.2)","EG (19.2-19.7)","-","-",null,-309.08999999999997,57.4,-2.35E-2,null,null,-1.6666666666666663E-3,null,-58.585999999999999,7.3555999999999999,0.87639999999999996,null,null,-1.080000000000003E-2,"Vf : AG,BG,CG,DG,EG","SPMWHT5492D5"]
[null,null,null,null,null,null,null,null,null,null,null,null,null,null,null,null,null,null,null,null,null,null,null,null,null,null,null,null,null,null,null,null,null,null,null,null,null,null,null,null,null,null,null,null,null,null,null,null,null,null,null,null,null,null,null,null,null,null,null,null,null,null,null,null,null,null,null,null,null,null,null,null,null,{"$f":"BV473","v":80},3000,null,null,null,null,null,null,null,null,null,{"$f":"$BU$473*BW474","v":840000},80,"-","-","-",{"$f":"$BU$473*BV474*BW474+BV474+BW474","v":67203080},"Flux : S1,S2",21,{"$f":"AVERAGE(21.5,23.5)","v":22.5},"-","-","-","-","-","-","S1 (20-22)","S2 (21.5-23.5)","-","-","-","-","-","-",2.95,3.05,3.15,3.25,"-","-","-","A2 (2.9-3.0)","A3 (3.0-3.1)","A4 (3.1-3.2)","A5 (3.2-3.3)","-","-","-",{"$f":"DR473","v":666.67},-130,22.433,-2.1999999999999999E-2,null,null,{"$f":"DX473","v":-1.8333333333333331E-3},220.75,-43.045999999999999,4.117,0.86029999999999995,null,null,{"$f":"EE473","v":-1.2500000000000031E-3},"Vf : AZ,A1,A2,A3,A4","SPMWH22286D5"]
[null,null,null,null,null,null,null,null,null,null,null,null,null,null,null,null,null,null,null,null,null,null,null,null,null,null,null,null,null,null,null,null,null,null,null,null,null,null,null,null,null,null,null,null,null,null,null,null,null,null,null,null,null,null,null,null,null,null,null,null,null,null,null,null,null,null,null,null,null,null,null,"LM281BA plus",288,80,2700,2700,3000,3500,4000,5000,5700,6500,"-","-",{"$f":"$BU$480*BW480","v":777600},80,90,"-","-",{"$f":"$BU$480*BV480*BW480+BV480+BW480","v":62210780},"Flux : S2,S3",{"$f":"(MID(CV480,5,4)+MID(CV480,10,4))/2","v":23.5},{"$f":"(MID(CW480,5,4)+MID(CW480,10,4))/2","v":26.5},"-","-","-","-","-","-","S2 (22.5-24.5)","S3 (25.5-27.5)","-","-","-","-","-","-",2.85,2.95,3.05,3.15,3.25,"-","-","A1 (2.8-2.9)","A2 (2.9-3.0)","A3 (3.0-3.1)","A4 (3.1-3.2)","A5 (3.2-3.3)","-","-",666.67,-130,22.433,-2.1999999999999999E-2,null,null,-1.8333333333333331E-3,220.75,-43.045999999999999,4.117,0.86029999999999995,null,null,-1.2500000000000031E-3,"Vf : AZ,A1,A2,A3,A4","SPMWH22286D5"]
[null,null,null,null,null,null,null,null,null,null,null,null,null,null,null,null,null,null,null,null,null,null,null,null,null,null,null,null,null,null,null,null,null,null,null,null,null,null,null,null,null,null,null,null,null,null,null,null,null,null,null,null,null,null,null,null,null,null,null,null,null,null,null,null,null,null,null,null,null,null,null,null,null,90,5000,null,null,null,null,null,null,null,null,null,null,null,null,null,null,129605090,null,22.25,25.25,"-","-","-","-","-","-","S2 (21.5-23.0)","S3 (24.5-26.0)","-","-","-","-","-","-",2.85,2.95,3.05,3.15,3.25,"-","-","A1 (2.8-2.9)","A2 (2.9-3.0)","A3 (3.0-3.1)","A4 (3.1-3.2)","A5 (3.2-3.3)","-","-",666.67,-130,22.433,-2.1999999999999999E-2,null,null,-1.8333333333333331E-3,220.75,-43.045999999999999,4.117,0.86029999999999995,null,null,-1.2500000000000031E-3,null,"SPMWH22286D7"]
[null,null,null,null,null,null,null,null,null,null,null,null,null,null,null,null,null,null,null,null,null,null,null,null,null,null,null,null,null,null,null,null,null,null,null,null,null,null,null,null,null,null,null,null,null,null,null,null,null,null,null,null,null,null,null,null,null,null,null,null,null,null,null,null,null,null,null,null,null,null,null,null,null,{"$f":"BV496","v":80},3500,null,null,null,null,null,null,null,null,null,990500,80,90,"-","-",79243580,null,57.3,{"$f":"AVERAGE(59.3,63.3)","v":61.3},{"$f":"AVERAGE(63.3,67.3)","v":65.3},"-","-","-","-","-","S2 (55.3-59.3)","S3 (59.3-63.3)","S4 (63.3-67.3)","-","-","-","-","-",2.95,3.05,3.15,3.25,"-","-","-","A2 (2.9-3.0)","A3 (3.0-3.1)","A4 (3.1-3.2)","A5 (3.2-3.3)","-","-","-",-54.113,6.8182,6.7878999999999996,1.0999999999999999E-2,null,null,-1.8333333333333331E-3,3.8530000000000002,-2.0678000000000001,1.3126,0.83660000000000001,null,null,-1.2500000000000031E-3,null,"SPMWH1228FD5"]
[null,null,null,null,null,null,null,null,null,null,null,null,null,null,null,null,null,null,null,null,null,null,null,null,null,null,null,null,null,null,null,null,null,null,null,null,null,null,null,null,null,null,null,null,null,null,null,null,null,null,null,null,null,null,null,null,null,null,null,null,null,null,null,null,null,null,null,null,null,null,null,"LM281B plus (SA)",287,80,2700,2700,3000,3500,4000,5000,5700,6500,"-","-",{"$f":"$BU$508*BW508","v":774900},80,90,"-","-",{"$f":"$BU$508*BV508*BW508+BV508+BW508","v":61994780},null,56.5,"-","-","-","-","-","-","-","SA (54.5-58.5)","-","-","-","-","-","-","-",2.95,3.05,3.15,3.25,"-","-","-","A2 (2.9-3.0)","A3 (3.0-3.1)","A4 (3.1-3.2)","A5 (3.2-3.3)","-","-","-",14.909000000000001,-14.782999999999999,8.5404,2.0000000000000001E-4,null,null,-1.970548862115127E-3,22.44,-8.3896999999999995,1.9532,0.82010000000000005,null,null,-1.6666666666666681E-3,null,"SPMWH1228FD5"]
[null,null,null,null,null,null,null,null,null,null,null,null,null,null,null,null,null,null,null,null,null,null,null,null,null,null,null,null,null,null,null,null,null,null,null,null,null,null,null,null,null,null,null,null,null,null,null,null,null,null,null,null,null,null,null,null,null,null,null,null,null,null,null,null,null,null,null,null,null,null,null,null,null,90,2700,null,null,null,null,null,null,null,null,null,null,null,null,null,null,{"$f":"$BU$508*BV509*BW509+BV509+BW509","v":69743790},null,46.5,"-","-","-","-","-","-","-","SA (44.5-48.5)","-","-","-","-","-","-","-",2.95,3.05,3.15,3.25,"-","-","-","A2 (2.9-3.0)","A3 (3.0-3.1)","A4 (3.1-3.2)","A5 (3.2-3.3)","-","-","-",14.909000000000001,-14.782999999999999,8.5404,2.0000000000000001E-4,null,null,-1.970548862115127E-3,22.44,-8.3896999999999995,1.9532,0.82010000000000005,null,null,-1.6666666666666681E-3,null,"SPMWH1228FD7"]
[null,null,null,null,null,null,null,null,null,null,null,null,null,null,null,null,null,null,null,null,null,null,null,null,null,null,null,null,null,null,null,null,null,null,null,null,null,null,null,null,null,null,null,null,null,null,null,null,null,null,null,null,null,null,null,null,null,null,null,null,null,null,null,null,null,null,null,null,null,null,null,null,null,80,5700,null,null,null,null,null,null,null,null,null,1635900,80,90,"-","-",130877780,null,62.5,"-","-","-","-","-","-","-","SA (60.5-64.5)","-","-","-","-","-","-","-",2.95,3.05,3.15,3.25,"-","-","-","A2 (2.9-3.0)","A3 (3.0-3.1)","A4 (3.1-3.2)","A5 (3.2-3.3)","-","-","-",14.909000000000001,-14.782999999999999,8.5404,2.0000000000000001E-4,null,null,-1.970548862115127E-3,22.44,-8.3896999999999995,1.9532,0.82010000000000005,null,null,-1.6666666666666681E-3,null,"SPMWH1228FD5"]
[null,null,null,null,null,null,null,null,null,null,null,null,null,null,null,null,null,null,null,null,null,null,null,null,null,null,null,null,null,null,null,null,null,null,null,null,null,null,null,null,null,null,null,null,null,null,null,null,null,null,null,null,null,null,null,null,null,null,null,null,null,null,null,null,null,null,null,null,null,null,null,null,null,80,4000,null,null,null,null,null,null,null,null,null,11516000,80,90,"-","-",{"$f":"$BU$522*BV528*BW528+BV528+BW528","v":921284080},null,66,70,"-","-","-","-","-","-","SC (64.0-68.0)","SE (68.0-72.0)","-","-","-","-","-","-",2.85,2.95,3.05,3.15,"-","-","-","A1 (2.8-2.9)","A2 (2.9-3.0)","A3 (3.0-3.1)","A4 (3.1-3.2)","-","-","-",13.172000000000001,-10.305999999999999,7.9131999999999998,-4.0000000000000003E-5,null,null,-1.8661390887290167E-3,21.218,-7.3350999999999997,1.3874,0.88539999999999996,null,null,-1.2784499999999976E-3,null,"SPMWH1228FD5"]
[null,null,null,null,null,null,null,null,null,null,null,null,null,null,null,null,null,null,null,null,null,null,null,null,null,null,null,null,null,null,null,null,null,null,null,null,null,null,null,null,null,null,null,null,null,null,null,null,null,null,null,null,null,null,null,null,null,null,null,null,null,null,null,null,null,null,null,null,null,null,null,null,null,90,2700,null,null,null,null,null,null,null,null,null,{"$f":"$BU$536*BW537","v":7749000},"-","-","-","-",{"$f":"$BU$536*BV537*BW537+BV537+BW537","v":697412790},null,58.5,"-","-","-","-","-","-","-","SG (56.5-60.5)","-","-","-","-","-","-","-",2.85,2.95,3.05,3.15,"-","-","-","A1 (2.8-2.9)","A2 (2.9-3.0)","A3 (3.0-3.1)","A4 (3.1-3.2)","-","-","-",6.1322000000000001,-5.9169,7.4263000000000003,-1.8E-3,null,null,-1.8594104308390035E-3,17.925000000000001,-6.4096000000000002,1.5082,0.85750000000000004,null,null,-1.2784499999999976E-3,null,"SPMWH1228FD7"]
[null,null,null,null,null,null,null,null,null,null,null,null,null,null,null,null,null,null,null,null,null,null,null,null,null,null,null,null,null,null,null,null,null,null,null,null,null,null,null,null,null,null,null,null,null,null,null,null,null,null,null,null,null,null,null,null,null,null,null,null,null,null,null,null,null,null,null,null,null,null,null,null,null,90,5700,null,null,null,null,null,null,null,null,null,16359000,"-","-","-","-",1472315790,null,63.5,"-","-","-","-","-","-","-","SG (61.5-65.5)","-","-","-","-","-","-","-",2.85,2.95,3.05,3.15,"-","-","-","A1 (2.8-2.9)","A2 (2.9-3.0)","A3 (3.0-3.1)","A4 (3.1-3.2)","-","-","-",6.1322000000000001,-5.9169,7.4263000000000003,-1.8E-3,null,null,-1.8594104308390035E-3,17.925000000000001,-6.4096000000000002,1.5082,0.85750000000000004,null,null,-1.2784499999999976E-3,null,"SPMWH1228FD7"]
[null,null,null,null,null,null,null,null,null,null,null,null,null,null,null,null,null,null,null,null,null,null,null,null,null,null,null,null,null,null,null,null,null,null,null,null,null,null,null,null,null,null,null,null,null,null,null,null,null,null,null,null,null,null,null,null,null,null,null,null,null,null,null,null,null,null,null,null,null,null,null,null,null,80,4000,null,null,null,null,null,null,null,null,null,11484000,80,90,"-","-",918724080,null,78,"-","-","-","-","-","-","-","SJ (76.0-80.0)","-","-","-","-","-","-","-",2.85,2.95,3.05,3.15,"-","-","-","A1 (2.8-2.9)","A2 (2.9-3.0)","A3 (3.0-3.1)","A4 (3.1-3.2)","-","-","-",0.19689999999999999,-3.3035000000000001,7.1981000000000002,-4.1999999999999997E-3,null,null,-1.6803736419941115E-3,11.028,-4.6977000000000002,1.2357,0.88190000000000002,null,null,-8.764187494916698E-4,null,"SPMWH1228FD5"]
[null,null,null,null,null,null,null,null,null,null,null,null,null,null,null,null,null,null,null,null,null,null,null,null,null,null,null,null,null,null,null,null,null,null,null,null,null,null,null,null,null,null,null,null,null,null,null,null,null,null,null,null,null,null,null,null,null,null,null,null,null,null,null,null,null,null,null,null,null,null,null,null,null,90,2700,null,null,null,null,null,null,null,null,null,{"$f":"$BU$564*BW565","v":7754400},"-","-","-","-",{"$f":"$BU$564*BV565*BW565+BV565+BW565","v":697898790},null,28.5,"-","-","-","-","-","-","-","SK (27.5-29.5)","-","-","-","-","-","-","-",2.65,2.75,2.85,2.95,"-","-","-","AY (2.6-2.7)","AZ (2.7-2.8)","A1 (2.8-2.9)","A2 (2.9-3.0)","-","-","-",2.9142000000000001,-7.9698000000000002,15.971,-5.7000000000000002E-3,null,null,-1.6756973710616093E-3,11.372999999999999,-4.7622999999999998,1.1506000000000001,0.94259999999999999,null,null,-1.0000000000000009E-3,null,"SPMWH1228FD7"]
[null,null,null,null,null,null,null,null,null,null,null,null,null,null,null,null,null,null,null,null,null,null,null,null,null,null,null,null,null,null,null,null,null,null,null,null,null,null,null,null,null,null,null,null,null,null,null,null,null,null,null,null,null,null,null,null,null,null,null,null,null,null,null,null,null,null,null,null,null,null,null,null,null,90,3000,null,null,null,null,null,null,null,null,null,8616000,"-","-","-","-",775443090,null,29.5,"-","-","-","-","-","-","-","SK (28.5-30.5)","-","-","-","-","-","-","-",2.65,2.75,2.85,2.95,"-","-","-","AY (2.6-2.7)","AZ (2.7-2.8)","A1 (2.8-2.9)","A2 (2.9-3.0)","-","-","-",2.9142000000000001,-7.9698000000000002,15.971,-5.7000000000000002E-3,null,null,-1.6756973710616093E-3,11.372999999999999,-4.7622999999999998,1.1506000000000001,0.94259999999999999,null,null,-1.0000000000000009E-3,null,"SPMWH1228FD7"]
[null,null,null,null,null,null,null,null,null,null,null,null,null,null,null,null,null,null,null,null,null,null,null,null,null,null,null,null,null,null,null,null,null,null,null,null,null,null,null,null,null,null,null,null,null,null,null,null,null,null,null,null,null,null,null,null,null,null,null,null,null,null,null,null,null,null,null,null,null,null,null,null,null,80,6500,null,null,null,null,null,null,null,null,null,18668000,80,90,"-","-",1493446580,null,36.5,"-","-","-","-","-","-","-","SK (35.5-37.5)","-","-","-","-","-","-","-",2.65,2.75,2.85,2.95,"-","-","-","AY (2.6-2.7)","AZ (2.7-2.8)","A1 (2.8-2.9)","A2 (2.9-3.0)","-","-","-",2.9142000000000001,-7.9698000000000002,15.971,-5.7000000000000002E-3,null,null,-1.6756973710616093E-3,11.372999999999999,-4.7622999999999998,1.1506000000000001,0.94259999999999999,null,null,-1.0000000000000009E-3,null,"SPMWH1228FD5"]
[null,null,null,null,null,null,null,null,null,null,null,null,null,null,null,null,null,null,null,null,null,null,null,null,null,null,null,null,null,null,null,null,null,null,null,null,null,null,null,null,null,null,null,null,null,null,null,null,null,null,null,null,null,null,null,null,null,null,null,null,null,null,null,null,null,null,null,null,null,null,null,null,null,90,4000,null,null,null,null,null,null,null,null,null,11492000,"-","-","-","-",1034284090,null,63,"-","-","-","-","-","-","-","RG (61.0-65.0)","-","-","-","-","-","-","-",2.85,2.95,3.05,3.15,"-","-","-","A1 (2.8-2.9)","A2 (2.9-3.0)","A3 (3.0-3.1)","A4 (3.1-3.2)","-","-","-",6.1322000000000001,-5.9169,7.4263000000000003,-1.8E-3,null,null,-1.8594104308390035E-3,17.925000000000001,-6.4096000000000002,1.5082,0.85750000000000004,null,null,-1.2784499999999976E-3,null,"SPMWH1228FD7"]
[null,null,null,null,null,null,null,null,null,null,null,null,null,null,null,null,null,null,null,null,null,null,null,null,null,null,null,null,null,null,null,null,null,null,null,null,null,null,null,null,null,null,null,null,null,null,null,null,null,null,null,null,null,null,null,null,null,null,null,null,null,null,null,null,null,null,null,null,null,null,null,null,null,80,3500,null,null,null,null,null,null,null,null,null,10059000,80,90,"-","-",804723580,null,75.5,"-","-","-","-","-","-","-","RJ (73.5-77.5)","-","-","-","-","-","-","-",2.85,2.95,3.05,3.15,"-","-","-","A1 (2.8-2.9)","A2 (2.9-3.0)","A3 (3.0-3.1)","A4 (3.1-3.2)","-","-","-",0.19689999999999999,-3.3035000000000001,7.1981000000000002,-4.1999999999999997E-3,null,null,-1.6803736419941115E-3,11.028,-4.6977000000000002,1.2357,0.88190000000000002,null,null,-8.764187494916698E-4,null,"SPMWH1228FD5"]
[null,null,null,null,null,null,null,null,null,null,null,null,null,null,null,null,null,null,null,null,null,null,null,null,null,null,null,null,null,null,null,null,null,null,null,null,null,null,null,null,null,null,null,null,null,null,null,null,null,null,null,null,null,null,null,null,null,null,null,null,null,null,null,null,null,null,null,null,null,null,null,null,null,80,6500,null,null,null,null,null,null,null,null,null,18681000,80,90,"-","-",1494486580,null,78,"-","-","-","-","-","-","-","RJ (76.0-80.0)","-","-","-","-","-","-","-",2.85,2.95,3.05,3.15,"-","-","-","A1 (2.8-2.9)","A2 (2.9-3.0)","A3 (3.0-3.1)","A4 (3.1-3.2)","-","-","-",0.19689999999999999,-3.3035000000000001,7.1981000000000002,-4.1999999999999997E-3,null,null,-1.6803736419941115E-3,11.028,-4.6977000000000002,1.2357,0.88190000000000002,null,null,-8.764187494916698E-4,null,"SPMWH1228FD5"]
[null,null,null,null,null,null,null,null,null,null,null,null,null,null,null,null,null,null,null,null,null,null,null,null,null,null,null,null,null,null,null,null,null,null,null,null,null,null,null,null,null,null,null,null,null,null,null,null,null,null,null,null,null,null,null,null,null,null,null,null,null,null,null,null,null,null,null,null,null,null,null,null,null,90,4000,null,null,null,null,null,null,null,null,null,11500000,"-","-","-","-",1035004090,null,31.5,"-","-","-","-","-","-","-","RK (30.5-32.5)","-","-","-","-","-","-","-",2.65,2.75,2.85,2.95,"-","-","-","AY (2.6-2.7)","AZ (2.7-2.8)","A1 (2.8-2.9)","A2 (2.9-3.0)","-","-","-",2.9142000000000001,-7.9698000000000002,15.971,-5.7000000000000002E-3,null,null,-1.6756973710616093E-3,11.372999999999999,-4.7622999999999998,1.1506000000000001,0.94259999999999999,null,null,-1.0000000000000009E-3,null,"SPMWH1228FD7"]
[null,null,null,null,null,null,null,null,null,null,null,null,null,null,null,null,null,null,null,null,null,null,null,null,null,null,null,null,null,null,null,null,null,null,null,null,null,null,null,null,null,null,null,null,null,null,null,null,null,null,null,null,null,null,null,null,null,null,null,null,null,null,null,null,null,null,null,null,null,null,null,null,null,90,3500,null,null,null,null,null,null,null,null,null,10066000,"-","-","-","-",905943590,null,61,"-","-","-","-","-","-","-","VG (59.0-63.0)","-","-","-","-","-","-","-",2.85,2.95,3.05,3.15,"-","-","-","A1 (2.8-2.9)","A2 (2.9-3.0)","A3 (3.0-3.1)","A4 (3.1-3.2)","-","-","-",6.1322000000000001,-5.9169,7.4263000000000003,-1.8E-3,null,null,-1.8594104308390035E-3,17.925000000000001,-6.4096000000000002,1.5082,0.85750000000000004,null,null,-1.2784499999999976E-3,null,"SPMWH1228FD7"]
[null,null,null,null,null,null,null,null,null,null,null,null,null,null,null,null,null,null,null,null,null,null,null,null,null,null,null,null,null,null,null,null,null,null,null,null,null,null,null,null,null,null,null,null,null,null,null,null,null,null,null,null,null,null,null,null,null,null,null,null,null,null,null,null,null,null,null,null,null,null,null,null,null,80,6500,null,null,null,null,null,null,null,null,null,18694000,80,90,"-","-",1495526580,null,74,"-","-","-","-","-","-","-","VG (72.0-76.0)","-","-","-","-","-","-","-",2.85,2.95,3.05,3.15,"-","-","-","A1 (2.8-2.9)","A2 (2.9-3.0)","A3 (3.0-3.1)","A4 (3.1-3.2)","-","-","-",6.1322000000000001,-5.9169,7.4263000000000003,-1.8E-3,null,null,-1.8594104308390035E-3,17.925000000000001,-6.4096000000000002,1.5082,0.85750000000000004,null,null,-1.2784499999999976E-3,null,"SPMWH1228FD5"]
[null,null,null,null,null,null,null,null,null,null,null,null,null,null,null,null,null,null,null,null,null,null,null,null,null,null,null,null,null,null,null,null,null,null,null,null,null,null,null,null,null,null,null,null,null,null,null,null,null,null,null,null,null,null,null,null,null,null,null,null,null,null,null,null,null,null,null,null,null,null,null,null,null,90,4000,null,null,null,null,null,null,null,null,null,11508000,"-","-","-","-",1035724090,null,66,"-","-","-","-","-","-","-","VJ (64.0-68.0)","-","-","-","-","-","-","-",2.85,2.95,3.05,3.15,"-","-","-","A1 (2.8-2.9)","A2 (2.9-3.0)","A3 (3.0-3.1)","A4 (3.1-3.2)","-","-","-",0.19689999999999999,-3.3035000000000001,7.1981000000000002,-4.1999999999999997E-3,null,null,-1.6803736419941115E-3,11.028,-4.6977000000000002,1.2357,0.88190000000000002,null,null,-8.764187494916698E-4,null,"SPMWH1228FD7"]
[null,null,null,null,null,null,null,null,null,null,null,null,null,null,null,null,null,null,null,null,null,null,null,null,null,null,null,null,null,null,null,null,null,null,null,null,null,null,null,null,null,null,null,null,null,null,null,null,null,null,null,null,null,null,null,null,null,null,null,null,null,null,null,null,null,null,null,null,null,null,null,null,null,90,5700,null,null,null,null,null,null,null,null,null,16398900,"-","-","-","-",1475906790,null,66.5,"-","-","-","-","-","-","-","VJ (64.5-68.5)","-","-","-","-","-","-","-",2.85,2.95,3.05,3.15,"-","-","-","A1 (2.8-2.9)","A2 (2.9-3.0)","A3 (3.0-3.1)","A4 (3.1-3.2)","-","-","-",0.19689999999999999,-3.3035000000000001,7.1981000000000002,-4.1999999999999997E-3,null,null,-1.6803736419941115E-3,11.028,-4.6977000000000002,1.2357,0.88190000000000002,null,null,-8.764187494916698E-4,null,"SPMWH1228FD7"]
[null,null,null,null,null,null,null,null,null,null,null,null,null,null,null,null,null,null,null,null,null,null,null,null,null,null,null,null,null,null,null,null,null,null,null,null,null,null,null,null,null,null,null,null,null,null,null,null,null,null,null,null,null,null,null,null,null,null,null,null,null,null,null,null,null,null,null,null,null,null,null,null,null,80,3500,null,null,null,null,null,null,null,null,null,10073000,80,90,"-","-",805843580,null,35,"-","-","-","-","-","-","-","VK (34.0-36.0)","-","-","-","-","-","-","-",2.65,2.75,2.85,2.95,"-","-","-","AY (2.6-2.7)","AZ (2.7-2.8)","A1 (2.8-2.9)","A2 (2.9-3.0)","-","-","-",2.9142000000000001,-7.9698000000000002,15.971,-5.7000000000000002E-3,null,null,-1.6756973710616093E-3,11.372999999999999,-4.7622999999999998,1.1506000000000001,0.94259999999999999,null,null,-1.0000000000000009E-3,null,"SPMWH1228FD5"]
[null,null,null,null,null,null,null,null,null,null,null,null,null,null,null,null,null,null,null,null,null,null,null,null,null,null,null,null,null,null,null,null,null,null,null,null,null,null,null,null,null,null,null,null,null,null,null,null,null,null,null,null,null,null,null,null,null,null,null,null,null,null,null,null,null,null,null,null,null,null,null,null,null,90,2700,null,null,null,null,null,null,null,null,null,{"$f":"$BU$662*BW663","v":7776000},"-","-","-","-",{"$f":"$BU$662*BV663*BW663+BV663+BW663","v":699842790},null,29.5,"-","-","-","-","-","-","-","VL (28.5-30.5)","-","-","-","-","-","-","-",2.6500000000000004,2.75,2.8499999999999996,2.95,"-","-","-","AY (2.6-2.7) ","AZ (2.7-2.8) ","A1 (2.8-2.9) ","A2 (2.9-3.0) ","-","-","-",3.7706,-7.07,15.7928,-2.9999999999999997E-4,null,null,-1.1640211640211635E-3,3.0289999999999999,-1.9754,0.92879999999999996,0.94610000000000005,null,null,-9.3333333333333419E-4,null,"SPMWH1228MD7"]
[null,null,null,null,null,null,null,null,null,null,null,null,null,null,null,null,null,null,null,null,null,null,null,null,null,null,null,null,null,null,null,null,null,null,null,null,null,null,null,null,null,null,null,null,null,null,null,null,null,null,null,null,null,null,null,null,null,null,null,null,null,null,null,null,null,null,null,null,null,null,null,null,null,90,5000,null,null,null,null,null,null,null,null,null,14400000,"-","-","-","-",1296005090,null,32.5,"-","-","-","-","-","-","-","VL (31.5-33.5)","-","-","-","-","-","-","-",2.6500000000000004,2.75,2.8499999999999996,2.95,"-","-","-","AY (2.6-2.7) ","AZ (2.7-2.8) ","A1 (2.8-2.9) ","A2 (2.9-3.0) ","-","-","-",3.7706,-7.07,15.7928,-2.9999999999999997E-4,null,null,-1.1640211640211635E-3,3.0289999999999999,-1.9754,0.92879999999999996,0.94610000000000005,null,null,-9.3333333333333419E-4,null,"SPMWH1228MD7"]
[null,null,null,null,null,null,null,null,null,null,null,null,null,null,null,null,null,null,null,null,null,null,null,null,null,null,null,null,null,null,null,null,null,null,null,null,null,null,null,null,null,null,null,null,null,null,null,null,null,null,null,null,null,null,null,null,null,null,null,null,null,null,null,null,null,null,null,null,null,null,null,null,null,90,5000,null,null,null,null,null,null,null,null,null,14715000,90,"-","-","-",1324355090,null,36,"-","-","-","-","-","-","-","VL (35.0-37.0)","-","-","-","-","-","-","-",2.6500000000000004,2.75,2.8499999999999996,2.95,"-","-","-","AY (2.6-2.7) ","AZ (2.7-2.8) ","A1 (2.8-2.9) ","A2 (2.9-3.0) ","-","-","-",3.9373999999999998,-7.4123000000000001,15.9236,-5.1999999999999998E-3,null,null,-1.3585918350877155E-3,9.1057000000000006,-4.0401999999999996,1.07,0.94530000000000003,null,null,-8.7605000000000224E-4,null,"SPMWH1228MD7"]
[null,null,null,null,null,null,null,null,null,null,null,null,null,null,null,null,null,null,null,null,null,null,null,null,null,null,null,null,null,null,null,null,null,null,null,null,null,null,null,null,null,null,null,null,null,null,null,null,null,null,null,null,null,null,null,null,null,null,null,null,null,null,null,null,null,null,null,null,null,null,null,null,null,90,5000,null,null,null,null,null,null,null,null,null,1460000,"-","-","-","-",131405090,null,50.75,"-","-","-","-","-","-","-","SA (49.0-52.5)","-","-","-","-","-","-","-",2.95,3.05,3.15,3.25,"-","-","-","A2 (2.9-3.0)","A3 (3.0-3.1)","A4 (3.1-3.2)","A5 (3.2-3.3)","-","-","-",14.909000000000001,-14.782999999999999,8.5404,2.0000000000000001E-4,null,null,-1.970548862115127E-3,22.44,-8.3896999999999995,1.9532,0.82010000000000005,null,null,-1.6666666666666681E-3,null,"SPMWH3228FD7"]
[null,null,null,null,null,null,null,null,null,null,null,null,null,null,null,null,null,null,null,null,null,null,null,null,null,null,null,null,null,null,null,null,null,null,null,null,null,null,null,null,null,null,null,null,null,null,null,null,null,null,null,null,null,null,null,null,null,null,null,null,null,null,null,null,null,null,null,null,null,null,null,null,null,80,3000,null,null,null,null,null,null,null,null,null,8760000,80,90,"-","-",700803080,null,61.25,63.75,"-","-","-","-","-","-","SC (59.5-63.0)","SE (62.0-65.5)","-","-","-","-","-","-",2.85,2.95,3.05,3.15,"-","-","-","A1 (2.8-2.9)","A2 (2.9-3.0)","A3 (3.0-3.1)","A4 (3.1-3.2)","-","-","-",13.172000000000001,-10.305999999999999,7.9131999999999998,-4.0000000000000003E-5,null,null,-1.8661390887290167E-3,21.218,-7.3350999999999997,1.3874,0.88539999999999996,null,null,-1.2784499999999976E-3,null,"SPMWH3228FD5"]
[null,null,null,null,null,null,null,null,null,null,null,null,null,null,null,null,null,null,null,null,null,null,null,null,null,null,null,null,null,null,null,null,null,null,null,null,null,null,null,null,null,null,null,null,null,null,null,null,null,null,null,null,null,null,null,null,null,null,null,null,null,null,null,null,null,null,null,null,null,null,null,null,null,90,5700,null,null,null,null,null,null,null,null,null,16644000,"-","-","-","-",1497965790,null,53.75,57.25,"-","-","-","-","-","-","SC (52.0-55.5)","SE (55.5-59.0)","-","-","-","-","-","-",2.85,2.95,3.05,3.15,"-","-","-","A1 (2.8-2.9)","A2 (2.9-3.0)","A3 (3.0-3.1)","A4 (3.1-3.2)","-","-","-",13.172000000000001,-10.305999999999999,7.9131999999999998,-4.0000000000000003E-5,null,null,-1.8661390887290167E-3,21.218,-7.3350999999999997,1.3874,0.88539999999999996,null,null,-1.2784499999999976E-3,null,"SPMWH3228FD7"]
[null,null,null,null,null,null,null,null,null,null,null,null,null,null,null,null,null,null,null,null,null,null,null,null,null,null,null,null,null,null,null,null,null,null,null,null,null,null,null,null,null,null,null,null,null,null,null,null,null,null,null,null,null,null,null,null,null,null,null,null,null,null,null,null,null,null,null,null,null,null,null,null,null,90,3500,null,null,null,null,null,null,null,null,null,null,null,null,null,null,920118590,null,30,"-","-","-","-","-","-","-","RK (29.0-31.0)","-","-","-","-","-","-","-",2.65,2.75,2.85,2.95,"-","-","-","AY (2.6-2.7)","AZ (2.7-2.8)","A1 (2.8-2.9)","A2 (2.9-3.0)","-","-","-",2.9142000000000001,-7.9698000000000002,15.971,-5.7000000000000002E-3,null,null,-1.6756973710616093E-3,11.372999999999999,-4.7622999999999998,1.1506000000000001,0.94259999999999999,null,null,-1.0000000000000009E-3,null,"SPMWH3228MD7"]
[null,null,null,null,null,null,null,null,null,null,null,null,null,null,null,null,null,null,null,null,null,null,null,null,null,null,null,null,null,null,null,null,null,null,null,null,null,null,null,null,null,null,null,null,null,null,null,null,null,null,null,null,null,null,null,null,null,null,null,null,null,null,null,null,null,null,null,null,null,null,null,null,null,80,5000,null,null,null,null,null,null,null,null,null,{"$f":"$BU$711*BW719","v":14605000},80,90,"-","-",1168405080,null,36,"-","-","-","-","-","-","-","RK (35.0-37.0)","-","-","-","-","-","-","-",2.65,2.75,2.85,2.95,"-","-","-","AY (2.6-2.7)","AZ (2.7-2.8)","A1 (2.8-2.9)","A2 (2.9-3.0)","-","-","-",2.9142000000000001,-7.9698000000000002,15.971,-5.7000000000000002E-3,null,null,-1.6756973710616093E-3,11.372999999999999,-4.7622999999999998,1.1506000000000001,0.94259999999999999,null,null,-1.0000000000000009E-3,null,"SPMWH3228MD5"]
[null,null,null,null,null,null,null,null,null,null,null,null,null,null,null,null,null,null,null,null,null,null,null,null,null,null,null,null,null,null,null,null,null,null,null,null,null,null,null,null,null,null,null,null,null,null,null,null,null,null,null,null,null,null,null,null,null,null,null,null,null,null,null,null,null,null,null,null,null,null,null,null,null,80,4000,null,null,null,null,null,null,null,null,null,1164000,80,"-","-","-",93124080,null,29,31,33,"-","-","-","-","-","S2 (28.0-30.0)","S3 (30.0-32.0)","S4 (32.0-34.0)","-","-","-","-","-",2.75,2.85,2.95,3.05,3.15,"-","-","AZ (2.7-2.8)","A1 (2.8-2.9)","A2 (2.9-3.0)","A3 (3.0-3.1)","A4 (3.1-3.2)","-","-",9.9611000000000001,-13.846,16.27,-1.8E-3,null,null,-2.1062271062271044E-3,10.853999999999999,-4.4260000000000002,1.427,0.92290000000000005,null,null,-1.5E-3,null,"SPMWH5228MD5"]
[null,null,null,null,null,null,null,null,null,null,null,null,null,null,null,null,null,null,null,null,null,null,null,null,null,null,null,null,null,null,null,null,null,null,null,null,null,null,null,null,null,null,null,null,null,null,null,null,null,null,null,null,null,null,null,null,null,null,null,null,null,null,null,null,null,null,null,null,null,null,null,null,null,{"$f":"BV734","v":80},3500,null,null,null,null,null,null,null,null,null,32494000,80,90,"-","-",2599523580,null,{"$f":"AVERAGE(103,108)","v":105.5},{"$f":"AVERAGE(108,113)","v":110.5},{"$f":"AVERAGE(113,118)","v":115.5},{"$f":"AVERAGE(118,123)","v":120.5},"-","-","-","-","S1 (103-108)","S2 (108-113)","S3 (113-118)","S4 (118-123)","-","-","-","-",5.85,6.15,6.4499999999999993,6.75,"-","-","-","G1 (5.7-6.0)","G2 (6.0-6.3)","G3 (6.3-6.6)","G4 (6.6-6.9)","-","-","-",-28.408999999999999,-1.4205000000000001,7.4885999999999999,4.4999999999999997E-3,null,null,-1.8333333333333331E-3,7.1889000000000003,-2.5160999999999998,1.2279,0.84819999999999995,null,null,-1.899999999999998E-3,null,"SPMWH1221FD5"]
[null,null,null,null,null,null,null,null,null,null,null,null,null,null,null,null,null,null,null,null,null,null,null,null,null,null,null,null,null,null,null,null,null,null,null,null,null,null,null,null,null,null,null,null,null,null,null,null,null,null,null,null,null,null,null,null,null,null,null,null,null,null,null,null,null,null,null,null,null,null,null,null,null,90,2700,null,null,null,null,null,null,null,null,null,null,null,null,null,null,{"$f":"$BU$746*BV747*BW747+BV747+BW747","v":71201790},null,97.5,107.5,"-","-","-","-","-","-","SA (92.5-102.5)","SB (102.5-112.5)","-","-","-","-","-","-",5.85,6.15,6.4499999999999993,6.75,"-","-","-","G1 (5.7-6.0)","G2 (6.0-6.3)","G3 (6.3-6.6)","G4 (6.6-6.9)","-","-","-",{"$f":"DR746","v":4.5788000000000002},-12.5,8.5449000000000002,-1.5900000000000001E-2,null,null,{"$f":"DX746","v":-1.8333333333333331E-3},-5.8608000000000002,1E-10,1.2225999999999999,0.83640000000000003,null,null,-2.0000000000000018E-3,null,"SPMWH1221FQ7"]
[null,null,null,null,null,null,null,null,null,null,null,null,null,null,null,null,null,null,null,null,null,null,null,null,null,null,null,null,null,null,null,null,null,null,null,null,null,null,null,null,null,null,null,null,null,null,null,null,null,null,null,null,null,null,null,null,null,null,null,null,null,null,null,null,null,null,null,null,null,null,null,null,null,{"$f":"BV754","v":80},5700,null,null,null,null,null,null,null,null,null,{"$f":"$BU$746*BW756","v":1670100},80,90,"-","-",133613780,null,127,137,"-","-","-","-","-","-","SA (122-132)","SB (132-142)","-","-","-","-","-","-",5.85,6.15,6.4499999999999993,6.75,"-","-","-","G1 (5.7-6.0)","G2 (6.0-6.3)","G3 (6.3-6.6)","G4 (6.6-6.9)","-","-","-",4.5788000000000002,-12.5,8.5449000000000002,-1.5900000000000001E-2,null,null,-1.8333333333333331E-3,-5.8608000000000002,1E-10,1.2225999999999999,0.83640000000000003,null,null,-2.0000000000000018E-3,null,"SPMWH1221FQ5"]
[null,null,null,null,null,null,null,null,null,null,null,null,null,null,null,null,null,null,null,null,null,null,null,null,null,null,null,null,null,null,null,null,null,null,null,null,null,null,null,null,null,null,null,null,null,null,null,null,null,null,null,null,null,null,null,null,null,null,null,null,null,null,null,null,null,null,null,null,null,null,null,null,null,90,3500,null,null,null,null,null,null,null,null,null,null,null,null,null,null,2924778590,null,{"$f":"AVERAGE(94,99)","v":96.5},{"$f":"AVERAGE(99,104)","v":101.5},{"$f":"AVERAGE(104,109)","v":106.5},{"$f":"AVERAGE(109,114)","v":111.5},"-","-","-","-","S1 (94-99)","S2 (99-104)","S3 (104-109)","S4 (109-114)","-","-","-","-",8.9499999999999993,9.25,9.5500000000000007,9.85,"-","-","-","GZ (8.8-9.1)","G1 (9.1-9.4)","G2 (9.4-9.7)","G3 (9.7-10.0)","-","-","-",76.388999999999996,-35.625,12.952999999999999,-1.54E-2,null,null,-1.8333333333333331E-3,-41.069000000000003,5.7123999999999997,1.2351000000000001,0.86040000000000005,null,null,-5.9999999999999906E-3,null,"SPMWH1229AD7"]
[null,null,null,null,null,null,null,null,null,null,null,null,null,null,null,null,null,null,null,null,null,null,null,null,null,null,null,null,null,null,null,null,null,null,null,null,null,null,null,null,null,null,null,null,null,null,null,null,null,null,null,null,null,null,null,null,null,null,null,null,null,null,null,null,null,null,null,null,null,null,null,null,null,90,2700,null,null,null,null,null,null,null,null,null,null,null,null,null,null,{"$f":"$BU$774*BV775*BW775+BV775+BW775","v":70229790},null,91,98,99,108,"-","-","-","-","SA (88-94)","SL (93-103)","SB (94-104)","SM (103-113)","-","-","-","-",8.9499999999999993,9.25,9.5500000000000007,9.85,"-","-","-","GZ (8.8-9.1)","G1 (9.1-9.4)","G2 (9.4-9.7)","G3 (9.7-10.0)","-","-","-",{"$f":"DR774","v":76.388999999999996},-35.625,12.952999999999999,-1.54E-2,null,null,{"$f":"DX774","v":-1.8333333333333331E-3},-41.069000000000003,5.7123999999999997,1.2351000000000001,0.86040000000000005,null,null,-5.9999999999999906E-3,null,"SPMWH1229AQ7"]
[null,null,null,null,null,null,null,null,null,null,null,null,null,null,null,null,null,null,null,null,null,null,null,null,null,null,null,null,null,null,null,null,null,null,null,null,null,null,null,null,null,null,null,null,null,null,null,null,null,null,null,null,null,null,null,null,null,null,null,null,null,null,null,null,null,null,null,null,null,null,null,null,null,{"$f":"BV774","v":80},3000,null,null,null,null,null,null,null,null,null,{"$f":"$BU$774*BW776","v":867000},80,90,"-","-",69363080,null,111,118,120,128,"-","-","-","-","SA (107-115)","SL (113-123)","SB (115-125)","SM (123-133)","-","-","-","-",8.9499999999999993,9.25,9.5500000000000007,9.85,"-","-","-","GZ (8.8-9.1)","G1 (9.1-9.4)","G2 (9.4-9.7)","G3 (9.7-10.0)","-","-","-",76.388999999999996,-35.625,12.952999999999999,-1.54E-2,null,null,-1.8333333333333331E-3,-41.069000000000003,5.7123999999999997,1.2351000000000001,0.86040000000000005,null,null,-5.9999999999999906E-3,null,"SPMWH1229AQ5"]
[null,null,null,null,null,null,null,null,null,null,null,null,null,null,null,null,null,null,null,null,null,null,null,null,null,null,null,null,null,null,null,null,null,null,null,null,null,null,null,null,null,null,null,null,null,null,null,null,null,null,null,null,null,null,null,null,null,null,null,null,null,null,null,null,null,null,null,null,null,null,null,null,null,90,5700,null,null,null,null,null,null,null,null,null,null,null,null,null,null,148262790,null,100.5,108,109,119,"-","-","-","-","SA (97-104)","SL (103-113)","SB (104-114)","SM (114-124)","-","-","-","-",8.9499999999999993,9.25,9.5500000000000007,9.85,"-","-","-","GZ (8.8-9.1)","G1 (9.1-9.4)","G2 (9.4-9.7)","G3 (9.7-10.0)","-","-","-",76.388999999999996,-35.625,12.952999999999999,-1.54E-2,null,null,-1.8333333333333331E-3,-41.069000000000003,5.7123999999999997,1.2351000000000001,0.86040000000000005,null,null,-5.9999999999999906E-3,null,"SPMWH1229AQ7"]
[null,null,null,null,null,null,null,null,null,null,null,null,null,null,null,null,null,null,null,null,null,null,null,null,null,null,null,null,null,null,null,null,null,null,null,null,null,null,null,null,null,null,null,null,null,null,null,null,null,null,null,null,null,null,null,null,null,null,null,null,null,null,null,null,null,null,null,null,null,null,null,null,null,90,4000,null,null,null,null,null,null,null,null,null,null,null,null,null,null,1040764090,null,126.5,"-","-","-","-","-","-","-","SP (123-130)","-","-","-","-","-","-","-",8.9499999999999993,9.25,9.5500000000000007,9.85,"-","-","-","GZ (8.8-9.1)","G1 (9.1-9.4)","G2 (9.4-9.7)","G3 (9.7-10.0)","-","-","-",27.928000000000001,-17.635000000000002,11.496,-6.9999999999999999E-4,null,null,-1.8779998509591057E-3,51.061,-12.335000000000001,1.9594,0.876,null,null,-4.0021611111111062E-3,null,"SPMWH1229AQ7"]
[null,null,null,null,null,null,null,null,null,null,null,null,null,null,null,null,null,null,null,null,null,null,null,null,null,null,null,null,null,null,null,null,null,null,null,null,null,null,null,null,null,null,null,null,null,null,null,null,null,null,null,null,null,null,null,null,null,null,null,null,null,null,null,null,null,null,null,null,null,null,null,null,null,80,3500,null,null,null,null,null,null,null,null,null,32515000,80,"-","-","-",2601203580,null,{"$f":"AVERAGE(62.5,67.5)","v":65},"-","-","-","-","-","-","-","S1 (62.5-67.5)","-","-","-","-","-","-","-",8.9499999999999993,9.25,9.5500000000000007,9.85,"-","-","-","GZ (8.8-9.1)","G1 (9.1-9.4)","G2 (9.4-9.7)","G3 (9.7-10.0)","-","-","-",-416.67,-8.3332999999999995,18.375,1.7500000000000002E-2,null,null,-2.3333333333333335E-3,-27.056000000000001,-0.1804,1.0164,0.94550000000000001,null,null,-5.9999999999999906E-3,null,"SPMWH22296Q5"]
[null,null,null,null,null,null,null,null,null,null,null,null,null,null,null,null,null,null,null,null,null,null,null,null,null,null,null,null,null,null,null,null,null,null,null,null,null,null,null,null,null,null,null,null,null,null,null,null,null,null,null,null,null,null,null,null,null,null,null,null,null,null,null,null,null,null,null,null,null,null,null,null,null,90,3500,null,null,null,null,null,null,null,null,null,null,null,null,null,null,90093590,null,{"$f":"AVERAGE(74,79)","v":76.5},{"$f":"AVERAGE(79,84)","v":81.5},"-","-","-","-","-","-","S1 (74-79)","S2 (79-84)","-","-","-","-","-","-",16.5,17.5,18.5,19.5,"-","-","-","A2 (16-17)","A3 (17-18)","A4 (18-19)","A5 (19-20)","-","-","-",1523.8,-240,32.133000000000003,1.1000000000000001E-3,null,null,-1.8333333333333331E-3,183.45,-24.765999999999998,3.6415000000000002,0.88219999999999998,null,null,-9.6000000000000078E-3,null,"SPMWH12244D7"]
[null,null,null,null,null,null,null,null,null,null,null,null,null,null,null,null,null,null,null,null,null,null,null,null,null,null,null,null,null,null,null,null,null,null,null,null,null,null,null,null,null,null,null,null,null,null,null,null,null,null,null,null,null,null,null,null,null,null,null,null,null,null,null,null,null,null,null,null,null,null,null,"LM286B Plus (18V)(SA)",2941,80,2700,2700,3000,3500,4000,5000,5700,6500,"-","-",{"$f":"$BU$823*BW823","v":7940700},80,90,"-","-",{"$f":"$BU$823*BV823*BW823+BV823+BW823","v":635258780},null,105,"-","-","-","-","-","-","-","SA (100-110)","-","-","-","-","-","-","-",16.5,17.5,18.5,19.5,"-","-","-","A2 (16-17)","A3 (17-18)","A4 (18-19)","A5 (19-20)","-","-","-",479.09210000000002,-145.9606,26.1083,-6.9999999999999999E-4,null,null,-2.0001774917418965E-3,338.87,-53.881,4.6939000000000002,0.85660000000000003,null,null,-1.1909937858579174E-2,null,"SPMWH12245Q5"]
[null,null,null,null,null,null,null,null,null,null,null,null,null,null,null,null,null,null,null,null,null,null,null,null,null,null,null,null,null,null,null,null,null,null,null,null,null,null,null,null,null,null,null,null,null,null,null,null,null,null,null,null,null,null,null,null,null,null,null,null,null,null,null,null,null,null,null,null,null,null,null,null,null,90,5000,null,null,null,null,null,null,null,null,null,null,null,null,null,null,1323455090,null,102,"-","-","-","-","-","-","-","SA (97-107)","-","-","-","-","-","-","-",16.5,17.5,18.5,19.5,"-","-","-","A2 (16-17)","A3 (17-18)","A4 (18-19)","A5 (19-20)","-","-","-",479.09210000000002,-145.9606,26.1083,-6.9999999999999999E-4,null,null,-2.0001774917418965E-3,338.87,-53.881,4.6939000000000002,0.85660000000000003,null,null,-1.1909937858579174E-2,null,"SPMWH12245Q7"]
[null,null,null,null,null,null,null,null,null,null,null,null,null,null,null,null,null,null,null,null,null,null,null,null,null,null,null,null,null,null,null,null,null,null,null,null,null,null,null,null,null,null,null,null,null,null,null,null,null,null,null,null,null,null,null,null,null,null,null,null,null,null,null,null,null,null,null,null,null,null,null,null,null,90,5700,null,null,null,null,null,null,null,null,null,null,null,null,null,null,1508738790,null,101,"-","-","-","-","-","-","-","SA (96-106)","-","-","-","-","-","-","-",16.5,17.5,18.5,19.5,"-","-","-","A2 (16-17)","A3 (17-18)","A4 (18-19)","A5 (19-20)","-","-","-",479.09210000000002,-145.9606,26.1083,-6.9999999999999999E-4,null,null,-2.0001774917418965E-3,338.87,-53.881,4.6939000000000002,0.85660000000000003,null,null,-1.1909937858579174E-2,null,"SPMWH12245Q7"]
[null,null,null,null,null,null,null,null,null,null,null,null,null,null,null,null,null,null,null,null,null,null,null,null,null,null,null,null,null,null,null,null,null,null,null,null,null,null,null,null,null,null,null,null,null,null,null,null,null,null,null,null,null,null,null,null,null,null,null,null,null,null,null,null,null,null,null,null,null,null,null,null,null,80,4000,null,null,null,null,null,null,null,null,null,{"$f":"$BU$837*BW843","v":11768000},80,90,"-","-",941444080,null,143,"-","-","-","-","-","-","-","SB (138-148)","-","-","-","-","-","-","-",16.5,17.5,18.5,19.5,"-","-","-","A2 (16-17)","A3 (17-18)","A4 (18-19)","A5 (19-20)","-","-","-",603.41650000000004,-158.2423,26.445599999999999,-8.0000000000000004E-4,null,null,-2.299409277578923E-3,350.93,-55.996000000000002,4.5883000000000003,0.86629999999999996,null,null,-9.1299999999999784E-3,null,"SPMWH12245Q5"]
[null,null,null,null,null,null,null,null,null,null,null,null,null,null,null,null,null,null,null,null,null,null,null,null,null,null,null,null,null,null,null,null,null,null,null,null,null,null,null,null,null,null,null,null,null,null,null,null,null,null,null,null,null,null,null,null,null,null,null,null,null,null,null,null,null,null,null,null,null,null,null,null,null,80,2700,null,null,null,null,null,null,null,null,null,null,null,null,null,null,121610780,null,31,33,"-","-","-","-","-","-","S4 (30-32)","S5 (32-34)","-","-","-","-","-","-",2.75,2.85,2.95,3.05,3.15,"-","-","AZ (2.7-2.8)","A1 (2.8-2.9)","A2 (2.9-3.0)","A3 (3.0-3.1)","A4 (3.1-3.2)","-","-",{"$f":"DR851","v":-32.566000000000003},-4.2927999999999997,15.669,8.6E-3,null,null,{"$f":"DX851","v":-1.4545454545454538E-3},9.9886999999999997,-5.4893000000000001,1.7012,0.90990000000000004,null,null,{"$f":"EE851","v":-1.7181818181818188E-3},null,"SPMWHT541MP3"]
[null,null,null,null,null,null,null,null,null,null,null,null,null,null,null,null,null,null,null,null,null,null,null,null,null,null,null,null,null,null,null,null,null,null,null,null,null,null,null,null,null,null,null,null,null,null,null,null,null,null,null,null,null,null,null,null,null,null,null,null,null,null,null,null,null,null,null,null,null,null,null,null,null,70,5000,null,null,null,null,null,null,null,null,null,{"$f":"$BU$851*BW863","v":2815000},70,80,90,"-",197055070,null,{"$f":"AVERAGE(33,35)","v":34},{"$f":"AVERAGE(35,37)","v":36},{"$f":"AVERAGE(37,39)","v":38},"-","-","-","-","-","S4 (33-35)","S5 (35-37)","S6 (37-39)","-","-","-","-","-",2.75,2.85,2.95,3.05,3.15,"-","-","AZ (2.7-2.8)","A1 (2.8-2.9)","A2 (2.9-3.0)","A3 (3.0-3.1)","A4 (3.1-3.2)","-","-",-32.566000000000003,-4.2927999999999997,15.669,8.6E-3,null,null,-1.4545454545454538E-3,9.9886999999999997,-5.4893000000000001,1.7012,0.90990000000000004,null,null,-1.7181818181818188E-3,null,"SPMWHT541MP3"]
[null,null,null,null,null,null,null,null,null,null,null,null,null,null,null,null,null,null,null,null,null,null,null,null,null,null,null,null,null,null,null,null,null,null,null,null,null,null,null,null,null,null,null,null,null,null,null,null,null,null,null,null,null,null,null,null,null,null,null,null,null,null,null,null,null,null,null,null,null,null,null,null,null,90,2700,null,null,null,null,null,null,null,null,null,null,null,null,null,null,137054790,null,{"$f":"AVERAGE(24,26)","v":25},{"$f":"AVERAGE(26,28)","v":27},{"$f":"AVERAGE(28,30)","v":29},"-","-","-","-","-","S1 (24-26)","S2 (26-28)","S3 (28-30)","-","-","-","-","-",2.65,2.75,2.85,"-","-","-","-","AY (2.6-2.7)","AZ (2.7-2.8)","A1 (2.8-2.9)","-","-","-","-",{"$f":"DR870","v":8.4656000000000002},-11.132,15.946999999999999,8.0999999999999996E-3,null,null,{"$f":"DX870","v":-1.4999999999999994E-3},4.0708000000000002,-2.5516999999999999,1.0561,0.94099999999999995,null,null,-1.1499999999999991E-3,null,"SPMWHT541ML7"]
[null,null,null,null,null,null,null,null,null,null,null,null,null,null,null,null,null,null,null,null,null,null,null,null,null,null,null,null,null,null,null,null,null,null,null,null,null,null,null,null,null,null,null,null,null,null,null,null,null,null,null,null,null,null,null,null,null,null,null,null,null,null,null,null,null,null,null,null,null,null,null,null,null,90,4000,null,null,null,null,null,null,null,null,null,null,null,null,null,null,203044090,null,{"$f":"AVERAGE(26,28)","v":27},{"$f":"AVERAGE(28,30)","v":29},{"$f":"AVERAGE(30,32)","v":31},"-","-","-","-","-","S1 (26-28)","S2 (28-30)","S3 (30-32)","-","-","-","-","-",2.65,2.75,2.85,"-","-","-","-","AY (2.6-2.7)","AZ (2.7-2.8)","A1 (2.8-2.9)","-","-","-","-",8.4656000000000002,-11.132,15.946999999999999,8.0999999999999996E-3,null,null,-1.4999999999999994E-3,4.0708000000000002,-2.5516999999999999,1.0561,0.94099999999999995,null,null,-1.1499999999999991E-3,null,"SPMWHT541ML7"]
[null,null,null,null,null,null,null,null,null,null,null,null,null,null,null,null,null,null,null,null,null,null,null,null,null,null,null,null,null,null,null,null,null,null,null,null,null,null,null,null,null,null,null,null,null,null,null,null,null,null,null,null,null,null,null,null,null,null,null,null,null,null,null,null,null,null,null,null,null,null,null,null,null,90,6500,null,null,null,null,null,null,null,null,null,null,null,null,null,null,329946590,null,{"$f":"AVERAGE(26,28)","v":27},{"$f":"AVERAGE(29,30)","v":29.5},"-","-","-","-","-","-","S1 (26-28)","S2 (29-30)","-","-","-","-","-","-",2.65,2.75,2.85,"-","-","-","-","AY (2.6-2.7)","AZ (2.7-2.8)","A1 (2.8-2.9)","-","-","-","-",{"$f":"DR886","v":8.4656000000000002},-11.132,15.946999999999999,8.0999999999999996E-3,null,null,{"$f":"DX886","v":-1.4999999999999994E-3},4.0708000000000002,-2.5516999999999999,1.0561,0.94099999999999995,null,null,-1.1499999999999991E-3,null,"SPMWHT541ML7"]
[null,null,null,null,null,null,null,null,null,null,null,null,null,null,null,null,null,null,null,null,null,null,null,null,null,null,null,null,null,null,null,null,null,null,null,null,null,null,null,null,null,null,null,null,null,null,null,null,null,null,null,null,null,null,null,null,null,null,null,null,null,null,null,null,null,null,null,null,null,null,null,null,null,90,5700,null,null,null,null,null,null,null,null,null,null,null,null,null,null,151340790,null,{"$f":"AVERAGE(54.5,58)","v":56.25},{"$f":"AVERAGE(58,61.5)","v":59.75},{"$f":"AVERAGE(60,63.5)","v":61.75},"-","-","-","-","-","SC (54.5-58.0)","SE (58.0-61.5)","SG (60.0-63.5)","-","-","-","-","-",2.85,2.95,3.05,3.15,"-","-","-","A1 (2.8-2.9)","A2 (2.9-3.0)","A3 (3.0-3.1)","A4 (3.1-3.2)","-","-","-",-88.384,19.571000000000002,5.3056000000000001,6.2100000000000002E-2,null,null,-1.7499999999999996E-3,5.0000000000000003E-10,-1E-10,0.66669999999999996,0.9,null,null,-1.0000000000000009E-3,null,"SPMWH6228FD7"]
[null,null,null,null,null,null,null,null,null,null,null,null,null,null,null,null,null,null,null,null,null,null,null,null,null,null,null,null,null,null,null,null,null,null,null,null,null,null,null,null,null,null,null,null,null,null,null,null,null,null,null,null,null,null,null,null,null,null,null,null,null,null,null,null,null,null,null,null,null,null,null,null,null,80,4000,null,null,null,null,null,null,null,null,null,1184000,80,90,"-","-",94724080,null,117.5,126.5,132.5,137.5,"-","-","-","-","SL (114-121)","SB (123-130)","SM (129-136)","SN (134-141)","-","-","-","-",8.9499999999999993,9.25,9.5500000000000007,9.85,"-","-","-","GZ (8.8-9.1)","G1 (9.1-9.4)","G2 (9.4-9.7)","G3 (9.7-10.0)","-","-","-",-13.888999999999999,-16.25,11.872,-1.0800000000000001E-2,null,null,-1.9166666666666666E-3,-41.069000000000003,5.7123999999999997,1.2351000000000001,0.86040000000000005,null,null,-5.9999999999999906E-3,null,"SPMWH6229AQ5"]
[null,null,null,null,null,null,null,null,null,null,null,null,null,null,null,null,null,null,null,null,null,null,null,null,null,null,null,null,null,null,null,null,null,null,null,null,null,null,null,null,null,null,null,null,null,null,null,null,null,null,null,null,null,null,null,null,null,null,null,null,null,null,null,null,null,null,null,null,null,null,null,"LM284D plus (12V)",297,80,2700,2700,3000,3500,4000,5000,5700,6500,"-","-",{"$f":"$BU$916*BW916","v":801900},80,90,"-","-",{"$f":"$BU$916*BV916*BW916+BV916+BW916","v":64154780},null,{"$f":"AVERAGE(115,122)","v":118.5},{"$f":"AVERAGE(120,127)","v":123.5},"-","-","-","-","-","-","SB (115-122)","SC (120-127)","-","-","-","-","-","-",{"$f":"AVERAGE(11,11.5)","v":11.25},{"$f":"AVERAGE(11.5,12)","v":11.75},{"$f":"AVERAGE(12,12.5)","v":12.25},{"$f":"AVERAGE(12.5,13)","v":12.75},"-","-","-","H1 (11.0-11.5)","H2 (11.5-12.0)","H3 (12.0-12.5)","H4 (12.5-13.0)","-","-","-",-162.34,10.227,13.340999999999999,1.04E-2,null,null,-1.6666666666666663E-3,-211.27,21.18,1.3551,0.86839999999999995,null,null,-5.0000000000000122E-3,null,"SPMWH622C7Q5"]
[null,null,null,null,null,null,null,null,null,null,null,null,null,null,null,null,null,null,null,null,null,null,null,null,null,null,null,null,null,null,null,null,null,null,null,null,null,null,null,null,null,null,null,null,null,null,null,null,null,null,null,null,null,null,null,null,null,null,null,null,null,null,null,null,null,null,null,null,null,null,null,null,null,90,3000,null,null,null,null,null,null,null,null,null,null,null,null,null,null,80193090,null,{"$f":"AVERAGE(101,108)","v":104.5},{"$f":"AVERAGE(105,112)","v":108.5},"-","-","-","-","-","-","SB (101-108)","SC (105-112)","-","-","-","-","-","-",11.25,11.75,12.25,12.75,"-","-","-","H1 (11.0-11.5)","H2 (11.5-12.0)","H3 (12.0-12.5)","H4 (12.5-13.0)","-","-","-",-162.34,10.227,13.340999999999999,1.04E-2,null,null,-1.6666666666666663E-3,-211.27,21.18,1.3551,0.86839999999999995,null,null,-5.0000000000000122E-3,null,"SPMWH622C7Q7"]
[null,null,null,null,null,null,null,null,null,null,null,null,null,null,null,null,null,null,null,null,null,null,null,null,null,null,null,null,null,null,null,null,null,null,null,null,null,null,null,null,null,null,null,null,null,null,null,null,null,null,null,null,null,null,null,null,null,null,null,null,null,null,null,null,null,null,null,null,null,null,null,null,null,80,6500,null,null,null,null,null,null,null,null,null,{"$f":"$BU$916*BW928","v":1930500},80,90,"-","-",154446580,null,{"$f":"AVERAGE(124,131)","v":127.5},{"$f":"AVERAGE(129,136)","v":132.5},"-","-","-","-","-","-","SB (124-131)","SC (129-136)","-","-","-","-","-","-",11.25,11.75,12.25,12.75,"-","-","-","H1 (11.0-11.5)","H2 (11.5-12.0)","H3 (12.0-12.5)","H4 (12.5-13.0)","-","-","-",-162.34,10.227,13.340999999999999,1.04E-2,null,null,-1.6666666666666663E-3,-211.27,21.18,1.3551,0.86839999999999995,null,null,-5.0000000000000122E-3,null,"SPMWH622C7Q5"]
[null,null,null,null,null,null,null,null,null,null,null,null,null,null,null,null,null,null,null,null,null,null,null,null,null,null,null,null,null,null,null,null,null,null,null,null,null,null,null,null,null,null,null,null,null,null,null,null,null,null,null,null,null,null,null,null,null,null,null,null,null,null,null,null,null,null,null,null,null,null,null,null,null,{"$f":"BV933","v":80},3500,null,null,null,null,null,null,null,null,null,null,null,null,null,null,84283580,"Flux : S1,S2","-","-",{"$f":"AVERAGE(58,62)","v":60},{"$f":"AVERAGE(62,66)","v":64},"-","-","-","-","-","-","SE (58-62)","SF (62-66)","-","-","-","-",2.65,2.75,2.85,2.95,3.05,"-","-","AY (2.6-2.7)","AZ (2.7-2.8)","A1 (2.8-2.9)","A2 (2.9-3.0)","A3 (3.0-3.1)","-","-",0.69840000000000002,-3.2825000000000002,7.0338000000000003,1.6400000000000001E-2,null,null,-1.6000000000000014E-3,0.31519999999999998,-0.53590000000000004,0.52249999999999996,0.93259999999999998,null,null,-2.1000000000000055E-3,"Vf : AY,AZ,A1,A2","SPMWHT328FD5"]
[null,null,null,null,null,null,null,null,null,null,null,null,null,null,null,null,null,null,null,null,null,null,null,null,null,null,null,null,null,null,null,null,null,null,null,null,null,null,null,null,null,null,null,null,null,null,null,null,null,null,null,null,null,null,null,null,null,null,null,null,null,null,null,null,null,null,null,null,null,null,null,null,null,90,6500,null,null,null,null,null,null,null,null,null,null,null,null,null,null,176091590,null,"-",{"$f":"AVERAGE(42,46)","v":44},48,"-","-","-","-","-","-","SA (42-46)","SB (46-50)","-","-","-","-","-",2.65,2.75,2.85,2.95,3.05,"-","-","AY (2.6-2.7)","AZ (2.7-2.8)","A1 (2.8-2.9)","A2 (2.9-3.0)","A3 (3.0-3.1)","-","-",0.69840000000000002,-3.2825000000000002,7.0338000000000003,1.6400000000000001E-2,null,null,{"$f":"DX946","v":-1.6000000000000014E-3},0.31519999999999998,-0.53590000000000004,0.52249999999999996,0.93259999999999998,null,null,-2.1000000000000055E-3,null,"SPMWHT328FD7"]
[null,null,null,null,null,null,null,null,null,null,null,null,null,null,null,null,null,null,null,null,null,null,null,null,null,null,null,null,null,null,null,null,null,null,null,null,null,null,null,null,null,null,null,null,null,null,null,null,null,null,null,null,null,null,null,null,null,null,null,null,null,null,null,null,null,null,null,null,null,null,null,null,null,90,3500,"-","-","-","-","-","-","-","-","-",null,null,null,null,null,96078590,null,31,33,"-","-","-","-","-","-","SG (30-32)","SH (32-34)","-","-","-","-","-","-",2.65,2.75,2.85,"-","-","-","-","AY (2.6-2.7)","AZ (2.7-2.8)","A1 (2.8-2.9)","-","-","-","-",9.9379796241992207,-10.123900115623,16.037247567533001,-2.3235937986369999E-3,null,null,-1.0000000000000009E-3,12.814079856514599,-5.6544146915663402,1.2010030617449901,0.94232987759111697,null,null,-1.4999999999999976E-3,null,"SPMWHD32AMD7"]
[null,null,null,null,null,null,null,null,null,null,null,null,null,null,null,null,null,null,null,null,null,null,null,null,null,null,null,null,null,null,null,null,null,null,null,null,null,null,null,null,null,null,null,null,null,null,null,null,null,null,null,null,null,null,null,null,null,null,null,null,null,null,null,null,null,null,null,null,null,null,null,null,null,90,5700,"-","-","-","-","-","-","-","-","-",null,null,null,null,null,156470790,null,31,33,35,"-","-","-","-","-","SG (30-32)","SH (32-34)","SJ (34-36)","-","-","-","-","-",2.65,2.75,2.85,"-","-","-","-","AY (2.6-2.7)","AZ (2.7-2.8)","A1 (2.8-2.9)","-","-","-","-",9.9379796241992207,-10.123900115623,16.037247567533001,-2.3235937986369999E-3,null,null,-1.0000000000000009E-3,12.814079856514599,-5.6544146915663402,1.2010030617449901,0.94232987759111697,null,null,-1.4999999999999976E-3,null,"SPMWHD32AMD7"]
[null,null,null,null,null,null,null,null,null,null,null,null,null,null,null,null,null,null,null,null,null,null,null,null,null,null,null,null,null,null,null,null,null,null,null,null,null,null,null,null,null,null,null,null,null,null,null,null,null,null,null,null,null,null,null,null,null,null,null,null,null,null,null,null,null,null,null,null,null,null,null,null,null,90,3500,null,null,null,null,null,null,null,null,null,null,null,null,null,null,964218590,null,{"$f":"AVERAGE(25.5,28.5)","v":27},"-","-","-","-","-","-","-","SA (25.5-28.5)","-","-","-","-","-","-","-",2.65,2.75,2.85,"-","-","-","-","AY (2.6-2.7)","AZ (2.7-2.8)","A1 (2.8-2.9)","-","-","-","-",13.986000000000001,-10.523999999999999,16.189,-1.17E-2,null,null,-1.366666666666666E-3,18.978999999999999,-6.8299000000000003,1.357,0.93540000000000001,null,null,-1.008333333333337E-3,null,"SPMWH3326MD7"]
[null,null,null,null,null,null,null,null,null,null,null,null,null,null,null,null,null,null,null,null,null,null,null,null,null,null,null,null,null,null,null,null,null,null,null,null,null,null,null,null,null,null,null,null,null,null,null,null,null,null,null,null,null,null,null,null,null,null,null,null,null,null,null,null,null,null,null,null,null,null,null,null,null,70,4000,null,null,null,null,null,null,null,null,null,{"$f":"$BU$968*BW976","v":12244000},70,80,90,"-",857084070,null,{"$f":"AVERAGE(31,34)","v":32.5},"-","-","-","-","-","-","-","SA (31.0-34.0)","-","-","-","-","-","-","-",2.65,2.75,2.85,"-","-","-","-","AY (2.6-2.7)","AZ (2.7-2.8)","A1 (2.8-2.9)","-","-","-","-",{"$f":"DR973","v":13.986000000000001},-10.523999999999999,16.189,-1.17E-2,null,null,{"$f":"DX973","v":-1.366666666666666E-3},18.978999999999999,-6.8299000000000003,1.357,0.93540000000000001,null,null,{"$f":"EE973","v":-1.008333333333337E-3},null,"SPMWH3326MD3"]
[null,null,null,null,null,null,null,null,null,null,null,null,null,null,null,null,null,null,null,null,null,null,null,null,null,null,null,null,null,null,null,null,null,null,null,null,null,null,null,null,null,null,null,null,null,null,null,null,null,null,null,null,null,null,null,null,null,null,null,null,null,null,null,null,null,null,null,null,null,null,null,null,null,90,6500,null,null,null,null,null,null,null,null,null,null,null,null,null,null,1790691590,null,{"$f":"AVERAGE(26,29)","v":27.5},"-","-","-","-","-","-","-","SA (26.0-29.0)","-","-","-","-","-","-","-",2.65,2.75,2.85,"-","-","-","-","AY (2.6-2.7)","AZ (2.7-2.8)","A1 (2.8-2.9)","-","-","-","-",13.986000000000001,-10.523999999999999,16.189,-1.17E-2,null,null,-1.366666666666666E-3,18.978999999999999,-6.8299000000000003,1.357,0.93540000000000001,null,null,-1.008333333333337E-3,null,"SPMWH3326MD7"]
[null,null,null,null,null,null,null,null,null,null,null,null,null,null,null,null,null,null,null,null,null,null,null,null,null,null,null,null,null,null,null,null,null,null,null,null,null,null,null,null,null,null,null,null,null,null,null,null,null,null,null,null,null,null,null,null,null,null,null,null,null,null,null,null,null,null,null,null,null,null,null,null,null,80,4000,null,null,null,null,null,null,null,null,null,1236000,80,"-","-","-",98884080,null,34.5,"-","-","-","-","-","-","-","S0 (33.0-36.0)","-","-","-","-","-","-","-",2.65,2.73,2.82,"-","-","-","-","AY(2.6-2.7)","AZ(2.7-2.8)","A1(2.8-2.9)","-","-","-","-",3.9876999999999998,-8.8361999999999998,16.006,-4.5999999999999999E-3,null,null,-1.401097163156469E-3,1.7523,-1.5327999999999999,0.87960000000000005,0.94730000000000003,null,null,-1.0552600000000023E-3,null,"SPMWH3326MP"]
[null,null,null,null,null,null,null,null,null,null,null,null,null,null,null,null,null,null,null,null,null,null,null,null,null,null,null,null,null,null,null,null,null,null,null,null,null,null,null,null,null,null,null,null,null,null,null,null,null,null,null,null,null,null,null,null,null,null,null,null,null,null,null,null,null,null,null,null,null,null,null,null,null,80,6500,null,null,null,null,null,null,null,null,null,2008500,80,"-","-","-",160686580,null,34.5,"-","-","-","-","-","-","-","S0 (33.0-36.0)","-","-","-","-","-","-","-",2.65,2.73,2.82,"-","-","-","-","AY(2.6-2.7)","AZ(2.7-2.8)","A1(2.8-2.9)","-","-","-","-",3.9876999999999998,-8.8361999999999998,16.006,-4.5999999999999999E-3,null,null,-1.401097163156469E-3,1.7523,-1.5327999999999999,0.87960000000000005,0.94730000000000003,null,null,-1.0552600000000023E-3,null,"SPMWH3326MP"]
[null,null,null,null,null,null,null,null,null,null,null,null,null,null,null,null,null,null,null,null,null,null,null,null,null,null,null,null,null,null,null,null,null,null,null,null,null,null,null,null,null,null,null,null,null,null,null,null,null,null,null,null,null,null,null,null,null,null,null,null,null,null,null,null,null,null,null,null,null,null,null,null,null,70,4000,null,null,null,null,null,null,null,null,null,{"$f":"$BU$1006*BW1014","v":1228000},70,80,90,"-",85964070,null,{"$f":"AVERAGE(66,70)","v":68},{"$f":"AVERAGE(70,74)","v":72},{"$f":"AVERAGE(74,78)","v":76},"-","-","-","-","-","SG (66-70)","SH (70-74)","SJ (74-78)","-","-"," ","-","-",5.5,5.7,5.9,6.1,6.3,"-","-","AY (5.4-5.6)","AZ (5.6-5.8)","A1 (5.8-6.0)","A2 (6.0-6.2)","A3 (6.2-6.4)","-","-",21.617000000000001,-19.274000000000001,16.568999999999999,-1.5E-3,null,null,-1.1833333333333325E-3,10.497,-4.9314,1.4317,0.92490000000000006,null,null,-2.7533333333333411E-3,null,"SPMWHT32BMD3"]
[null,null,null,null,null,null,null,null,null,null,null,null,null,null,null,null,null,null,null,null,null,null,null,null,null,null,null,null,null,null,null,null,null,null,null,null,null,null,null,null,null,null,null,null,null,null,null,null,null,null,null,null,null,null,null,null,null,null,null,null,null,null,null,null,null,null,null,null,null,null,null,null,null,90,6500,null,null,null,null,null,null,null,null,null,null,null,null,null,null,179601590,null,{"$f":"AVERAGE(50,54)","v":52},{"$f":"AVERAGE(54,58)","v":56},{"$f":"AVERAGE(58,62)","v":60},"-","-","-","-","-","SC (50-54)","SD (54-58)","SE (58-62)","-","-","-","-","-",5.5,5.7,5.9,6.1,6.3,"-","-","AY (5.4-5.6)","AZ (5.6-5.8)","A1 (5.8-6.0)","A2 (6.0-6.2)","A3 (6.2-6.4)","-","-",{"$f":"DR1022","v":21.617000000000001},-19.274000000000001,16.568999999999999,-1.5E-3,null,null,{"$f":"DX1022","v":-1.1833333333333325E-3},10.497,-4.9314,1.4317,0.92490000000000006,null,null,-2.7533333333333411E-3,null,"SPMWHT32BMD7"]
[null,null,null,null,null,null,null,null,null,null,null,null,null,null,null,null,null,null,null,null,null,null,null,null,null,null,null,null,null,null,null,null,null,null,null,null,null,null,null,null,null,null,null,null,null,null,null,null,null,null,null,null,null,null,null,null,null,null,null,null,null,null,null,null,null,null,null,null,null,null,null,null,null,70,4000,null,null,null,null,null,null,null,null,null,12324000,70,80,90,"-",862684070,null,{"$f":"AVERAGE(137,147)","v":142},"-","-","-","-","-","-","-","SA (137-147)","-","-","-","-","-","-","-",5.9,6.1,6.3000000000000007,6.5,"-","-","-","BZ (5.8-6.0)","B1 (6.0-6.2)","B2 (6.2-6.4)","B3 (6.4-6.6)","-","-","-",5.4865848493500398,-6.1231107008218304,7.4726219262994,-1.1670000000000001E-3,null,null,-1.16666666666667E-3,7.5928348806774002,-3.5112887142127698,1.38796763212456,0.84482044332652495,null,null,-1.65E-3,null,"SPMWHT326FD3"]
[null,null,null,null,null,null,null,null,null,null,null,null,null,null,null,null,null,null,null,null,null,null,null,null,null,null,null,null,null,null,null,null,null,null,null,null,null,null,null,null,null,null,null,null,null,null,null,null,null,null,null,null,null,null,null,null,null,null,null,null,null,null,null,null,null,null,null,null,null,null,null,null,null,90,4000,null,null,null,null,null,null,null,null,null,12324000,null,null,null,null,1109164090,null,{"$f":"AVERAGE(113,123)","v":118},"-","-","-","-","-","-","-","SA (113-123)","-","-","-","-","-","-","-",5.9,6.1,6.3000000000000007,6.5,"-","-","-","BZ (5.8-6.0)","B1 (6.0-6.2)","B2 (6.2-6.4)","B3 (6.4-6.6)","-","-","-",5.4865848493500398,-6.1231107008218304,7.4726219262994,-1.1670000000000001E-3,null,null,-1.16666666666667E-3,7.5928348806774002,-3.5112887142127698,1.38796763212456,0.84482044332652495,null,null,-1.65E-3,null,"SPMWHT326FD7"]
[null,null,null,null,null,null,null,null,null,null,null,null,null,null,null,null,null,null,null,null,null,null,null,null,null,null,null,null,null,null,null,null,null,null,null,null,null,null,null,null,null,null,null,null,null,null,null,null,null,null,null,null,null,null,null,null,null,null,null,null,null,null,null,null,null,null,null,null,null,null,null,"LM302Z plus (6V)",3082,80,2700,2700,3000,3500,4000,5000,5700,6500,"-","-",{"$f":"$BU$1043*BW1043","v":8321400},80,90,"-","-",{"$f":"$BU$1043*BV1043*BW1043+BV1043+BW1043","v":665714780},null,128,"-","-","-","-","-","-","-","S0 (125-135)","-","-","-","-","-","-","-",6.05,6.15,6.25,6.35,"-","-","-","AZ (6.0-6.1)","A1 (6.1-6.2)","A2 (6.2-6.3)","A3 (6.3-6.4)","-","-","-",12.449,-10.036,7.8967000000000001,-4.0000000000000001E-3,null,null,-1.6541812003594521E-3,9.6103000000000005,-4.4726999999999997,1.4307000000000001,0.8528,null,null,-2.2975333333333276E-3,null,"SPMWH3326FP"]
[null,null,null,null,null,null,null,null,null,null,null,null,null,null,null,null,null,null,null,null,null,null,null,null,null,null,null,null,null,null,null,null,null,null,null,null,null,null,null,null,null,null,null,null,null,null,null,null,null,null,null,null,null,null,null,null,null,null,null,null,null,null,null,null,null,null,null,null,null,null,null,null,null,80,4000,null,null,null,null,null,null,null,null,null,12328000,80,"-","-","-",986244080,null,138.19999999999999,"-","-","-","-","-","-","-","S0 (134-144)","-","-","-","-","-","-","-",6.05,6.15,6.25,6.35,"-","-","-","AZ (6.0-6.1)","A1 (6.1-6.2)","A2 (6.2-6.3)","A3 (6.3-6.4)","-","-","-",12.449,-10.036,7.8967000000000001,-4.0000000000000001E-3,null,null,-1.6541812003594521E-3,9.6103000000000005,-4.4726999999999997,1.4307000000000001,0.8528,null,null,-2.2975333333333276E-3,null,"SPMWH3326FP"]
[null,null,null,null,null,null,null,null,null,null,null,null,null,null,null,null,null,null,null,null,null,null,null,null,null,null,null,null,null,null,null,null,null,null,null,null,null,null,null,null,null,null,null,null,null,null,null,null,null,null,null,null,null,null,null,null,null,null,null,null,null,null,null,null,null,null,null,null,null,null,null,null,null,90,3000,"-","-","-","-","-","-","-","-","-",9249000,"-","-","-","-",832413090,null,28.5,"-","-","-","-","-","-","-","SD (27.5-30.0)","-","-","-","-","-","-","-",2.64,2.71,2.82,"-","-","-","-","AY (2.57-2.67)","AZ (2.67-2.77)","A1 (2.77-2.87)","-","-","-","-",-0.17230000000000001,-4.8585000000000003,15.856,-8.6E-3,null,null,-1.1765924635511516E-3,0.96040000000000003,-0.90210000000000001,0.8034,0.95050000000000001,null,null,-9.2555284500166484E-4,null,"SPMWH3326MS5"]
[null,null,null,null,null,null,null,null,null,null,null,null,null,null,null,null,null,null,null,null,null,null,null,null,null,null,null,null,null,null,null,null,null,null,null,null,null,null,null,null,null,null,null,null,null,null,null,null,null,null,null,null,null,null,null,null,null,null,null,null,null,null,null,null,null,null,null,null,null,null,null,null,null,70,4000,"-","-","-","-","-","-","-","-","-",12332000,70,80,90,"-",863244070,null,37.299999999999997,"-","-","-","-","-","-","-","SD (36.0-38.5)","-","-","-","-","-","-","-",2.64,2.71,2.82,"-","-","-","-","AY (2.57-2.67)","AZ (2.67-2.77)","A1 (2.77-2.87)","-","-","-","-",-0.17230000000000001,-4.8585000000000003,15.856,-8.6E-3,null,null,-1.1765924635511516E-3,0.96040000000000003,-0.90210000000000001,0.8034,0.95050000000000001,null,null,-9.2555284500166484E-4,null,"SPMWH3326MS5"]
[null,null,null,null,null,null,null,null,null,null,null,null,null,null,null,null,null,null,null,null,null,null,null,null,null,null,null,null,null,null,null,null,null,null,null,null,null,null,null,null,null,null,null,null,null,null,null,null,null,null,null,null,null,null,null,null,null,null,null,null,null,null,null,null,null,null,null,null,null,null,null,"LM302D (6V)",3085,80,2700,2700,3000,3500,4000,5000,5700,6500,"-","-",{"$f":"$BU$1081*BW1081","v":8329500},80,90,"-","-",{"$f":"$BU$1081*BV1081*BW1081+BV1081+BW1081","v":666362780},null,133.80000000000001,"-","-","-","-","-","-","-","SF (129-139)","-","-","-","-","-","-","-",6.05,6.15,6.23,6.35,"-","-","-","AZ (6.0-6.1)","A1 (6.1-6.2)","A2 (6.2-6.3)","A3 (6.3-6.4)","-","-","-",-1.2634000000000001,-6.1227,7.5896999999999997,4.1999999999999997E-3,null,null,-1.5413611307944608E-3,8.6471,-4.1039000000000003,1.5074000000000001,0.8367,null,null,-1.6463833333333344E-3,null,"SPMWH3327FS"]
[null,null,null,null,null,null,null,null,null,null,null,null,null,null,null,null,null,null,null,null,null,null,null,null,null,null,null,null,null,null,null,null,null,null,null,null,null,null,null,null,null,null,null,null,null,null,null,null,null,null,null,null,null,null,null,null,null,null,null,null,null,null,null,null,null,null,null,null,null,null,null,null,null,80,4000,"-","-","-","-","-","-","-","-","-",12340000,80,"-","-","-",987204080,null,147,"-","-","-","-","-","-","-","SF (142-152)","-","-","-","-","-","-","-",6.05,6.15,6.23,6.35,"-","-","-","AZ (6.0-6.1)","A1 (6.1-6.2)","A2 (6.2-6.3)","A3 (6.3-6.4)","-","-","-",-1.2634000000000001,-6.1227,7.5896999999999997,4.1999999999999997E-3,null,null,-1.5413611307944608E-3,8.6471,-4.1039000000000003,1.5074000000000001,0.8367,null,null,-1.6463833333333344E-3,null,"SPMWH3327FS"]
[null,null,null,null,null,null,null,null,null,null,null,null,null,null,null,null,null,null,null,null,null,null,null,null,null,null,null,null,null,null,null,null,null,null,null,null,null,null,null,null,null,null,null,null,null,null,null,null,null,null,null,null,null,null,null,null,null,null,null,null,null,null,null,null,null,null,null,null,null,null,null,"LM302N old ver.",3084,80,4000,4000,5000,5700,6500,"-","-","-","-","-",{"$f":"$BU$1099*BW1099","v":12336000},80,"-","-","-",{"$f":"$BU$1099*BV1099*BW1099+BV1099+BW1099","v":986884080},null,117,127,null,null,null,null,null,null,"SE (115-124)","SF (124-133)",null,null,null,null,null,null,5.9,6.1,null,null,null,null,null,"BZ (5.8-6.0)","B1 (6.0-6.2)",null,null,null,null,null,9.8712999999999997,-11.009,8.0786999999999995,-3.8E-3,null,null,-1.1765924635511516E-3,6.5354999999999999,-3.7616999999999998,1.5963000000000001,0.82299999999999995,null,null,-3.2454331715900064E-3,null,"SPMWH3326F5"]
[null,null,null,null,null,null,null,null,null,null,null,null,null,null,null,null,null,null,null,null,null,null,null,null,null,null,null,null,null,null,null,null,null,null,null,null,null,null,null,null,null,null,null,null,null,null,null,null,null,null,null,null,null,null,null,null,null,null,null,null,null,null,null,null,null,null,null,null,null,null,null,null,null,80,5700,"-","-","-","-","-","-","-","-","-",17578800,80,"-","-","-",1406309780,null,117,127,null,null,null,null,null,null,"SE (115-124)","SF (124-133)",null,null,null,null,null,null,5.9,6.1,null,null,null,null,null,"BZ (5.8-6.0)","B1 (6.0-6.2)",null,null,null,null,null,9.8712999999999997,-11.009,8.0786999999999995,-3.8E-3,null,null,-1.1765924635511516E-3,6.5354999999999999,-3.7616999999999998,1.5963000000000001,0.82299999999999995,null,null,-3.2454331715900064E-3,null,"SPMWH3326F5"]
[null,null,null,null,null,null,null,null,null,null,null,null,null,null,null,null,null,null,null,null,null,null,null,null,null,null,null,null,null,null,null,null,null,null,null,null,null,null,null,null,null,null,null,null,null,null,null,null,null,null,null,null,null,null,null,null,null,null,null,null,null,null,null,null,null,null,null,null,null,null,null,null,null,80,2200,"-","-","-","-","-","-","-","-","-",{"$f":"$BU$1109*BW1110","v":6791400},80,"-","-","-",{"$f":"$BU$1109*BV1110*BW1110+BV1110+BW1110","v":543314280},null,98.373000000000005,"-","-","-","-","-","-","-","S0 (90-105)","-","-","-","-","-","-","-",5.85,5.95,6.05,6.15,"-","-","-","AX (5.8-5.9)","AY (5.9-6.0)","AZ (6.0-6.1)","A1 (6.1-6.2)","-","-","-",5.6018999999999997,-8.2560000000000002,7.7912999999999997,-1.9E-3,null,null,-1.4698092831483323E-3,10.692,-4.7263999999999999,1.3828,0.86209999999999998,null,null,-2.4147966666666558E-3,null,"SPMWH3326FN5"]
[null,null,null,null,null,null,null,null,null,null,null,null,null,null,null,null,null,null,null,null,null,null,null,null,null,null,null,null,null,null,null,null,null,null,null,null,null,null,null,null,null,null,null,null,null,null,null,null,null,null,null,null,null,null,null,null,null,null,null,null,null,null,null,null,null,null,null,null,null,null,null,null,null,80,5000,"-","-","-","-","-","-","-","-","-",15440000,80,"-","-","-",1235205080,null,40.5,"-","-","-","-","-","-","-","SU (39-42)","-","-","-","-","-","-","-",2.68,2.71,2.82,"-","-","-","-","AY (2.6-2.7)","AZ (2.7-2.8)","A1 (2.8-2.9)","-","-","-","-",10.888,-10.095000000000001,16.026,-1.9E-3,null,null,-1.1074666884016019E-3,12.243,-5.1914999999999996,1.1124000000000001,0.94679999999999997,null,null,-1.0102975874667279E-3,null,"SPMWHD32AMV5"]
[null,null,null,null,null,null,null,null,null,null,null,null,null,null,null,null,null,null,null,null,null,null,null,null,null,null,null,null,null,null,null,null,null,null,null,null,null,null,null,null,null,null,null,null,null,null,null,null,null,null,null,null,null,null,null,null,null,null,null,null,null,null,null,null,null,null,null,null,null,null,null,null,null,90,5700,"-","-","-","-","-","-","-","-","-",17613000,90,"-","-","-",1585175790,null,34.200000000000003,"-","-","-","-","-","-","-","SD (35.0-37.5)","-","-","-","-","-","-","-",2.64,2.71,2.82,"-","-","-","-","AY (2.57-2.67)","AZ (2.67-2.77)","A1 (2.77-2.87)","-","-","-","-",-11.266,-4.6185,15.868,-8.8000000000000005E-3,null,null,-1.4570104592885732E-3,11.637,-4.9846000000000004,1.1504000000000001,0.94359999999999999,null,null,-9.357999999999977E-4,null,"SPMWH3326MSK"]
[null,null,null,null,null,null,null,null,null,null,null,null,null,null,null,null,null,null,null,null,null,null,null,null,null,null,null,null,null,null,null,null,null,null,null,null,null,null,null,null,null,null,null,null,null,null,null,null,null,null,null,null,null,null,null,null,null,null,null,null,null,null,null,null,null,null,null,null,null,null,null,null,null,80,3000,null,null,null,null,null,null,null,null,null,{"$f":"$BU$1137*BW1138","v":1203000},80,"-","-","-",{"$f":"$BU$1137*BV1138*BW1138+BV1138+BW1138","v":96243080},null,{"$f":"AVERAGE(40,44)","v":42},{"$f":"AVERAGE(44,48)","v":46},{"$f":"AVERAGE(48,52)","v":50},"-","-","-","-","-","S2 (40-44)","S3 (44-48)","S4 (48-52)","-","-","-","-","-",2.85,2.95,3.05,3.15,3.25,"-","-","A1 (2.8-2.9)","A2 (2.9-3.0)","A3 (3.0-3.1)","A4 (3.1-3.2)","A5 (3.2-3.3)","-","-",{"$f":"DR1137","v":59.524000000000001},-23.571000000000002,10.576000000000001,-3.2599999999999997E-2,null,null,{"$f":"DX1137","v":-1.7666666666666664E-3},9.1256000000000004,-3.8576000000000001,1.1496999999999999,0.90180000000000005,null,null,{"$f":"EE1137","v":-1.0000000000000009E-3},null,"-"]
[null,null,null,null,null,null,null,null,null,null,null,null,null,null,null,null,null,null,null,null,null,null,null,null,null,null,null,null,null,null,null,null,null,null,null,null,null,null,null,null,null,null,null,null,null,null,null,null,null,null,null,null,null,null,null,null,null,null,null,null,null,null,null,null,null,null,null,null,null,null,null,null,null,90,3000,null,null,null,null,null,null,null,null,null,null,null,null,null,null,108543090,null,{"$f":"AVERAGE(18.4,19.9)","v":19.149999999999999},{"$f":"AVERAGE(19.9,21.4)","v":20.65},{"$f":"AVERAGE(21,22.5)","v":21.75},{"$f":"AVERAGE(22.5,24)","v":23.25},"-","-","-","-","S1 (18.4-19.9)","S2 (19.9-21.4)","S3 (21.0-22.5)","S4 (22.5-24.0)","-","-","-","-",2.85,2.95,3.05,3.15,3.25,"-","-","A1 (2.8-2.9)","A2 (2.9-3.0)","A3 (3.0-3.1)","A4 (3.1-3.2)","A5 (3.2-3.3)","-","-",-333.33,3.3332999999999999,17.8,-8.0000000000000002E-3,null,null,-2.3333333333333335E-3,-14.513,-1.4513,1.8010999999999999,0.90024999999999999,null,null,-2.6333333333333321E-3,null,"-"]
[null,null,null,null,null,null,null,null,null,null,null,null,null,null,null,null,null,null,null,null,null,null,null,null,null,null,null,null,null,null,null,null,null,null,null,null,null,null,null,null,null,null,null,null,null,null,null,null,null,null,null,null,null,null,null,null,null,null,null,null,null,null,null,null,null,null,null,null,null,null,null,null,null,80,5700,null,null,null,null,null,null,null,null,null,2291400,80,90,"-","-",183317780,null,24,26,28,30,"-","-","-","-","S1 (23-25)","S2 (25-27)","S3 (27-29)","S4 (29-31)","-","-","-","-",2.85,2.95,3.05,3.15,3.25,"-","-","A1 (2.8-2.9)","A2 (2.9-3.0)","A3 (3.0-3.1)","A4 (3.1-3.2)","A5 (3.2-3.3)","-","-",-333.33,3.3332999999999999,17.8,-8.0000000000000002E-3,null,null,-2.3333333333333335E-3,-14.513,-1.4513,1.8010999999999999,0.90024999999999999,null,null,-2.6333333333333321E-3,null,"-"]
[null,null,null,null,null,null,null,null,null,null,null,null,null,null,null,null,null,null,null,null,null,null,null,null,null,null,null,null,null,null,null,null,null,null,null,null,null,null,null,null,null,null,null,null,null,null,null,null,null,null,null,null,null,null,null,null,null,null,null,null,null,null,null,null,null,null,null,null,null,null,null,null,null,90,5000,null,null,null,null,null,null,null,null,null,null,null,null,null,null,369005090,null,1115,1174,"-","-","-","-","-","-","Min (1115)","Typ (1174)","-","-","-","-","-","-",32.5,35.5,38.5,"-","-","-","-","Min (32.5)","Typ (35.5)","Max (38.5)","-","-","-","-",0.63039999999999996,-1.8029999999999999,3.8123999999999998,1.5E-3,null,null,-1.3582393859438713E-3,0.43880000000000002,-0.52329999999999999,0.51990000000000003,0.87919999999999998,null,null,-1.4350000000000069E-2,null,"SPHWHAHDNC27"]
[null,null,null,null,null,null,null,null,null,null,null,null,null,null,null,null,null,null,null,null,null,null,null,null,null,null,null,null,null,null,null,null,null,null,null,null,null,null,null,null,null,null,null,null,null,null,null,null,null,null,null,null,null,null,null,null,null,null,null,null,null,null,null,null,null,null,null,null,null,null,null,null,null,80,5000,null,null,null,null,null,null,null,null,null,{"$f":"$BU$1167*BW1175","v":4105000},80,90,"-","-",{"$f":"$BU$1167*BV1175*BW1175+BV1175+BW1175","v":328405080},null,2628,2766,"-","-","-","-","-","-","Min (2628)","Typ (2766)","-","-","-","-","-","-",32.5,35.5,38.5,"-","-","-","-","Min (32.5)","Typ (35.5)","Max (38.5)","-","-","-","-",0.17100000000000001,-0.65990000000000004,2.0156000000000001,-8.7799999999999996E-3,null,null,-1.3582393859438713E-3,8.4900000000000003E-2,-0.18310000000000001,0.29149999999999998,0.87260000000000004,null,null,-1.4350000000000069E-2,null,"SPHWHAHDNF25"]
[null,null,null,null,null,null,null,null,null,null,null,null,null,null,null,null,null,null,null,null,null,null,null,null,null,null,null,null,null,null,null,null,null,null,null,null,null,null,null,null,null,null,null,null,null,null,null,null,null,null,null,null,null,null,null,null,null,null,null,null,null,null,null,null,null,null,null,null,null,null,null,null,null,80,4000,null,null,null,null,null,null,null,null,null,{"$f":"$BU$1177*BW1183","v":3288000},80,90,"-","-",263044080,null,3853,4056,"-","-","-","-","-","-","Min (3853)","Typ (4056)","-","-","-","-","-","-",32.5,35.5,38.5,"-","-","-","-","Min (32.5)","Typ (35.5)","Max (38.5)","-","-","-","-",4.99E-2,-0.28989999999999999,1.3391,-6.7999999999999996E-3,null,null,-1.3582393859438713E-3,2.3099999999999999E-2,-7.7399999999999997E-2,0.1895,0.87529999999999997,null,null,-1.4350000000000069E-2,null,"SPHWHAHDNH25"]
[null,null,null,null,null,null,null,null,null,null,null,null,null,null,null,null,null,null,null,null,null,null,null,null,null,null,null,null,null,null,null,null,null,null,null,null,null,null,null,null,null,null,null,null,null,null,null,null,null,null,null,null,null,null,null,null,null,null,null,null,null,null,null,null,null,null,null,null,null,null,null,null,null,90,5000,null,null,null,null,null,null,null,null,null,null,null,null,null,null,369905090,null,3495,3679,"-","-","-","-","-","-","Min (3495)","Typ (3679)","-","-","-","-","-","-",32.5,35.5,38.5,"-","-","-","-","Min (32.5)","Typ (35.5)","Max (38.5)","-","-","-","-",4.99E-2,-0.28989999999999999,1.3391,-6.7999999999999996E-3,null,null,-1.3582393859438713E-3,2.3099999999999999E-2,-7.7399999999999997E-2,0.1895,0.87529999999999997,null,null,-1.4350000000000069E-2,null,"SPHWHAHDNH27"]
[null,null,null,null,null,null,null,null,null,null,null,null,null,null,null,null,null,null,null,null,null,null,null,null,null,null,null,null,null,null,null,null,null,null,null,null,null,null,null,null,null,null,null,null,null,null,null,null,null,null,null,null,null,null,null,null,null,null,null,null,null,null,null,null,null,null,null,null,null,null,null,null,null,80,5000,null,null,null,null,null,null,null,null,null,{"$f":"$BU$1187*BW1195","v":4115000},80,90,"-","-",{"$f":"$BU$1187*BV1195*BW1195+BV1195+BW1195","v":329205080},null,4467,4702,"-","-","-","-","-","-","Min (4467)","Typ (4702)","-","-","-","-","-","-",32.5,35.5,38.5,"-","-","-","-","Min (32.5)","Typ (35.5)","Max (38.5)","-","-","-","-",1.1999999999999999E-3,-0.13850000000000001,1.1001000000000001,-3.8E-3,null,null,-1.3582393859438713E-3,1.5800000000000002E-2,-6.3299999999999995E-2,0.1774,0.86519999999999997,null,null,-1.4350000000000069E-2,null,"SPHWHAHDNK25"]
[null,null,null,null,null,null,null,null,null,null,null,null,null,null,null,null,null,null,null,null,null,null,null,null,null,null,null,null,null,null,null,null,null,null,null,null,null,null,null,null,null,null,null,null,null,null,null,null,null,null,null,null,null,null,null,null,null,null,null,null,null,null,null,null,null,null,null,null,null,null,null,null,null,80,4000,null,null,null,null,null,null,null,null,null,{"$f":"$BU$1197*BW1203","v":3324000},80,90,"-","-",265924080,null,457,480,"-","-","-","-","-","-","B3 (457)","D1 (480)","-","-","-","-","-","-",31.8,34.6,37.5,"-","-","-","-","Min (31.8)","Typ (34.6)","Max (37.5)","-","-","-","-",null,-10.279,12.036,2.0000000000000002E-5,null,null,-1.6666666666666681E-3,null,-1.7952999999999999,1.2867999999999999,0.89870000000000005,null,null,-1.416666666666669E-2,null,"SPHWHAHDNA25"]
[null,null,null,null,null,null,null,null,null,null,null,null,null,null,null,null,null,null,null,null,null,null,null,null,null,null,null,null,null,null,null,null,null,null,null,null,null,null,null,null,null,null,null,null,null,null,null,null,null,null,null,null,null,null,null,null,null,null,null,null,null,null,null,null,null,null,null,null,null,null,null,null,null,80,4000,null,null,null,null,null,null,null,null,null,{"$f":"$BU$1208*BW1214","v":3328000},80,90,"-","-",266244080,null,923,969,"-","-","-","-","-","-","F8 (923)","D1 (969)","-","-","-","-","-","-",31.8,34.6,37.5,"-","-","-","-","Min (31.8)","Typ (34.6)","Max (37.5)","-","-","-","-",null,-2.8742999999999999,6.0730000000000004,0,null,null,-1.833333333333335E-3,null,-0.4486,0.63890000000000002,0.89953000000000005,null,null,-1.2500000000000001E-2,null,"SPHWHAHDNB25"]
[null,null,null,null,null,null,null,null,null,null,null,null,null,null,null,null,null,null,null,null,null,null,null,null,null,null,null,null,null,null,null,null,null,null,null,null,null,null,null,null,null,null,null,null,null,null,null,null,null,null,null,null,null,null,null,null,null,null,null,null,null,null,null,null,null,null,null,null,null,null,null,null,null,80,3500,null,null,null,null,null,null,null,null,null,{"$f":"$BU$1219*BW1223","v":2915500},80,90,"-","-",233243580,null,1315,1381,"-","-","-","-","-","-","H2 (1315)","D1 (1381)","-","-","-","-","-","-",31.8,34.6,37.5,"-","-","-","-","Min (31.8)","Typ (34.6)","Max (37.5)","-","-","-","-",null,-1.2541,4.0220000000000002,5.4799999999999996E-3,null,null,-1.6666666666666681E-3,null,-0.14729999999999999,0.36630000000000001,0.91183999999999998,null,null,-1.2500000000000001E-2,null,"SPHWHAHDNC25"]
[null,null,null,null,null,null,null,null,null,null,null,null,null,null,null,null,null,null,null,null,null,null,null,null,null,null,null,null,null,null,null,null,null,null,null,null,null,null,null,null,null,null,null,null,null,null,null,null,null,null,null,null,null,null,null,null,null,null,null,null,null,null,null,null,null,null,null,null,null,null,null,null,null,80,3000,null,null,null,null,null,null,null,null,null,{"$f":"$BU$1230*BW1232","v":29502000},80,90,"-","-",2360163080,null,1673,1757,"-","-","-","-","-","-","H5 (1673)","D1 (1757)","-","-","-","-","-","-",31.8,34.6,37.5,"-","-","-","-","Min (31.8)","Typ (34.6)","Max (37.5)","-","-","-","-",null,-1.0495000000000001,3.1581999999999999,-9.5E-4,null,null,-1.833333333333335E-3,null,-0.153,0.35449999999999998,0.89219999999999999,null,null,-1.3333333333333286E-2,null,"SPHWHAHDND25"]
[null,null,null,null,null,null,null,null,null,null,null,null,null,null,null,null,null,null,null,null,null,null,null,null,null,null,null,null,null,null,null,null,null,null,null,null,null,null,null,null,null,null,null,null,null,null,null,null,null,null,null,null,null,null,null,null,null,null,null,null,null,null,null,null,null,null,null,null,null,null,null,null,null,90,2700,null,null,null,null,null,null,null,null,null,null,null,null,null,null,{"$f":"$BU$1241*BV1242*BW1242+BV1242+BW1242","v":202907790},null,1771,1860,"-","-","-","-","-","-","H6 (1771)","D1 (1860)","-","-","-","-","-","-",31.8,34.6,37.5,"-","-","-","-","Min (31.8)","Typ (34.6)","Max (37.5)","-","-","-","-",null,{"$f":"DS1241","v":-0.45760000000000001},2.4195000000000002,3.8899999999999998E-3,null,null,{"$f":"DX1241","v":-1.6666666666666681E-3},null,{"$f":"DZ1241","v":-6.0499999999999998E-2},0.23769999999999999,0.90525,null,null,{"$f":"EE1241","v":-1.1666666666666714E-2},null,"SPHWHAHDNE27"]
[null,null,null,null,null,null,null,null,null,null,null,null,null,null,null,null,null,null,null,null,null,null,null,null,null,null,null,null,null,null,null,null,null,null,null,null,null,null,null,null,null,null,null,null,null,null,null,null,null,null,null,null,null,null,null,null,null,null,null,null,null,null,null,null,null,null,null,null,null,null,null,null,null,80,3000,null,null,null,null,null,null,null,null,null,{"$f":"$BU$1241*BW1243","v":2505000},80,90,"-","-",200403080,null,2182,2291,"-","-","-","-","-","-","J0 (2182)","D1 (2291)","-","-","-","-","-","-",31.8,34.6,37.5,"-","-","-","-","Min (31.8)","Typ (34.6)","Max (37.5)","-","-","-","-",null,-0.45760000000000001,2.4195000000000002,3.8899999999999998E-3,null,null,-1.6666666666666681E-3,null,-6.0499999999999998E-2,0.23769999999999999,0.90525,null,null,-1.1666666666666714E-2,null,"SPHWHAHDNE25"]
[null,null,null,null,null,null,null,null,null,null,null,null,null,null,null,null,null,null,null,null,null,null,null,null,null,null,null,null,null,null,null,null,null,null,null,null,null,null,null,null,null,null,null,null,null,null,null,null,null,null,null,null,null,null,null,null,null,null,null,null,null,null,null,null,null,null,null,null,null,3,null,"LC019D_G1",836,80,2700,2700,3000,3500,4000,5000,5700,6500,"-","-",{"$f":"$BU$1252*BW1252","v":2257200},80,90,"-","-",{"$f":"$BU$1252*BV1252*BW1252+BV1252+BW1252","v":180578780},null,2458,2581,"-","-","-","-","-","-","J3 (2458)","D1 (2581)","-","-","-","-","-","-",31.8,34.6,37.5,"-","-","-","-","Min (31.8)","Typ (34.6)","Max (37.5)","-","-","-","-",null,-0.33600000000000002,2.0110000000000001,1.2E-2,null,null,-1.833333333333335E-3,null,-3.2500000000000001E-2,0.19109999999999999,0.90627000000000002,null,null,-1.1666666666666714E-2,null,"SPHWHAHDNF25"]
[null,null,null,null,null,null,null,null,null,null,null,null,null,null,null,null,null,null,null,null,null,null,null,null,null,null,null,null,null,null,null,null,null,null,null,null,null,null,null,null,null,null,null,null,null,null,null,null,null,null,null,null,null,null,null,null,null,null,null,null,null,null,null,null,null,null,null,null,null,null,null,null,null,80,6500,null,null,null,null,null,null,null,null,null,{"$f":"$BU$1252*BW1262","v":5434000},80,"-","-","-",434726580,null,2726,2863,"-","-","-","-","-","-","J5 (2726)","D1 (2863)","-","-","-","-","-","-",31.8,34.6,37.5,"-","-","-","-","Min (31.8)","Typ (34.6)","Max (37.5)","-","-","-","-",null,-0.33600000000000002,2.0110000000000001,1.2E-2,null,null,-1.833333333333335E-3,null,-3.2500000000000001E-2,0.19109999999999999,0.90627000000000002,null,null,-1.1666666666666714E-2,null,"SPHWHAHDNF25"]
[null,null,null,null,null,null,null,null,null,null,null,null,null,null,null,null,null,null,null,null,null,null,null,null,null,null,null,null,null,null,null,null,null,null,null,null,null,null,null,null,null,null,null,null,null,null,null,null,null,null,null,null,null,null,null,null,null,null,null,null,null,null,null,null,null,null,null,null,null,7,null,null,null,80,5000,null,null,null,null,null,null,null,null,null,{"$f":"$BU$1263*BW1271","v":4185000},80,"-","-","-",334805080,null,3588,3767,"-","-","-","-","-","-","K4 (3588)","D1 (3767)","-","-","-","-","-","-",31.8,34.6,37.5,"-","-","-","-","Min (31.8)","Typ (34.6)","Max (37.5)","-","-","-","-",null,-0.1991,1.5282,2.9099999999999998E-3,null,null,-1.6666666666666681E-3,null,-2.1299999999999999E-2,0.1421,0.90873000000000004,null,null,-1.1666666666666714E-2,null,"SPHWHAHDNG25"]
[null,null,null,null,null,null,null,null,null,null,null,null,null,null,null,null,null,null,null,null,null,null,null,null,null,null,null,null,null,null,null,null,null,null,null,null,null,null,null,null,null,null,null,null,null,null,null,null,null,null,null,null,null,null,null,null,null,null,null,null,null,null,null,null,null,null,null,null,null,2,null,null,null,90,4000,null,null,null,null,null,null,null,null,null,null,null,null,null,null,301684090,null,4742,4979,"-","-","-","-","-","-","J8 (4742)","D1 (4979)","-","-","-","-","-","-",31.8,34.6,37.5,"-","-","-","-","Min (31.8)","Typ (34.6)","Max (37.5)","-","-","-","-",null,-8.1299999999999997E-2,0.99980000000000002,1.504E-2,null,null,-1.833333333333335E-3,null,-8.9999999999999993E-3,9.2700000000000005E-2,0.91037999999999997,null,null,-1.2500000000000001E-2,null,"SPHWHAHDNK27"]
[null,null,null,null,null,null,null,null,null,null,null,null,null,null,null,null,null,null,null,null,null,null,null,null,null,null,null,null,null,null,null,null,null,null,null,null,null,null,null,null,null,null,null,null,null,null,null,null,null,null,null,null,null,null,null,null,null,null,null,null,null,null,null,null,null,null,null,null,null,11,null,null,null,80,4000,null,null,null,null,null,null,null,null,null,null,null,null,null,null,268484080,null,8075,"-","-","-","-","-","-","-","Q6 (8075)","-","-","-","-","-","-","-",47.8,52,56.2,"-","-","-","-","Min (47.8)","Typ (52)","Max (56.2)","-","-","-","-",-2.46E-2,7.4999999999999997E-3,0.88500000000000001,6.6400000000000001E-2,null,null,-1.8499999999999999E-3,1.6000000000000001E-3,-2.3300000000000001E-2,0.11650000000000001,0.89929999999999999,null,null,-2.1999999999999981E-2,null,"SPHWHAHDNL25"]
[null,null,null,null,null,null,null,null,null,null,null,null,null,null,null,null,null,null,null,null,null,null,null,null,null,null,null,null,null,null,null,null,null,null,null,null,null,null,null,null,null,null,null,null,null,null,null,null,null,null,null,null,null,null,null,null,null,null,null,null,null,null,null,null,null,null,null,null,null,5,null,null,null,70,4000,null,null,null,null,null,null,null,null,null,3360000,70,80,"-","-",235204070,null,12483,"-","-","-","-","-","-","-","U9 (12483)","-","-","-","-","-","-","-",47.8,52,56.2,"-","-","-","-","Min (47.8)","Typ (52)","Max (56.2)","-","-","-","-",-2.06E-2,2.75E-2,0.62990000000000002,-5.0000000000000001E-3,null,null,-1.8499999999999999E-3,-1.4E-3,4.7000000000000002E-3,4.3700000000000003E-2,0.92300000000000004,null,null,-2.1999999999999981E-2,null,"SPHWHAHDNM23"]
[null,null,null,null,null,null,null,null,null,null,null,null,null,null,null,null,null,null,null,null,null,null,null,null,null,null,null,null,null,null,null,null,null,null,null,null,null,null,null,null,null,null,null,null,null,null,null,null,null,null,null,null,null,null,null,null,null,null,null,null,null,null,null,null,null,null,null,null,null,11,null,"LC003D_G2",851,80,2700,2700,3000,3500,4000,5000,5700,6500,"-","-",{"$f":"$BU$1305*BW1305","v":2297700},80,90,"-","-",{"$f":"$BU$1305*BV1305*BW1305+BV1305+BW1305","v":183818780},null,459,"-","-","-","-","-","-","-","D2 (459)","-","-","-","-","-","-","-",31.8,34.6,37.5,"-","-","-","-","Min (31.8)","Typ (34.6)","Max (37.5)","-","-","-","-",3.5249000000000001,-10.987,12.1,-2.5999999999999999E-3,null,null,-1.3873052071455727E-3,18.399000000000001,-6.7397999999999998,1.6099000000000001,0.89624999999999999,null,null,-1.1899999999999977E-2,null,"SPHWHAHDNA25"]
[null,null,null,null,null,null,null,null,null,null,null,null,null,null,null,null,null,null,null,null,null,null,null,null,null,null,null,null,null,null,null,null,null,null,null,null,null,null,null,null,null,null,null,null,null,null,null,null,null,null,null,null,null,null,null,null,null,null,null,null,null,null,null,null,null,null,null,null,null,null,null,null,null,90,3500,null,null,null,null,null,null,null,null,null,null,null,null,null,null,268068590,null,419,"-","-","-","-","-","-","-","D2 (419)","-","-","-","-","-","-","-",31.8,34.6,37.5,"-","-","-","-","Min (31.8)","Typ (34.6)","Max (37.5)","-","-","-","-",3.5249000000000001,-10.987,12.1,-2.5999999999999999E-3,null,null,-1.3873052071455727E-3,18.399000000000001,-6.7397999999999998,1.6099000000000001,0.89624999999999999,null,null,-1.1899999999999977E-2,null,"SPHWHAHDNA27"]
[null,null,null,null,null,null,null,null,null,null,null,null,null,null,null,null,null,null,null,null,null,null,null,null,null,null,null,null,null,null,null,null,null,null,null,null,null,null,null,null,null,null,null,null,null,null,null,null,null,null,null,null,null,null,null,null,null,null,null,null,null,null,null,null,null,null,null,null,null,null,null,null,null,80,3000,null,null,null,null,null,null,null,null,null,{"$f":"$BU$1317*BW1319","v":29556000},80,90,"-","-",2364483080,null,971,"-","-","-","-","-","-","-","D2 (971)","-","-","-","-","-","-","-",31.8,34.6,37.5,"-","-","-","-","Min (31.8)","Typ (34.6)","Max (37.5)","-","-","-","-",0.44059999999999999,-2.7467000000000001,6.05,-2.5999999999999999E-3,null,null,-1.3873052071455727E-3,2.2999000000000001,-1.6850000000000001,0.80489999999999995,0.89629999999999999,null,null,-1.1899999999999977E-2,null,"SPHWHAHDNB25"]
[null,null,null,null,null,null,null,null,null,null,null,null,null,null,null,null,null,null,null,null,null,null,null,null,null,null,null,null,null,null,null,null,null,null,null,null,null,null,null,null,null,null,null,null,null,null,null,null,null,null,null,null,null,null,null,null,null,null,null,null,null,null,null,null,null,null,null,null,null,null,null,null,null,80,3500,null,null,null,null,null,null,null,null,null,{"$f":"$BU$1329*BW1334","v":2985500},80,90,"-","-",238843580,null,1459,"-","-","-","-","-","-","-","D2 (1459)","-","-","-","-","-","-","-",31.8,34.6,37.5,"-","-","-","-","Min (31.8)","Typ (34.6)","Max (37.5)","-","-","-","-",0.13059999999999999,-1.2208000000000001,4.0332999999999997,-2.5999999999999999E-3,null,null,-1.3873052071455727E-3,0.68149999999999999,-0.74890000000000001,0.53659999999999997,0.89629999999999999,null,null,-1.1899999999999977E-2,null,"-"]
[null,null,null,null,null,null,null,null,null,null,null,null,null,null,null,null,null,null,null,null,null,null,null,null,null,null,null,null,null,null,null,null,null,null,null,null,null,null,null,null,null,null,null,null,null,null,null,null,null,null,null,null,null,null,null,null,null,null,null,null,null,null,null,null,null,null,null,null,null,null,null,null,null,90,4000,null,null,null,null,null,null,null,null,null,null,null,null,null,null,307084090,null,1273,"-","-","-","-","-","-","-","D2 (1273)","-","-","-","-","-","-","-",31.8,34.6,37.5,"-","-","-","-","Min (31.8)","Typ (34.6)","Max (37.5)","-","-","-","-",0.13059999999999999,-1.2208000000000001,4.0332999999999997,-2.5999999999999999E-3,null,null,-1.3873052071455727E-3,0.68149999999999999,-0.74890000000000001,0.53659999999999997,0.89629999999999999,null,null,-1.1899999999999977E-2,null,"-"]
[null,null,null,null,null,null,null,null,null,null,null,null,null,null,null,null,null,null,null,null,null,null,null,null,null,null,null,null,null,null,null,null,null,null,null,null,null,null,null,null,null,null,null,null,null,null,null,null,null,null,null,null,null,null,null,null,null,null,null,null,null,null,null,null,null,null,null,null,null,null,null,null,null,70,3000,null,null,null,null,null,null,null,null,null,2562000,70,80,90,95,179343070,null,2006,"-","-","-","-","-","-","-","D3 (2006)","-","-","-","-","-","-","-",31.8,34.6,37.5,"-","-","-","-","Min (31.8)","Typ (34.6)","Max (37.5)","-","-","-","-",{"$f":"DR1345","v":5.5100000000000003E-2},{"$f":"DS1345","v":-0.68669999999999998},{"$f":"DT1345","v":3.0249999999999999},{"$f":"DU1345","v":-2.5999999999999999E-3},null,null,{"$f":"DX1345","v":-1.3873052071455727E-3},{"$f":"DY1345","v":0.28749999999999998},{"$f":"DZ1345","v":-0.42120000000000002},{"$f":"EA1345","v":0.40250000000000002},{"$f":"EB1345","v":0.89629999999999999},null,null,{"$f":"EE1345","v":-1.1899999999999977E-2},null,"-"]
[null,null,null,null,null,null,null,null,null,null,null,null,null,null,null,null,null,null,null,null,null,null,null,null,null,null,null,null,null,null,null,null,null,null,null,null,null,null,null,null,null,null,null,null,null,null,null,null,null,null,null,null,null,null,null,null,null,null,null,null,null,null,null,null,null,null,null,null,null,null,null,null,null,70,4000,null,null,null,null,null,null,null,null,null,3416000,70,80,90,95,239124070,null,2070,"-","-","-","-","-","-","-","D3 (2070)","-","-","-","-","-","-","-",31.8,34.6,37.5,"-","-","-","-","Min (31.8)","Typ (34.6)","Max (37.5)","-","-","-","-",{"$f":"DR1352","v":5.5100000000000003E-2},{"$f":"DS1352","v":-0.68669999999999998},{"$f":"DT1352","v":3.0249999999999999},{"$f":"DU1352","v":-2.5999999999999999E-3},null,null,{"$f":"DX1352","v":-1.3873052071455727E-3},{"$f":"DY1352","v":0.28749999999999998},{"$f":"DZ1352","v":-0.42120000000000002},{"$f":"EA1352","v":0.40250000000000002},{"$f":"EB1352","v":0.89629999999999999},null,null,{"$f":"EE1352","v":-1.1899999999999977E-2},null,"-"]
[null,null,null,null,null,null,null,null,null,null,null,null,null,null,null,null,null,null,null,null,null,null,null,null,null,null,null,null,null,null,null,null,null,null,null,null,null,null,null,null,null,null,null,null,null,null,null,null,null,null,null,null,null,null,null,null,null,null,null,null,null,null,null,null,null,null,null,null,null,null,null,null,null,70,3000,null,null,null,null,null,null,null,null,null,29565000,70,80,90,95,2069553070,null,2617,"-","-","-","-","-","-","-","D3 (2617)","-","-","-","-","-","-","-",31.8,34.6,37.5,"-","-","-","-","Min (31.8)","Typ (34.6)","Max (37.5)","-","-","-","-",{"$f":"DR1364","v":2.8199999999999999E-2},{"$f":"DS1364","v":-0.4395},{"$f":"DT1364","v":2.42},{"$f":"DU1364","v":-2.5999999999999999E-3},null,null,{"$f":"DX1364","v":-1.3873052071455727E-3},{"$f":"DY1364","v":0.1472},{"$f":"DZ1364","v":-0.26960000000000001},{"$f":"EA1364","v":0.32200000000000001},{"$f":"EB1364","v":0.89629999999999999},null,null,{"$f":"EE1364","v":-1.1899999999999977E-2},null,"-"]
[null,null,null,null,null,null,null,null,null,null,null,null,null,null,null,null,null,null,null,null,null,null,null,null,null,null,null,null,null,null,null,null,null,null,null,null,null,null,null,null,null,null,null,null,null,null,null,null,null,null,null,null,null,null,null,null,null,null,null,null,null,null,null,null,null,null,null,null,null,null,null,null,null,90,4000,null,null,null,null,null,null,null,null,null,39420000,null,null,null,null,3547804090,null,2189,"-","-","-","-","-","-","-","D2 (2189)","-","-","-","-","-","-","-",31.8,34.6,37.5,"-","-","-","-","Min (31.8)","Typ (34.6)","Max (37.5)","-","-","-","-",2.8199999999999999E-2,-0.4395,2.42,-2.5999999999999999E-3,null,null,-1.3873052071455727E-3,0.1472,-0.26960000000000001,0.32200000000000001,0.89629999999999999,null,null,-1.1899999999999977E-2,null,"-"]
[null,null,null,null,null,null,null,null,null,null,null,null,null,null,null,null,null,null,null,null,null,null,null,null,null,null,null,null,null,null,null,null,null,null,null,null,null,null,null,null,null,null,null,null,null,null,null,null,null,null,null,null,null,null,null,null,null,null,null,null,null,null,null,null,null,null,null,null,null,null,null,null,null,90,2700,null,null,null,null,null,null,null,null,null,{"$f":"$BU$1382*BW1383","v":2311200},null,null,null,null,{"$f":"$BU$1382*BV1383*BW1383+BV1383+BW1383","v":208010790},null,2336,"-","-","-","-","-","-","-","D2 (2336)","-","-","-","-","-","-","-",31.8,34.6,37.5,"-","-","-","-","Min (31.8)","Typ (34.6)","Max (37.5)","-","-","-","-",{"$f":"DR1382","v":1.6299999999999999E-2},-0.30520000000000003,2.0167000000000002,-2.5999999999999999E-3,null,null,{"$f":"DX1382","v":-1.3873052071455727E-3},8.5199999999999998E-2,-0.18720000000000001,0.26829999999999998,0.89629999999999999,null,null,-1.1899999999999977E-2,null,"-"]
[null,null,null,null,null,null,null,null,null,null,null,null,null,null,null,null,null,null,null,null,null,null,null,null,null,null,null,null,null,null,null,null,null,null,null,null,null,null,null,null,null,null,null,null,null,null,null,null,null,null,null,null,null,null,null,null,null,null,null,null,null,null,null,null,null,null,null,null,null,null,null,null,null,80,3000,null,null,null,null,null,null,null,null,null,2568000,null,null,null,null,205443080,null,2877,"-","-","-","-","-","-","-","D2 (2877)","-","-","-","-","-","-","-",31.8,34.6,37.5,"-","-","-","-","Min (31.8)","Typ (34.6)","Max (37.5)","-","-","-","-",1.6299999999999999E-2,-0.30520000000000003,2.0167000000000002,-2.5999999999999999E-3,null,null,-1.3873052071455727E-3,8.5199999999999998E-2,-0.18720000000000001,0.26829999999999998,0.89629999999999999,null,null,-1.1899999999999977E-2,null,"-"]
[null,null,null,null,null,null,null,null,null,null,null,null,null,null,null,null,null,null,null,null,null,null,null,null,null,null,null,null,null,null,null,null,null,null,null,null,null,null,null,null,null,null,null,null,null,null,null,null,null,null,null,null,null,null,null,null,null,null,null,null,null,null,null,null,null,null,null,null,null,null,null,null,null,95,4000,null,null,null,null,null,null,null,null,null,3424000,null,null,null,null,325284095,null,2121,"-","-","-","-","-","-","-","D2 (2121)","-","-","-","-","-","-","-",31.8,34.6,37.5,"-","-","-","-","Min (31.8)","Typ (34.6)","Max (37.5)","-","-","-","-",null,-0.33600000000000002,2.0110000000000001,1.2E-2,null,null,-1.833333333333335E-3,null,-3.2500000000000001E-2,0.19109999999999999,0.90627000000000002,null,null,-1.1666666666666714E-2,null,"SPHWHAHDNF28"]
[null,null,null,null,null,null,null,null,null,null,null,null,null,null,null,null,null,null,null,null,null,null,null,null,null,null,null,null,null,null,null,null,null,null,null,null,null,null,null,null,null,null,null,null,null,null,null,null,null,null,null,null,null,null,null,null,null,null,null,null,null,null,null,null,null,null,null,null,null,null,null,null,null,95,2700,null,null,null,null,null,null,null,null,null,2313900,95,"-","-","-",219823295,null,2470,"-","-","-","-","-","-","-","D2 (2470)","-","-","-","-","-","-","-",31.8,34.6,37.5,"-","-","-","-","Min (31.8)","Typ (34.6)","Max (37.5)","-","-","-","-",null,-0.1991,1.5282,2.9099999999999998E-3,null,null,-1.6666666666666681E-3,null,-2.1299999999999999E-2,0.1421,0.90873000000000004,null,null,-1.1666666666666714E-2,null,"SPHWHAHDNG28"]
[null,null,null,null,null,null,null,null,null,null,null,null,null,null,null,null,null,null,null,null,null,null,null,null,null,null,null,null,null,null,null,null,null,null,null,null,null,null,null,null,null,null,null,null,null,null,null,null,null,null,null,null,null,null,null,null,null,null,null,null,null,null,null,null,null,null,null,null,null,null,null,null,null,95,4000,null,null,null,null,null,null,null,null,null,3428000,null,null,null,null,325664095,null,2786,"-","-","-","-","-","-","-","D2 (2786)","-","-","-","-","-","-","-",31.8,34.6,37.5,"-","-","-","-","Min (31.8)","Typ (34.6)","Max (37.5)","-","-","-","-",null,-0.1991,1.5282,2.9099999999999998E-3,null,null,-1.6666666666666681E-3,null,-2.1299999999999999E-2,0.1421,0.90873000000000004,null,null,-1.1666666666666714E-2,null,"SPHWHAHDNG28"]
[null,null,null,null,null,null,null,null,null,null,null,null,null,null,null,null,null,null,null,null,null,null,null,null,null,null,null,null,null,null,null,null,null,null,null,null,null,null,null,null,null,null,null,null,null,null,null,null,null,null,null,null,null,null,null,null,null,null,null,null,null,null,null,null,null,null,null,null,null,null,null,null,null,70,3000,null,null,null,null,null,null,null,null,null,2574000,70,80,90,95,180183070,null,5014,"-","-","-","-","-","-","-","D2 (5014)","-","-","-","-","-","-","-",31.8,34.6,37.5,"-","-","-","-","Min (31.8)","Typ (34.6)","Max (37.5)","-","-","-","-",{"$f":"DR1421","v":3.5000000000000001E-3},{"$f":"DS1421","v":-0.1099},{"$f":"DT1421","v":1.21},{"$f":"DU1421","v":-2.5999999999999999E-3},null,null,{"$f":"DX1421","v":-1.3873052071455727E-3},{"$f":"DY1421","v":1.84E-2},{"$f":"DZ1421","v":-6.7400000000000002E-2},{"$f":"EA1421","v":0.161},{"$f":"EB1421","v":0.89629999999999999},null,null,{"$f":"EE1421","v":-1.1899999999999977E-2},null,"SPHWHAHDNH23"]
[null,null,null,null,null,null,null,null,null,null,null,null,null,null,null,null,null,null,null,null,null,null,null,null,null,null,null,null,null,null,null,null,null,null,null,null,null,null,null,null,null,null,null,null,null,null,null,null,null,null,null,null,null,null,null,null,null,null,null,null,null,null,null,null,null,null,null,null,null,null,null,null,null,90,4000,null,null,null,null,null,null,null,null,null,3432000,null,null,null,null,308884090,null,4180,"-","-","-","-","-","-","-","D2 (4180)","-","-","-","-","-","-","-",31.8,34.6,37.5,"-","-","-","-","Min (31.8)","Typ (34.6)","Max (37.5)","-","-","-","-",3.5000000000000001E-3,-0.1099,1.21,-2.5999999999999999E-3,null,null,-1.3873052071455727E-3,1.84E-2,-6.7400000000000002E-2,0.161,0.89629999999999999,null,null,-1.1899999999999977E-2,null,"SPHWHAHDNH27"]
[null,null,null,null,null,null,null,null,null,null,null,null,null,null,null,null,null,null,null,null,null,null,null,null,null,null,null,null,null,null,null,null,null,null,null,null,null,null,null,null,null,null,null,null,null,null,null,null,null,null,null,null,null,null,null,null,null,null,null,null,null,null,null,null,null,null,null,null,null,null,null,null,null,70,3000,null,null,null,null,null,null,null,null,null,2577000,70,80,90,95,180393070,null,6304,"-","-","-","-","-","-","-","D2 (6304)","-","-","-","-","-","-","-",31.8,34.6,37.5,"-","-","-","-","Min (31.8)","Typ (34.6)","Max (37.5)","-","-","-","-",{"$f":"DR1440","v":2E-3},{"$f":"DS1440","v":-7.6300000000000007E-2},{"$f":"DT1440","v":1.0083},{"$f":"DU1440","v":-2.5000000000000001E-3},null,null,{"$f":"DX1440","v":-1.3873052071455727E-3},{"$f":"DY1440","v":1.06E-2},{"$f":"DZ1440","v":-4.6800000000000001E-2},{"$f":"EA1440","v":0.13420000000000001},{"$f":"EB1440","v":0.89629999999999999},null,null,{"$f":"EE1440","v":-1.1899999999999977E-2},null,"SPHWHAHDNK23"]
[null,null,null,null,null,null,null,null,null,null,null,null,null,null,null,null,null,null,null,null,null,null,null,null,null,null,null,null,null,null,null,null,null,null,null,null,null,null,null,null,null,null,null,null,null,null,null,null,null,null,null,null,null,null,null,null,null,null,null,null,null,null,null,null,null,null,null,null,null,null,null,null,null,80,3000,null,null,null,null,null,null,null,null,null,2577000,null,null,null,null,206163080,null,5837,"-","-","-","-","-","-","-","D2 (5837)","-","-","-","-","-","-","-",31.8,34.6,37.5,"-","-","-","-","Min (31.8)","Typ (34.6)","Max (37.5)","-","-","-","-",2E-3,-7.6300000000000007E-2,1.0083,-2.5000000000000001E-3,null,null,-1.3873052071455727E-3,1.06E-2,-4.6800000000000001E-2,0.13420000000000001,0.89629999999999999,null,null,-1.1899999999999977E-2,null,"SPHWHAHDNK25"]
[null,null,null,null,null,null,null,null,null,null,null,null,null,null,null,null,null,null,null,null,null,null,null,null,null,null,null,null,null,null,null,null,null,null,null,null,null,null,null,null,null,null,null,null,null,null,null,null,null,null,null,null,null,null,null,null,null,null,null,null,null,null,null,null,null,null,null,null,null,null,null,null,null,80,5700,null,null,null,null,null,null,null,null,null,4896300,80,"-","-","-",391709780,null,6205,"-","-","-","-","-","-","-","D2 (6205)","-","-","-","-","-","-","-",31.8,34.6,37.5,"-","-","-","-","Min (31.8)","Typ (34.6)","Max (37.5)","-","-","-","-",2E-3,-7.6300000000000007E-2,1.0083,-2.5000000000000001E-3,null,null,-1.3873052071455727E-3,1.06E-2,-4.6800000000000001E-2,0.13420000000000001,0.89629999999999999,null,null,-1.1899999999999977E-2,null,"SPHWHAHDNK25"]
[null,null,null,null,null,null,null,null,null,null,null,null,null,null,null,null,null,null,null,null,null,null,null,null,null,null,null,null,null,null,null,null,null,null,null,null,null,null,null,null,null,null,null,null,null,null,null,null,null,null,null,null,null,null,null,null,null,null,null,null,null,null,null,null,null,null,null,null,null,null,null,null,null,90,3000,null,null,null,null,null,null,null,null,null,null,null,null,null,null,232203090,null,7352,"-","-","-","-","-","-","-","D2 (7352)","-","-","-","-","-","-","-",47.8,52,56.2,"-","-","-","-","Min (47.8)","Typ (52)","Max (56.2)","-","-","-","-",2E-3,-7.6300000000000007E-2,1.0083,-2.5000000000000001E-3,null,null,-1.3873052071455727E-3,1.06E-2,-4.6800000000000001E-2,0.13420000000000001,0.89629999999999999,null,null,-1.1899999999999977E-2]
[null,null,null,null,null,null,null,null,null,null,null,null,null,null,null,null,null,null,null,null,null,null,null,null,null,null,null,null,null,null,null,null,null,null,null,null,null,null,null,null,null,null,null,null,null,null,null,null,null,null,null,null,null,null,null,null,null,null,null,null,null,null,null,null,null,null,null,null,null,null,null,null,null,80,5700,null,null,null,null,null,null,null,null,null,{"$f":"$BU$1458*BW1471","v":4902000},80,"-","-","-",{"$f":"$BU$1458*BV1471*BW1471+BV1471+BW1471","v":392165780},null,9084,"-","-","-","-","-","-","-","D2 (9084)","-","-","-","-","-","-","-",47.8,52,56.2,"-","-","-","-","Min (47.8)","Typ (52)","Max (56.2)","-","-","-","-",2E-3,-7.6300000000000007E-2,1.0083,-2.5000000000000001E-3,null,null,-1.3873052071455727E-3,1.06E-2,-4.6800000000000001E-2,0.13420000000000001,0.89629999999999999,null,null,-1.1899999999999977E-2,null,"SPHWHAHDNL25"]
[null,null,null,null,null,null,null,null,null,null,null,null,null,null,null,null,null,null,null,null,null,null,null,null,null,null,null,null,null,null,null,null,null,null,null,null,null,null,null,null,null,null,null,null,null,null,null,null,null,null,null,null,null,null,null,null,null,null,null,null,null,null,null,null,null,null,null,null,null,null,null,null,null,80,3000,null,null,null,null,null,null,null,null,null,null,null,null,null,null,206643080,null,12468,"-","-","-","-","-","-","-","D2 (12468)","-","-","-","-","-","-","-",47.8,52,56.2,"-","-","-","-","Min (47.8)","Typ (52)","Max (56.2)","-","-","-","-",5.9999999999999995E-4,-3.39E-2,0.67220000000000002,-2.5999999999999999E-3,null,null,-1.3873052071455727E-3,3.2000000000000002E-3,-2.0799999999999999E-2,8.9399999999999993E-2,0.8962,null,null,-2.1999999999999981E-2,null,"SPHWHAHDNM25"]
[null,null,null,null,null,null,null,null,null,null,null,null,null,null,null,null,null,null,null,null,null,null,null,null,null,null,null,null,null,null,null,null,null,null,null,null,null,null,null,null,null,null,null,null,null,null,null,null,null,null,null,null,null,null,null,null,null,null,null,null,null,null,null,null,null,null,null,null,null,null,null,null,null,90,2700,null,null,null,null,null,null,null,null,null,{"$f":"$BU$1489*BW1490","v":3512700},null,null,null,null,{"$f":"$BU$1489*BV1490*BW1490+BV1490+BW1490","v":316145790},null,392,"-","-","-","-","-","-","-","DB (392)","-","-","-","-","-","-","-",15.6,17,18.5,"-","-","-","-","WJ Min (15.6)","WJ Typ (17)","WJ Max (18.5)","-","-","-","-",2.4660000000000002,-4.2637,6.2336999999999998,2.8E-3,null,null,-1.3939838591342623E-3,1.3682000000000001,-1.2088000000000001,0.7601,0.89529999999999998,null,null,-6.1867713928249893E-3,null,"SPHWHAHDNA27"]
[null,null,null,null,null,null,null,null,null,null,null,null,null,null,null,null,null,null,null,null,null,null,null,null,null,null,null,null,null,null,null,null,null,null,null,null,null,null,null,null,null,null,null,null,null,null,null,null,null,null,null,null,null,null,null,null,null,null,null,null,null,null,null,null,null,null,null,null,null,null,null,null,null,80,5700,null,null,null,null,null,null,null,null,null,7415700,80,"-","-","-",593261780,null,516,"-","-","-","-","-","-","-","DB (516)","-","-","-","-","-","-","-",15.6,17,18.5,"-","-","-","-","WJ Min (15.6)","WJ Typ (17)","WJ Max (18.5)","-","-","-","-",2.4660000000000002,-4.2637,6.2336999999999998,2.8E-3,null,null,-1.3939838591342623E-3,1.3682000000000001,-1.2088000000000001,0.7601,0.89529999999999998,null,null,-6.1867713928249893E-3,null,"SPHWHAHDNA25"]
[null,null,null,null,null,null,null,null,null,null,null,null,null,null,null,null,null,null,null,null,null,null,null,null,null,null,null,null,null,null,null,null,null,null,null,null,null,null,null,null,null,null,null,null,null,null,null,null,null,null,null,null,null,null,null,null,null,null,null,null,null,null,null,null,null,null,null,null,null,null,null,null,null,80,5000,null,null,null,null,null,null,null,null,null,6510000,80,90,"-","-",520805080,null,516,"-","-","-","-","-","-","-","DB (516)","-","-","-","-","-","-","-",31.2,34,36.9,"-","-","-","-","YZ Min (31.2)","YZ Typ (34)","YZ Max (36.9)","-","-","-","-",19.727699999999999,-17.0547,12.4673,2.8E-3,null,null,-1.3939838591342623E-3,10.946,-1.8351999999999999,1.5202,0.89529999999999998,null,null,-1.2373542785649979E-2,null,"SPHWHAHDNA25"]
[null,null,null,null,null,null,null,null,null,null,null,null,null,null,null,null,null,null,null,null,null,null,null,null,null,null,null,null,null,null,null,null,null,null,null,null,null,null,null,null,null,null,null,null,null,null,null,null,null,null,null,null,null,null,null,null,null,null,null,null,null,null,null,null,null,null,null,null,null,null,null,null,null,90,5000,null,null,null,null,null,null,null,null,null,6510000,null,null,null,null,585905090,null,440,"-","-","-","-","-","-","-","DB (440)","-","-","-","-","-","-","-",31.2,34,36.9,"-","-","-","-","YZ Min (31.2)","YZ Typ (34)","YZ Max (36.9)","-","-","-","-",19.727699999999999,-17.0547,12.4673,2.8E-3,null,null,-1.3939838591342623E-3,10.946,-1.8351999999999999,1.5202,0.89529999999999998,null,null,-1.2373542785649979E-2,null,"SPHWHAHDNA27"]
[null,null,null,null,null,null,null,null,null,null,null,null,null,null,null,null,null,null,null,null,null,null,null,null,null,null,null,null,null,null,null,null,null,null,null,null,null,null,null,null,null,null,null,null,null,null,null,null,null,null,null,null,null,null,null,null,null,null,null,null,null,null,null,null,null,null,null,null,null,null,null,null,null,80,5700,null,null,null,null,null,null,null,null,null,7427100,80,"-","-","-",594173780,null,1010,"-","-","-","-","-","-","-","DB (1010)","-","-","-","-","-","-","-",31.2,34,36.9,"-","-","-","-","YZ Min (31.2)","YZ Typ (34)","YZ Max (36.9)","-","-","-","-",2.6720999999999999,-4.3445,6.2492000000000001,1.9E-3,null,null,-1.3762396276057484E-3,1.3297000000000001,-1.1869000000000001,0.75629999999999997,0.89539999999999997,null,null,-1.3313166300450045E-2,null,"SPHWHAHDNB25"]
[null,null,null,null,null,null,null,null,null,null,null,null,null,null,null,null,null,null,null,null,null,null,null,null,null,null,null,null,null,null,null,null,null,null,null,null,null,null,null,null,null,null,null,null,null,null,null,null,null,null,null,null,null,null,null,null,null,null,null,null,null,null,null,null,null,null,null,null,null,null,null,null,null,90,3000,null,null,null,null,null,null,null,null,null,3912000,null,null,null,null,352083090,null,1212,"-","-","-","-","-","-","-","DB (1212)","-","-","-","-","-","-","-",31.2,34,36.9,"-","-","-","-","YZ Min (31.2)","YZ Typ (34)","YZ Max (36.9)","-","-","-","-",0.74580000000000002,-1.9160999999999999,4.1620999999999997,2.5999999999999999E-3,null,null,-1.4136273678258407E-3,0.41510000000000002,-0.54490000000000005,0.50580000000000003,0.89570000000000005,null,null,-1.3207880655916663E-2,null,"SPHWHAHDNC27"]
[null,null,null,null,null,null,null,null,null,null,null,null,null,null,null,null,null,null,null,null,null,null,null,null,null,null,null,null,null,null,null,null,null,null,null,null,null,null,null,null,null,null,null,null,null,null,null,null,null,null,null,null,null,null,null,null,null,null,null,null,null,null,null,null,null,null,null,null,null,null,null,null,null,80,5700,null,null,null,null,null,null,null,null,null,7432800,80,"-","-","-",594629780,null,1513,"-","-","-","-","-","-","-","DB (1513)","-","-","-","-","-","-","-",31.2,34,36.9,"-","-","-","-","YZ Min (31.2)","YZ Typ (34)","YZ Max (36.9)","-","-","-","-",0.74580000000000002,-1.9160999999999999,4.1620999999999997,2.5999999999999999E-3,null,null,-1.4136273678258407E-3,0.41510000000000002,-0.54490000000000005,0.50580000000000003,0.89570000000000005,null,null,-1.3207880655916663E-2,null,"SPHWHAHDNC25"]
[null,null,null,null,null,null,null,null,null,null,null,null,null,null,null,null,null,null,null,null,null,null,null,null,null,null,null,null,null,null,null,null,null,null,null,null,null,null,null,null,null,null,null,null,null,null,null,null,null,null,null,null,null,null,null,null,null,null,null,null,null,null,null,null,null,null,null,null,null,null,null,null,null,80,3000,null,null,null,null,null,null,null,null,null,3915000,80,90,"-","-",313203080,null,1857,"-","-","-","-","-","-","-","DB (1857)","-","-","-","-","-","-","-",31.2,34,36.9,"-","-","-","-","YZ Min (31.2)","YZ Typ (34)","YZ Max (36.9)","-","-","-","-",0.37790000000000001,-1.1181000000000001,3.1282000000000001,1.9E-3,null,null,-1.4465007445224425E-3,0.19189999999999999,-0.31890000000000002,0.37080000000000002,0.9073,null,null,-1.5069834391283383E-2,null,"SPHWHAHDND25"]
[null,null,null,null,null,null,null,null,null,null,null,null,null,null,null,null,null,null,null,null,null,null,null,null,null,null,null,null,null,null,null,null,null,null,null,null,null,null,null,null,null,null,null,null,null,null,null,null,null,null,null,null,null,null,null,null,null,null,null,null,null,null,null,null,null,null,null,null,null,null,null,null,null,90,2700,null,null,null,null,null,null,null,null,null,3526200,null,null,null,null,{"$f":"$BU$1555*BV1557*BW1557+BV1557+BW1557","v":317360790},null,1776,"-","-","-","-","-","-","-","DB (1776)","-","-","-","-","-","-","-",31.2,34,36.9,"-","-","-","-","YZ Min (31.2)","YZ Typ (34)","YZ Max (36.9)","-","-","-","-",0.1686,-0.69359999999999999,2.4958999999999998,2.8E-3,null,null,-1.3942001274697266E-3,8.4199999999999997E-2,-0.18540000000000001,0.29239999999999999,0.89900000000000002,null,null,-1.3841756184883281E-2,null,"SPHWHAHDNE27"]
[null,null,null,null,null,null,null,null,null,null,null,null,null,null,null,null,null,null,null,null,null,null,null,null,null,null,null,null,null,null,null,null,null,null,null,null,null,null,null,null,null,null,null,null,null,null,null,null,null,null,null,null,null,null,null,null,null,null,null,null,null,null,null,null,null,null,null,null,null,null,null,null,null,80,5000,null,null,null,null,null,null,null,null,null,6530000,null,null,null,null,522405080,null,2529,"-","-","-","-","-","-","-","DB (2529)","-","-","-","-","-","-","-",31.2,34,36.9,"-","-","-","-","YZ Min (31.2)","YZ Typ (34)","YZ Max (36.9)","-","-","-","-",0.1686,-0.69359999999999999,2.4958999999999998,2.8E-3,null,null,-1.3942001274697266E-3,8.4199999999999997E-2,-0.18540000000000001,0.29239999999999999,0.89900000000000002,null,null,-1.3841756184883281E-2,null,"SPHWHAHDNE25"]
[null,null,null,null,null,null,null,null,null,null,null,null,null,null,null,null,null,null,null,null,null,null,null,null,null,null,null,null,null,null,null,null,null,null,null,null,null,null,null,null,null,null,null,null,null,null,null,null,null,null,null,null,null,null,null,null,null,null,null,null,null,null,null,null,null,null,null,null,null,null,null,null,null,90,2700,null,null,null,null,null,null,null,null,null,3528900,null,null,null,null,317603790,null,2301,"-","-","-","-","-","-","-","DB (2301)","-","-","-","-","-","-","-",31.2,34,36.9,"-","-","-","-","YZ Min (31.2)","YZ Typ (34)","YZ Max (36.9)","-","-","-","-",9.6600000000000005E-2,-0.4748,2.0777000000000001,1.8E-3,null,null,-1.4115308151093446E-3,4.8599999999999997E-2,-0.12889999999999999,0.23619999999999999,0.90329999999999999,null,null,-1.2715530395499997E-2,null,"SPHWHAHDNF27"]
[null,null,null,null,null,null,null,null,null,null,null,null,null,null,null,null,null,null,null,null,null,null,null,null,null,null,null,null,null,null,null,null,null,null,null,null,null,null,null,null,null,null,null,null,null,null,null,null,null,null,null,null,null,null,null,null,null,null,null,null,null,null,null,null,null,null,null,null,null,null,null,null,null,70,4000,null,null,null,null,null,null,null,null,null,5228000,70,80,90,"-",365964070,null,3207,"-","-","-","-","-","-","-","DB (3207)","-","-","-","-","-","-","-",31.2,34,36.9,"-","-","-","-","YZ Min (31.2)","YZ Typ (34)","YZ Max (36.9)","-","-","-","-",9.6600000000000005E-2,-0.4748,2.0777000000000001,1.8E-3,null,null,-1.4115308151093446E-3,4.8599999999999997E-2,-0.12889999999999999,0.23619999999999999,0.90329999999999999,null,null,-1.2715530395499997E-2,null,"SPHWHAHDNF23"]
[null,null,null,null,null,null,null,null,null,null,null,null,null,null,null,null,null,null,null,null,null,null,null,null,null,null,null,null,null,null,null,null,null,null,null,null,null,null,null,null,null,null,null,null,null,null,null,null,null,null,null,null,null,null,null,null,null,null,null,null,null,null,null,null,null,null,null,null,null,null,null,null,null,80,2700,null,null,null,null,null,null,null,null,null,{"$f":"$BU$1585*BW1586","v":3531600},null,null,null,null,{"$f":"$BU$1585*BV1586*BW1586+BV1586+BW1586","v":282530780},null,3616,"-","-","-","-","-","-","-","DB (3616)","-","-","-","-","-","-","-",31.2,34,36.9,"-","-","-","-","YZ Min (31.2)","YZ Typ (34)","YZ Max (36.9)","-","-","-","-",0.05,-0.28870000000000001,1.5717000000000001,-5.0000000000000001E-4,null,null,-1.3901435310649394E-3,2.5499999999999998E-2,-8.2699999999999996E-2,0.18970000000000001,0.89739999999999998,null,null,-1.495583852131664E-2,null,"SPHWHAHDNG25"]
[null,null,null,null,null,null,null,null,null,null,null,null,null,null,null,null,null,null,null,null,null,null,null,null,null,null,null,null,null,null,null,null,null,null,null,null,null,null,null,null,null,null,null,null,null,null,null,null,null,null,null,null,null,null,null,null,null,null,null,null,null,null,null,null,null,null,null,null,null,null,null,null,null,80,2700,null,null,null,null,null,null,null,null,null,{"$f":"$BU$1600*BW1601","v":3534300},null,null,null,null,{"$f":"$BU$1600*BV1601*BW1601+BV1601+BW1601","v":282746780},null,4462,"-","-","-","-","-","-","-","DB (4462)","-","-","-","-","-","-","-",31.2,34,36.9,"-","-","-","-","YZ Min (31.2)","YZ Typ (34)","YZ Max (36.9)","-","-","-","-",2.24E-2,-0.17710000000000001,1.2535000000000001,5.9999999999999995E-4,null,null,-1.3824130879345605E-3,1.06E-2,-4.82E-2,0.1547,0.89280000000000004,null,null,-1.3803863525383283E-2,null,"SPHWHAHDNH25"]
[null,null,null,null,null,null,null,null,null,null,null,null,null,null,null,null,null,null,null,null,null,null,null,null,null,null,null,null,null,null,null,null,null,null,null,null,null,null,null,null,null,null,null,null,null,null,null,null,null,null,null,null,null,null,null,null,null,null,null,null,null,null,null,null,null,null,null,null,null,null,null,null,null,80,3500,null,null,null,null,null,null,null,null,null,4581500,80,90,"-","-",366523580,null,4779,"-","-","-","-","-","-","-","DB (4779)","-","-","-","-","-","-","-",31.2,34,36.9,"-","-","-","-","YZ Min (31.2)","YZ Typ (34)","YZ Max (36.9)","-","-","-","-",2.24E-2,-0.17710000000000001,1.2535000000000001,5.9999999999999995E-4,null,null,-1.3824130879345605E-3,1.06E-2,-4.82E-2,0.1547,0.89280000000000004,null,null,-1.3803863525383283E-2,null,"SPHWHAHDNH25"]
[null,null,null,null,null,null,null,null,null,null,null,null,null,null,null,null,null,null,null,null,null,null,null,null,null,null,null,null,null,null,null,null,null,null,null,null,null,null,null,null,null,null,null,null,null,null,null,null,null,null,null,null,null,null,null,null,null,null,null,null,null,null,null,null,null,null,null,null,null,null,null,null,null,80,6500,null,null,null,null,null,null,null,null,null,8508500,80,"-","-","-",680686580,null,4875,"-","-","-","-","-","-","-","DB (4875)","-","-","-","-","-","-","-",31.2,34,36.9,"-","-","-","-","YZ Min (31.2)","YZ Typ (34)","YZ Max (36.9)","-","-","-","-",2.24E-2,-0.17710000000000001,1.2535000000000001,5.9999999999999995E-4,null,null,-1.3824130879345605E-3,1.06E-2,-4.82E-2,0.1547,0.89280000000000004,null,null,-1.3803863525383283E-2,null,"SPHWHAHDNH25"]
[null,null,null,null,null,null,null,null,null,null,null,null,null,null,null,null,null,null,null,null,null,null,null,null,null,null,null,null,null,null,null,null,null,null,null,null,null,null,null,null,null,null,null,null,null,null,null,null,null,null,null,null,null,null,null,null,null,null,null,null,null,null,null,null,null,null,null,null,null,null,null,null,null,90,3500,null,null,null,null,null,null,null,null,null,4585000,null,null,null,null,412653590,null,5100,"-","-","-","-","-","-","-","DB (5100)","-","-","-","-","-","-","-",31.2,34,36.9,"-","-","-","-","YZ Min (31.2)","YZ Typ (34)","YZ Max (36.9)","-","-","-","-",9.7000000000000003E-3,-0.1109,1.0321,3.3E-3,null,null,-1.4329107237189647E-3,4.4999999999999997E-3,-2.7300000000000001E-2,0.11940000000000001,0.89790000000000003,null,null,-1.6038195292166671E-2,null,"SPHWHAHDNK27"]
[null,null,null,null,null,null,null,null,null,null,null,null,null,null,null,null,null,null,null,null,null,null,null,null,null,null,null,null,null,null,null,null,null,null,null,null,null,null,null,null,null,null,null,null,null,null,null,null,null,null,null,null,null,null,null,null,null,null,null,null,null,null,null,null,null,null,null,null,null,null,null,null,null,80,3000,null,null,null,null,null,null,null,null,null,3933000,80,90,"-","-",314643080,null,8499,"-","-","-","-","-","-","-","DB (8499)","-","-","-","-","-","-","-",46.9,51.1,55.3,"-","-","-","-","1Z Min (46.9)","1Z Typ (51.1)","1Z Max (55.3)","-","-","-","-",1.8E-3,-0.1004,1.0309999999999999,4.0000000000000001E-3,null,null,-1.4366272824919443E-3,9.2999999999999992E-3,-4.2599999999999999E-2,0.13539999999999999,0.89349999999999996,null,null,-2.2753588349999986E-2,null,"SPHWHAHDNL25"]
[null,null,null,null,null,null,null,null,null,null,null,null,null,null,null,null,null,null,null,null,null,null,null,null,null,null,null,null,null,null,null,null,null,null,null,null,null,null,null,null,null,null,null,null,null,null,null,null,null,null,null,null,null,null,null,null,null,null,null,null,null,null,null,null,null,null,null,null,null,null,null,null,null,90,5000,null,null,null,null,null,null,null,null,null,6555000,null,null,null,null,589955090,null,7793,"-","-","-","-","-","-","-","DB (7793)","-","-","-","-","-","-","-",46.9,51.1,55.3,"-","-","-","-","1Z Min (46.9)","1Z Typ (51.1)","1Z Max (55.3)","-","-","-","-",1.8E-3,-0.1004,1.0309999999999999,4.0000000000000001E-3,null,null,-1.4366272824919443E-3,9.2999999999999992E-3,-4.2599999999999999E-2,0.13539999999999999,0.89349999999999996,null,null,-2.2753588349999986E-2,null,"SPHWHAHDNL27"]
[null,null,null,null,null,null,null,null,null,null,null,null,null,null,null,null,null,null,null,null,null,null,null,null,null,null,null,null,null,null,null,null,null,null,null,null,null,null,null,null,null,null,null,null,null,null,null,null,null,null,null,null,null,null,null,null,null,null,null,null,null,null,null,null,null,null,null,null,null,null,null,null,null,80,3500,null,null,null,null,null,null,null,null,null,4592000,80,90,"-","-",367363580,null,12852,"-","-","-","-","-","-","-","DB (12852)","-","-","-","-","-","-","-",46.9,51.1,55.3,"-","-","-","-","1Z Min (46.9)","1Z Typ (51.1)","1Z Max (55.3)","-","-","-","-",1.12E-2,-8.2600000000000007E-2,0.72350000000000003,-3.5999999999999999E-3,null,null,-1.3863497867154166E-3,9.1999999999999998E-3,-4.1599999999999998E-2,0.1108,0.89049999999999996,null,null,-2.1119308466666691E-2,null,"SPHWHAHDNM25"]
[null,null,null,null,null,null,null,null,null,null,null,null,null,null,null,null,null,null,null,null,null,null,null,null,null,null,null,null,null,null,null,null,null,null,null,null,null,null,null,null,null,null,null,null,null,null,null,null,null,null,null,null,null,null,null,null,null,null,null,null,null,null,null,null,null,null,null,null,null,null,null,null,null,80,4000,null,null,null,null,null,null,null,null,null,5248000,null,null,null,null,419844080,null,13123,"-","-","-","-","-","-","-","DB (13123)","-","-","-","-","-","-","-",46.9,51.1,55.3,"-","-","-","-","1Z Min (46.9)","1Z Typ (51.1)","1Z Max (55.3)","-","-","-","-",1.12E-2,-8.2600000000000007E-2,0.72350000000000003,-3.5999999999999999E-3,null,null,-1.3863497867154166E-3,9.1999999999999998E-3,-4.1599999999999998E-2,0.1108,0.89049999999999996,null,null,-2.1119308466666691E-2,null,"SPHWHAHDNM25"]
[null,null,null,null,null,null,null,null,null,null,null,null,null,null,null,null,null,null,null,null,null,null,null,null,null,null,null,null,null,null,null,null,null,null,null,null,null,null,null,null,null,null,null,null,null,null,null,null,null,null,null,null,null,null,null,null,null,null,null,null,null,null,null,null,null,null,null,null,null,null,null,null,null,80,3000,null,null,null,null,null,null,null,null,null,2613000,80,90,"-","-",209043080,null,499,"-","-","-","-","-","-","-","D3 (499)","-","-","-","-","-","-","-",33.799999999999997,"-","-","-","-","-","-","Typ (33.8)","-","-","-","-","-","-",3.5249000000000001,-10.987,12.1,-2.5999999999999999E-3,null,null,-1.3873052071455727E-3,18.399000000000001,-6.7397999999999998,1.6099000000000001,0.89624999999999999,null,null,-1.1899999999999977E-2,null,"-"]
[null,null,null,null,null,null,null,null,null,null,null,null,null,null,null,null,null,null,null,null,null,null,null,null,null,null,null,null,null,null,null,null,null,null,null,null,null,null,null,null,null,null,null,null,null,null,null,null,null,null,null,null,null,null,null,null,null,null,null,null,null,null,null,null,null,null,null,null,null,null,null,null,null,80,5700,null,null,null,null,null,null,null,null,null,4964700,80,"-","-","-",397181780,null,529,"-","-","-","-","-","-","-","D3 (529)","-","-","-","-","-","-","-",33.799999999999997,"-","-","-","-","-","-","Typ (33.8)","-","-","-","-","-","-",3.5249000000000001,-10.987,12.1,-2.5999999999999999E-3,null,null,-1.3873052071455727E-3,18.399000000000001,-6.7397999999999998,1.6099000000000001,0.89624999999999999,null,null,-1.1899999999999977E-2,null,"-"]
[null,null,null,null,null,null,null,null,null,null,null,null,null,null,null,null,null,null,null,null,null,null,null,null,null,null,null,null,null,null,null,null,null,null,null,null,null,null,null,null,null,null,null,null,null,null,null,null,null,null,null,null,null,null,null,null,null,null,null,null,null,null,null,null,null,null,null,null,null,null,null,null,null,90,5000,null,null,null,null,null,null,null,null,null,4360000,null,null,null,null,392405090,null,902,"-","-","-","-","-","-","-","D3 (902)","-","-","-","-","-","-","-",33.799999999999997,"-","-","-","-","-","-","Typ (33.8)","-","-","-","-","-","-",0.44059999999999999,-2.7467000000000001,6.05,-2.5999999999999999E-3,null,null,-1.3873052071455727E-3,2.2999000000000001,-1.6850000000000001,0.80489999999999995,0.89629999999999999,null,null,-1.1899999999999977E-2,null,"-"]
[null,null,null,null,null,null,null,null,null,null,null,null,null,null,null,null,null,null,null,null,null,null,null,null,null,null,null,null,null,null,null,null,null,null,null,null,null,null,null,null,null,null,null,null,null,null,null,null,null,null,null,null,null,null,null,null,null,null,null,null,null,null,null,null,null,null,null,null,null,null,null,null,null,90,3500,null,null,null,null,null,null,null,null,null,3055500,null,null,null,null,274998590,null,1302,"-","-","-","-","-","-","-","D3 (1302)","-","-","-","-","-","-","-",33.799999999999997,"-","-","-","-","-","-","Typ (33.8)","-","-","-","-","-","-",0.13059999999999999,-1.2208000000000001,4.0332999999999997,-2.5999999999999999E-3,null,null,-1.3873052071455727E-3,0.68149999999999999,-0.74890000000000001,0.53659999999999997,0.89629999999999999,null,null,-1.1899999999999977E-2,null,"-"]
[null,null,null,null,null,null,null,null,null,null,null,null,null,null,null,null,null,null,null,null,null,null,null,null,null,null,null,null,null,null,null,null,null,null,null,null,null,null,null,null,null,null,null,null,null,null,null,null,null,null,null,null,null,null,null,null,null,null,null,null,null,null,null,null,null,null,null,null,null,null,null,null,null,70,5000,null,null,null,null,null,null,null,null,null,4365000,70,80,90,"-",305555070,null,1653,"-","-","-","-","-","-","-","D3 (1653)","-","-","-","-","-","-","-",33.799999999999997,"-","-","-","-","-","-","Typ (33.8)","-","-","-","-","-","-",0.13059999999999999,-1.2208000000000001,4.0332999999999997,-2.5999999999999999E-3,null,null,-1.3873052071455727E-3,0.68149999999999999,-0.74890000000000001,0.53659999999999997,0.89629999999999999,null,null,-1.1899999999999977E-2,null,"-"]
[null,null,null,null,null,null,null,null,null,null,null,null,null,null,null,null,null,null,null,null,null,null,null,null,null,null,null,null,null,null,null,null,null,null,null,null,null,null,null,null,null,null,null,null,null,null,null,null,null,null,null,null,null,null,null,null,null,null,null,null,null,null,null,null,null,null,null,null,null,null,null,null,null,80,4000,null,null,null,null,null,null,null,null,null,3496000,null,null,null,null,279684080,null,2036,"-","-","-","-","-","-","-","D3 (2036)","-","-","-","-","-","-","-",33.799999999999997,"-","-","-","-","-","-","Typ (33.8)","-","-","-","-","-","-",5.5100000000000003E-2,-0.68669999999999998,3.0249999999999999,-2.5999999999999999E-3,null,null,-1.3873052071455727E-3,0.28749999999999998,-0.42120000000000002,0.40250000000000002,0.89629999999999999,null,null,-1.1899999999999977E-2,null,"-"]
[null,null,null,null,null,null,null,null,null,null,null,null,null,null,null,null,null,null,null,null,null,null,null,null,null,null,null,null,null,null,null,null,null,null,null,null,null,null,null,null,null,null,null,null,null,null,null,null,null,null,null,null,null,null,null,null,null,null,null,null,null,null,null,null,null,null,null,null,null,null,null,null,null,90,4000,null,null,null,null,null,null,null,null,null,3496000,null,null,null,null,314644090,null,1745,"-","-","-","-","-","-","-","D3 (1745)","-","-","-","-","-","-","-",33.799999999999997,"-","-","-","-","-","-","Typ (33.8)","-","-","-","-","-","-",5.5100000000000003E-2,-0.68669999999999998,3.0249999999999999,-2.5999999999999999E-3,null,null,-1.3873052071455727E-3,0.28749999999999998,-0.42120000000000002,0.40250000000000002,0.89629999999999999,null,null,-1.1899999999999977E-2,null,"-"]
[null,null,null,null,null,null,null,null,null,null,null,null,null,null,null,null,null,null,null,null,null,null,null,null,null,null,null,null,null,null,null,null,null,null,null,null,null,null,null,null,null,null,null,null,null,null,null,null,null,null,null,null,null,null,null,null,null,null,null,null,null,null,null,null,null,null,null,null,null,null,null,null,null,90,3000,null,null,null,null,null,null,null,null,null,2625000,null,null,null,null,236253090,null,2139,"-","-","-","-","-","-","-","D3 (2139)","-","-","-","-","-","-","-",33.799999999999997,"-","-","-","-","-","-","Typ (33.8)","-","-","-","-","-","-",2.8199999999999999E-2,-0.4395,2.42,-2.5999999999999999E-3,null,null,-1.3873052071455727E-3,0.1472,-0.26960000000000001,0.32200000000000001,0.89629999999999999,null,null,-1.1899999999999977E-2,null,"-"]
[null,null,null,null,null,null,null,null,null,null,null,null,null,null,null,null,null,null,null,null,null,null,null,null,null,null,null,null,null,null,null,null,null,null,null,null,null,null,null,null,null,null,null,null,null,null,null,null,null,null,null,null,null,null,null,null,null,null,null,null,null,null,null,null,null,null,null,null,null,null,null,null,null,70,5000,null,null,null,null,null,null,null,null,null,4375000,70,80,90,"-",306255070,null,2797,"-","-","-","-","-","-","-","D3 (2797)","-","-","-","-","-","-","-",33.799999999999997,"-","-","-","-","-","-","Typ (33.8)","-","-","-","-","-","-",2.8199999999999999E-2,-0.4395,2.42,-2.5999999999999999E-3,null,null,-1.3873052071455727E-3,0.1472,-0.26960000000000001,0.32200000000000001,0.89629999999999999,null,null,-1.1899999999999977E-2,null,"-"]
[null,null,null,null,null,null,null,null,null,null,null,null,null,null,null,null,null,null,null,null,null,null,null,null,null,null,null,null,null,null,null,null,null,null,null,null,null,null,null,null,null,null,null,null,null,null,null,null,null,null,null,null,null,null,null,null,null,null,null,null,null,null,null,null,null,null,null,null,null,null,null,null,null,90,2700,null,null,null,null,null,null,null,null,null,2365200,null,null,null,null,212870790,null,2428,"-","-","-","-","-","-","-","D3 (2428)","-","-","-","-","-","-","-",33.799999999999997,"-","-","-","-","-","-","Typ (33.8)","-","-","-","-","-","-",1.6299999999999999E-2,-0.30520000000000003,2.0167000000000002,-2.5999999999999999E-3,null,null,-1.3873052071455727E-3,8.5199999999999998E-2,-0.18720000000000001,0.26829999999999998,0.89629999999999999,null,null,-1.1899999999999977E-2,null,"-"]
[null,null,null,null,null,null,null,null,null,null,null,null,null,null,null,null,null,null,null,null,null,null,null,null,null,null,null,null,null,null,null,null,null,null,null,null,null,null,null,null,null,null,null,null,null,null,null,null,null,null,null,null,null,null,null,null,null,null,null,null,null,null,null,null,null,null,null,null,null,null,null,null,null,90,3500,null,null,null,null,null,null,null,null,null,3066000,null,null,null,null,275943590,null,2630,"-","-","-","-","-","-","-","D3 (2630)","-","-","-","-","-","-","-",33.799999999999997,"-","-","-","-","-","-","Typ (33.8)","-","-","-","-","-","-",1.6299999999999999E-2,-0.30520000000000003,2.0167000000000002,-2.5999999999999999E-3,null,null,-1.3873052071455727E-3,8.5199999999999998E-2,-0.18720000000000001,0.26829999999999998,0.89629999999999999,null,null,-1.1899999999999977E-2,null,"-"]
[null,null,null,null,null,null,null,null,null,null,null,null,null,null,null,null,null,null,null,null,null,null,null,null,null,null,null,null,null,null,null,null,null,null,null,null,null,null,null,null,null,null,null,null,null,null,null,null,null,null,null,null,null,null,null,null,null,null,null,null,null,null,null,null,null,null,null,null,null,null,null,null,null,70,3000,null,null,null,null,null,null,null,null,null,{"$f":"$BU$1753*BW1757","v":2631000},70,80,90,"-",184173070,null,4230,"-","-","-","-","-","-","-","D3 (4230)","-","-","-","-","-","-","-",33.799999999999997,"-","-","-","-","-","-","Typ (33.8)","-","-","-","-","-","-",6.8999999999999999E-3,-0.17169999999999999,1.5125,-2.5999999999999999E-3,null,null,-1.3873052071455727E-3,3.5900000000000001E-2,-0.1053,0.20119999999999999,0.89629999999999999,null,null,-1.1899999999999977E-2,null,"-"]
[null,null,null,null,null,null,null,null,null,null,null,null,null,null,null,null,null,null,null,null,null,null,null,null,null,null,null,null,null,null,null,null,null,null,null,null,null,null,null,null,null,null,null,null,null,null,null,null,null,null,null,null,null,null,null,null,null,null,null,null,null,null,null,null,null,null,null,null,null,null,null,null,null,80,5000,null,null,null,null,null,null,null,null,null,4385000,null,null,null,null,350805080,null,4147,"-","-","-","-","-","-","-","D3 (4147)","-","-","-","-","-","-","-",33.799999999999997,"-","-","-","-","-","-","Typ (33.8)","-","-","-","-","-","-",6.8999999999999999E-3,-0.17169999999999999,1.5125,-2.5999999999999999E-3,null,null,-1.3873052071455727E-3,3.5900000000000001E-2,-0.1053,0.20119999999999999,0.89629999999999999,null,null,-1.1899999999999977E-2,null,"-"]
[null,null,null,null,null,null,null,null,null,null,null,null,null,null,null,null,null,null,null,null,null,null,null,null,null,null,null,null,null,null,null,null,null,null,null,null,null,null,null,null,null,null,null,null,null,null,null,null,null,null,null,null,null,null,null,null,null,null,null,null,null,null,null,null,null,null,null,null,null,null,null,null,null,70,2700,null,null,null,null,null,null,null,null,null,{"$f":"$BU$1771*BW1772","v":2370600},70,80,90,"-",{"$f":"$BU$1771*BV1772*BW1772+BV1772+BW1772","v":165944770},null,4940,"-","-","-","-","-","-","-","D3 (4940)","-","-","-","-","-","-","-",33.799999999999997,"-","-","-","-","-","-","Typ (33.8)","-","-","-","-","-","-",3.5000000000000001E-3,-0.1099,1.21,-2.5999999999999999E-3,null,null,-1.3873052071455727E-3,1.84E-2,-6.7400000000000002E-2,0.161,0.89629999999999999,null,null,-1.1899999999999977E-2,null,"-"]
[null,null,null,null,null,null,null,null,null,null,null,null,null,null,null,null,null,null,null,null,null,null,null,null,null,null,null,null,null,null,null,null,null,null,null,null,null,null,null,null,null,null,null,null,null,null,null,null,null,null,null,null,null,null,null,null,null,null,null,null,null,null,null,null,null,null,null,null,null,null,null,null,null,90,3000,null,null,null,null,null,null,null,null,null,2634000,null,null,null,null,237063090,null,4152,"-","-","-","-","-","-","-","D3 (4152)","-","-","-","-","-","-","-",33.799999999999997,"-","-","-","-","-","-","Typ (33.8)","-","-","-","-","-","-",3.5000000000000001E-3,-0.1099,1.21,-2.5999999999999999E-3,null,null,-1.3873052071455727E-3,1.84E-2,-6.7400000000000002E-2,0.161,0.89629999999999999,null,null,-1.1899999999999977E-2,null,"-"]
[null,null,null,null,null,null,null,null,null,null,null,null,null,null,null,null,null,null,null,null,null,null,null,null,null,null,null,null,null,null,null,null,null,null,null,null,null,null,null,null,null,null,null,null,null,null,null,null,null,null,null,null,null,null,null,null,null,null,null,null,null,null,null,null,null,null,null,null,null,null,null,null,null,70,5700,null,null,null,null,null,null,null,null,null,5004600,70,80,"-","-",350327770,null,5313,"-","-","-","-","-","-","-","D3 (5313)","-","-","-","-","-","-","-",33.799999999999997,"-","-","-","-","-","-","Typ (33.8)","-","-","-","-","-","-",3.5000000000000001E-3,-0.1099,1.21,-2.5999999999999999E-3,null,null,-1.3873052071455727E-3,1.84E-2,-6.7400000000000002E-2,0.161,0.89629999999999999,null,null,-1.1899999999999977E-2,null,"-"]
[null,null,null,null,null,null,null,null,null,null,null,null,null,null,null,null,null,null,null,null,null,null,null,null,null,null,null,null,null,null,null,null,null,null,null,null,null,null,null,null,null,null,null,null,null,null,null,null,null,null,null,null,null,null,null,null,null,null,null,null,null,null,null,null,null,null,null,null,null,null,null,null,null,70,5000,null,null,null,null,null,null,null,null,null,4395000,70,80,90,"-",307655070,null,6679,"-","-","-","-","-","-","-","D3 (6679)","-","-","-","-","-","-","-",33.799999999999997,"-","-","-","-","-","-","Typ (33.8)","-","-","-","-","-","-",2E-3,-7.6300000000000007E-2,1.0083,-2.5000000000000001E-3,null,null,-1.3873052071455727E-3,1.06E-2,-4.6800000000000001E-2,0.13420000000000001,0.89629999999999999,null,null,-1.1899999999999977E-2,null,"-"]
[null,null,null,null,null,null,null,null,null,null,null,null,null,null,null,null,null,null,null,null,null,null,null,null,null,null,null,null,null,null,null,null,null,null,null,null,null,null,null,null,null,null,null,null,null,null,null,null,null,null,null,null,null,null,null,null,null,null,null,null,null,null,null,null,null,null,null,null,null,null,null,null,null,80,5700,null,null,null,null,null,null,null,null,null,5010300,"-","-","-","-",400829780,null,6313,"-","-","-","-","-","-","-","D3 (6313)","-","-","-","-","-","-","-",33.799999999999997,"-","-","-","-","-","-","Typ (33.8)","-","-","-","-","-","-",2E-3,-7.6300000000000007E-2,1.0083,-2.5000000000000001E-3,null,null,-1.3873052071455727E-3,1.06E-2,-4.6800000000000001E-2,0.13420000000000001,0.89629999999999999,null,null,-1.1899999999999977E-2,null,"-"]
[null,null,null,null,null,null,null,null,null,null,null,null,null,null,null,null,null,null,null,null,null,null,null,null,null,null,null,null,null,null,null,null,null,null,null,null,null,null,null,null,null,null,null,null,null,null,null,null,null,null,null,null,null,null,null,null,null,null,null,null,null,null,null,null,null,null,null,null,null,null,null,null,null,80,3500,null,null,null,null,null,null,null,null,null,3080000,80,90,"-","-",246403580,null,9071,"-","-","-","-","-","-","-","D3 (9071)","-","-","-","-","-","-","-",50.699999999999996,"-","-","-","-","-","-","Typ (50.7)","-","-","-","-","-","-",2E-3,-7.6300000000000007E-2,1.0083,-2.5000000000000001E-3,null,null,-1.3873052071455727E-3,1.06E-2,-4.6800000000000001E-2,0.13420000000000001,0.89629999999999999,null,null,-1.1899999999999977E-2,null,"-"]
[null,null,null,null,null,null,null,null,null,null,null,null,null,null,null,null,null,null,null,null,null,null,null,null,null,null,null,null,null,null,null,null,null,null,null,null,null,null,null,null,null,null,null,null,null,null,null,null,null,null,null,null,null,null,null,null,null,null,null,null,null,null,null,null,null,null,null,null,null,null,null,null,null,90,5000,null,null,null,null,null,null,null,null,null,4400000,null,null,null,null,396005090,null,8002,"-","-","-","-","-","-","-","D3 (8002)","-","-","-","-","-","-","-",50.699999999999996,"-","-","-","-","-","-","Typ (50.7)","-","-","-","-","-","-",2E-3,-7.6300000000000007E-2,1.0083,-2.5000000000000001E-3,null,null,-1.3873052071455727E-3,1.06E-2,-4.6800000000000001E-2,0.13420000000000001,0.89629999999999999,null,null,-1.1899999999999977E-2,null,"-"]
[null,null,null,null,null,null,null,null,null,null,null,null,null,null,null,null,null,null,null,null,null,null,null,null,null,null,null,null,null,null,null,null,null,null,null,null,null,null,null,null,null,null,null,null,null,null,null,null,null,null,null,null,null,null,null,null,null,null,null,null,null,null,null,null,null,null,null,null,null,null,null,null,null,90,3500,null,null,null,null,null,null,null,null,null,3083500,null,null,null,null,277518590,null,11529,"-","-","-","-","-","-","-","D3 (11529)","-","-","-","-","-","-","-",50.699999999999996,"-","-","-","-","-","-","Typ (50.7)","-","-","-","-","-","-",5.9999999999999995E-4,-3.39E-2,0.67220000000000002,-2.5999999999999999E-3,null,null,-1.3873052071455727E-3,3.2000000000000002E-3,-2.0799999999999999E-2,8.9399999999999993E-2,0.8962,null,null,-1.1899999999999977E-2,null,"-"]
[null,null,null,null,null,null,null,null,null,null,null,null,null,null,null,null,null,null,null,null,null,null,null,null,null,null,null,null,null,null,null,null,null,null,null,null,null,null,null,null,null,null,null,null,null,null,null,null,null,null,null,null,null,null,null,null,null,null,null,null,null,null,null,null,null,null,null,null,null,null,null,null,null,80,6500,null,null,null,null,null,null,null,null,null,5726500,80,"-","-","-",458126580,null,13721,"-","-","-","-","-","-","-","D3 (13721)","-","-","-","-","-","-","-",50.699999999999996,"-","-","-","-","-","-","Typ (50.7)","-","-","-","-","-","-",5.9999999999999995E-4,-3.39E-2,0.67220000000000002,-2.5999999999999999E-3,null,null,-1.3873052071455727E-3,3.2000000000000002E-3,-2.0799999999999999E-2,8.9399999999999993E-2,0.8962,null,null,-1.1899999999999977E-2,null,"-"]
[null,null,null,null,null,null,null,null,null,null,null,null,null,null,null,null,null,null,null,null,null,null,null,null,null,null,null,null,null,null,null,null,null,null,null,null,null,null,null,null,null,null,null,null,null,null,null,null,null,null,null,null,null,null,null,null,null,null,null,null,null,null,null,null,null,null,null,null,null,null,null,null,null,90,4000,null,null,null,null,null,null,null,null,null,5604000,null,null,null,null,504364090,null,450,"-","-","-","-","-","-","-","DC (450)","-","-","-","-","-","-","-",30.9,33.700000000000003,36.6,"-","-","-","-","YZ Min (30.9)","YZ Typ (33.7)","YZ Max (36.6)","-","-","-","-",19.727699999999999,-17.0547,12.4673,2.8E-3,null,null,-1.3699186991869912E-3,10.946,-4.8352000000000004,1.5202,0.89529999999999998,null,null,-1.3084411621099908E-2,null,"SPHWHAHDNA27"]
[null,null,null,null,null,null,null,null,null,null,null,null,null,null,null,null,null,null,null,null,null,null,null,null,null,null,null,null,null,null,null,null,null,null,null,null,null,null,null,null,null,null,null,null,null,null,null,null,null,null,null,null,null,null,null,null,null,null,null,null,null,null,null,null,null,null,null,null,null,null,null,null,null,80,5700,null,null,null,null,null,null,null,null,null,7985700,80,"-","-","-",638861780,null,529,"-","-","-","-","-","-","-","DC (529)","-","-","-","-","-","-","-",30.9,33.700000000000003,36.6,"-","-","-","-","YZ Min (30.9)","YZ Typ (33.7)","YZ Max (36.6)","-","-","-","-",19.727699999999999,-17.0547,12.4673,2.8E-3,null,null,-1.3699186991869912E-3,10.946,-4.8352000000000004,1.5202,0.89529999999999998,null,null,-1.3084411621099908E-2,null,"SPHWHAHDNA25"]
[null,null,null,null,null,null,null,null,null,null,null,null,null,null,null,null,null,null,null,null,null,null,null,null,null,null,null,null,null,null,null,null,null,null,null,null,null,null,null,null,null,null,null,null,null,null,null,null,null,null,null,null,null,null,null,null,null,null,null,null,null,null,null,null,null,null,null,null,null,null,null,null,null,90,4000,null,null,null,null,null,null,null,null,null,5608000,null,null,null,null,504724090,null,884,"-","-","-","-","-","-","-","DC (884)","-","-","-","-","-","-","-",30.9,33.700000000000003,36.6,"-","-","-","-","YZ Min (30.9)","YZ Typ (33.7)","YZ Max (36.6)","-","-","-","-",2.0964999999999998,-3.5901999999999998,6.1467000000000001,-1.1999999999999999E-3,null,null,-1.3019589106545641E-3,1.2828999999999999,-1.1308,0.7359,0.89759999999999995,null,null,-1.058349609375E-2,null,"SPHWHAHDNB27"]
[null,null,null,null,null,null,null,null,null,null,null,null,null,null,null,null,null,null,null,null,null,null,null,null,null,null,null,null,null,null,null,null,null,null,null,null,null,null,null,null,null,null,null,null,null,null,null,null,null,null,null,null,null,null,null,null,null,null,null,null,null,null,null,null,null,null,null,null,null,null,null,null,null,70,4000,null,null,null,null,null,null,null,null,null,5612000,70,80,90,"-",392844070,null,1610,"-","-","-","-","-","-","-","DC (1610)","-","-","-","-","-","-","-",30.9,33.700000000000003,36.6,"-","-","-","-","YZ Min (30.9)","YZ Typ (33.7)","YZ Max (36.6)","-","-","-","-",0.58340000000000003,-1.5925,4.0987,-1.2999999999999999E-3,null,null,-1.3543394140409059E-3,0.38059999999999999,-0.50380000000000003,0.47460000000000002,0.90200000000000002,null,null,-1.1471366882333337E-2,null,"SPHWHAHDNC23"]
[null,null,null,null,null,null,null,null,null,null,null,null,null,null,null,null,null,null,null,null,null,null,null,null,null,null,null,null,null,null,null,null,null,null,null,null,null,null,null,null,null,null,null,null,null,null,null,null,null,null,null,null,null,null,null,null,null,null,null,null,null,null,null,null,null,null,null,null,null,null,null,null,null,80,6500,null,null,null,null,null,null,null,null,null,9119500,80,"-","-","-",729566580,null,1529,"-","-","-","-","-","-","-","DC (1529)","-","-","-","-","-","-","-",30.9,33.700000000000003,36.6,"-","-","-","-","YZ Min (30.9)","YZ Typ (33.7)","YZ Max (36.6)","-","-","-","-",0.58340000000000003,-1.5925,4.0987,-1.2999999999999999E-3,null,null,-1.3543394140409059E-3,0.38059999999999999,-0.50380000000000003,0.47460000000000002,0.90200000000000002,null,null,-1.1471366882333337E-2,null,"SPHWHAHDNC25"]
[null,null,null,null,null,null,null,null,null,null,null,null,null,null,null,null,null,null,null,null,null,null,null,null,null,null,null,null,null,null,null,null,null,null,null,null,null,null,null,null,null,null,null,null,null,null,null,null,null,null,null,null,null,null,null,null,null,null,null,null,null,null,null,null,null,null,null,null,null,null,null,null,null,80,4000,null,null,null,null,null,null,null,null,null,5616000,null,null,null,null,449284080,null,2056,"-","-","-","-","-","-","-","DC (2056)","-","-","-","-","-","-","-",30.9,33.700000000000003,36.6,"-","-","-","-","YZ Min (30.9)","YZ Typ (33.7)","YZ Max (36.6)","-","-","-","-",0.2621,-0.92049999999999998,3.0731000000000002,1E-3,null,null,-1.2733620866707744E-3,0.16089999999999999,-0.28399999999999997,0.36209999999999998,0.89970000000000006,null,null,-1.2246894836416663E-2,null,"SPHWHAHDND25"]
[null,null,null,null,null,null,null,null,null,null,null,null,null,null,null,null,null,null,null,null,null,null,null,null,null,null,null,null,null,null,null,null,null,null,null,null,null,null,null,null,null,null,null,null,null,null,null,null,null,null,null,null,null,null,null,null,null,null,null,null,null,null,null,null,null,null,null,null,null,null,null,null,null,90,5000,null,null,null,null,null,null,null,null,null,7020000,null,null,null,null,631805090,null,1792,"-","-","-","-","-","-","-","DC (1792)","-","-","-","-","-","-","-",30.9,33.700000000000003,36.6,"-","-","-","-","YZ Min (30.9)","YZ Typ (33.7)","YZ Max (36.6)","-","-","-","-",0.2621,-0.92049999999999998,3.0731000000000002,1E-3,null,null,-1.2733620866707744E-3,0.16089999999999999,-0.28399999999999997,0.36209999999999998,0.89970000000000006,null,null,-1.2246894836416663E-2,null,"SPHWHAHDND27"]
[null,null,null,null,null,null,null,null,null,null,null,null,null,null,null,null,null,null,null,null,null,null,null,null,null,null,null,null,null,null,null,null,null,null,null,null,null,null,null,null,null,null,null,null,null,null,null,null,null,null,null,null,null,null,null,null,null,null,null,null,null,null,null,null,null,null,null,null,null,null,null,null,null,90,5000,null,null,null,null,null,null,null,null,null,7025000,null,null,null,null,632255090,null,2328,"-","-","-","-","-","-","-","DC (2328)","-","-","-","-","-","-","-",30.9,33.700000000000003,36.6,"-","-","-","-","YZ Min (30.9)","YZ Typ (33.7)","YZ Max (36.6)","-","-","-","-",0.12529999999999999,-0.55000000000000004,2.4493999999999998,-1.6999999999999999E-3,null,null,-1.3296652911508481E-3,8.6300000000000002E-2,-0.18820000000000001,0.30399999999999999,0.89429999999999998,null,null,-1.2665303548183359E-2,null,"SPHWHAHDNE27"]
[null,null,null,null,null,null,null,null,null,null,null,null,null,null,null,null,null,null,null,null,null,null,null,null,null,null,null,null,null,null,null,null,null,null,null,null,null,null,null,null,null,null,null,null,null,null,null,null,null,null,null,null,null,null,null,null,null,null,null,null,null,null,null,null,null,null,null,null,null,null,null,"LC019D_G3 plus",1406,70,2700,2700,3000,3500,4000,5000,5700,6500,"-","-",{"$f":"$BU$1912*BW1912","v":3796200},70,80,90,"-",{"$f":"$BU$1912*BV1912*BW1912+BV1912+BW1912","v":265736770},null,3284,"-","-","-","-","-","-","-","DC (3284)","-","-","-","-","-","-","-",30.9,33.700000000000003,36.6,"-","-","-","-","YZ Min (30.9)","YZ Typ (33.7)","YZ Max (36.6)","-","-","-","-",7.0000000000000007E-2,-0.3906,2.0421999999999998,8.9999999999999998E-4,null,null,-1.3196858503926878E-3,4.7600000000000003E-2,-0.1265,0.24260000000000001,0.89910000000000001,null,null,-1.2413279215500003E-2,null,"SPHWHAHDNF23"]
[null,null,null,null,null,null,null,null,null,null,null,null,null,null,null,null,null,null,null,null,null,null,null,null,null,null,null,null,null,null,null,null,null,null,null,null,null,null,null,null,null,null,null,null,null,null,null,null,null,null,null,null,null,null,null,null,null,null,null,null,null,null,null,null,null,null,null,null,null,null,null,null,null,80,4000,null,null,null,null,null,null,null,null,null,5624000,null,null,null,null,449924080,null,3218,"-","-","-","-","-","-","-","DC (3218)","-","-","-","-","-","-","-",30.9,33.700000000000003,36.6,"-","-","-","-","YZ Min (30.9)","YZ Typ (33.7)","YZ Max (36.6)","-","-","-","-",7.0000000000000007E-2,-0.3906,2.0421999999999998,8.9999999999999998E-4,null,null,-1.3196858503926878E-3,4.7600000000000003E-2,-0.1265,0.24260000000000001,0.89910000000000001,null,null,-1.2413279215500003E-2,null,"SPHWHAHDNF25"]
[null,null,null,null,null,null,null,null,null,null,null,null,null,null,null,null,null,null,null,null,null,null,null,null,null,null,null,null,null,null,null,null,null,null,null,null,null,null,null,null,null,null,null,null,null,null,null,null,null,null,null,null,null,null,null,null,null,null,null,null,null,null,null,null,null,null,null,null,null,null,null,null,null,90,2700,null,null,null,null,null,null,null,null,null,3801600,null,null,null,null,342146790,null,3222,"-","-","-","-","-","-","-","DC (3222)","-","-","-","-","-","-","-",30.9,33.700000000000003,36.6,"-","-","-","-","YZ Min (30.9)","YZ Typ (33.7)","YZ Max (36.6)","-","-","-","-",3.5700000000000003E-2,-0.23369999999999999,1.5437000000000001,-3.3999999999999998E-3,null,null,-1.3063325563325567E-3,2.24E-2,-7.8100000000000003E-2,0.19389999999999999,0.89339999999999997,null,null,-1.4367421468100024E-2,null,"SPHWHAHDNG27"]
[null,null,null,null,null,null,null,null,null,null,null,null,null,null,null,null,null,null,null,null,null,null,null,null,null,null,null,null,null,null,null,null,null,null,null,null,null,null,null,null,null,null,null,null,null,null,null,null,null,null,null,null,null,null,null,null,null,null,null,null,null,null,null,null,null,null,null,null,null,null,null,null,null,80,6500,null,null,null,null,null,null,null,null,null,9152000,80,"-","-","-",732166580,null,4133,"-","-","-","-","-","-","-","DC (4133)","-","-","-","-","-","-","-",30.9,33.700000000000003,36.6,"-","-","-","-","YZ Min (30.9)","YZ Typ (33.7)","YZ Max (36.6)","-","-","-","-",3.5700000000000003E-2,-0.23369999999999999,1.5437000000000001,-3.3999999999999998E-3,null,null,-1.3063325563325567E-3,2.24E-2,-7.8100000000000003E-2,0.19389999999999999,0.89339999999999997,null,null,-1.4367421468100024E-2,null,"SPHWHAHDNG25"]
[null,null,null,null,null,null,null,null,null,null,null,null,null,null,null,null,null,null,null,null,null,null,null,null,null,null,null,null,null,null,null,null,null,null,null,null,null,null,null,null,null,null,null,null,null,null,null,null,null,null,null,null,null,null,null,null,null,null,null,null,null,null,null,null,null,null,null,null,null,null,null,null,null,90,3500,null,null,null,null,null,null,null,null,null,4931500,null,null,null,null,443838590,null,4293,"-","-","-","-","-","-","-","DC (4293)","-","-","-","-","-","-","-",30.9,33.700000000000003,36.6,"-","-","-","-","YZ Min (30.9)","YZ Typ (33.7)","YZ Max (36.6)","-","-","-","-",1.6899999999999998E-2,-0.14960000000000001,1.2334000000000001,-2.9999999999999997E-4,null,null,-1.270106704889314E-3,1.01E-2,-4.5100000000000001E-2,0.14680000000000001,0.89780000000000004,null,null,-1.244735717773331E-2,null,"SPHWHAHDNH27"]
[null,null,null,null,null,null,null,null,null,null,null,null,null,null,null,null,null,null,null,null,null,null,null,null,null,null,null,null,null,null,null,null,null,null,null,null,null,null,null,null,null,null,null,null,null,null,null,null,null,null,null,null,null,null,null,null,null,null,null,null,null,null,null,null,null,null,null,null,null,null,null,"LC040D_G3 plus",1410,70,2700,2700,3000,3500,4000,5000,5700,6500,"-","-",{"$f":"$BU$1957*BW1957","v":3807000},70,80,90,"-",{"$f":"$BU$1957*BV1957*BW1957+BV1957+BW1957","v":266492770},null,6446,"-","-","-","-","-","-","-","DC (6446)","-","-","-","-","-","-","-",30.9,33.700000000000003,36.6,"-","-","-","-","YZ Min (30.9)","YZ Typ (33.7)","YZ Max (36.6)","-","-","-","-",6.7999999999999996E-3,-8.6800000000000002E-2,1.0154000000000001,-3.2000000000000002E-3,null,null,-1.2963318609564049E-3,4.4000000000000003E-3,-2.6800000000000001E-2,0.1205,0.89629999999999999,null,null,-1.3219261169433357E-2,null,"SPHWHAHDNK23"]
[null,null,null,null,null,null,null,null,null,null,null,null,null,null,null,null,null,null,null,null,null,null,null,null,null,null,null,null,null,null,null,null,null,null,null,null,null,null,null,null,null,null,null,null,null,null,null,null,null,null,null,null,null,null,null,null,null,null,null,null,null,null,null,null,null,null,null,null,null,null,null,null,null,90,3000,null,null,null,null,null,null,null,null,null,4230000,null,null,null,null,380703090,null,5108,"-","-","-","-","-","-","-","DC (5108)","-","-","-","-","-","-","-",30.9,33.700000000000003,36.6,"-","-","-","-","YZ Min (30.9)","YZ Typ (33.7)","YZ Max (36.6)","-","-","-","-",6.7999999999999996E-3,-8.6800000000000002E-2,1.0154000000000001,-3.2000000000000002E-3,null,null,-1.2963318609564049E-3,4.4000000000000003E-3,-2.6800000000000001E-2,0.1205,0.89629999999999999,null,null,-1.3219261169433357E-2,null,"SPHWHAHDNK27"]
[null,null,null,null,null,null,null,null,null,null,null,null,null,null,null,null,null,null,null,null,null,null,null,null,null,null,null,null,null,null,null,null,null,null,null,null,null,null,null,null,null,null,null,null,null,null,null,null,null,null,null,null,null,null,null,null,null,null,null,null,null,null,null,null,null,null,null,null,null,null,null,null,null,90,3000,null,null,null,null,null,null,null,null,null,4233000,null,null,null,null,380973090,null,7579,"-","-","-","-","-","-","-","DC (7579)","-","-","-","-","-","-","-",46.4,50.6,54.8,"-","-","-","-","1Z Min (46.4)","1Z Typ (50.6)","1Z Max (54.8)","-","-","-","-",4.3E-3,-9.1300000000000006E-2,1.0242,-3.5000000000000001E-3,null,null,-1.2625259347547786E-3,9.4000000000000004E-3,-4.3299999999999998E-2,0.13400000000000001,0.89459999999999995,null,null,-1.8452771500000034E-2,null,"SPHWHAHDNL27"]
[null,null,null,null,null,null,null,null,null,null,null,null,null,null,null,null,null,null,null,null,null,null,null,null,null,null,null,null,null,null,null,null,null,null,null,null,null,null,null,null,null,null,null,null,null,null,null,null,null,null,null,null,null,null,null,null,null,null,null,null,null,null,null,null,null,null,null,null,null,null,null,null,null,80,3500,null,null,null,null,null,null,null,null,null,4938500,80,90,"-","-",395083580,null,9225,"-","-","-","-","-","-","-","DC (9225)","-","-","-","-","-","-","-",46.4,50.6,54.8,"-","-","-","-","1Z Min (46.4)","1Z Typ (50.6)","1Z Max (54.8)","-","-","-","-",4.3E-3,-9.1300000000000006E-2,1.0242,-3.5000000000000001E-3,null,null,-1.2625259347547786E-3,9.4000000000000004E-3,-4.3299999999999998E-2,0.13400000000000001,0.89459999999999995,null,null,-1.8452771500000034E-2,null,"SPHWHAHDNL25"]
[null,null,null,null,null,null,null,null,null,null,null,null,null,null,null,null,null,null,null,null,null,null,null,null,null,null,null,null,null,null,null,null,null,null,null,null,null,null,null,null,null,null,null,null,null,null,null,null,null,null,null,null,null,null,null,null,null,null,null,null,null,null,null,null,null,null,null,null,null,null,null,null,null,80,3000,null,null,null,null,null,null,null,null,null,4236000,80,90,"-","-",338883080,null,12990,"-","-","-","-","-","-","-","DC (12990)","-","-","-","-","-","-","-",46.4,50.6,54.8,"-","-","-","-","1Z Min (46.4)","1Z Typ (50.6)","1Z Max (54.8)","-","-","-","-",3.3E-3,-4.8599999999999997E-2,0.69179999999999997,-3.3E-3,null,null,-1.2797350195724181E-3,9.1000000000000004E-3,-4.1099999999999998E-2,0.1099,0.89070000000000005,null,null,-1.9578870133333363E-2,null,"SPHWHAHDNM25"]
[null,null,null,null,null,null,null,null,null,null,null,null,null,null,null,null,null,null,null,null,null,null,null,null,null,null,null,null,null,null,null,null,null,null,null,null,null,null,null,null,null,null,null,null,null,null,null,null,null,null,null,null,null,null,null,null,null,null,null,null,null,null,null,null,null,null,null,null,null,null,null,null,null,90,4000,null,null,null,null,null,null,null,null,null,5648000,null,null,null,null,508324090,null,11743,"-","-","-","-","-","-","-","DC (11743)","-","-","-","-","-","-","-",46.4,50.6,54.8,"-","-","-","-","1Z Min (46.4)","1Z Typ (50.6)","1Z Max (54.8)","-","-","-","-",3.3E-3,-4.8599999999999997E-2,0.69179999999999997,-3.3E-3,null,null,-1.2797350195724181E-3,9.1000000000000004E-3,-4.1099999999999998E-2,0.1099,0.89070000000000005,null,null,-1.9578870133333363E-2,null,"SPHWHAHDNM27"]
[null,null,null,null,null,null,null,null,null,null,null,null,null,null,null,null,null,null,null,null,null,null,null,null,null,null,null,null,null,null,null,null,null,null,null,null,null,null,null,null,null,null,null,null,null,null,null,null,null,null,null,null,null,null,null,null,null,null,null,null,null,null,null,null,null,null,null,null,null,null,null,null,null,90,3000,null,null,null,null,null,null,null,null,null,4503000,null,null,null,null,405273090,null,432,"-","-","-","-","-","-","-","D4 (432)","-","-","-","-","-","-","-",30.6,33.6,36.6,"-","-","-","-","YZ Min (30.6)","YZ Typ (33.6)","YZ Max (36.6)","-","-","-","-",33.000999999999998,-18.457999999999998,12.667999999999999,-1.2800000000000001E-2,null,null,-1.2363141076012349E-3,5.9363000000000001,-3.0137999999999998,1.2877000000000001,0.90490000000000004,null,null,-1.0691006978355589E-2,null,"-"]
[null,null,null,null,null,null,null,null,null,null,null,null,null,null,null,null,null,null,null,null,null,null,null,null,null,null,null,null,null,null,null,null,null,null,null,null,null,null,null,null,null,null,null,null,null,null,null,null,null,null,null,null,null,null,null,null,null,null,null,null,null,null,null,null,null,null,null,null,null,null,null,null,null,80,5000,null,null,null,null,null,null,null,null,null,7505000,80,90,"-","-",600405080,null,536,"-","-","-","-","-","-","-","D4 (536)","-","-","-","-","-","-","-",30.6,33.6,36.6,"-","-","-","-","YZ Min (30.6)","YZ Typ (33.6)","YZ Max (36.6)","-","-","-","-",33.000999999999998,-18.457999999999998,12.667999999999999,-1.2800000000000001E-2,null,null,-1.2363141076012349E-3,5.9363000000000001,-3.0137999999999998,1.2877000000000001,0.90490000000000004,null,null,-1.0691006978355589E-2,null,"-"]
[null,null,null,null,null,null,null,null,null,null,null,null,null,null,null,null,null,null,null,null,null,null,null,null,null,null,null,null,null,null,null,null,null,null,null,null,null,null,null,null,null,null,null,null,null,null,null,null,null,null,null,null,null,null,null,null,null,null,null,null,null,null,null,null,null,null,null,null,null,null,null,null,null,80,5700,null,null,null,null,null,null,null,null,null,8561400,80,"-","-","-",684917780,null,1055,"-","-","-","-","-","-","-","D4 (1055)","-","-","-","-","-","-","-",30.6,33.6,36.6,"-","-","-","-","YZ Min (30.6)","YZ Typ (33.6)","YZ Max (36.6)","-","-","-","-",1.7081,-2.9329999999999998,6.1,-1.01E-2,null,null,-1.214580486660318E-3,0.69540000000000002,-0.71589999999999998,0.6381,0.90490000000000004,null,null,-9.5594829983168001E-3,null,"-"]
[null,null,null,null,null,null,null,null,null,null,null,null,null,null,null,null,null,null,null,null,null,null,null,null,null,null,null,null,null,null,null,null,null,null,null,null,null,null,null,null,null,null,null,null,null,null,null,null,null,null,null,null,null,null,null,null,null,null,null,null,null,null,null,null,null,null,null,null,null,null,null,null,null,70,4000,null,null,null,null,null,null,null,null,null,6012000,70,80,90,"-",420844070,null,1689,"-","-","-","-","-","-","-","D4 (1689)","-","-","-","-","-","-","-",30.6,33.6,36.6,"-","-","-","-","YZ Min (30.6)","YZ Typ (33.6)","YZ Max (36.6)","-","-","-","-",0.50470000000000004,-1.2559,4.0483000000000002,-1.0800000000000001E-2,null,null,-1.2784880489160636E-3,0.24809999999999999,-0.39340000000000003,0.47010000000000002,0.89729999999999999,null,null,-1.0293579101561198E-2,null,"-"]
[null,null,null,null,null,null,null,null,null,null,null,null,null,null,null,null,null,null,null,null,null,null,null,null,null,null,null,null,null,null,null,null,null,null,null,null,null,null,null,null,null,null,null,null,null,null,null,null,null,null,null,null,null,null,null,null,null,null,null,null,null,null,null,null,null,null,null,null,null,null,null,null,null,80,5700,null,null,null,null,null,null,null,null,null,8567100,80,"-","-","-",685373780,null,1583,"-","-","-","-","-","-","-","D4 (1583)","-","-","-","-","-","-","-",30.6,33.6,36.6,"-","-","-","-","YZ Min (30.6)","YZ Typ (33.6)","YZ Max (36.6)","-","-","-","-",0.50470000000000004,-1.2559,4.0483000000000002,-1.0800000000000001E-2,null,null,-1.2784880489160636E-3,0.24809999999999999,-0.39340000000000003,0.47010000000000002,0.89729999999999999,null,null,-1.0293579101561198E-2,null,"-"]
[null,null,null,null,null,null,null,null,null,null,null,null,null,null,null,null,null,null,null,null,null,null,null,null,null,null,null,null,null,null,null,null,null,null,null,null,null,null,null,null,null,null,null,null,null,null,null,null,null,null,null,null,null,null,null,null,null,null,null,null,null,null,null,null,null,null,null,null,null,null,null,null,null,90,2700,null,null,null,null,null,null,null,null,null,4060800,null,null,null,null,365474790,null,1559,"-","-","-","-","-","-","-","D4 (1559)","-","-","-","-","-","-","-",30.6,33.6,36.6,"-","-","-","-","YZ Min (30.6)","YZ Typ (33.6)","YZ Max (36.6)","-","-","-","-",0.18099999999999999,-0.73140000000000005,3.0135999999999998,5.0000000000000001E-4,null,null,-1.2763713080168771E-3,0.16600000000000001,-0.22489999999999999,0.35170000000000001,0.89780000000000004,null,null,-1.1279487609866716E-2,null,"-"]
[null,null,null,null,null,null,null,null,null,null,null,null,null,null,null,null,null,null,null,null,null,null,null,null,null,null,null,null,null,null,null,null,null,null,null,null,null,null,null,null,null,null,null,null,null,null,null,null,null,null,null,null,null,null,null,null,null,null,null,null,null,null,null,null,null,null,null,null,null,null,null,null,null,70,5000,null,null,null,null,null,null,null,null,null,7520000,70,80,90,"-",526405070,null,2156,"-","-","-","-","-","-","-","D4 (2156)","-","-","-","-","-","-","-",30.6,33.6,36.6,"-","-","-","-","YZ Min (30.6)","YZ Typ (33.6)","YZ Max (36.6)","-","-","-","-",0.18099999999999999,-0.73140000000000005,3.0135999999999998,5.0000000000000001E-4,null,null,-1.2763713080168771E-3,0.16600000000000001,-0.22489999999999999,0.35170000000000001,0.89780000000000004,null,null,-1.1279487609866716E-2,null,"-"]
[null,null,null,null,null,null,null,null,null,null,null,null,null,null,null,null,null,null,null,null,null,null,null,null,null,null,null,null,null,null,null,null,null,null,null,null,null,null,null,null,null,null,null,null,null,null,null,null,null,null,null,null,null,null,null,null,null,null,null,null,null,null,null,null,null,null,null,null,null,null,null,null,null,70,4000,null,null,null,null,null,null,null,null,null,6024000,70,80,90,"-",421684070,null,2915,"-","-","-","-","-","-","-","D4 (2105)","-","-","-","-","-","-","-",30.6,33.6,36.6,"-","-","-","-","YZ Min (30.6)","YZ Typ (33.6)","YZ Max (36.6)","-","-","-","-",4.7699999999999999E-2,-0.31690000000000002,2.3546999999999998,6.9999999999999999E-4,null,null,-1.2101121172919374E-3,4.41E-2,-0.1159,0.26369999999999999,0.90139999999999998,null,null,-1.2335840860999999E-2,null,"-"]
[null,null,null,null,null,null,null,null,null,null,null,null,null,null,null,null,null,null,null,null,null,null,null,null,null,null,null,null,null,null,null,null,null,null,null,null,null,null,null,null,null,null,null,null,null,null,null,null,null,null,null,null,null,null,null,null,null,null,null,null,null,null,null,null,null,null,null,null,null,null,null,null,null,80,5000,null,null,null,null,null,null,null,null,null,7530000,null,null,null,null,602405080,null,2733,"-","-","-","-","-","-","-","D4 (2109)","-","-","-","-","-","-","-",30.6,33.6,36.6,"-","-","-","-","YZ Min (30.6)","YZ Typ (33.6)","YZ Max (36.6)","-","-","-","-",4.7699999999999999E-2,-0.31690000000000002,2.3546999999999998,6.9999999999999999E-4,null,null,-1.2101121172919374E-3,4.41E-2,-0.1159,0.26369999999999999,0.90139999999999998,null,null,-1.2335840860999999E-2,null,"-"]
[null,null,null,null,null,null,null,null,null,null,null,null,null,null,null,null,null,null,null,null,null,null,null,null,null,null,null,null,null,null,null,null,null,null,null,null,null,null,null,null,null,null,null,null,null,null,null,null,null,null,null,null,null,null,null,null,null,null,null,null,null,null,null,null,null,null,null,null,null,null,null,null,null,70,3000,null,null,null,null,null,null,null,null,null,4521000,70,80,90,"-",316473070,null,3351,"-","-","-","-","-","-","-","D4 (3351)","-","-","-","-","-","-","-",30.6,33.6,36.6,"-","-","-","-","YZ Min (30.6)","YZ Typ (33.6)","YZ Max (36.6)","-","-","-","-",4.4000000000000003E-3,-0.2303,1.9679,3.8E-3,null,null,-1.1660079051383405E-3,3.1899999999999998E-2,-9.5200000000000007E-2,0.23580000000000001,0.89629999999999999,null,null,-1.1027272542316642E-2,null,"-"]
[null,null,null,null,null,null,null,null,null,null,null,null,null,null,null,null,null,null,null,null,null,null,null,null,null,null,null,null,null,null,null,null,null,null,null,null,null,null,null,null,null,null,null,null,null,null,null,null,null,null,null,null,null,null,null,null,null,null,null,null,null,null,null,null,null,null,null,null,null,null,null,null,null,70,5700,null,null,null,null,null,null,null,null,null,8589900,70,80,"-","-",601298770,null,3460,"-","-","-","-","-","-","-","D4 (3460)","-","-","-","-","-","-","-",30.6,33.6,36.6,"-","-","-","-","YZ Min (30.6)","YZ Typ (33.6)","YZ Max (36.6)","-","-","-","-",4.4000000000000003E-3,-0.2303,1.9679,3.8E-3,null,null,-1.1660079051383405E-3,3.1899999999999998E-2,-9.5200000000000007E-2,0.23580000000000001,0.89629999999999999,null,null,-1.1027272542316642E-2,null,"-"]
[null,null,null,null,null,null,null,null,null,null,null,null,null,null,null,null,null,null,null,null,null,null,null,null,null,null,null,null,null,null,null,null,null,null,null,null,null,null,null,null,null,null,null,null,null,null,null,null,null,null,null,null,null,null,null,null,null,null,null,null,null,null,null,null,null,null,null,null,null,null,null,null,null,80,3000,null,null,null,null,null,null,null,null,null,4524000,null,null,null,null,361923080,null,4105,"-","-","-","-","-","-","-","D4 (4105)","-","-","-","-","-","-","-",30.6,33.6,36.6,"-","-","-","-","YZ Min (30.6)","YZ Typ (33.6)","YZ Max (36.6)","-","-","-","-",3.9699999999999999E-2,-0.23749999999999999,1.5089999999999999,2.5100000000000001E-2,null,null,-1.2333736396614263E-3,1.47E-2,-5.7099999999999998E-2,0.17680000000000001,0.89759999999999995,null,null,-1.0675462086999942E-2,null,"-"]
[null,null,null,null,null,null,null,null,null,null,null,null,null,null,null,null,null,null,null,null,null,null,null,null,null,null,null,null,null,null,null,null,null,null,null,null,null,null,null,null,null,null,null,null,null,null,null,null,null,null,null,null,null,null,null,null,null,null,null,null,null,null,null,null,null,null,null,null,null,null,null,null,null,90,5000,null,null,null,null,null,null,null,null,null,7540000,null,null,null,null,678605090,null,3796,"-","-","-","-","-","-","-","D4 (3796)","-","-","-","-","-","-","-",30.6,33.6,36.6,"-","-","-","-","YZ Min (30.6)","YZ Typ (33.6)","YZ Max (36.6)","-","-","-","-",3.9699999999999999E-2,-0.23749999999999999,1.5089999999999999,2.5100000000000001E-2,null,null,-1.2333736396614263E-3,1.47E-2,-5.7099999999999998E-2,0.17680000000000001,0.89759999999999995,null,null,-1.0675462086999942E-2,null,"-"]
[null,null,null,null,null,null,null,null,null,null,null,null,null,null,null,null,null,null,null,null,null,null,null,null,null,null,null,null,null,null,null,null,null,null,null,null,null,null,null,null,null,null,null,null,null,null,null,null,null,null,null,null,null,null,null,null,null,null,null,null,null,null,null,null,null,null,null,null,null,null,null,null,null,80,6500,null,null,null,null,null,null,null,null,null,9802000,80,"-","-","-",784166580,null,4253,"-","-","-","-","-","-","-","D4 (4253)","-","-","-","-","-","-","-",30.6,33.6,36.6,"-","-","-","-","YZ Min (30.6)","YZ Typ (33.6)","YZ Max (36.6)","-","-","-","-",3.9699999999999999E-2,-0.23749999999999999,1.5089999999999999,2.5100000000000001E-2,null,null,-1.2333736396614263E-3,1.47E-2,-5.7099999999999998E-2,0.17680000000000001,0.89759999999999995,null,null,-1.0675462086999942E-2,null,"-"]
[null,null,null,null,null,null,null,null,null,null,null,null,null,null,null,null,null,null,null,null,null,null,null,null,null,null,null,null,null,null,null,null,null,null,null,null,null,null,null,null,null,null,null,null,null,null,null,null,null,null,null,null,null,null,null,null,null,null,null,null,null,null,null,null,null,null,null,null,null,null,null,null,null,80,3500,null,null,null,null,null,null,null,null,null,5281500,80,90,"-","-",422523580,null,5127,"-","-","-","-","-","-","-","D4 (5127)","-","-","-","-","-","-","-",30.6,33.6,36.6,"-","-","-","-","YZ Min (30.6)","YZ Typ (33.6)","YZ Max (36.6)","-","-","-","-",1.9900000000000001E-2,-0.1704,1.2593000000000001,1.17E-2,null,null,-1.2102689486552577E-3,7.3000000000000001E-3,-3.5799999999999998E-2,0.14299999999999999,0.89570000000000005,null,null,-1.3869667053216617E-2,null,"-"]
[null,null,null,null,null,null,null,null,null,null,null,null,null,null,null,null,null,null,null,null,null,null,null,null,null,null,null,null,null,null,null,null,null,null,null,null,null,null,null,null,null,null,null,null,null,null,null,null,null,null,null,null,null,null,null,null,null,null,null,null,null,null,null,null,null,null,null,null,null,null,null,null,null,80,5700,null,null,null,null,null,null,null,null,null,8601300,"-","-","-","-",688109780,null,5277,"-","-","-","-","-","-","-","D4 (5277)","-","-","-","-","-","-","-",30.6,33.6,36.6,"-","-","-","-","YZ Min (30.6)","YZ Typ (33.6)","YZ Max (36.6)","-","-","-","-",1.9900000000000001E-2,-0.1704,1.2593000000000001,1.17E-2,null,null,-1.2102689486552577E-3,7.3000000000000001E-3,-3.5799999999999998E-2,0.14299999999999999,0.89570000000000005,null,null,-1.3869667053216617E-2,null,"-"]
[null,null,null,null,null,null,null,null,null,null,null,null,null,null,null,null,null,null,null,null,null,null,null,null,null,null,null,null,null,null,null,null,null,null,null,null,null,null,null,null,null,null,null,null,null,null,null,null,null,null,null,null,null,null,null,null,null,null,null,null,null,null,null,null,null,null,null,null,null,null,null,null,null,80,4000,null,null,null,null,null,null,null,null,null,6040000,null,null,null,null,483204080,null,6465,"-","-","-","-","-","-","-","D4 (6465)","-","-","-","-","-","-","-",30.6,33.6,36.6,"-","-","-","-","YZ Min (30.6)","YZ Typ (33.6)","YZ Max (36.6)","-","-","-","-",4.1999999999999997E-3,-6.9500000000000006E-2,0.96950000000000003,3.4500000000000003E-2,null,null,-1.2553522771506416E-3,3.8999999999999998E-3,-2.35E-2,0.11550000000000001,0.89859999999999995,null,null,-1.115506490071662E-2,null,"-"]
[null,null,null,null,null,null,null,null,null,null,null,null,null,null,null,null,null,null,null,null,null,null,null,null,null,null,null,null,null,null,null,null,null,null,null,null,null,null,null,null,null,null,null,null,null,null,null,null,null,null,null,null,null,null,null,null,null,null,null,null,null,null,null,null,null,null,null,null,null,null,null,null,null,90,5700,null,null,null,null,null,null,null,null,null,8607000,80,"-","-","-",774635790,null,5574,"-","-","-","-","-","-","-","D4 (5574)","-","-","-","-","-","-","-",30.6,33.6,36.6,"-","-","-","-","YZ Min (30.6)","YZ Typ (33.6)","YZ Max (36.6)","-","-","-","-",4.1999999999999997E-3,-6.9500000000000006E-2,0.96950000000000003,3.4500000000000003E-2,null,null,-1.2553522771506416E-3,3.8999999999999998E-3,-2.35E-2,0.11550000000000001,0.89859999999999995,null,null,-1.115506490071662E-2,null,"-"]
[null,null,null,null,null,null,null,null,null,null,null,null,null,null,null,null,null,null,null,null,null,null,null,null,null,null,null,null,null,null,null,null,null,null,null,null,null,null,null,null,null,null,null,null,null,null,null,null,null,null,null,null,null,null,null,null,null,null,null,null,null,null,null,null,null,null,null,null,null,null,null,null,null,90,3500,null,null,null,null,null,null,null,null,null,5288500,null,null,null,null,475968590,null,8017,"-","-","-","-","-","-","-","D4 (8017)","-","-","-","-","-","-","-",45.5,50.5,55.5,"-","-","-","-","1Z Min(45.5)","1Z Typ(50.5)","1Z Max(55.5)","-","-","-","-",-1.11E-2,-2.52E-2,0.95960000000000001,7.7000000000000002E-3,null,null,-1.2454650030970719E-3,6.3E-3,-3.4700000000000002E-2,0.1457,0.87619999999999998,null,null,-1.7525418600000009E-2,null,"-"]
[null,null,null,null,null,null,null,null,null,null,null,null,null,null,null,null,null,null,null,null,null,null,null,null,null,null,null,null,null,null,null,null,null,null,null,null,null,null,null,null,null,null,null,null,null,null,null,null,null,null,null,null,null,null,null,null,null,null,null,null,null,null,null,null,null,null,null,null,null,null,null,null,null,70,5000,null,null,null,null,null,null,null,null,null,7555000,70,80,90,"-",528855070,null,10017,"-","-","-","-","-","-","-","D4 (10017)","-","-","-","-","-","-","-",45.5,50.5,55.5,"-","-","-","-","1Z Min(45.5)","1Z Typ(50.5)","1Z Max(55.5)","-","-","-","-",-1.11E-2,-2.52E-2,0.95960000000000001,7.7000000000000002E-3,null,null,-1.2454650030970719E-3,6.3E-3,-3.4700000000000002E-2,0.1457,0.87619999999999998,null,null,-1.7525418600000009E-2,null,"-"]
[null,null,null,null,null,null,null,null,null,null,null,null,null,null,null,null,null,null,null,null,null,null,null,null,null,null,null,null,null,null,null,null,null,null,null,null,null,null,null,null,null,null,null,null,null,null,null,null,null,null,null,null,null,null,null,null,null,null,null,null,null,null,null,null,null,null,null,null,null,null,null,null,null,70,4000,null,null,null,null,null,null,null,null,null,6048000,70,80,90,"-",423364070,null,14918,"-","-","-","-","-","-","-","D4 (14918)","-","-","-","-","-","-","-",45.5,50.5,55.5,"-","-","-","-","1Z Min(45.5)","1Z Typ(50.5)","1Z Max(55.5)","-","-","-","-",-5.8999999999999999E-3,-8.6999999999999994E-3,0.64470000000000005,6.8999999999999999E-3,null,null,-1.1432009626955472E-3,5.0000000000000001E-3,-2.92E-2,0.11409999999999999,0.86960000000000004,null,null,-1.9698905949999932E-2,null,"-"]
[null,null,null,null,null,null,null,null,null,null,null,null,null,null,null,null,null,null,null,null,null,null,null,null,null,null,null,null,null,null,null,null,null,null,null,null,null,null,null,null,null,null,null,null,null,null,null,null,null,null,null,null,null,null,null,null,null,null,null,null,null,null,null,null,null,null,null,null,null,null,null,null,null,80,4000,null,null,null,null,null,null,null,null,null,6048000,null,null,null,null,483844080,null,13853,"-","-","-","-","-","-","-","D4 (13853)","-","-","-","-","-","-","-",45.5,50.5,55.5,"-","-","-","-","1Z Min(45.5)","1Z Typ(50.5)","1Z Max(55.5)","-","-","-","-",-5.8999999999999999E-3,-8.6999999999999994E-3,0.64470000000000005,6.8999999999999999E-3,null,null,-1.1432009626955472E-3,5.0000000000000001E-3,-2.92E-2,0.11409999999999999,0.86960000000000004,null,null,-1.9698905949999932E-2,null,"-"]
[null,null,null,null,null,null,null,null,null,null,null,null,null,null,null,null,null,null,null,null,null,null,null,null,null,null,null,null,null,null,null,null,null,null,null,null,null,null,null,null,null,null,null,null,null,null,null,null,null,null,null,null,null,null,null,null,null,null,null,null,null,null,null,null,null,null,null,null,null,null,null,null,null,70,3000,null,null,null,null,null,null,null,null,null,{"$f":"$BU$2188*BW2190","v":1524000},70,80,90,"-",106683070,null,521,572,"-","-","-","-","-","-","Min (521)","Typ (572)","-","-","-","-","-","-",24,25,26,"-","-","-","-","D1 (23.5-24.5)","E1 (24.5-25.5)","F1 (25.5-26.5)","-","-","-","-",15.759,-13.153,8.1797000000000004,-3.6600000000000001E-2,null,null,{"$f":"DX2189","v":-1.918753478018922E-3},5.8669000000000002,-3.2650999999999999,1.2865,0.85370000000000001,null,null,{"$f":"EE2189","v":-8.0000000000000002E-3},null,"SPHWH1L5N403"]
[null,null,null,null,null,null,null,null,null,null,null,null,null,null,null,null,null,null,null,null,null,null,null,null,null,null,null,null,null,null,null,null,null,null,null,null,null,null,null,null,null,null,null,null,null,null,null,null,null,null,null,null,null,null,null,null,null,null,null,null,null,null,null,null,null,null,null,null,null,null,null,null,null,70,5000,null,null,null,null,null,null,null,null,null,2540000,70,80,"-","-",177805070,null,558,610,"-","-","-","-","-","-","Min (558)","Typ (610)","-","-","-","-","-","-",24,25,26,"-","-","-","-","D1 (23.5-24.5)","E1 (24.5-25.5)","F1 (25.5-26.5)","-","-","-","-",15.759,-13.153,8.1797000000000004,-3.6600000000000001E-2,null,null,-1.918753478018922E-3,5.8669000000000002,-3.2650999999999999,1.2865,0.85370000000000001,null,null,-8.0000000000000002E-3,null,"SPHWH1L5N403"]
[null,null,null,null,null,null,null,null,null,null,null,null,null,null,null,null,null,null,null,null,null,null,null,null,null,null,null,null,null,null,null,null,null,null,null,null,null,null,null,null,null,null,null,null,null,null,null,null,null,null,null,null,null,null,null,null,null,null,null,null,null,null,null,null,null,null,null,null,null,null,null,null,null,80,3000,null,null,null,null,null,null,null,null,null,null,null,null,null,null,122163080,null,473,520,"-","-","-","-","-","-","Min (473)","Typ (520)","-","-","-","-","-","-",5.9499999999999993,6.25,6.5500000000000007,"-","-","-","-","B1 (5.8-6.1)","B2 (6.1-6.4)","B3 (6.4-6.7)","-","-","-","-",0.2462,-0.82210000000000005,2.0449000000000002,-3.6600000000000001E-2,null,null,-1.918753478018922E-3,9.1700000000000004E-2,-0.2041,0.3216,0.85370000000000001,null,null,-2E-3,null,"SPHWH1L5N405"]
[null,null,null,null,null,null,null,null,null,null,null,null,null,null,null,null,null,null,null,null,null,null,null,null,null,null,null,null,null,null,null,null,null,null,null,null,null,null,null,null,null,null,null,null,null,null,null,null,null,null,null,null,null,null,null,null,null,null,null,null,null,null,null,null,null,null,null,null,null,null,null,null,null,70,5000,null,null,null,null,null,null,null,null,null,{"$f":"$BU$2202*BW2210","v":2545000},70,80,"-","-",178155070,null,558,610,"-","-","-","-","-","-","Min (558)","Typ (610)","-","-","-","-","-","-",5.9499999999999993,6.25,6.5500000000000007,"-","-","-","-","B1 (5.8-6.1)","B2 (6.1-6.4)","B3 (6.4-6.7)","-","-","-","-",0.2462,-0.82210000000000005,2.0449000000000002,-3.6600000000000001E-2,null,null,-1.918753478018922E-3,9.1700000000000004E-2,-0.2041,0.3216,0.85370000000000001,null,null,-2E-3,null,"SPHWH1L5N403"]
[null,null,null,null,null,null,null,null,null,null,null,null,null,null,null,null,null,null,null,null,null,null,null,null,null,null,null,null,null,null,null,null,null,null,null,null,null,null,null,null,null,null,null,null,null,null,null,null,null,null,null,null,null,null,null,null,null,null,null,null,null,null,null,null,null,null,null,null,null,null,null,null,null,70,3000,null,null,null,null,null,null,null,null,null,{"$f":"$BU$2222*BW2224","v":1533000},70,80,"-","-",107313070,null,560,600,640,"-","-","-","-","-","54 (540-580)","58 (580-620)","62 (620-660)","-","-","-","-","-",5.8,6.1,6.4,"-","-","-","-","Min (5.8)","Typ (6.1)","Max (6.4)","-","-","-","-",{"$f":"DR2223","v":7.7299999999999994E-2},-0.40620000000000001,1.7912999999999999,-2.9999999999999997E-4,null,null,{"$f":"DX2223","v":-1.6871794871794854E-3},4.8399999999999999E-2,-0.1172,0.28129999999999999,0.85519999999999996,null,null,{"$f":"EE2223","v":-1.999999999999987E-3},null,"SPHWH1L5N603"]
[null,null,null,null,null,null,null,null,null,null,null,null,null,null,null,null,null,null,null,null,null,null,null,null,null,null,null,null,null,null,null,null,null,null,null,null,null,null,null,null,null,null,null,null,null,null,null,null,null,null,null,null,null,null,null,null,null,null,null,null,null,null,null,null,null,null,null,null,null,null,null,null,null,70,6500,null,null,null,null,null,null,null,null,null,{"$f":"$BU$2222*BW2233","v":3321500},70,80,"-","-",232511570,null,560,600,640,"-","-","-","-","-","54 (540-580)","58 (580-620)","62 (620-660)","-","-","-","-","-",5.8,6.1,6.4,"-","-","-","-","Min (5.8)","Typ (6.1)","Max (6.4)","-","-","-","-",7.7299999999999994E-2,-0.40620000000000001,1.7912999999999999,-2.9999999999999997E-4,null,null,-1.6871794871794854E-3,4.8399999999999999E-2,-0.1172,0.28129999999999999,0.85519999999999996,null,null,-1.999999999999987E-3,null,"SPHWH1L5N603"]
[null,null,null,null,null,null,null,null,null,null,null,null,null,null,null,null,null,null,null,null,null,null,null,null,null,null,null,null,null,null,null,null,null,null,null,null,null,null,null,null,null,null,null,null,null,null,null,null,null,null,null,null,null,null,null,null,null,null,null,null,null,null,null,null,null,null,null,null,null,null,null,null,null,80,2700,"-","-","-","-","-","-","-","-","-",1385100,null,null,null,null,110810780,null,570,"-","-","-","-","-","-","-","A2 (530-610)","-","-","-","-","-","-","-",24.4,"-","-","-","-","-","-","XE (23.5-25.5)","-","-","-","-","-","-",4.8609,-6.4112999999999998,6.5552999999999999,-1.1000000000000001E-3,null,null,-1.5945761834102493E-3,14.792999999999999,-6.2931999999999997,1.7379,0.80379999999999996,null,null,-7.5984999999999898E-3,null,"SPHWH1L5N605XE****"]
[null,null,null,null,null,null,null,null,null,null,null,null,null,null,null,null,null,null,null,null,null,null,null,null,null,null,null,null,null,null,null,null,null,null,null,null,null,null,null,null,null,null,null,null,null,null,null,null,null,null,null,null,null,null,null,null,null,null,null,null,null,null,null,null,null,null,null,null,null,null,null,null,null,70,3500,"-","-","-","-","-","-","-","-","-",1795500,70,80,90,"-",125688570,null,680,"-","-","-","-","-","-","-","A2 (640-720)","-","-","-","-","-","-","-",24.4,"-","-","-","-","-","-","XE (23.5-25.5)","-","-","-","-","-","-",4.8609,-6.4112999999999998,6.5552999999999999,-1.1000000000000001E-3,null,null,-1.5945761834102493E-3,14.792999999999999,-6.2931999999999997,1.7379,0.80379999999999996,null,null,-7.5984999999999898E-3,null,"SPHWH1L5N603XE****"]
[null,null,null,null,null,null,null,null,null,null,null,null,null,null,null,null,null,null,null,null,null,null,null,null,null,null,null,null,null,null,null,null,null,null,null,null,null,null,null,null,null,null,null,null,null,null,null,null,null,null,null,null,null,null,null,null,null,null,null,null,null,null,null,null,null,null,null,null,null,null,null,null,null,70,5700,"-","-","-","-","-","-","-","-","-",2924100,70,80,90,"-",204692770,null,680,"-","-","-","-","-","-","-","A2 (640-720)","-","-","-","-","-","-","-",24.4,"-","-","-","-","-","-","XE (23.5-25.5)","-","-","-","-","-","-",4.8609,-6.4112999999999998,6.5552999999999999,-1.1000000000000001E-3,null,null,-1.5945761834102493E-3,14.792999999999999,-6.2931999999999997,1.7379,0.80379999999999996,null,null,-7.5984999999999898E-3,null,"SPHWH1L5N603XE****"]
[null,null,null,null,null,null,null,null,null,null,null,null,null,null,null,null,null,null,null,null,null,null,null,null,null,null,null,null,null,null,null,null,null,null,null,null,null,null,null,null,null,null,null,null,null,null,null,null,null,null,null,null,null,null,null,null,null,null,null,null,null,null,null,null,null,null,null,null,null,null,null,null,null,90,2700,"-","-","-","-","-","-","-","-","-",1355400,null,null,null,null,121988790,null,490,"-","-","-","-","-","-","-","A2 (450-530)","-","-","-","-","-","-","-",6.1,"-","-","-","-","-","-","YE (5.9-6.3)","-","-","-","-","-","-",-6.1600000000000002E-2,-0.34739999999999999,1.8087,-1E-4,null,null,-1.5945761834102493E-3,0.57340000000000002,-0.90790000000000004,0.61429999999999996,0.82340000000000002,null,null,-1.322704804964466E-3,null,"SPHWH1L5N607YE****"]
[null,null,null,null,null,null,null,null,null,null,null,null,null,null,null,null,null,null,null,null,null,null,null,null,null,null,null,null,null,null,null,null,null,null,null,null,null,null,null,null,null,null,null,null,null,null,null,null,null,null,null,null,null,null,null,null,null,null,null,null,null,null,null,null,null,null,null,null,null,null,null,null,null,90,4000,"-","-","-","-","-","-","-","-","-",2008000,null,null,null,null,180724090,null,530,"-","-","-","-","-","-","-","A2 (490-570)","-","-","-","-","-","-","-",6.1,"-","-","-","-","-","-","YE (5.9-6.3)","-","-","-","-","-","-",-6.1600000000000002E-2,-0.34739999999999999,1.8087,-1E-4,null,null,-1.5945761834102493E-3,0.57340000000000002,-0.90790000000000004,0.61429999999999996,0.82340000000000002,null,null,-1.322704804964466E-3,null,"SPHWH1L5N607YE****"]
[null,null,null,null,null,null,null,null,null,null,null,null,null,null,null,null,null,null,null,null,null,null,null,null,null,null,null,null,null,null,null,null,null,null,null,null,null,null,null,null,null,null,null,null,null,null,null,null,null,null,null,null,null,null,null,null,null,null,null,null,null,null,null,null,null,null,null,null,null,null,null,"LH502D (6V)",514,70,2200,2200,2700,3000,3500,4000,5000,5700,6500,"-",{"$f":"$BU$2281*BW2281","v":1130800},70,"-","-","-",{"$f":"$BU$2281*BV2281*BW2281+BV2281+BW2281","v":79158270},null,620,"-","-","-","-","-","-","-","A3 (580-660)","-","-","-","-","-","-","-",6.08,"-","-","-","-","-","-","YE (5.9-6.3)","-","-","-","-","-","-",5.4600000000000003E-2,-0.29120000000000001,1.7285999999999999,-1.2999999999999999E-3,null,null,-1.509837958865647E-3,0.16020000000000001,-0.30830000000000002,0.37240000000000001,0.84489999999999998,null,null,-1.9686033333333373E-3,null,"SPHWH2L5N603YE****"]
[null,null,null,null,null,null,null,null,null,null,null,null,null,null,null,null,null,null,null,null,null,null,null,null,null,null,null,null,null,null,null,null,null,null,null,null,null,null,null,null,null,null,null,null,null,null,null,null,null,null,null,null,null,null,null,null,null,null,null,null,null,null,null,null,null,null,null,null,null,null,null,null,null,70,3500,"-","-","-","-","-","-","-","-","-",1809500,70,"-","-","-",126668570,null,680,"-","-","-","-","-","-","-","A4 (640-720)","-","-","-","-","-","-","-",6.1,"-","-","-","-","-","-","YE (5.9-6.3)","-","-","-","-","-","-",6.5299999999999997E-2,-0.30299999999999999,1.7108000000000001,1.0800000000000001E-2,null,null,-1.6793768849146221E-3,0.13270000000000001,-0.24129999999999999,0.33260000000000001,0.85029999999999994,null,null,-1.457020000000009E-3,null,"SPHWH1L5N603YE****"]
[null,null,null,null,null,null,null,null,null,null,null,null,null,null,null,null,null,null,null,null,null,null,null,null,null,null,null,null,null,null,null,null,null,null,null,null,null,null,null,null,null,null,null,null,null,null,null,null,null,null,null,null,null,null,null,null,null,null,null,null,null,null,null,null,null,null,null,null,null,null,null,null,null,"Fahion_Color",3300,"-","-","-","-","-","-","-","-","-",{"$f":"$BU$2298*BW2300","v":3204300},"Fashion_Color","-","-","-",{"$f":"BU2298*69*BW2300+69+BW2300","v":221100069},null,1394,"-","-","-","-","-","-","-","Typ (1394)","-","-","-","-","-","-","-",34.6,"-","-","-","-","-","-","Typ (34.6)","-","-","-","-","-","-",null,-1.0495000000000001,3.1581999999999999,-9.5E-4,null,null,-1.833333333333335E-3,null,-0.153,0.35449999999999998,0.89219999999999999,null,null,-1.3333333333333286E-2,null,"SPHWHAHDND2V"]
[null,null,null,null,null,null,null,null,null,null,null,null,null,null,null,null,null,null,null,null,null,null,null,null,null,null,null,null,null,null,null,null,null,null,null,null,null,null,null,null,null,null,null,null,null,null,null,null,null,null,null,null,null,null,null,null,null,null,null,null,null,null,null,null,null,null,null,null,null,null,null,null,null,"Fahion_Color",3300,"-","-","-","-","-","-","-","-","-",3207600,"Fashion_Color","-","-","-",{"$f":"BU2307*69*BW2309+69+BW2309","v":221327769},null,1823,"-","-","-","-","-","-","-","Typ (1823)","-","-","-","-","-","-","-",34.6,"-","-","-","-","-","-","Typ (34.6)","-","-","-","-","-","-",null,-0.45760000000000001,2.4195000000000002,3.8899999999999998E-3,null,null,-1.6666666666666681E-3,null,-6.0499999999999998E-2,0.23769999999999999,0.90525,null,null,-1.1666666666666714E-2,null,"SPHWHAHDNE2V"]
[null,null,null,null,null,null,null,null,null,null,null,null,null,null,null,null,null,null,null,null,null,null,null,null,null,null,null,null,null,null,null,null,null,null,null,null,null,null,null,null,null,null,null,null,null,null,null,null,null,null,null,null,null,null,null,null,null,null,null,null,null,null,null,null,null,null,null,null,null,null,null,null,null,"Fahion_Color",4000,"-","-","-","-","-","-","-","-","-",3888000,"Fashion_Color","Fashion_White","-","-",{"$f":"BU2307*69*BW2312+69+BW2312","v":268276069},null,2005,"-","-","-","-","-","-","-","Typ (2005)","-","-","-","-","-","-","-",34.6,"-","-","-","-","-","-","Typ (34.6)","-","-","-","-","-","-",null,-0.45760000000000001,2.4195000000000002,3.8899999999999998E-3,null,null,-1.6666666666666681E-3,null,-6.0499999999999998E-2,0.23769999999999999,0.90525,null,null,-1.1666666666666714E-2,null,"SPHWHAHDNE2V"]
[null,null,null,null,null,null,null,null,null,null,null,null,null,null,null,null,null,null,null,null,null,null,null,null,null,null,null,null,null,null,null,null,null,null,null,null,null,null,null,null,null,null,null,null,null,null,null,null,null,null,null,null,null,null,null,null,null,null,null,null,null,null,null,null,null,null,null,null,null,null,null,null,null,"Fahion_White",3500,"-","-","-","-","-","-","-","-","-",3405500,"-","-","-","-",{"$f":"BU2316*68*BW2320+68+BW2320","v":231577568},null,2404,"-","-","-","-","-","-","-","Typ (2404)","-","-","-","-","-","-","-",34.6,"-","-","-","-","-","-","Typ (34.6)","-","-","-","-","-","-",3.6999999999999998E-2,-0.28499999999999998,2.0106999999999999,-8.2000000000000007E-3,null,null,-1.3139371187236035E-3,3.5700000000000003E-2,-0.11070000000000001,0.2626,0.88580000000000003,null,null,-1.3173993428550072E-2,null,"SPHWHAHDNF27YZUND2"]
[null,null,null,null,null,null,null,null,null,null,null,null,null,null,null,null,null,null,null,null,null,null,null,null,null,null,null,null,null,null,null,null,null,null,null,null,null,null,null,null,null,null,null,null,null,null,null,null,null,null,null,null,null,null,null,null,null,null,null,null,null,null,null,null,null,null,null,null,null,null,null,null,null,"Fahion_Color",4000,"-","-","-","-","-","-","-","-","-",3896000,"Fashion_Color","Fashion_White","-","-",{"$f":"BU2325*69*BW2330+69+BW2330","v":268828069},null,3108,"-","-","-","-","-","-","-","Typ (3108)","-","-","-","-","-","-","-",34.6,"-","-","-","-","-","-","Typ (34.6)","-","-","-","-","-","-",null,-0.1991,1.5282,2.9099999999999998E-3,null,null,-1.6666666666666681E-3,null,-2.1299999999999999E-2,0.1421,0.90873000000000004,null,null,-1.1666666666666714E-2,null,"SPHWHAHDNG2V"]
[null,null,null,null,null,null,null,null,null,null,null,null,null,null,null,null,null,null,null,null,null,null,null,null,null,null,null,null,null,null,null,null,null,null,null,null,null,null,null,null,null,null,null,null,null,null,null,null,null,null,null,null,null,null,null,null,null,null,null,null,null,null,null,null,null,null,null,null,null,null,null,null,null,"Fahion_Color",3300,"-","-","-","-","-","-","-","-","-",3217500,"Fashion_Color","-","-","-",{"$f":"BU2334*69*BW2336+69+BW2336","v":222010869},null,3488,"-","-","-","-","-","-","-","Typ (3488)","-","-","-","-","-","-","-",34.6,"-","-","-","-","-","-","Typ (34.6)","-","-","-","-","-","-",-4.0000000000000002E-4,-0.16209999999999999,1.2544,2.5999999999999999E-3,null,null,-1.3894999266754675E-3,-4.0000000000000003E-5,-2.0899999999999998E-2,0.13950000000000001,0.89139999999999997,null,null,-1.3399999999999891E-2,null,"SPHWHAHDNH2V"]
[null,null,null,null,null,null,null,null,null,null,null,null,null,null,null,null,null,null,null,null,null,null,null,null,null,null,null,null,null,null,null,null,null,null,null,null,null,null,null,null,null,null,null,null,null,null,null,null,null,null,null,null,null,null,null,null,null,null,null,null,null,null,null,null,null,null,null,null,null,null,null,null,null,"Fahion_Color",3500,"-","-","-","-","-","-","-","-","-",3412500,"Fashion_Color","Fashion_White","-","-",{"$f":"BU2334*69*BW2337+69+BW2337","v":235466069},null,3588,"-","-","-","-","-","-","-","Typ (3588)","-","-","-","-","-","-","-",34.6,"-","-","-","-","-","-","Typ (34.6)","-","-","-","-","-","-",-4.0000000000000002E-4,-0.16209999999999999,1.2544,2.5999999999999999E-3,null,null,-1.3894999266754675E-3,-4.0000000000000003E-5,-2.0899999999999998E-2,0.13950000000000001,0.89139999999999997,null,null,-1.3399999999999891E-2,null,"SPHWHAHDNH2V"]
[null,null,null,null,null,null,null,null,null,null,null,null,null,null,null,null,null,null,null,null,null,null,null,null,null,null,null,null,null,null,null,null,null,null,null,null,null,null,null,null,null,null,null,null,null,null,null,null,null,null,null,null,null,null,null,null,null,null,null,null,null,null,null,null,null,null,null,null,null,null,null,null,null,"Fahion_White",3500,"-","-","-","-","-","-","-","-","-",3412500,"-","-","-","-",{"$f":"BU2334*68*BW2338+68+BW2338","v":232053568},null,3932,"-","-","-","-","-","-","-","Typ (3932)","-","-","-","-","-","-","-",34.6,"-","-","-","-","-","-","Typ (34.6)","-","-","-","-","-","-",7.4999999999999997E-3,-0.1087,1.2079,-3.8999999999999998E-3,null,null,-1.2638929871151765E-3,8.6999999999999994E-3,-4.4600000000000001E-2,0.15609999999999999,0.89039999999999997,null,null,-1.3290977478016686E-2,null,"SPHWHAHDNH27YZUND2"]
[null,null,null,null,null,null,null,null,null,null,null,null,null,null,null,null,null,null,null,null,null,null,null,null,null,null,null,null,null,null,null,null,null,null,null,null,null,null,null,null,null,null,null,null,null,null,null,null,null,null,null,null,null,null,null,null,null,null,null,null,null,null,null,null,null,null,null,null,null,null,null,null,null,"Fahion_Color",4000,"-","-","-","-","-","-","-","-","-",3900000,"Fashion_Color","Fashion_White","-","-",{"$f":"BU2334*69*BW2339+69+BW2339","v":269104069},null,3836,"-","-","-","-","-","-","-","Typ (3836)","-","-","-","-","-","-","-",34.6,"-","-","-","-","-","-","Typ (34.6)","-","-","-","-","-","-",-4.0000000000000002E-4,-0.16209999999999999,1.2544,2.5999999999999999E-3,null,null,-1.3894999266754675E-3,-4.0000000000000003E-5,-2.0899999999999998E-2,0.13950000000000001,0.89139999999999997,null,null,-1.3399999999999891E-2,null,"SPHWHAHDNH2V"]
[null,null,null,null,null,null,null,null,null,null,null,null,null,null,null,null,null,null,null,null,null,null,null,null,null,null,null,null,null,null,null,null,null,null,null,null,null,null,null,null,null,null,null,null,null,null,null,null,null,null,null,null,null,null,null,null,null,null,null,null,null,null,null,null,null,null,null,null,null,null,null,null,null,"Fahion_White",4000,"-","-","-","-","-","-","-","-","-",3900000,"-","-","-","-",{"$f":"BU2334*68*BW2340+68+BW2340","v":265204068},null,4055,"-","-","-","-","-","-","-","Typ (4055)","-","-","-","-","-","-","-",34.6,"-","-","-","-","-","-","Typ (34.6)","-","-","-","-","-","-",7.4999999999999997E-3,-0.1087,1.2079,-3.8999999999999998E-3,null,null,-1.2638929871151765E-3,8.6999999999999994E-3,-4.4600000000000001E-2,0.15609999999999999,0.89039999999999997,null,null,-1.3290977478016686E-2,null,"SPHWHAHDNH27YZTND2"]
[null,null,null,null,null,null,null,null,null,null,null,null,null,null,null,null,null,null,null,null,null,null,null,null,null,null,null,null,null,null,null,null,null,null,null,null,null,null,null,null,null,null,null,null,null,null,null,null,null,null,null,null,null,null,null,null,null,null,null,null,null,null,null,null,null,null,null,null,null,null,null,null,null,"Meat","Meat","-","-","-","-","-","-","-","-","-",{"$f":"$BU$2334*79","v":77025},"Special","-","-","-",{"$f":"BU2334*52*79+52+79","v":4005431},null,2290,"-","-","-","-","-","-","-","Typ (2290)","-","-","-","-","-","-","-",34.6,"-","-","-","-","-","-","Typ (34.6)","-","-","-","-","-","-",-4.0000000000000002E-4,-0.16209999999999999,1.2544,2.5999999999999999E-3,null,null,-1.3894999266754675E-3,-4.0000000000000003E-5,-2.0899999999999998E-2,0.13950000000000001,0.89139999999999997,null,null,-1.3399999999999891E-2,null,"SPMWHAHDNH2VYZTSD2"]
[null,null,null,null,null,null,null,null,null,null,null,null,null,null,null,null,null,null,null,null,null,null,null,null,null,null,null,null,null,null,null,null,null,null,null,null,null,null,null,null,null,null,null,null,null,null,null,null,null,null,null,null,null,null,null,null,null,null,null,null,null,null,null,null,null,null,null,null,null,null,null,null,null,"Vegetable","Vegetable","-","-","-","-","-","-","-","-","-",{"$f":"$BU$2334*79","v":77025},"Special","-","-","-",{"$f":"BU2334*53*79+53+79","v":4082457},null,2970,"-","-","-","-","-","-","-","Typ (2970)","-","-","-","-","-","-","-",34.6,"-","-","-","-","-","-","Typ (34.6)","-","-","-","-","-","-",-4.0000000000000002E-4,-0.16209999999999999,1.2544,2.5999999999999999E-3,null,null,-1.3894999266754675E-3,-4.0000000000000003E-5,-2.0899999999999998E-2,0.13950000000000001,0.89139999999999997,null,null,-1.3399999999999891E-2,null,"SPMWHAHDNH2VYZRSD2"]
[null,null,null,null,null,null,null,null,null,null,null,null,null,null,null,null,null,null,null,null,null,null,null,null,null,null,null,null,null,null,null,null,null,null,null,null,null,null,null,null,null,null,null,null,null,null,null,null,null,null,null,null,null,null,null,null,null,null,null,null,null,null,null,null,null,null,null,null,null,null,null,"LC040D_R-series",977,"Fahion_Color",3000,3000,3300,3500,4000,"-","-","-","-","-",{"$f":"$BU$2343*BW2343","v":2931000},"Fashion_Color","Fashion_White","-","-",{"$f":"BU2343*69*BW2343+69+BW2343","v":202242069},null,4150,"-","-","-","-","-","-","-","Typ (4150)","-","-","-","-","-","-","-",34.6,"-","-","-","-","-","-","Typ (34.6)","-","-","-","-","-","-",null,-8.1299999999999997E-2,0.99980000000000002,1.504E-2,null,null,-1.833333333333335E-3,null,-8.9999999999999993E-3,9.2700000000000005E-2,0.91037999999999997,null,null,-1.2500000000000001E-2,null,"SPHWHAHDNK2V"]
[null,null,null,null,null,null,null,null,null,null,null,null,null,null,null,null,null,null,null,null,null,null,null,null,null,null,null,null,null,null,null,null,null,null,null,null,null,null,null,null,null,null,null,null,null,null,null,null,null,null,null,null,null,null,null,null,null,null,null,null,null,null,null,null,null,null,null,null,null,null,null,null,null,"Fahion_White",3000,"-","-","-","-","-","-","-","-","-",2931000,"-","-","-","-",{"$f":"BU2343*68*BW2344+68+BW2344","v":199311068},null,4662,"-","-","-","-","-","-","-","Typ (4662)","-","-","-","-","-","-","-",34.6,"-","-","-","-","-","-","Typ (34.6)","-","-","-","-","-","-",5.7000000000000002E-3,-8.5599999999999996E-2,1.0157,-2.8999999999999998E-3,null,null,-1.3206046141606995E-3,4.7999999999999996E-3,-2.8299999999999999E-2,0.123,0.8952,null,null,-1.3453801472983428E-2,null,"SPHWHAHDNK27YZVND2"]
[null,null,null,null,null,null,null,null,null,null,null,null,null,null,null,null,null,null,null,null,null,null,null,null,null,null,null,null,null,null,null,null,null,null,null,null,null,null,null,null,null,null,null,null,null,null,null,null,null,null,null,null,null,null,null,null,null,null,null,null,null,null,null,null,null,null,null,null,null,null,null,null,null,"Fahion_Color",3300,"-","-","-","-","-","-","-","-","-",3224100,"Fashion_Color","-","-","-",{"$f":"BU2343*69*BW2345+69+BW2345","v":222466269},null,4335,"-","-","-","-","-","-","-","Typ (4335)","-","-","-","-","-","-","-",34.6,"-","-","-","-","-","-","Typ (34.6)","-","-","-","-","-","-",null,-8.1299999999999997E-2,0.99980000000000002,1.504E-2,null,null,-1.833333333333335E-3,null,-8.9999999999999993E-3,9.2700000000000005E-2,0.91037999999999997,null,null,-1.2500000000000001E-2,null,"SPHWHAHDNK2V"]
[null,null,null,null,null,null,null,null,null,null,null,null,null,null,null,null,null,null,null,null,null,null,null,null,null,null,null,null,null,null,null,null,null,null,null,null,null,null,null,null,null,null,null,null,null,null,null,null,null,null,null,null,null,null,null,null,null,null,null,null,null,null,null,null,null,null,null,null,null,null,null,null,null,"Fahion_Color",3500,"-","-","-","-","-","-","-","-","-",3419500,"Fashion_Color","Fashion_White","-","-",{"$f":"BU2343*69*BW2346+69+BW2346","v":235949069},null,4459,"-","-","-","-","-","-","-","Typ (4459)","-","-","-","-","-","-","-",34.6,"-","-","-","-","-","-","Typ (34.6)","-","-","-","-","-","-",null,-8.1299999999999997E-2,0.99980000000000002,1.504E-2,null,null,-1.833333333333335E-3,null,-8.9999999999999993E-3,9.2700000000000005E-2,0.91037999999999997,null,null,-1.2500000000000001E-2,null,"SPHWHAHDNK2V"]
[null,null,null,null,null,null,null,null,null,null,null,null,null,null,null,null,null,null,null,null,null,null,null,null,null,null,null,null,null,null,null,null,null,null,null,null,null,null,null,null,null,null,null,null,null,null,null,null,null,null,null,null,null,null,null,null,null,null,null,null,null,null,null,null,null,null,null,null,null,null,null,null,null,"Fahion_White",3500,"-","-","-","-","-","-","-","-","-",3419500,"-","-","-","-",{"$f":"BU2343*68*BW2347+68+BW2347","v":232529568},null,4833,"-","-","-","-","-","-","-","Typ (4833)","-","-","-","-","-","-","-",34.6,"-","-","-","-","-","-","Typ (34.6)","-","-","-","-","-","-",5.7000000000000002E-3,-8.5599999999999996E-2,1.0157,-2.8999999999999998E-3,null,null,-1.3206046141606995E-3,4.7999999999999996E-3,-2.8299999999999999E-2,0.123,0.8952,null,null,-1.3453801472983428E-2,null,"SPHWHAHDNK27YZUND2"]
[null,null,null,null,null,null,null,null,null,null,null,null,null,null,null,null,null,null,null,null,null,null,null,null,null,null,null,null,null,null,null,null,null,null,null,null,null,null,null,null,null,null,null,null,null,null,null,null,null,null,null,null,null,null,null,null,null,null,null,null,null,null,null,null,null,null,null,null,null,null,null,null,null,"Fahion_Color",4000,"-","-","-","-","-","-","-","-","-",3908000,"Fashion_Color","Fashion_White","-","-",{"$f":"BU2343*69*BW2348+69+BW2348","v":269656069},null,4768,"-","-","-","-","-","-","-","Typ (4768)","-","-","-","-","-","-","-",34.6,"-","-","-","-","-","-","Typ (34.6)","-","-","-","-","-","-",null,-8.1299999999999997E-2,0.99980000000000002,1.504E-2,null,null,-1.833333333333335E-3,null,-8.9999999999999993E-3,9.2700000000000005E-2,0.91037999999999997,null,null,-1.2500000000000001E-2,null,"SPHWHAHDNK2V"]
[null,null,null,null,null,null,null,null,null,null,null,null,null,null,null,null,null,null,null,null,null,null,null,null,null,null,null,null,null,null,null,null,null,null,null,null,null,null,null,null,null,null,null,null,null,null,null,null,null,null,null,null,null,null,null,null,null,null,null,null,null,null,null,null,null,null,null,null,null,null,null,null,null,"Fahion_White",4000,"-","-","-","-","-","-","-","-","-",3908000,"-","-","-","-",{"$f":"BU2343*68*BW2349+68+BW2349","v":265748068},null,4994,"-","-","-","-","-","-","-","Typ (4994)","-","-","-","-","-","-","-",34.6,"-","-","-","-","-","-","Typ (34.6)","-","-","-","-","-","-",5.7000000000000002E-3,-8.5599999999999996E-2,1.0157,-2.8999999999999998E-3,null,null,-1.3206046141606995E-3,4.7999999999999996E-3,-2.8299999999999999E-2,0.123,0.8952,null,null,-1.3453801472983428E-2,null,"SPHWHAHDNK27YZTND2"]
[null,null,null,null,null,null,null,null,null,null,null,null,null,null,null,null,null,null,null,null,null,null,null,null,null,null,null,null,null,null,null,null,null,null,null,null,null,null,null,null,null,null,null,null,null,null,null,null,null,null,null,null,null,null,null,null,null,null,null,null,null,null,null,null,null,null,null,null,null,null,null,"LC010T Tunable COB",1008,80,2700,2700,5000,6500,"-","-","-","-","-","-",{"$f":"$BU$2350*BW2350","v":2721600},80,90,"-","-",217730780,null,1190,"-","-","-","-","-","-","-","T1 (1190)","-","-","-","-","-","-","-",35.5,"-","-","-","-","-","-","typ (35.5)","-","-","-","-","-","-",1.9508000000000001,-2.7410999999999999,4.1970999999999998,-5.1999999999999998E-3,null,null,-1.8666666666666647E-3,2.3654999999999999,-1.7033,0.69750000000000001,0.88500000000000001,null,null,-1.6926138429730977E-2,null,"SPHWHAHDNC25Y★WPT1"]
[null,null,null,null,null,null,null,null,null,null,null,null,null,null,null,null,null,null,null,null,null,null,null,null,null,null,null,null,null,null,null,null,null,null,null,null,null,null,null,null,null,null,null,null,null,null,null,null,null,null,null,null,null,null,null,null,null,null,null,null,null,null,null,null,null,null,null,null,null,null,null,null,null,90,2700,"-","-","-","-","-","-","-","-","-",{"$f":"$BU$2350*BW2351","v":2721600},80,90,"-","-",244946790,null,988,"-","-","-","-","-","-","-","T1 (988)","-","-","-","-","-","-","-",35.5,"-","-","-","-","-","-","typ (35.5)","-","-","-","-","-","-",1.6192,-2.2612999999999999,3.4744000000000002,-3.3E-3,null,null,-1.8666666666666664E-3,2.1139999999999999,-1.579,0.68130000000000002,0.88460000000000005,null,null,-1.6900963976570437E-2,null,"SPHWHAHDNC27Y★WRT1"]
[null,null,null,null,null,null,null,null,null,null,null,null,null,null,null,null,null,null,null,null,null,null,null,null,null,null,null,null,null,null,null,null,null,null,null,null,null,null,null,null,null,null,null,null,null,null,null,null,null,null,null,null,null,null,null,null,null,null,null,null,null,null,null,null,null,null,null,null,null,null,null,null,null,90,5000,"-","-","-",null,null,null,null,null,null,5040000,90,"-","-","-",453605090,null,1149,"-","-","-","-","-","-","-","T1 (1149)","-","-","-","-","-","-","-",35.5,"-","-","-","-","-","-","typ (35.5)","-","-","-","-","-","-",1.5203,-2.1474000000000002,3.6309999999999998,1.1000000000000001E-3,null,null,-2.2666666666666686E-3,1.9406000000000001,-1.4876,0.66649999999999998,0.88549999999999995,null,null,-1.6323140148247716E-2,null,"SPHWHAHDNC27Y★WRT1"]
[null,null,null,null,null,null,null,null,null,null,null,null,null,null,null,null,null,null,null,null,null,null,null,null,null,null,null,null,null,null,null,null,null,null,null,null,null,null,null,null,null,null,null,null,null,null,null,null,null,null,null,null,null,null,null,null,null,null,null,null,null,null,null,null,null,null,null,null,null,null,null,null,null,80,6500,"-","-","-",null,null,null,null,null,null,6552000,80,"-","-","-",524166580,null,1352,"-","-","-","-","-","-","-","T1 (1352)","-","-","-","-","-","-","-",35.5,"-","-","-","-","-","-","typ (35.5)","-","-","-","-","-","-",0.50619999999999998,-1.4816,3.9226000000000001,6.1000000000000004E-3,null,null,-2.2666666666666668E-3,1.9238,-1.456,0.66059999999999997,0.88670000000000004,null,null,-1.6346907331000082E-2,null,"SPHWHAHDNC25Y★WPT1"]
[null,null,null,null,null,null,null,null,null,null,null,null,null,null,null,null,null,null,null,null,null,null,null,null,null,null,null,null,null,null,null,null,null,null,null,null,null,null,null,null,null,null,null,null,null,null,null,null,null,null,null,null,null,null,null,null,null,null,null,null,null,null,null,null,null,null,null,null,null,null,null,"LC020T Tunable COB",1009,80,2700,2700,5000,6500,"-","-","-","-","-","-",{"$f":"$BU$2354*BW2354","v":2724300},80,90,"-","-",217946780,null,2355,"-","-","-","-","-","-","-","T1 (2355)","-","-","-","-","-","-","-",35.5,"-","-","-","-","-","-","typ (35.5)","-","-","-","-","-","-",0.32729999999999998,-1.0664,2.274,-1.9E-3,null,null,-1.9166666666666666E-3,0.1822,-0.32450000000000001,0.32619999999999999,0.88600000000000001,null,null,-1.6921798317443521E-2,null,"SPHWHAHDNF25Y★WPT1"]
[null,null,null,null,null,null,null,null,null,null,null,null,null,null,null,null,null,null,null,null,null,null,null,null,null,null,null,null,null,null,null,null,null,null,null,null,null,null,null,null,null,null,null,null,null,null,null,null,null,null,null,null,null,null,null,null,null,null,null,null,null,null,null,null,null,null,null,null,null,null,null,null,null,90,2700,"-","-","-","-","-","-","-","-","-",{"$f":"$BU$2354*BW2355","v":2724300},80,90,"-","-",245189790,null,1956,"-","-","-","-","-","-","-","T1 (1956)","-","-","-","-","-","-","-",35.5,"-","-","-","-","-","-","typ (35.5)","-","-","-","-","-","-",0.1235,-0.51500000000000001,2.0388999999999999,-1.6000000000000001E-3,null,null,-1.9166666666666666E-3,0.19719999999999999,-0.34200000000000003,0.33510000000000001,0.8841,null,null,-1.6491932687166748E-2,null,"SPHWHAHDNF27Y★WRT1"]
[null,null,null,null,null,null,null,null,null,null,null,null,null,null,null,null,null,null,null,null,null,null,null,null,null,null,null,null,null,null,null,null,null,null,null,null,null,null,null,null,null,null,null,null,null,null,null,null,null,null,null,null,null,null,null,null,null,null,null,null,null,null,null,null,null,null,null,null,null,null,null,null,null,90,5000,"-","-","-",null,null,null,null,null,null,5045000,90,"-","-","-",454055090,null,2275,"-","-","-","-","-","-","-","T1 (2275)","-","-","-","-","-","-","-",35.5,"-","-","-","-","-","-","typ (35.5)","-","-","-","-","-","-",0.13450000000000001,-0.52680000000000005,2.0040200000000001,-5.9999999999999995E-4,null,null,-2.3333333333333335E-3,0.1976,-0.34310000000000002,0.33600000000000002,0.88380000000000003,null,null,-1.7132708880831751E-2,null,"SPHWHAHDNF27Y★WRT1"]
[null,null,null,null,null,null,null,null,null,null,null,null,null,null,null,null,null,null,null,null,null,null,null,null,null,null,null,null,null,null,null,null,null,null,null,null,null,null,null,null,null,null,null,null,null,null,null,null,null,null,null,null,null,null,null,null,null,null,null,null,null,null,null,null,null,null,null,null,null,null,null,null,null,80,6500,"-","-","-",null,null,null,null,null,null,6558500,80,"-","-","-",524686580,null,2676,"-","-","-","-","-","-","-","T1 (2676)","-","-","-","-","-","-","-",35.5,"-","-","-","-","-","-","typ (35.5)","-","-","-","-","-","-",1.5100000000000001E-2,-0.34050000000000002,1.9615,3.3999999999999998E-3,null,null,-2.3333333333333335E-3,0.1636,-0.2954,0.31509999999999999,0.88680000000000003,null,null,-1.634977134262338E-2,null,"SPHWHAHDNF25Y★WPT1"]
[null,null,null,null,null,null,null,null,null,null,null,null,null,null,null,null,null,null,null,null,null,null,null,null,null,null,null,null,null,null,null,null,null,null,null,null,null,null,null,null,null,null,null,null,null,null,null,null,null,null,null,null,null,null,null,null,null,null,null,null,null,null,null,null,null,null,null,null,null,null,null,"LC035T Tunable COB",1010,80,2700,2700,5000,6500,"-","-","-","-","-","-",{"$f":"$BU$2358*BW2358","v":2727000},80,90,"-","-",218162780,null,4405,"-","-","-","-","-","-","-","T1 (4405)","-","-","-","-","-","-","-",35.5,"-","-","-","-","-","-","typ (35.5)","-","-","-","-","-","-",3.0200000000000001E-2,-0.1958,1.1839999999999999,-1.1000000000000001E-3,null,null,-1.7999999999999997E-3,6.7699999999999996E-2,-0.17780000000000001,0.22,0.88970000000000005,null,null,-1.7373657727051038E-2,null,"SPHWHAHDNH25Y★WPT1"]
[null,null,null,null,null,null,null,null,null,null,null,null,null,null,null,null,null,null,null,null,null,null,null,null,null,null,null,null,null,null,null,null,null,null,null,null,null,null,null,null,null,null,null,null,null,null,null,null,null,null,null,null,null,null,null,null,null,null,null,null,null,null,null,null,null,null,null,null,null,null,null,null,null,90,2700,"-","-","-","-","-","-","-","-","-",{"$f":"$BU$2358*BW2359","v":2727000},80,90,"-","-",245432790,null,3660,"-","-","-","-","-","-","-","T1 (3660)","-","-","-","-","-","-","-",35.5,"-","-","-","-","-","-","typ (35.5)","-","-","-","-","-","-",3.3000000000000002E-2,-0.2006,1.1859,-1E-3,null,null,-1.799999999999998E-3,6.6500000000000004E-2,-0.1759,0.2213,0.88770000000000004,null,null,-1.7338571802775132E-2,null,"SPHWHAHDNH27Y★WRT1"]
[null,null,null,null,null,null,null,null,null,null,null,null,null,null,null,null,null,null,null,null,null,null,null,null,null,null,null,null,null,null,null,null,null,null,null,null,null,null,null,null,null,null,null,null,null,null,null,null,null,null,null,null,null,null,null,null,null,null,null,null,null,null,null,null,null,null,null,null,null,null,null,null,null,90,5000,"-","-","-",null,null,null,null,null,null,5050000,90,"-","-","-",454505090,null,4255,"-","-","-","-","-","-","-","T1 (4255)","-","-","-","-","-","-","-",35.5,"-","-","-","-","-","-","typ (35.5)","-","-","-","-","-","-",1.7899999999999999E-2,-0.16009999999999999,1.1611,-1.9E-3,null,null,-2.2166666666666667E-3,6.6900000000000001E-2,-0.1772,0.22370000000000001,0.8861,null,null,-1.4986087523396918E-2,null,"SPHWHAHDNH27Y★WRT1"]
[null,null,null,null,null,null,null,null,null,null,null,null,null,null,null,null,null,null,null,null,null,null,null,null,null,null,null,null,null,null,null,null,null,null,null,null,null,null,null,null,null,null,null,null,null,null,null,null,null,null,null,null,null,null,null,null,null,null,null,null,null,null,null,null,null,null,null,null,null,null,null,null,null,80,6500,"-","-","-",null,null,null,null,null,null,6565000,80,"-","-","-",525206580,null,5006,"-","-","-","-","-","-","-","T1 (5006)","-","-","-","-","-","-","-",35.5,"-","-","-","-","-","-","typ (35.5)","-","-","-","-","-","-",3.5099999999999999E-2,-0.19409999999999999,1.1780999999999999,-1E-3,null,null,-1.7999999999999997E-3,6.7400000000000002E-2,-0.1767,0.22559999999999999,0.88370000000000004,null,null,-1.5086144880371204E-2,null,"SPHWHAHDNH25Y★WPT1"]
[null,null,null,null,null,null,null,null,null,null,null,null,null,null,null,null,null,null,null,null,null,null,null,null,null,null,null,null,null,null,null,null,null,null,null,null,null,null,null,null,null,null,null,null,null,null,null,null,null,null,null,null,null,null,null,null,null,null,null,null,null,null,null,null,null,null,null,null,null,null,null,"LC013D Vivid White_G2 plus",1210,90,3000,3000,3500,4000,"-","-","-","-","-","-",{"$f":"$BU$2362*BW2362","v":3630000},90,"-","-","-",{"$f":"$BU$2362*BV2362*BW2362+BV2362+BW2362","v":326703090},null,1564,"-","-","-","-","-","-","-","DB (1564)","-","-","-","-","-","-","-",31.2,34,36.9,"-","-","-","-","YZ Min (31.2)","YZ Typ (34)","YZ Max (36.9)","-","-","-","-",0.37790000000000001,-1.1181000000000001,3.1282000000000001,1.9E-3,null,null,-1.4465007445224425E-3,0.19189999999999999,-0.31890000000000002,0.37080000000000002,0.9073,null,null,-1.5069834391283383E-2,null,"SPHWHAHDND27"]
[null,null,null,null,null,null,null,null,null,null,null,null,null,null,null,null,null,null,null,null,null,null,null,null,null,null,null,null,null,null,null,null,null,null,null,null,null,null,null,null,null,null,null,null,null,null,null,null,null,null,null,null,null,null,null,null,null,null,null,null,null,null,null,null,null,null,null,null,null,null,null,null,null,90,3500,"-","-","-","-","-","-","-","-","-",{"$f":"$BU$2362*BW2363","v":4235000},90,"-","-","-",{"$f":"$BU$2362*BV2363*BW2363+BV2363+BW2363","v":381153590},null,1603,"-","-","-","-","-","-","-","DB (1603)","-","-","-","-","-","-","-",31.2,34,36.9,"-","-","-","-","YZ Min (31.2)","YZ Typ (34)","YZ Max (36.9)","-","-","-","-",0.37790000000000001,-1.1181000000000001,3.1282000000000001,1.9E-3,null,null,-1.4465007445224425E-3,0.19189999999999999,-0.31890000000000002,0.37080000000000002,0.9073,null,null,-1.5069834391283383E-2,null,"SPHWHAHDND27"]
[null,null,null,null,null,null,null,null,null,null,null,null,null,null,null,null,null,null,null,null,null,null,null,null,null,null,null,null,null,null,null,null,null,null,null,null,null,null,null,null,null,null,null,null,null,null,null,null,null,null,null,null,null,null,null,null,null,null,null,null,null,null,null,null,null,null,null,null,null,null,null,null,null,90,4000,"-","-","-","-","-","-","-","-","-",4840000,90,"-","-","-",435604090,null,1627,"-","-","-","-","-","-","-","DB (1627)","-","-","-","-","-","-","-",31.2,34,36.9,"-","-","-","-","YZ Min (31.2)","YZ Typ (34)","YZ Max (36.9)","-","-","-","-",0.37790000000000001,-1.1181000000000001,3.1282000000000001,1.9E-3,null,null,-1.4465007445224425E-3,0.19189999999999999,-0.31890000000000002,0.37080000000000002,0.9073,null,null,-1.5069834391283383E-2,null,"SPHWHAHDND27"]
[null,null,null,null,null,null,null,null,null,null,null,null,null,null,null,null,null,null,null,null,null,null,null,null,null,null,null,null,null,null,null,null,null,null,null,null,null,null,null,null,null,null,null,null,null,null,null,null,null,null,null,null,null,null,null,null,null,null,null,null,null,null,null,null,null,null,null,null,null,null,null,"LC016D Vivid White_G2 plus",1211,90,3000,3000,3500,4000,"-","-","-","-","-","-",{"$f":"$BU$2365*BW2365","v":3633000},90,"-","-","-",{"$f":"$BU$2365*BV2365*BW2365+BV2365+BW2365","v":326973090},null,2000,"-","-","-","-","-","-","-","DB (2000)","-","-","-","-","-","-","-",31.2,34,36.9,"-","-","-","-","YZ Min (31.2)","YZ Typ (34)","YZ Max (36.9)","-","-","-","-",0.1686,-0.69359999999999999,2.4958999999999998,2.8E-3,null,null,-1.3942001274697266E-3,8.4199999999999997E-2,-0.18540000000000001,0.29239999999999999,0.89900000000000002,null,null,-1.3841756184883281E-2,null,"SPHWHAHDNE27"]
[null,null,null,null,null,null,null,null,null,null,null,null,null,null,null,null,null,null,null,null,null,null,null,null,null,null,null,null,null,null,null,null,null,null,null,null,null,null,null,null,null,null,null,null,null,null,null,null,null,null,null,null,null,null,null,null,null,null,null,null,null,null,null,null,null,null,null,null,null,null,null,null,null,90,3500,"-","-","-","-","-","-","-","-","-",{"$f":"$BU$2365*BW2366","v":4238500},90,"-","-","-",{"$f":"$BU$2365*BV2366*BW2366+BV2366+BW2366","v":381468590},null,2051,"-","-","-","-","-","-","-","DB (2051)","-","-","-","-","-","-","-",31.2,34,36.9,"-","-","-","-","YZ Min (31.2)","YZ Typ (34)","YZ Max (36.9)","-","-","-","-",0.1686,-0.69359999999999999,2.4958999999999998,2.8E-3,null,null,-1.3942001274697266E-3,8.4199999999999997E-2,-0.18540000000000001,0.29239999999999999,0.89900000000000002,null,null,-1.3841756184883281E-2,null,"SPHWHAHDNE27"]
[null,null,null,null,null,null,null,null,null,null,null,null,null,null,null,null,null,null,null,null,null,null,null,null,null,null,null,null,null,null,null,null,null,null,null,null,null,null,null,null,null,null,null,null,null,null,null,null,null,null,null,null,null,null,null,null,null,null,null,null,null,null,null,null,null,null,null,null,null,null,null,null,null,90,4000,"-","-","-","-","-","-","-","-","-",4844000,90,"-","-","-",435964090,null,2078,"-","-","-","-","-","-","-","DB (2078)","-","-","-","-","-","-","-",31.2,34,36.9,"-","-","-","-","YZ Min (31.2)","YZ Typ (34)","YZ Max (36.9)","-","-","-","-",0.1686,-0.69359999999999999,2.4958999999999998,2.8E-3,null,null,-1.3942001274697266E-3,8.4199999999999997E-2,-0.18540000000000001,0.29239999999999999,0.89900000000000002,null,null,-1.3841756184883281E-2,null,"SPHWHAHDNE27"]
[null,null,null,null,null,null,null,null,null,null,null,null,null,null,null,null,null,null,null,null,null,null,null,null,null,null,null,null,null,null,null,null,null,null,null,null,null,null,null,null,null,null,null,null,null,null,null,null,null,null,null,null,null,null,null,null,null,null,null,null,null,null,null,null,null,null,null,null,null,null,null,"LC019D Vivid White_G2 plus",1212,90,3000,3000,3500,4000,"-","-","-","-","-","-",{"$f":"$BU$2368*BW2368","v":3636000},90,"-","-","-",{"$f":"$BU$2368*BV2368*BW2368+BV2368+BW2368","v":327243090},null,2423,"-","-","-","-","-","-","-","DB (2423)","-","-","-","-","-","-","-",31.2,34,36.9,"-","-","-","-","YZ Min (31.2)","YZ Typ (34)","YZ Max (36.9)","-","-","-","-",9.6600000000000005E-2,-0.4748,2.0777000000000001,1.8E-3,null,null,-1.4115308151093446E-3,4.8599999999999997E-2,-0.12889999999999999,0.23619999999999999,0.90329999999999999,null,null,-1.2715530395499997E-2,null,"SPHWHAHDNF27"]
[null,null,null,null,null,null,null,null,null,null,null,null,null,null,null,null,null,null,null,null,null,null,null,null,null,null,null,null,null,null,null,null,null,null,null,null,null,null,null,null,null,null,null,null,null,null,null,null,null,null,null,null,null,null,null,null,null,null,null,null,null,null,null,null,null,null,null,null,null,null,null,null,null,90,3500,"-","-","-","-","-","-","-","-","-",{"$f":"$BU$2368*BW2369","v":4242000},90,"-","-","-",{"$f":"$BU$2368*BV2369*BW2369+BV2369+BW2369","v":381783590},null,2484,"-","-","-","-","-","-","-","DB (2484)","-","-","-","-","-","-","-",31.2,34,36.9,"-","-","-","-","YZ Min (31.2)","YZ Typ (34)","YZ Max (36.9)","-","-","-","-",9.6600000000000005E-2,-0.4748,2.0777000000000001,1.8E-3,null,null,-1.4115308151093446E-3,4.8599999999999997E-2,-0.12889999999999999,0.23619999999999999,0.90329999999999999,null,null,-1.2715530395499997E-2,null,"SPHWHAHDNF27"]
[null,null,null,null,null,null,null,null,null,null,null,null,null,null,null,null,null,null,null,null,null,null,null,null,null,null,null,null,null,null,null,null,null,null,null,null,null,null,null,null,null,null,null,null,null,null,null,null,null,null,null,null,null,null,null,null,null,null,null,null,null,null,null,null,null,null,null,null,null,null,null,null,null,90,4000,"-","-","-","-","-","-","-","-","-",4848000,90,"-","-","-",436324090,null,2520,"-","-","-","-","-","-","-","DB (2520)","-","-","-","-","-","-","-",31.2,34,36.9,"-","-","-","-","YZ Min (31.2)","YZ Typ (34)","YZ Max (36.9)","-","-","-","-",9.6600000000000005E-2,-0.4748,2.0777000000000001,1.8E-3,null,null,-1.4115308151093446E-3,4.8599999999999997E-2,-0.12889999999999999,0.23619999999999999,0.90329999999999999,null,null,-1.2715530395499997E-2,null,"SPHWHAHDNF27"]
[null,null,null,null,null,null,null,null,null,null,null,null,null,null,null,null,null,null,null,null,null,null,null,null,null,null,null,null,null,null,null,null,null,null,null,null,null,null,null,null,null,null,null,null,null,null,null,null,null,null,null,null,null,null,null,null,null,null,null,null,null,null,null,null,null,null,null,null,null,null,null,"LC026D Vivid White_G2 plus",1213,90,3000,3000,3500,4000,"-","-","-","-","-","-",{"$f":"$BU$2371*BW2371","v":3639000},90,"-","-","-",{"$f":"$BU$2371*BV2371*BW2371+BV2371+BW2371","v":327513090},null,3190,"-","-","-","-","-","-","-","DB (3190)","-","-","-","-","-","-","-",31.2,34,36.9,"-","-","-","-","YZ Min (31.2)","YZ Typ (34)","YZ Max (36.9)","-","-","-","-",0.05,-0.28870000000000001,1.5717000000000001,-5.0000000000000001E-4,null,null,-1.3901435310649394E-3,2.5499999999999998E-2,-8.2699999999999996E-2,0.18970000000000001,0.89739999999999998,null,null,-1.495583852131664E-2,null,"SPHWHAHDNG27"]
[null,null,null,null,null,null,null,null,null,null,null,null,null,null,null,null,null,null,null,null,null,null,null,null,null,null,null,null,null,null,null,null,null,null,null,null,null,null,null,null,null,null,null,null,null,null,null,null,null,null,null,null,null,null,null,null,null,null,null,null,null,null,null,null,null,null,null,null,null,null,null,null,null,90,3500,"-","-","-","-","-","-","-","-","-",{"$f":"$BU$2371*BW2372","v":4245500},90,"-","-","-",{"$f":"$BU$2371*BV2372*BW2372+BV2372+BW2372","v":382098590},null,3273,"-","-","-","-","-","-","-","DB (3273)","-","-","-","-","-","-","-",31.2,34,36.9,"-","-","-","-","YZ Min (31.2)","YZ Typ (34)","YZ Max (36.9)","-","-","-","-",0.05,-0.28870000000000001,1.5717000000000001,-5.0000000000000001E-4,null,null,-1.3901435310649394E-3,2.5499999999999998E-2,-8.2699999999999996E-2,0.18970000000000001,0.89739999999999998,null,null,-1.495583852131664E-2,null,"SPHWHAHDNG27"]
[null,null,null,null,null,null,null,null,null,null,null,null,null,null,null,null,null,null,null,null,null,null,null,null,null,null,null,null,null,null,null,null,null,null,null,null,null,null,null,null,null,null,null,null,null,null,null,null,null,null,null,null,null,null,null,null,null,null,null,null,null,null,null,null,null,null,null,null,null,null,null,null,null,90,4000,"-","-","-","-","-","-","-","-","-",4852000,90,"-","-","-",436684090,null,3326,"-","-","-","-","-","-","-","DB (3326)","-","-","-","-","-","-","-",31.2,34,36.9,"-","-","-","-","YZ Min (31.2)","YZ Typ (34)","YZ Max (36.9)","-","-","-","-",0.05,-0.28870000000000001,1.5717000000000001,-5.0000000000000001E-4,null,null,-1.3901435310649394E-3,2.5499999999999998E-2,-8.2699999999999996E-2,0.18970000000000001,0.89739999999999998,null,null,-1.495583852131664E-2,null,"SPHWHAHDNG27"]
[null,null,null,null,null,null,null,null,null,null,null,null,null,null,null,null,null,null,null,null,null,null,null,null,null,null,null,null,null,null,null,null,null,null,null,null,null,null,null,null,null,null,null,null,null,null,null,null,null,null,null,null,null,null,null,null,null,null,null,null,null,null,null,null,null,null,null,null,null,null,null,"LC033D Vivid White_G2 plus",1214,90,3000,3000,3500,4000,"-","-","-","-","-","-",{"$f":"$BU$2374*BW2374","v":3642000},90,"-","-","-",{"$f":"$BU$2374*BV2374*BW2374+BV2374+BW2374","v":327783090},null,3853,"-","-","-","-","-","-","-","DB (3853)","-","-","-","-","-","-","-",31.2,34,36.9,"-","-","-","-","YZ Min (31.2)","YZ Typ (34)","YZ Max (36.9)","-","-","-","-",2.24E-2,-0.17710000000000001,1.2535000000000001,5.9999999999999995E-4,null,null,-1.3824130879345605E-3,1.06E-2,-4.82E-2,0.1547,0.89280000000000004,null,null,-1.3803863525383283E-2,null,"SPHWHAHDNH27"]
[null,null,null,null,null,null,null,null,null,null,null,null,null,null,null,null,null,null,null,null,null,null,null,null,null,null,null,null,null,null,null,null,null,null,null,null,null,null,null,null,null,null,null,null,null,null,null,null,null,null,null,null,null,null,null,null,null,null,null,null,null,null,null,null,null,null,null,null,null,null,null,null,null,90,3500,"-","-","-","-","-","-","-","-","-",{"$f":"$BU$2374*BW2375","v":4249000},90,"-","-","-",{"$f":"$BU$2374*BV2375*BW2375+BV2375+BW2375","v":382413590},null,3949,"-","-","-","-","-","-","-","DB (3949)","-","-","-","-","-","-","-",31.2,34,36.9,"-","-","-","-","YZ Min (31.2)","YZ Typ (34)","YZ Max (36.9)","-","-","-","-",2.24E-2,-0.17710000000000001,1.2535000000000001,5.9999999999999995E-4,null,null,-1.3824130879345605E-3,1.06E-2,-4.82E-2,0.1547,0.89280000000000004,null,null,-1.3803863525383283E-2,null,"SPHWHAHDNH27"]
[null,null,null,null,null,null,null,null,null,null,null,null,null,null,null,null,null,null,null,null,null,null,null,null,null,null,null,null,null,null,null,null,null,null,null,null,null,null,null,null,null,null,null,null,null,null,null,null,null,null,null,null,null,null,null,null,null,null,null,null,null,null,null,null,null,null,null,null,null,null,null,null,null,90,4000,"-","-","-","-","-","-","-","-","-",4856000,90,"-","-","-",437044090,null,4055,"-","-","-","-","-","-","-","DB (4055)","-","-","-","-","-","-","-",31.2,34,36.9,"-","-","-","-","YZ Min (31.2)","YZ Typ (34)","YZ Max (36.9)","-","-","-","-",2.24E-2,-0.17710000000000001,1.2535000000000001,5.9999999999999995E-4,null,null,-1.3824130879345605E-3,1.06E-2,-4.82E-2,0.1547,0.89280000000000004,null,null,-1.3803863525383283E-2,null,"SPHWHAHDNH27"]
[null,null,null,null,null,null,null,null,null,null,null,null,null,null,null,null,null,null,null,null,null,null,null,null,null,null,null,null,null,null,null,null,null,null,null,null,null,null,null,null,null,null,null,null,null,null,null,null,null,null,null,null,null,null,null,null,null,null,null,null,null,null,null,null,null,null,null,null,null,null,null,"LC040D Vivid White_G2 plus",1216,90,3000,3000,3500,4000,"-","-","-","-","-","-",{"$f":"$BU$2377*BW2377","v":3648000},90,"-","-","-",{"$f":"$BU$2377*BV2377*BW2377+BV2377+BW2377","v":328323090},null,4794,"-","-","-","-","-","-","-","DB (4794)","-","-","-","-","-","-","-",31.2,34,36.9,"-","-","-","-","YZ Min (31.2)","YZ Typ (34)","YZ Max (36.9)","-","-","-","-",9.7000000000000003E-3,-0.1109,1.0321,3.3E-3,null,null,-1.4329107237189647E-3,4.4999999999999997E-3,-2.7300000000000001E-2,0.11940000000000001,0.89790000000000003,null,null,-1.6038195292166671E-2,null,"SPHWHAHDNK27"]
[null,null,null,null,null,null,null,null,null,null,null,null,null,null,null,null,null,null,null,null,null,null,null,null,null,null,null,null,null,null,null,null,null,null,null,null,null,null,null,null,null,null,null,null,null,null,null,null,null,null,null,null,null,null,null,null,null,null,null,null,null,null,null,null,null,null,null,null,null,null,null,null,null,90,3500,"-","-","-","-","-","-","-","-","-",{"$f":"$BU$2377*BW2378","v":4256000},90,"-","-","-",{"$f":"$BU$2377*BV2378*BW2378+BV2378+BW2378","v":383043590},null,4914,"-","-","-","-","-","-","-","DB (4914)","-","-","-","-","-","-","-",31.2,34,36.9,"-","-","-","-","YZ Min (31.2)","YZ Typ (34)","YZ Max (36.9)","-","-","-","-",9.7000000000000003E-3,-0.1109,1.0321,3.3E-3,null,null,-1.4329107237189647E-3,4.4999999999999997E-3,-2.7300000000000001E-2,0.11940000000000001,0.89790000000000003,null,null,-1.6038195292166671E-2,null,"SPHWHAHDNK27"]
[null,null,null,null,null,null,null,null,null,null,null,null,null,null,null,null,null,null,null,null,null,null,null,null,null,null,null,null,null,null,null,null,null,null,null,null,null,null,null,null,null,null,null,null,null,null,null,null,null,null,null,null,null,null,null,null,null,null,null,null,null,null,null,null,null,null,null,null,null,null,null,null,null,90,4000,"-","-","-","-","-","-","-","-","-",4864000,90,"-","-","-",437764090,null,4986,"-","-","-","-","-","-","-","DB 4986)","-","-","-","-","-","-","-",31.2,34,36.9,"-","-","-","-","YZ Min (31.2)","YZ Typ (34)","YZ Max (36.9)","-","-","-","-",9.7000000000000003E-3,-0.1109,1.0321,3.3E-3,null,null,-1.4329107237189647E-3,4.4999999999999997E-3,-2.7300000000000001E-2,0.11940000000000001,0.89790000000000003,null,null,-1.6038195292166671E-2,null,"SPHWHAHDNK27"]
[null,null,null,null,null,null,null,null,null,null,null,null,null,null,null,null,null,null,null,null,null,null,null,null,null,null,null,null,null,null,null,null,null,null,null,null,null,null,null,null,null,null,null,null,null,null,null,null,null,null,null,null,null,null,null,null,null,null,null,null,null,null,null,null,null,null,null,null,null,null,null,"LC013D Vivid White_G3 plus",1221,90,3000,3000,3500,4000,"-","-","-","-","-","-",{"$f":"$BU$2380*BW2380","v":3663000},90,"-","-","-",{"$f":"$BU$2380*BV2380*BW2380+BV2380+BW2380","v":329673090},null,1624,"-","-","-","-","-","-","-","DC (1624)","-","-","-","-","-","-","-",30.9,33.700000000000003,36.6,"-","-","-","-","YZ Min (30.9)","YZ Typ (33.7)","YZ Max (36.6)","-","-","-","-",0.2621,-0.92049999999999998,3.0731000000000002,1E-3,null,null,-1.2733620866707744E-3,0.16089999999999999,-0.28399999999999997,0.36209999999999998,0.89970000000000006,null,null,-1.2246894836416663E-2,null,"SPHWHAHDND27"]
[null,null,null,null,null,null,null,null,null,null,null,null,null,null,null,null,null,null,null,null,null,null,null,null,null,null,null,null,null,null,null,null,null,null,null,null,null,null,null,null,null,null,null,null,null,null,null,null,null,null,null,null,null,null,null,null,null,null,null,null,null,null,null,null,null,null,null,null,null,null,null,null,null,90,3500,"-","-","-","-","-","-","-","-","-",{"$f":"$BU$2380*BW2381","v":4273500},90,"-","-","-",{"$f":"$BU$2380*BV2381*BW2381+BV2381+BW2381","v":384618590},null,1664,"-","-","-","-","-","-","-","DC (1664)","-","-","-","-","-","-","-",30.9,33.700000000000003,36.6,"-","-","-","-","YZ Min (30.9)","YZ Typ (33.7)","YZ Max (36.6)","-","-","-","-",0.2621,-0.92049999999999998,3.0731000000000002,1E-3,null,null,-1.2733620866707744E-3,0.16089999999999999,-0.28399999999999997,0.36209999999999998,0.89970000000000006,null,null,-1.2246894836416663E-2,null,"SPHWHAHDND27"]
[null,null,null,null,null,null,null,null,null,null,null,null,null,null,null,null,null,null,null,null,null,null,null,null,null,null,null,null,null,null,null,null,null,null,null,null,null,null,null,null,null,null,null,null,null,null,null,null,null,null,null,null,null,null,null,null,null,null,null,null,null,null,null,null,null,null,null,null,null,null,null,null,null,90,4000,"-","-","-","-","-","-","-","-","-",4884000,90,"-","-","-",439564090,null,1692,"-","-","-","-","-","-","-","DC (1692)","-","-","-","-","-","-","-",30.9,33.700000000000003,36.6,"-","-","-","-","YZ Min (30.9)","YZ Typ (33.7)","YZ Max (36.6)","-","-","-","-",0.2621,-0.92049999999999998,3.0731000000000002,1E-3,null,null,-1.2733620866707744E-3,0.16089999999999999,-0.28399999999999997,0.36209999999999998,0.89970000000000006,null,null,-1.2246894836416663E-2,null,"SPHWHAHDND27"]
[null,null,null,null,null,null,null,null,null,null,null,null,null,null,null,null,null,null,null,null,null,null,null,null,null,null,null,null,null,null,null,null,null,null,null,null,null,null,null,null,null,null,null,null,null,null,null,null,null,null,null,null,null,null,null,null,null,null,null,null,null,null,null,null,null,null,null,null,null,null,null,"LC016D Vivid White_G3 plus",1223,90,3000,3000,3500,4000,"-","-","-","-","-","-",{"$f":"$BU$2383*BW2383","v":3669000},90,"-","-","-",{"$f":"$BU$2383*BV2383*BW2383+BV2383+BW2383","v":330213090},null,2084,"-","-","-","-","-","-","-","DC (2084)","-","-","-","-","-","-","-",30.9,33.700000000000003,36.6,"-","-","-","-","YZ Min (30.9)","YZ Typ (33.7)","YZ Max (36.6)","-","-","-","-",0.12529999999999999,-0.55000000000000004,2.4493999999999998,-1.6999999999999999E-3,null,null,-1.3296652911508481E-3,8.6300000000000002E-2,-0.18820000000000001,0.30399999999999999,0.89429999999999998,null,null,-1.2665303548183359E-2,null,"SPHWHAHDNE27"]
[null,null,null,null,null,null,null,null,null,null,null,null,null,null,null,null,null,null,null,null,null,null,null,null,null,null,null,null,null,null,null,null,null,null,null,null,null,null,null,null,null,null,null,null,null,null,null,null,null,null,null,null,null,null,null,null,null,null,null,null,null,null,null,null,null,null,null,null,null,null,null,null,null,90,3500,"-","-","-","-","-","-","-","-","-",{"$f":"$BU$2383*BW2384","v":4280500},90,"-","-","-",{"$f":"$BU$2383*BV2384*BW2384+BV2384+BW2384","v":385248590},null,2137,"-","-","-","-","-","-","-","DC (2137)","-","-","-","-","-","-","-",30.9,33.700000000000003,36.6,"-","-","-","-","YZ Min (30.9)","YZ Typ (33.7)","YZ Max (36.6)","-","-","-","-",0.12529999999999999,-0.55000000000000004,2.4493999999999998,-1.6999999999999999E-3,null,null,-1.3296652911508481E-3,8.6300000000000002E-2,-0.18820000000000001,0.30399999999999999,0.89429999999999998,null,null,-1.2665303548183359E-2,null,"SPHWHAHDNE27"]
[null,null,null,null,null,null,null,null,null,null,null,null,null,null,null,null,null,null,null,null,null,null,null,null,null,null,null,null,null,null,null,null,null,null,null,null,null,null,null,null,null,null,null,null,null,null,null,null,null,null,null,null,null,null,null,null,null,null,null,null,null,null,null,null,null,null,null,null,null,null,null,null,null,90,4000,"-","-","-","-","-","-","-","-","-",4892000,90,"-","-","-",440284090,null,2173,"-","-","-","-","-","-","-","DC (2173)","-","-","-","-","-","-","-",30.9,33.700000000000003,36.6,"-","-","-","-","YZ Min (30.9)","YZ Typ (33.7)","YZ Max (36.6)","-","-","-","-",0.12529999999999999,-0.55000000000000004,2.4493999999999998,-1.6999999999999999E-3,null,null,-1.3296652911508481E-3,8.6300000000000002E-2,-0.18820000000000001,0.30399999999999999,0.89429999999999998,null,null,-1.2665303548183359E-2,null,"SPHWHAHDNE27"]
[null,null,null,null,null,null,null,null,null,null,null,null,null,null,null,null,null,null,null,null,null,null,null,null,null,null,null,null,null,null,null,null,null,null,null,null,null,null,null,null,null,null,null,null,null,null,null,null,null,null,null,null,null,null,null,null,null,null,null,null,null,null,null,null,null,null,null,null,null,null,null,"LC019D Vivid White_G3 plus",1224,90,3000,3000,3500,4000,"-","-","-","-","-","-",{"$f":"$BU$2386*BW2386","v":3672000},90,"-","-","-",{"$f":"$BU$2386*BV2386*BW2386+BV2386+BW2386","v":330483090},null,2500,"-","-","-","-","-","-","-","DC (2500)","-","-","-","-","-","-","-",30.9,33.700000000000003,36.6,"-","-","-","-","YZ Min (30.9)","YZ Typ (33.7)","YZ Max (36.6)","-","-","-","-",7.0000000000000007E-2,-0.3906,2.0421999999999998,8.9999999999999998E-4,null,null,-1.3196858503926878E-3,4.7600000000000003E-2,-0.1265,0.24260000000000001,0.89910000000000001,null,null,-1.2413279215500003E-2,null,"SPHWHAHDNF27"]
[null,null,null,null,null,null,null,null,null,null,null,null,null,null,null,null,null,null,null,null,null,null,null,null,null,null,null,null,null,null,null,null,null,null,null,null,null,null,null,null,null,null,null,null,null,null,null,null,null,null,null,null,null,null,null,null,null,null,null,null,null,null,null,null,null,null,null,null,null,null,null,null,null,90,3500,"-","-","-","-","-","-","-","-","-",{"$f":"$BU$2386*BW2387","v":4284000},90,"-","-","-",{"$f":"$BU$2386*BV2387*BW2387+BV2387+BW2387","v":385563590},null,2563,"-","-","-","-","-","-","-","DC (2563)","-","-","-","-","-","-","-",30.9,33.700000000000003,36.6,"-","-","-","-","YZ Min (30.9)","YZ Typ (33.7)","YZ Max (36.6)","-","-","-","-",7.0000000000000007E-2,-0.3906,2.0421999999999998,8.9999999999999998E-4,null,null,-1.3196858503926878E-3,4.7600000000000003E-2,-0.1265,0.24260000000000001,0.89910000000000001,null,null,-1.2413279215500003E-2,null,"SPHWHAHDNF27"]
[null,null,null,null,null,null,null,null,null,null,null,null,null,null,null,null,null,null,null,null,null,null,null,null,null,null,null,null,null,null,null,null,null,null,null,null,null,null,null,null,null,null,null,null,null,null,null,null,null,null,null,null,null,null,null,null,null,null,null,null,null,null,null,null,null,null,null,null,null,null,null,null,null,90,4000,"-","-","-","-","-","-","-","-","-",4896000,90,"-","-","-",440644090,null,2605,"-","-","-","-","-","-","-","DC (2605)","-","-","-","-","-","-","-",30.9,33.700000000000003,36.6,"-","-","-","-","YZ Min (30.9)","YZ Typ (33.7)","YZ Max (36.6)","-","-","-","-",7.0000000000000007E-2,-0.3906,2.0421999999999998,8.9999999999999998E-4,null,null,-1.3196858503926878E-3,4.7600000000000003E-2,-0.1265,0.24260000000000001,0.89910000000000001,null,null,-1.2413279215500003E-2,null,"SPHWHAHDNF27"]
[null,null,null,null,null,null,null,null,null,null,null,null,null,null,null,null,null,null,null,null,null,null,null,null,null,null,null,null,null,null,null,null,null,null,null,null,null,null,null,null,null,null,null,null,null,null,null,null,null,null,null,null,null,null,null,null,null,null,null,null,null,null,null,null,null,null,null,null,null,null,null,"LC026D Vivid White_G3 plus",1225,90,3000,3000,3500,4000,"-","-","-","-","-","-",{"$f":"$BU$2389*BW2389","v":3675000},90,"-","-","-",{"$f":"$BU$2389*BV2389*BW2389+BV2389+BW2389","v":330753090},null,3303,"-","-","-","-","-","-","-","DC (3303)","-","-","-","-","-","-","-",30.9,33.700000000000003,36.6,"-","-","-","-","YZ Min (30.9)","YZ Typ (33.7)","YZ Max (36.6)","-","-","-","-",3.5700000000000003E-2,-0.23369999999999999,1.5437000000000001,-3.3999999999999998E-3,null,null,-1.3063325563325567E-3,2.24E-2,-7.8100000000000003E-2,0.19389999999999999,0.89339999999999997,null,null,-1.4367421468100024E-2,null,"SPHWHAHDNG27"]
[null,null,null,null,null,null,null,null,null,null,null,null,null,null,null,null,null,null,null,null,null,null,null,null,null,null,null,null,null,null,null,null,null,null,null,null,null,null,null,null,null,null,null,null,null,null,null,null,null,null,null,null,null,null,null,null,null,null,null,null,null,null,null,null,null,null,null,null,null,null,null,null,null,90,3500,"-","-","-","-","-","-","-","-","-",{"$f":"$BU$2389*BW2390","v":4287500},90,"-","-","-",{"$f":"$BU$2389*BV2390*BW2390+BV2390+BW2390","v":385878590},null,3391,"-","-","-","-","-","-","-","DC (3391)","-","-","-","-","-","-","-",30.9,33.700000000000003,36.6,"-","-","-","-","YZ Min (30.9)","YZ Typ (33.7)","YZ Max (36.6)","-","-","-","-",3.5700000000000003E-2,-0.23369999999999999,1.5437000000000001,-3.3999999999999998E-3,null,null,-1.3063325563325567E-3,2.24E-2,-7.8100000000000003E-2,0.19389999999999999,0.89339999999999997,null,null,-1.4367421468100024E-2,null,"SPHWHAHDNG27"]
[null,null,null,null,null,null,null,null,null,null,null,null,null,null,null,null,null,null,null,null,null,null,null,null,null,null,null,null,null,null,null,null,null,null,null,null,null,null,null,null,null,null,null,null,null,null,null,null,null,null,null,null,null,null,null,null,null,null,null,null,null,null,null,null,null,null,null,null,null,null,null,null,null,90,4000,"-","-","-","-","-","-","-","-","-",4900000,90,"-","-","-",441004090,null,3453,"-","-","-","-","-","-","-","DC (3453)","-","-","-","-","-","-","-",30.9,33.700000000000003,36.6,"-","-","-","-","YZ Min (30.9)","YZ Typ (33.7)","YZ Max (36.6)","-","-","-","-",3.5700000000000003E-2,-0.23369999999999999,1.5437000000000001,-3.3999999999999998E-3,null,null,-1.3063325563325567E-3,2.24E-2,-7.8100000000000003E-2,0.19389999999999999,0.89339999999999997,null,null,-1.4367421468100024E-2,null,"SPHWHAHDNG27"]
[null,null,null,null,null,null,null,null,null,null,null,null,null,null,null,null,null,null,null,null,null,null,null,null,null,null,null,null,null,null,null,null,null,null,null,null,null,null,null,null,null,null,null,null,null,null,null,null,null,null,null,null,null,null,null,null,null,null,null,null,null,null,null,null,null,null,null,null,null,null,null,"LC033D Vivid White_G3 plus",1226,90,3000,3000,3500,4000,"-","-","-","-","-","-",{"$f":"$BU$2392*BW2392","v":3678000},90,"-","-","-",{"$f":"$BU$2392*BV2392*BW2392+BV2392+BW2392","v":331023090},null,3992,"-","-","-","-","-","-","-","DC (3992)","-","-","-","-","-","-","-",30.9,33.700000000000003,36.6,"-","-","-","-","YZ Min (30.9)","YZ Typ (33.7)","YZ Max (36.6)","-","-","-","-",1.6899999999999998E-2,-0.14960000000000001,1.2334000000000001,-2.9999999999999997E-4,null,null,-1.270106704889314E-3,1.01E-2,-4.5100000000000001E-2,0.14680000000000001,0.89780000000000004,null,null,-1.244735717773331E-2,null,"SPHWHAHDNH27"]
[null,null,null,null,null,null,null,null,null,null,null,null,null,null,null,null,null,null,null,null,null,null,null,null,null,null,null,null,null,null,null,null,null,null,null,null,null,null,null,null,null,null,null,null,null,null,null,null,null,null,null,null,null,null,null,null,null,null,null,null,null,null,null,null,null,null,null,null,null,null,null,null,null,90,3500,"-","-","-","-","-","-","-","-","-",{"$f":"$BU$2392*BW2393","v":4291000},90,"-","-","-",{"$f":"$BU$2392*BV2393*BW2393+BV2393+BW2393","v":386193590},null,4092,"-","-","-","-","-","-","-","DC (4092)","-","-","-","-","-","-","-",30.9,33.700000000000003,36.6,"-","-","-","-","YZ Min (30.9)","YZ Typ (33.7)","YZ Max (36.6)","-","-","-","-",1.6899999999999998E-2,-0.14960000000000001,1.2334000000000001,-2.9999999999999997E-4,null,null,-1.270106704889314E-3,1.01E-2,-4.5100000000000001E-2,0.14680000000000001,0.89780000000000004,null,null,-1.244735717773331E-2,null,"SPHWHAHDNH27"]
[null,null,null,null,null,null,null,null,null,null,null,null,null,null,null,null,null,null,null,null,null,null,null,null,null,null,null,null,null,null,null,null,null,null,null,null,null,null,null,null,null,null,null,null,null,null,null,null,null,null,null,null,null,null,null,null,null,null,null,null,null,null,null,null,null,null,null,null,null,null,null,null,null,90,4000,"-","-","-","-","-","-","-","-","-",4904000,90,"-","-","-",441364090,null,4160,"-","-","-","-","-","-","-","DC (4160)","-","-","-","-","-","-","-",30.9,33.700000000000003,36.6,"-","-","-","-","YZ Min (30.9)","YZ Typ (33.7)","YZ Max (36.6)","-","-","-","-",1.6899999999999998E-2,-0.14960000000000001,1.2334000000000001,-2.9999999999999997E-4,null,null,-1.270106704889314E-3,1.01E-2,-4.5100000000000001E-2,0.14680000000000001,0.89780000000000004,null,null,-1.244735717773331E-2,null,"SPHWHAHDNH27"]
[null,null,null,null,null,null,null,null,null,null,null,null,null,null,null,null,null,null,null,null,null,null,null,null,null,null,null,null,null,null,null,null,null,null,null,null,null,null,null,null,null,null,null,null,null,null,null,null,null,null,null,null,null,null,null,null,null,null,null,null,null,null,null,null,null,null,null,null,null,null,null,"LC040D Vivid White_G3 plus",1227,90,3000,3000,3500,4000,"-","-","-","-","-","-",{"$f":"$BU$2395*BW2395","v":3681000},90,"-","-","-",{"$f":"$BU$2395*BV2395*BW2395+BV2395+BW2395","v":331293090},null,4957,"-","-","-","-","-","-","-","DC (4957)","-","-","-","-","-","-","-",30.9,33.700000000000003,36.6,"-","-","-","-","YZ Min (30.9)","YZ Typ (33.7)","YZ Max (36.6)","-","-","-","-",6.7999999999999996E-3,-8.6800000000000002E-2,1.0154000000000001,-3.2000000000000002E-3,null,null,-1.2963318609564049E-3,4.4000000000000003E-3,-2.6800000000000001E-2,0.1205,0.89629999999999999,null,null,-1.3219261169433357E-2,null,"SPHWHAHDNK27"]
[null,null,null,null,null,null,null,null,null,null,null,null,null,null,null,null,null,null,null,null,null,null,null,null,null,null,null,null,null,null,null,null,null,null,null,null,null,null,null,null,null,null,null,null,null,null,null,null,null,null,null,null,null,null,null,null,null,null,null,null,null,null,null,null,null,null,null,null,null,null,null,null,null,90,3500,"-","-","-","-","-","-","-","-","-",{"$f":"$BU$2395*BW2396","v":4294500},90,"-","-","-",{"$f":"$BU$2395*BV2396*BW2396+BV2396+BW2396","v":386508590},null,5081,"-","-","-","-","-","-","-","DC (5081)","-","-","-","-","-","-","-",30.9,33.700000000000003,36.6,"-","-","-","-","YZ Min (30.9)","YZ Typ (33.7)","YZ Max (36.6)","-","-","-","-",6.7999999999999996E-3,-8.6800000000000002E-2,1.0154000000000001,-3.2000000000000002E-3,null,null,-1.2963318609564049E-3,4.4000000000000003E-3,-2.6800000000000001E-2,0.1205,0.89629999999999999,null,null,-1.3219261169433357E-2,null,"SPHWHAHDNK27"]
[null,null,null,null,null,null,null,null,null,null,null,null,null,null,null,null,null,null,null,null,null,null,null,null,null,null,null,null,null,null,null,null,null,null,null,null,null,null,null,null,null,null,null,null,null,null,null,null,null,null,null,null,null,null,null,null,null,null,null,null,null,null,null,null,null,null,null,null,null,null,null,null,null,90,4000,"-","-","-","-","-","-","-","-","-",4908000,90,"-","-","-",441724090,null,5165,"-","-","-","-","-","-","-","DC (5165)","-","-","-","-","-","-","-",30.9,33.700000000000003,36.6,"-","-","-","-","YZ Min (30.9)","YZ Typ (33.7)","YZ Max (36.6)","-","-","-","-",6.7999999999999996E-3,-8.6800000000000002E-2,1.0154000000000001,-3.2000000000000002E-3,null,null,-1.2963318609564049E-3,4.4000000000000003E-3,-2.6800000000000001E-2,0.1205,0.89629999999999999,null,null,-1.3219261169433357E-2,null,"SPHWHAHDNK27"]

{"sheet":"MTTF","index":3,"n_rows":142,"n_cols":90,"rows_kept":142,"cut":false,"hidden":true,"merged":[]}
[null,null,null,null,null,null,null,null,null,null,null,null,null,null,null,null,null,null,null,null,"1-Current","2-Current","3-Current","4-Current","5-Current","6-Current",null,"1-Current","2-Current","3-Current","4-Current","5-Current","6-Current",null,"1-Current","2-Current","3-Current","4-Current","5-Current","6-Current"]
[null,"Rth(J-a)","a","b",null,"Rth(J-a)","a","b",null,"Rth(J-a)","a","b",null,"Rth(J-a)","a","b",null,null,null,"Derating","1-Derating","2-Derating","3-Derating","4-Derating","5-Derating","6-Derating",null,"1-Derating","2-Derating","3-Derating","4-Derating","5-Derating","6-Derating",null,"1-Derating","2-Derating","3-Derating","4-Derating","5-Derating","6-Derating",null,null,null,null,null,null,null,null,null,null,null,null,null,"Lifetime",null,"CASE-A",null,{"$f":"'LED-Lighting'!D6","v":0},null,null,null,null,null,null,null,null,null,null,"CASE-B",null,{"$f":"'LED-Lighting'!D18","v":0},null,null,null,null,null,null,null,null,null,null,"CASE-C",null,{"$f":"'LED-Lighting'!D30","v":0}]
[null,{"$f":"'LED-Lighting'!Q11","v":""},{"$f":"1/('LED-Lighting'!H11*B3)","v":{"$error":"#VALUE!"}},{"$f":"'LED-Lighting'!$AX$7/('LED-Lighting'!H11*B3)","v":{"$error":"#N/A"}},null,{"$f":"'LED-Lighting'!Q23","v":""},{"$f":"1/('LED-Lighting'!H23*F3)","v":{"$error":"#VALUE!"}},{"$f":"'LED-Lighting'!$AX$19/('LED-Lighting'!H23*F3)","v":{"$error":"#N/A"}},null,{"$f":"'LED-Lighting'!Q35","v":""},{"$f":"1/('LED-Lighting'!H35*J3)","v":{"$error":"#VALUE!"}},{"$f":"'LED-Lighting'!$AX$31/('LED-Lighting'!H35*J3)","v":{"$error":"#N/A"}},null,{"$f":"'LED-Lighting'!Q47","v":""},{"$f":"1/('LED-Lighting'!H47*N3)","v":{"$error":"#VALUE!"}},{"$f":"'LED-Lighting'!$AX$43/('LED-Lighting'!H47*N3)","v":{"$error":"#N/A"}},null,null,null,"Current",{"$f":"'LED-Lighting'!D11","v":0},{"$f":"'LED-Lighting'!D12","v":0},{"$f":"'LED-Lighting'!D13","v":0},{"$f":"'LED-Lighting'!D14","v":0},{"$f":"'LED-Lighting'!D15","v":0},{"$f":"'LED-Lighting'!D16","v":0},null,{"$f":"'LED-Lighting'!D23","v":0},{"$f":"'LED-Lighting'!D24","v":0},{"$f":"'LED-Lighting'!D25","v":0},{"$f":"'LED-Lighting'!D26","v":0},{"$f":"'LED-Lighting'!D27","v":0},{"$f":"'LED-Lighting'!D28","v":0},null,{"$f":"'LED-Lighting'!D35","v":0},{"$f":"'LED-Lighting'!D36","v":0},{"$f":"'LED-Lighting'!D37","v":0},{"$f":"'LED-Lighting'!D38","v":0},{"$f":"'LED-Lighting'!D39","v":0},{"$f":"'LED-Lighting'!D40","v":0},null,null,null,null,"low If","high If","L70-low","L80-low","L70-high","L80-high",null,null,null,null,null,null,{"$f":"BE16","v":{"$error":"#REF!"}},{"$f":"BH16","v":{"$error":"#REF!"}},null,{"$f":"BF16","v":{"$error":"#REF!"}},{"$f":"BI16","v":{"$error":"#REF!"}},null,-3,-3,null,null,null,null,null,{"$f":"BR16","v":{"$error":"#REF!"}},{"$f":"BU16","v":{"$error":"#REF!"}},null,{"$f":"BS16","v":{"$error":"#REF!"}},{"$f":"BV16","v":{"$error":"#REF!"}},null,-3,-3,null,null,null,null,null,{"$f":"CE16","v":{"$error":"#REF!"}},{"$f":"CH16","v":{"$error":"#REF!"}},null,{"$f":"CF16","v":{"$error":"#REF!"}},{"$f":"CI16","v":{"$error":"#REF!"}},null,-3,-3]
[null,{"$f":"'LED-Lighting'!Q12","v":""},{"$f":"1/('LED-Lighting'!H12*B4)","v":{"$error":"#VALUE!"}},{"$f":"'LED-Lighting'!$AX$7/('LED-Lighting'!H12*B4)","v":{"$error":"#N/A"}},null,{"$f":"'LED-Lighting'!Q24","v":""},{"$f":"1/('LED-Lighting'!H24*F4)","v":{"$error":"#VALUE!"}},{"$f":"'LED-Lighting'!$AX$19/('LED-Lighting'!H24*F4)","v":{"$error":"#N/A"}},null,{"$f":"'LED-Lighting'!Q36","v":""},{"$f":"1/('LED-Lighting'!H36*J4)","v":{"$error":"#VALUE!"}},{"$f":"'LED-Lighting'!$AX$31/('LED-Lighting'!H36*J4)","v":{"$error":"#N/A"}},null,{"$f":"'LED-Lighting'!Q48","v":""},{"$f":"1/('LED-Lighting'!H48*N4)","v":{"$error":"#VALUE!"}},{"$f":"'LED-Lighting'!$AX$43/('LED-Lighting'!H48*N4)","v":{"$error":"#N/A"}},null,null,null,"Ts",{"$f":"IF(OR('LED-Lighting'!F11<'LED-Lighting'!G11,'LED-Lighting'!F11*'LED-Lighting'!G11=0),-10,'LED-Lighting'!G11)","v":-10},{"$f":"IF(OR('LED-Lighting'!F12<'LED-Lighting'!G12,'LED-Lighting'!F12*'LED-Lighting'!G12=0),-10,'LED-Lighting'!G12)","v":-10},{"$f":"IF(OR('LED-Lighting'!F13<'LED-Lighting'!G13,'LED-Lighting'!F13*'LED-Lighting'!G13=0),-10,'LED-Lighting'!G13)","v":-10},{"$f":"IF(OR('LED-Lighting'!F14<'LED-Lighting'!G14,'LED-Lighting'!F14*'LED-Lighting'!G14=0),-10,'LED-Lighting'!G14)","v":-10},{"$f":"IF(OR('LED-Lighting'!F15<'LED-Lighting'!G15,'LED-Lighting'!F15*'LED-Lighting'!G15=0),-10,'LED-Lighting'!G15)","v":-10},{"$f":"IF(OR('LED-Lighting'!F16<'LED-Lighting'!G16,'LED-Lighting'!F16*'LED-Lighting'!G16=0),-10,'LED-Lighting'!G16)","v":-10},null,{"$f":"IF(OR('LED-Lighting'!F23<'LED-Lighting'!G23,'LED-Lighting'!F23*'LED-Lighting'!G23=0),-10,'LED-Lighting'!G23)","v":-10},{"$f":"IF(OR('LED-Lighting'!F24<'LED-Lighting'!G24,'LED-Lighting'!F24*'LED-Lighting'!G24=0),-10,'LED-Lighting'!G24)","v":-10},{"$f":"IF(OR('LED-Lighting'!F25<'LED-Lighting'!G25,'LED-Lighting'!F25*'LED-Lighting'!G25=0),-10,'LED-Lighting'!G25)","v":-10},{"$f":"IF(OR('LED-Lighting'!F26<'LED-Lighting'!G26,'LED-Lighting'!F26*'LED-Lighting'!G26=0),-10,'LED-Lighting'!G26)","v":-10},{"$f":"IF(OR('LED-Lighting'!F27<'LED-Lighting'!G27,'LED-Lighting'!F27*'LED-Lighting'!G27=0),-10,'LED-Lighting'!G27)","v":-10},{"$f":"IF(OR('LED-Lighting'!F28<'LED-Lighting'!G28,'LED-Lighting'!F28*'LED-Lighting'!G28=0),-10,'LED-Lighting'!G28)","v":-10},null,{"$f":"IF(OR('LED-Lighting'!F35<'LED-Lighting'!G35,'LED-Lighting'!F35*'LED-Lighting'!G35=0),-10,'LED-Lighting'!G35)","v":-10},{"$f":"IF(OR('LED-Lighting'!F36<'LED-Lighting'!G36,'LED-Lighting'!F36*'LED-Lighting'!G36=0),-10,'LED-Lighting'!G36)","v":-10},{"$f":"IF(OR('LED-Lighting'!F37<'LED-Lighting'!G37,'LED-Lighting'!F37*'LED-Lighting'!G37=0),-10,'LED-Lighting'!G37)","v":-10},{"$f":"IF(OR('LED-Lighting'!F38<'LED-Lighting'!G38,'LED-Lighting'!F38*'LED-Lighting'!G38=0),-10,'LED-Lighting'!G38)","v":-10},{"$f":"IF(OR('LED-Lighting'!F39<'LED-Lighting'!G39,'LED-Lighting'!F39*'LED-Lighting'!G39=0),-10,'LED-Lighting'!G39)","v":-10},{"$f":"IF(OR('LED-Lighting'!F40<'LED-Lighting'!G40,'LED-Lighting'!F40*'LED-Lighting'!G40=0),-10,'LED-Lighting'!G40)","v":-10},null,null,1,2,3,4,5,6,7,8,9,10,null,null,"Ts [℃]","Current[A]",{"$f":"IF(BF2>0,VLOOKUP(BF2,$AQ:$AV,3,FALSE),\"\")","v":""},{"$f":"IF(BF2>0,VLOOKUP(BF2,$AQ:$AV,4,FALSE),\"\")","v":""},"L70-MTTF",{"$f":"BE4","v":""},{"$f":"BF4","v":""},"L80-MTTF",{"$f":"BG4","v":"L70-MTTF"},{"$f":"BJ4","v":"L80-MTTF"},null,null,null,"Ts [℃]","Current[A]",{"$f":"IF(BS2>0,VLOOKUP(BS2,$AQ:$AV,3,FALSE),\"\")","v":""},{"$f":"IF(BS2>0,VLOOKUP(BS2,$AQ:$AV,4,FALSE),\"\")","v":""},"L70-MTTF",{"$f":"BR4","v":""},{"$f":"BS4","v":""},"L80-MTTF",{"$f":"BT4","v":"L70-MTTF"},{"$f":"BW4","v":"L80-MTTF"},null,null,null,"Ts [℃]","Current[A]",{"$f":"IF(CF2>0,VLOOKUP(CF2,$AQ:$AV,3,FALSE),\"\")","v":""},{"$f":"IF(CF2>0,VLOOKUP(CF2,$AQ:$AV,4,FALSE),\"\")","v":""},"L70-MTTF",{"$f":"CE4","v":""},{"$f":"CF4","v":""},"L80-MTTF",{"$f":"CG4","v":"L70-MTTF"},{"$f":"CJ4","v":"L80-MTTF"}]
[null,{"$f":"'LED-Lighting'!Q13","v":""},{"$f":"1/('LED-Lighting'!H13*B5)","v":{"$error":"#VALUE!"}},{"$f":"'LED-Lighting'!$AX$7/('LED-Lighting'!H13*B5)","v":{"$error":"#N/A"}},null,{"$f":"'LED-Lighting'!Q25","v":""},{"$f":"1/('LED-Lighting'!H25*F5)","v":{"$error":"#VALUE!"}},{"$f":"'LED-Lighting'!$AX$19/('LED-Lighting'!H25*F5)","v":{"$error":"#N/A"}},null,{"$f":"'LED-Lighting'!Q37","v":""},{"$f":"1/('LED-Lighting'!H37*J5)","v":{"$error":"#VALUE!"}},{"$f":"'LED-Lighting'!$AX$31/('LED-Lighting'!H37*J5)","v":{"$error":"#N/A"}},null,{"$f":"'LED-Lighting'!Q49","v":""},{"$f":"1/('LED-Lighting'!H49*N5)","v":{"$error":"#VALUE!"}},{"$f":"'LED-Lighting'!$AX$43/('LED-Lighting'!H49*N5)","v":{"$error":"#N/A"}},null,null,null,0,{"$f":"IF($T5>'LED-Lighting'!$AX$7,0,IF((-$C$3*$T5+$D$3)<='LED-Lighting'!$AZ$7,(-$C$3*$T5+$D$3),'LED-Lighting'!$AZ$7))","v":{"$error":"#N/A"}},{"$f":"IF($T5>'LED-Lighting'!$AX$7,0,IF((-$C$4*$T5+$D$4)<='LED-Lighting'!$AZ$7,(-$C$4*$T5+$D$4),'LED-Lighting'!$AZ$7))","v":{"$error":"#N/A"}},{"$f":"IF($T5>'LED-Lighting'!$AX$7,0,IF((-$C$5*$T5+$D$5)<='LED-Lighting'!$AZ$7,(-$C$5*$T5+$D$5),'LED-Lighting'!$AZ$7))","v":{"$error":"#N/A"}},{"$f":"IF($T5>'LED-Lighting'!$AX$7,0,IF((-$C$6*$T5+$D$6)<='LED-Lighting'!$AZ$7,(-$C$6*$T5+$D$6),'LED-Lighting'!$AZ$7))","v":{"$error":"#N/A"}},{"$f":"IF($T5>'LED-Lighting'!$AX$7,0,IF((-$C$7*$T5+$D$7)<='LED-Lighting'!$AZ$7,(-$C$7*$T5+$D$7),'LED-Lighting'!$AZ$7))","v":{"$error":"#N/A"}},{"$f":"IF($T5>'LED-Lighting'!$AX$7,0,IF((-$C$8*$T5+$D$8)<='LED-Lighting'!$AZ$7,(-$C$8*$T5+$D$8),'LED-Lighting'!$AZ$7))","v":{"$error":"#N/A"}},null,{"$f":"IF($T5>'LED-Lighting'!$AX$19,0,IF((-$G$3*$T5+$H$3)<='LED-Lighting'!$AZ$19,(-$G$3*$T5+$H$3),'LED-Lighting'!$AZ$19))","v":{"$error":"#N/A"}},{"$f":"IF($T5>'LED-Lighting'!$AX$19,0,IF((-$G$4*$T5+$H$4)<='LED-Lighting'!$AZ$19,(-$G$4*$T5+$H$4),'LED-Lighting'!$AZ$19))","v":{"$error":"#N/A"}},{"$f":"IF($T5>'LED-Lighting'!$AX$19,0,IF((-$G$5*$T5+$H$5)<='LED-Lighting'!$AZ$19,(-$G$5*$T5+$H$5),'LED-Lighting'!$AZ$19))","v":{"$error":"#N/A"}},{"$f":"IF($T5>'LED-Lighting'!$AX$19,0,IF((-$G$6*$T5+$H$6)<='LED-Lighting'!$AZ$19,(-$G$6*$T5+$H$6),'LED-Lighting'!$AZ$19))","v":{"$error":"#N/A"}},{"$f":"IF($T5>'LED-Lighting'!$AX$19,0,IF((-$G$7*$T5+$H$7)<='LED-Lighting'!$AZ$19,(-$G$7*$T5+$H$7),'LED-Lighting'!$AZ$19))","v":{"$error":"#N/A"}},{"$f":"IF($T5>'LED-Lighting'!$AX$19,0,IF((-$G$8*$T5+$H$8)<='LED-Lighting'!$AZ$19,(-$G$8*$T5+$H$8),'LED-Lighting'!$AZ$19))","v":{"$error":"#N/A"}},null,{"$f":"IF($T5>'LED-Lighting'!$AX$31,0,IF((-$K$3*$T5+$L$3)<='LED-Lighting'!$AZ$31,(-$K$3*$T5+$L$3),'LED-Lighting'!$AZ$31))","v":{"$error":"#N/A"}},{"$f":"IF($T5>'LED-Lighting'!$AX$31,0,IF((-$K$4*$T5+$L$4)<='LED-Lighting'!$AZ$31,(-$K$4*$T5+$L$4),'LED-Lighting'!$AZ$31))","v":{"$error":"#N/A"}},{"$f":"IF($T5>'LED-Lighting'!$AX$31,0,IF((-$K$5*$T5+$L$5)<='LED-Lighting'!$AZ$31,(-$K$5*$T5+$L$5),'LED-Lighting'!$AZ$31))","v":{"$error":"#N/A"}},{"$f":"IF($T5>'LED-Lighting'!$AX$31,0,IF((-$K$6*$T5+$L$6)<='LED-Lighting'!$AZ$31,(-$K$6*$T5+$L$6),'LED-Lighting'!$AZ$31))","v":{"$error":"#N/A"}},{"$f":"IF($T5>'LED-Lighting'!$AX$31,0,IF((-$K$7*$T5+$L$7)<='LED-Lighting'!$AZ$31,(-$K$7*$T5+$L$7),'LED-Lighting'!$AZ$31))","v":{"$error":"#N/A"}},{"$f":"IF($T5>'LED-Lighting'!$AX$31,0,IF((-$K$8*$T5+$L$8)<='LED-Lighting'!$AZ$31,(-$K$8*$T5+$L$8),'LED-Lighting'!$AZ$31))","v":{"$error":"#N/A"}},null,null,{"$f":"#REF!","v":{"$error":"#REF!"}},null,{"$f":"#REF!","v":{"$error":"#REF!"}},{"$f":"#REF!","v":{"$error":"#REF!"}},{"$f":"#REF!","v":{"$error":"#REF!"}},{"$f":"#REF!","v":{"$error":"#REF!"}},{"$f":"#REF!","v":{"$error":"#REF!"}},{"$f":"#REF!","v":{"$error":"#REF!"}},null,null,null,"CASE-A.1",{"$f":"'LED-Lighting'!F11","v":0},{"$f":"'LED-Lighting'!D11","v":0},{"$f":"VLOOKUP($BC5,$BD$16:$BJ$142,2,TRUE)","v":{"$error":"#N/A"}},{"$f":"VLOOKUP($BC5,$BD$16:$BJ$142,5,TRUE)","v":{"$error":"#N/A"}},{"$f":"IF(OR($BF$4<0.001,$BD5<0.02),-10,IF($BD5>$BF$4,$BF5-($BD5-$BF$4)*(($BE5-$BF5)/($BF$4-$BE$4)),$BF5+($BF$4-$BD5)*(($BE5-$BF5)/($BF$4-$BE$4))))","v":-10},{"$f":"VLOOKUP($BC5,$BD$16:$BJ$142,3,TRUE)","v":{"$error":"#N/A"}},{"$f":"VLOOKUP($BC5,$BD$16:$BJ$142,6,TRUE)","v":{"$error":"#N/A"}},{"$f":"IF(OR($BI$4<0.001,$BD5<0.02),-10,IF($BD5>$BI$4,$BI5-($BD5-$BI$4)*(($BH5-$BI5)/($BI$4-$BH$4)),$BI5+($BI$4-$BD5)*(($BH5-$BI5)/($BI$4-$BH$4))))","v":-10},{"$f":"IF(OR(BD5>$BI$4,BD5<$BH$4,BG5<BF5,BG5>BE5),\"extra-polation\",ROUND(BG5,$BK$3))","v":{"$error":"#N/A"}},{"$f":"IF(OR(BD5>$BI$4,BD5<$BH$4,BJ5<BI5,BJ5>BH5),\"extra-polation\",ROUND(BJ5,$BL$3))","v":{"$error":"#N/A"}},null,null,"CASE-B.1",{"$f":"'LED-Lighting'!F23","v":0},{"$f":"'LED-Lighting'!D23","v":0},{"$f":"VLOOKUP($BP5,$BQ$16:$BW$142,2,TRUE)","v":{"$error":"#N/A"}},{"$f":"VLOOKUP($BP5,$BQ$16:$BW$142,5,TRUE)","v":{"$error":"#N/A"}},{"$f":"IF(OR($BS$4<0.001,$BQ5<0.02),-10,IF($BQ5>$BS$4,$BS5-($BQ5-$BS$4)*(($BR5-$BS5)/($BS$4-$BR$4)),$BS5+($BS$4-$BQ5)*(($BR5-$BS5)/($BS$4-$BR$4))))","v":-10},{"$f":"VLOOKUP($BP5,$BQ$16:$BW$142,3,TRUE)","v":{"$error":"#N/A"}},{"$f":"VLOOKUP($BP5,$BQ$16:$BW$142,6,TRUE)","v":{"$error":"#N/A"}},{"$f":"IF(OR($BV$4<0.001,$BQ5<0.02),-10,IF($BQ5>$BV$4,$BV5-($BQ5-$BV$4)*(($BU5-$BV5)/($BV$4-$BU$4)),$BV5+($BV$4-$BQ5)*(($BU5-$BV5)/($BV$4-$BU$4))))","v":-10},{"$f":"IF(OR(BQ5>$BV$4,BQ5<$BU$4,BT5<BS5,BT5>BR5),\"extra-polation\",ROUND(BT5,$BX$3))","v":{"$error":"#N/A"}},{"$f":"IF(OR(BQ5>$BV$4,BQ5<$BU$4,BW5<BV5,BW5>BU5),\"extra-polation\",ROUND(BW5,$BY$3))","v":{"$error":"#N/A"}},null,null,"CASE-C.1",{"$f":"'LED-Lighting'!F35","v":0},{"$f":"'LED-Lighting'!D35","v":0},{"$f":"VLOOKUP($CC5,$CD$16:$CJ$142,2,TRUE)","v":{"$error":"#N/A"}},{"$f":"VLOOKUP($CC5,$CD$16:$CJ$142,5,TRUE)","v":{"$error":"#N/A"}},{"$f":"IF(OR($CF$4<0.001,$CD5<0.02),-10,IF($CD5>$CF$4,$CF5-($CD5-$CF$4)*(($CE5-$CF5)/($CF$4-$CE$4)),$CF5+($CF$4-$CD5)*(($CE5-$CF5)/($CF$4-$CE$4))))","v":-10},{"$f":"VLOOKUP($CC5,$CD$16:$CJ$142,3,TRUE)","v":{"$error":"#N/A"}},{"$f":"VLOOKUP($CC5,$CD$16:$CJ$142,6,TRUE)","v":{"$error":"#N/A"}},{"$f":"IF(OR($CI$4<0.001,$CD5<0.02),-10,IF($CD5>$CI$4,$CI5-($CD5-$CI$4)*(($CH5-$CI5)/($CI$4-$CH$4)),$CI5+($CI$4-$CD5)*(($CH5-$CI5)/($CI$4-$CH$4))))","v":-10},{"$f":"IF(OR(CD5>$CI$4,CD5<$CH$4,CG5<CF5,CG5>CE5),\"extra-polation\",ROUND(CG5,$CK$3))","v":{"$error":"#N/A"}},{"$f":"IF(OR(CD5>$CI$4,CD5<$CH$4,CJ5<CI5,CJ5>CH5),\"extra-polation\",ROUND(CJ5,$CL$3))","v":{"$error":"#N/A"}}]
[null,{"$f":"'LED-Lighting'!Q14","v":""},{"$f":"1/('LED-Lighting'!H14*B6)","v":{"$error":"#VALUE!"}},{"$f":"'LED-Lighting'!$AX$7/('LED-Lighting'!H14*B6)","v":{"$error":"#N/A"}},null,{"$f":"'LED-Lighting'!Q26","v":""},{"$f":"1/('LED-Lighting'!H26*F6)","v":{"$error":"#VALUE!"}},{"$f":"'LED-Lighting'!$AX$19/('LED-Lighting'!H26*F6)","v":{"$error":"#N/A"}},null,{"$f":"'LED-Lighting'!Q38","v":""},{"$f":"1/('LED-Lighting'!H38*J6)","v":{"$error":"#VALUE!"}},{"$f":"'LED-Lighting'!$AX$31/('LED-Lighting'!H38*J6)","v":{"$error":"#N/A"}},null,{"$f":"'LED-Lighting'!Q50","v":""},{"$f":"1/('LED-Lighting'!H50*N6)","v":{"$error":"#VALUE!"}},{"$f":"'LED-Lighting'!$AX$43/('LED-Lighting'!H50*N6)","v":{"$error":"#N/A"}},null,null,null,3,{"$f":"IF($T6>'LED-Lighting'!$AX$7,0,IF((-$C$3*$T6+$D$3)<='LED-Lighting'!$AZ$7,(-$C$3*$T6+$D$3),'LED-Lighting'!$AZ$7))","v":{"$error":"#N/A"}},{"$f":"IF($T6>'LED-Lighting'!$AX$7,0,IF((-$C$4*$T6+$D$4)<='LED-Lighting'!$AZ$7,(-$C$4*$T6+$D$4),'LED-Lighting'!$AZ$7))","v":{"$error":"#N/A"}},{"$f":"IF($T6>'LED-Lighting'!$AX$7,0,IF((-$C$5*$T6+$D$5)<='LED-Lighting'!$AZ$7,(-$C$5*$T6+$D$5),'LED-Lighting'!$AZ$7))","v":{"$error":"#N/A"}},{"$f":"IF($T6>'LED-Lighting'!$AX$7,0,IF((-$C$6*$T6+$D$6)<='LED-Lighting'!$AZ$7,(-$C$6*$T6+$D$6),'LED-Lighting'!$AZ$7))","v":{"$error":"#N/A"}},{"$f":"IF($T6>'LED-Lighting'!$AX$7,0,IF((-$C$7*$T6+$D$7)<='LED-Lighting'!$AZ$7,(-$C$7*$T6+$D$7),'LED-Lighting'!$AZ$7))","v":{"$error":"#N/A"}},{"$f":"IF($T6>'LED-Lighting'!$AX$7,0,IF((-$C$8*$T6+$D$8)<='LED-Lighting'!$AZ$7,(-$C$8*$T6+$D$8),'LED-Lighting'!$AZ$7))","v":{"$error":"#N/A"}},null,{"$f":"IF($T6>'LED-Lighting'!$AX$19,0,IF((-$G$3*$T6+$H$3)<='LED-Lighting'!$AZ$19,(-$G$3*$T6+$H$3),'LED-Lighting'!$AZ$19))","v":{"$error":"#N/A"}},{"$f":"IF($T6>'LED-Lighting'!$AX$19,0,IF((-$G$4*$T6+$H$4)<='LED-Lighting'!$AZ$19,(-$G$4*$T6+$H$4),'LED-Lighting'!$AZ$19))","v":{"$error":"#N/A"}},{"$f":"IF($T6>'LED-Lighting'!$AX$19,0,IF((-$G$5*$T6+$H$5)<='LED-Lighting'!$AZ$19,(-$G$5*$T6+$H$5),'LED-Lighting'!$AZ$19))","v":{"$error":"#N/A"}},{"$f":"IF($T6>'LED-Lighting'!$AX$19,0,IF((-$G$6*$T6+$H$6)<='LED-Lighting'!$AZ$19,(-$G$6*$T6+$H$6),'LED-Lighting'!$AZ$19))","v":{"$error":"#N/A"}},{"$f":"IF($T6>'LED-Lighting'!$AX$19,0,IF((-$G$7*$T6+$H$7)<='LED-Lighting'!$AZ$19,(-$G$7*$T6+$H$7),'LED-Lighting'!$AZ$19))","v":{"$error":"#N/A"}},{"$f":"IF($T6>'LED-Lighting'!$AX$19,0,IF((-$G$8*$T6+$H$8)<='LED-Lighting'!$AZ$19,(-$G$8*$T6+$H$8),'LED-Lighting'!$AZ$19))","v":{"$error":"#N/A"}},null,{"$f":"IF($T6>'LED-Lighting'!$AX$31,0,IF((-$K$3*$T6+$L$3)<='LED-Lighting'!$AZ$31,(-$K$3*$T6+$L$3),'LED-Lighting'!$AZ$31))","v":{"$error":"#N/A"}},{"$f":"IF($T6>'LED-Lighting'!$AX$31,0,IF((-$K$4*$T6+$L$4)<='LED-Lighting'!$AZ$31,(-$K$4*$T6+$L$4),'LED-Lighting'!$AZ$31))","v":{"$error":"#N/A"}},{"$f":"IF($T6>'LED-Lighting'!$AX$31,0,IF((-$K$5*$T6+$L$5)<='LED-Lighting'!$AZ$31,(-$K$5*$T6+$L$5),'LED-Lighting'!$AZ$31))","v":{"$error":"#N/A"}},{"$f":"IF($T6>'LED-Lighting'!$AX$31,0,IF((-$K$6*$T6+$L$6)<='LED-Lighting'!$AZ$31,(-$K$6*$T6+$L$6),'LED-Lighting'!$AZ$31))","v":{"$error":"#N/A"}},{"$f":"IF($T6>'LED-Lighting'!$AX$31,0,IF((-$K$7*$T6+$L$7)<='LED-Lighting'!$AZ$31,(-$K$7*$T6+$L$7),'LED-Lighting'!$AZ$31))","v":{"$error":"#N/A"}},{"$f":"IF($T6>'LED-Lighting'!$AX$31,0,IF((-$K$8*$T6+$L$8)<='LED-Lighting'!$AZ$31,(-$K$8*$T6+$L$8),'LED-Lighting'!$AZ$31))","v":{"$error":"#N/A"}},null,null,{"$f":"#REF!","v":{"$error":"#REF!"}},null,{"$f":"#REF!","v":{"$error":"#REF!"}},{"$f":"#REF!","v":{"$error":"#REF!"}},{"$f":"#REF!","v":{"$error":"#REF!"}},{"$f":"#REF!","v":{"$error":"#REF!"}},{"$f":"#REF!","v":{"$error":"#REF!"}},{"$f":"#REF!","v":{"$error":"#REF!"}},null,null,null,"CASE-A.2",{"$f":"'LED-Lighting'!F12","v":0},{"$f":"'LED-Lighting'!D12","v":0},{"$error":"#N/A"},{"$error":"#N/A"},-10,{"$error":"#N/A"},{"$error":"#N/A"},-10,{"$error":"#N/A"},{"$error":"#N/A"},null,null,"CASE-B.2",{"$f":"'LED-Lighting'!F24","v":0},{"$f":"'LED-Lighting'!D24","v":0},{"$error":"#N/A"},{"$error":"#N/A"},-10,{"$error":"#N/A"},{"$error":"#N/A"},-10,{"$error":"#N/A"},{"$error":"#N/A"},null,null,"CASE-C.2",{"$f":"'LED-Lighting'!F36","v":0},{"$f":"'LED-Lighting'!D36","v":0},{"$error":"#N/A"},{"$error":"#N/A"},-10,{"$error":"#N/A"},{"$error":"#N/A"},-10,{"$error":"#N/A"},{"$error":"#N/A"}]
[null,{"$f":"'LED-Lighting'!Q15","v":""},{"$f":"1/('LED-Lighting'!H15*B7)","v":{"$error":"#VALUE!"}},{"$f":"'LED-Lighting'!$AX$7/('LED-Lighting'!H15*B7)","v":{"$error":"#N/A"}},null,{"$f":"'LED-Lighting'!Q27","v":""},{"$f":"1/('LED-Lighting'!H27*F7)","v":{"$error":"#VALUE!"}},{"$f":"'LED-Lighting'!$AX$19/('LED-Lighting'!H27*F7)","v":{"$error":"#N/A"}},null,{"$f":"'LED-Lighting'!Q39","v":""},{"$f":"1/('LED-Lighting'!H39*J7)","v":{"$error":"#VALUE!"}},{"$f":"'LED-Lighting'!$AX$31/('LED-Lighting'!H39*J7)","v":{"$error":"#N/A"}},null,{"$f":"'LED-Lighting'!Q51","v":""},{"$f":"1/('LED-Lighting'!H51*N7)","v":{"$error":"#VALUE!"}},{"$f":"'LED-Lighting'!$AX$43/('LED-Lighting'!H51*N7)","v":{"$error":"#N/A"}},null,null,null,6,{"$f":"IF($T7>'LED-Lighting'!$AX$7,0,IF((-$C$3*$T7+$D$3)<='LED-Lighting'!$AZ$7,(-$C$3*$T7+$D$3),'LED-Lighting'!$AZ$7))","v":{"$error":"#N/A"}},{"$f":"IF($T7>'LED-Lighting'!$AX$7,0,IF((-$C$4*$T7+$D$4)<='LED-Lighting'!$AZ$7,(-$C$4*$T7+$D$4),'LED-Lighting'!$AZ$7))","v":{"$error":"#N/A"}},{"$f":"IF($T7>'LED-Lighting'!$AX$7,0,IF((-$C$5*$T7+$D$5)<='LED-Lighting'!$AZ$7,(-$C$5*$T7+$D$5),'LED-Lighting'!$AZ$7))","v":{"$error":"#N/A"}},{"$f":"IF($T7>'LED-Lighting'!$AX$7,0,IF((-$C$6*$T7+$D$6)<='LED-Lighting'!$AZ$7,(-$C$6*$T7+$D$6),'LED-Lighting'!$AZ$7))","v":{"$error":"#N/A"}},{"$f":"IF($T7>'LED-Lighting'!$AX$7,0,IF((-$C$7*$T7+$D$7)<='LED-Lighting'!$AZ$7,(-$C$7*$T7+$D$7),'LED-Lighting'!$AZ$7))","v":{"$error":"#N/A"}},{"$f":"IF($T7>'LED-Lighting'!$AX$7,0,IF((-$C$8*$T7+$D$8)<='LED-Lighting'!$AZ$7,(-$C$8*$T7+$D$8),'LED-Lighting'!$AZ$7))","v":{"$error":"#N/A"}},null,{"$f":"IF($T7>'LED-Lighting'!$AX$19,0,IF((-$G$3*$T7+$H$3)<='LED-Lighting'!$AZ$19,(-$G$3*$T7+$H$3),'LED-Lighting'!$AZ$19))","v":{"$error":"#N/A"}},{"$f":"IF($T7>'LED-Lighting'!$AX$19,0,IF((-$G$4*$T7+$H$4)<='LED-Lighting'!$AZ$19,(-$G$4*$T7+$H$4),'LED-Lighting'!$AZ$19))","v":{"$error":"#N/A"}},{"$f":"IF($T7>'LED-Lighting'!$AX$19,0,IF((-$G$5*$T7+$H$5)<='LED-Lighting'!$AZ$19,(-$G$5*$T7+$H$5),'LED-Lighting'!$AZ$19))","v":{"$error":"#N/A"}},{"$f":"IF($T7>'LED-Lighting'!$AX$19,0,IF((-$G$6*$T7+$H$6)<='LED-Lighting'!$AZ$19,(-$G$6*$T7+$H$6),'LED-Lighting'!$AZ$19))","v":{"$error":"#N/A"}},{"$f":"IF($T7>'LED-Lighting'!$AX$19,0,IF((-$G$7*$T7+$H$7)<='LED-Lighting'!$AZ$19,(-$G$7*$T7+$H$7),'LED-Lighting'!$AZ$19))","v":{"$error":"#N/A"}},{"$f":"IF($T7>'LED-Lighting'!$AX$19,0,IF((-$G$8*$T7+$H$8)<='LED-Lighting'!$AZ$19,(-$G$8*$T7+$H$8),'LED-Lighting'!$AZ$19))","v":{"$error":"#N/A"}},null,{"$f":"IF($T7>'LED-Lighting'!$AX$31,0,IF((-$K$3*$T7+$L$3)<='LED-Lighting'!$AZ$31,(-$K$3*$T7+$L$3),'LED-Lighting'!$AZ$31))","v":{"$error":"#N/A"}},{"$f":"IF($T7>'LED-Lighting'!$AX$31,0,IF((-$K$4*$T7+$L$4)<='LED-Lighting'!$AZ$31,(-$K$4*$T7+$L$4),'LED-Lighting'!$AZ$31))","v":{"$error":"#N/A"}},{"$f":"IF($T7>'LED-Lighting'!$AX$31,0,IF((-$K$5*$T7+$L$5)<='LED-Lighting'!$AZ$31,(-$K$5*$T7+$L$5),'LED-Lighting'!$AZ$31))","v":{"$error":"#N/A"}},{"$f":"IF($T7>'LED-Lighting'!$AX$31,0,IF((-$K$6*$T7+$L$6)<='LED-Lighting'!$AZ$31,(-$K$6*$T7+$L$6),'LED-Lighting'!$AZ$31))","v":{"$error":"#N/A"}},{"$f":"IF($T7>'LED-Lighting'!$AX$31,0,IF((-$K$7*$T7+$L$7)<='LED-Lighting'!$AZ$31,(-$K$7*$T7+$L$7),'LED-Lighting'!$AZ$31))","v":{"$error":"#N/A"}},{"$f":"IF($T7>'LED-Lighting'!$AX$31,0,IF((-$K$8*$T7+$L$8)<='LED-Lighting'!$AZ$31,(-$K$8*$T7+$L$8),'LED-Lighting'!$AZ$31))","v":{"$error":"#N/A"}},null,null,{"$f":"#REF!","v":{"$error":"#REF!"}},null,{"$f":"#REF!","v":{"$error":"#REF!"}},{"$f":"#REF!","v":{"$error":"#REF!"}},{"$f":"#REF!","v":{"$error":"#REF!"}},{"$f":"#REF!","v":{"$error":"#REF!"}},{"$f":"#REF!","v":{"$error":"#REF!"}},{"$f":"#REF!","v":{"$error":"#REF!"}},null,null,null,"CASE-A.3",{"$f":"'LED-Lighting'!F13","v":0},{"$f":"'LED-Lighting'!D13","v":0},{"$error":"#N/A"},{"$error":"#N/A"},-10,{"$error":"#N/A"},{"$error":"#N/A"},-10,{"$error":"#N/A"},{"$error":"#N/A"},null,null,"CASE-B.3",{"$f":"'LED-Lighting'!F25","v":0},{"$f":"'LED-Lighting'!D25","v":0},{"$error":"#N/A"},{"$error":"#N/A"},-10,{"$error":"#N/A"},{"$error":"#N/A"},-10,{"$error":"#N/A"},{"$error":"#N/A"},null,null,"CASE-C.3",{"$f":"'LED-Lighting'!F37","v":0},{"$f":"'LED-Lighting'!D37","v":0},{"$error":"#N/A"},{"$error":"#N/A"},-10,{"$error":"#N/A"},{"$error":"#N/A"},-10,{"$error":"#N/A"},{"$error":"#N/A"}]
[null,{"$f":"'LED-Lighting'!Q16","v":""},{"$f":"1/('LED-Lighting'!H16*B8)","v":{"$error":"#VALUE!"}},{"$f":"'LED-Lighting'!$AX$7/('LED-Lighting'!H16*B8)","v":{"$error":"#N/A"}},null,{"$f":"'LED-Lighting'!Q28","v":""},{"$f":"1/('LED-Lighting'!H28*F8)","v":{"$error":"#VALUE!"}},{"$f":"'LED-Lighting'!$AX$19/('LED-Lighting'!H28*F8)","v":{"$error":"#N/A"}},null,{"$f":"'LED-Lighting'!Q40","v":""},{"$f":"1/('LED-Lighting'!H40*J8)","v":{"$error":"#VALUE!"}},{"$f":"'LED-Lighting'!$AX$31/('LED-Lighting'!H40*J8)","v":{"$error":"#N/A"}},null,{"$f":"'LED-Lighting'!Q52","v":""},{"$f":"1/('LED-Lighting'!H52*N8)","v":{"$error":"#VALUE!"}},{"$f":"'LED-Lighting'!$AX$43/('LED-Lighting'!H52*N8)","v":{"$error":"#N/A"}},null,null,null,9,{"$f":"IF($T8>'LED-Lighting'!$AX$7,0,IF((-$C$3*$T8+$D$3)<='LED-Lighting'!$AZ$7,(-$C$3*$T8+$D$3),'LED-Lighting'!$AZ$7))","v":{"$error":"#N/A"}},{"$f":"IF($T8>'LED-Lighting'!$AX$7,0,IF((-$C$4*$T8+$D$4)<='LED-Lighting'!$AZ$7,(-$C$4*$T8+$D$4),'LED-Lighting'!$AZ$7))","v":{"$error":"#N/A"}},{"$f":"IF($T8>'LED-Lighting'!$AX$7,0,IF((-$C$5*$T8+$D$5)<='LED-Lighting'!$AZ$7,(-$C$5*$T8+$D$5),'LED-Lighting'!$AZ$7))","v":{"$error":"#N/A"}},{"$f":"IF($T8>'LED-Lighting'!$AX$7,0,IF((-$C$6*$T8+$D$6)<='LED-Lighting'!$AZ$7,(-$C$6*$T8+$D$6),'LED-Lighting'!$AZ$7))","v":{"$error":"#N/A"}},{"$f":"IF($T8>'LED-Lighting'!$AX$7,0,IF((-$C$7*$T8+$D$7)<='LED-Lighting'!$AZ$7,(-$C$7*$T8+$D$7),'LED-Lighting'!$AZ$7))","v":{"$error":"#N/A"}},{"$f":"IF($T8>'LED-Lighting'!$AX$7,0,IF((-$C$8*$T8+$D$8)<='LED-Lighting'!$AZ$7,(-$C$8*$T8+$D$8),'LED-Lighting'!$AZ$7))","v":{"$error":"#N/A"}},null,{"$f":"IF($T8>'LED-Lighting'!$AX$19,0,IF((-$G$3*$T8+$H$3)<='LED-Lighting'!$AZ$19,(-$G$3*$T8+$H$3),'LED-Lighting'!$AZ$19))","v":{"$error":"#N/A"}},{"$f":"IF($T8>'LED-Lighting'!$AX$19,0,IF((-$G$4*$T8+$H$4)<='LED-Lighting'!$AZ$19,(-$G$4*$T8+$H$4),'LED-Lighting'!$AZ$19))","v":{"$error":"#N/A"}},{"$f":"IF($T8>'LED-Lighting'!$AX$19,0,IF((-$G$5*$T8+$H$5)<='LED-Lighting'!$AZ$19,(-$G$5*$T8+$H$5),'LED-Lighting'!$AZ$19))","v":{"$error":"#N/A"}},{"$f":"IF($T8>'LED-Lighting'!$AX$19,0,IF((-$G$6*$T8+$H$6)<='LED-Lighting'!$AZ$19,(-$G$6*$T8+$H$6),'LED-Lighting'!$AZ$19))","v":{"$error":"#N/A"}},{"$f":"IF($T8>'LED-Lighting'!$AX$19,0,IF((-$G$7*$T8+$H$7)<='LED-Lighting'!$AZ$19,(-$G$7*$T8+$H$7),'LED-Lighting'!$AZ$19))","v":{"$error":"#N/A"}},{"$f":"IF($T8>'LED-Lighting'!$AX$19,0,IF((-$G$8*$T8+$H$8)<='LED-Lighting'!$AZ$19,(-$G$8*$T8+$H$8),'LED-Lighting'!$AZ$19))","v":{"$error":"#N/A"}},null,{"$f":"IF($T8>'LED-Lighting'!$AX$31,0,IF((-$K$3*$T8+$L$3)<='LED-Lighting'!$AZ$31,(-$K$3*$T8+$L$3),'LED-Lighting'!$AZ$31))","v":{"$error":"#N/A"}},{"$f":"IF($T8>'LED-Lighting'!$AX$31,0,IF((-$K$4*$T8+$L$4)<='LED-Lighting'!$AZ$31,(-$K$4*$T8+$L$4),'LED-Lighting'!$AZ$31))","v":{"$error":"#N/A"}},{"$f":"IF($T8>'LED-Lighting'!$AX$31,0,IF((-$K$5*$T8+$L$5)<='LED-Lighting'!$AZ$31,(-$K$5*$T8+$L$5),'LED-Lighting'!$AZ$31))","v":{"$error":"#N/A"}},{"$f":"IF($T8>'LED-Lighting'!$AX$31,0,IF((-$K$6*$T8+$L$6)<='LED-Lighting'!$AZ$31,(-$K$6*$T8+$L$6),'LED-Lighting'!$AZ$31))","v":{"$error":"#N/A"}},{"$f":"IF($T8>'LED-Lighting'!$AX$31,0,IF((-$K$7*$T8+$L$7)<='LED-Lighting'!$AZ$31,(-$K$7*$T8+$L$7),'LED-Lighting'!$AZ$31))","v":{"$error":"#N/A"}},{"$f":"IF($T8>'LED-Lighting'!$AX$31,0,IF((-$K$8*$T8+$L$8)<='LED-Lighting'!$AZ$31,(-$K$8*$T8+$L$8),'LED-Lighting'!$AZ$31))","v":{"$error":"#N/A"}},null,null,{"$f":"#REF!","v":{"$error":"#REF!"}},null,{"$f":"#REF!","v":{"$error":"#REF!"}},{"$f":"#REF!","v":{"$error":"#REF!"}},{"$f":"#REF!","v":{"$error":"#REF!"}},{"$f":"#REF!","v":{"$error":"#REF!"}},{"$f":"#REF!","v":{"$error":"#REF!"}},{"$f":"#REF!","v":{"$error":"#REF!"}},null,null,null,"CASE-A.4",{"$f":"'LED-Lighting'!F14","v":0},{"$f":"'LED-Lighting'!D14","v":0},{"$error":"#N/A"},{"$error":"#N/A"},-10,{"$error":"#N/A"},{"$error":"#N/A"},-10,{"$error":"#N/A"},{"$error":"#N/A"},null,null,"CASE-B.4",{"$f":"'LED-Lighting'!F26","v":0},{"$f":"'LED-Lighting'!D26","v":0},{"$error":"#N/A"},{"$error":"#N/A"},-10,{"$error":"#N/A"},{"$error":"#N/A"},-10,{"$error":"#N/A"},{"$error":"#N/A"},null,null,"CASE-C.4",{"$f":"'LED-Lighting'!F38","v":0},{"$f":"'LED-Lighting'!D38","v":0},{"$error":"#N/A"},{"$error":"#N/A"},-10,{"$error":"#N/A"},{"$error":"#N/A"},-10,{"$error":"#N/A"},{"$error":"#N/A"}]
[null,null,null,null,null,null,null,null,null,null,null,null,null,null,null,null,null,null,null,12,{"$f":"IF($T9>'LED-Lighting'!$AX$7,0,IF((-$C$3*$T9+$D$3)<='LED-Lighting'!$AZ$7,(-$C$3*$T9+$D$3),'LED-Lighting'!$AZ$7))","v":{"$error":"#N/A"}},{"$f":"IF($T9>'LED-Lighting'!$AX$7,0,IF((-$C$4*$T9+$D$4)<='LED-Lighting'!$AZ$7,(-$C$4*$T9+$D$4),'LED-Lighting'!$AZ$7))","v":{"$error":"#N/A"}},{"$f":"IF($T9>'LED-Lighting'!$AX$7,0,IF((-$C$5*$T9+$D$5)<='LED-Lighting'!$AZ$7,(-$C$5*$T9+$D$5),'LED-Lighting'!$AZ$7))","v":{"$error":"#N/A"}},{"$f":"IF($T9>'LED-Lighting'!$AX$7,0,IF((-$C$6*$T9+$D$6)<='LED-Lighting'!$AZ$7,(-$C$6*$T9+$D$6),'LED-Lighting'!$AZ$7))","v":{"$error":"#N/A"}},{"$f":"IF($T9>'LED-Lighting'!$AX$7,0,IF((-$C$7*$T9+$D$7)<='LED-Lighting'!$AZ$7,(-$C$7*$T9+$D$7),'LED-Lighting'!$AZ$7))","v":{"$error":"#N/A"}},{"$f":"IF($T9>'LED-Lighting'!$AX$7,0,IF((-$C$8*$T9+$D$8)<='LED-Lighting'!$AZ$7,(-$C$8*$T9+$D$8),'LED-Lighting'!$AZ$7))","v":{"$error":"#N/A"}},null,{"$f":"IF($T9>'LED-Lighting'!$AX$19,0,IF((-$G$3*$T9+$H$3)<='LED-Lighting'!$AZ$19,(-$G$3*$T9+$H$3),'LED-Lighting'!$AZ$19))","v":{"$error":"#N/A"}},{"$f":"IF($T9>'LED-Lighting'!$AX$19,0,IF((-$G$4*$T9+$H$4)<='LED-Lighting'!$AZ$19,(-$G$4*$T9+$H$4),'LED-Lighting'!$AZ$19))","v":{"$error":"#N/A"}},{"$f":"IF($T9>'LED-Lighting'!$AX$19,0,IF((-$G$5*$T9+$H$5)<='LED-Lighting'!$AZ$19,(-$G$5*$T9+$H$5),'LED-Lighting'!$AZ$19))","v":{"$error":"#N/A"}},{"$f":"IF($T9>'LED-Lighting'!$AX$19,0,IF((-$G$6*$T9+$H$6)<='LED-Lighting'!$AZ$19,(-$G$6*$T9+$H$6),'LED-Lighting'!$AZ$19))","v":{"$error":"#N/A"}},{"$f":"IF($T9>'LED-Lighting'!$AX$19,0,IF((-$G$7*$T9+$H$7)<='LED-Lighting'!$AZ$19,(-$G$7*$T9+$H$7),'LED-Lighting'!$AZ$19))","v":{"$error":"#N/A"}},{"$f":"IF($T9>'LED-Lighting'!$AX$19,0,IF((-$G$8*$T9+$H$8)<='LED-Lighting'!$AZ$19,(-$G$8*$T9+$H$8),'LED-Lighting'!$AZ$19))","v":{"$error":"#N/A"}},null,{"$f":"IF($T9>'LED-Lighting'!$AX$31,0,IF((-$K$3*$T9+$L$3)<='LED-Lighting'!$AZ$31,(-$K$3*$T9+$L$3),'LED-Lighting'!$AZ$31))","v":{"$error":"#N/A"}},{"$f":"IF($T9>'LED-Lighting'!$AX$31,0,IF((-$K$4*$T9+$L$4)<='LED-Lighting'!$AZ$31,(-$K$4*$T9+$L$4),'LED-Lighting'!$AZ$31))","v":{"$error":"#N/A"}},{"$f":"IF($T9>'LED-Lighting'!$AX$31,0,IF((-$K$5*$T9+$L$5)<='LED-Lighting'!$AZ$31,(-$K$5*$T9+$L$5),'LED-Lighting'!$AZ$31))","v":{"$error":"#N/A"}},{"$f":"IF($T9>'LED-Lighting'!$AX$31,0,IF((-$K$6*$T9+$L$6)<='LED-Lighting'!$AZ$31,(-$K$6*$T9+$L$6),'LED-Lighting'!$AZ$31))","v":{"$error":"#N/A"}},{"$f":"IF($T9>'LED-Lighting'!$AX$31,0,IF((-$K$7*$T9+$L$7)<='LED-Lighting'!$AZ$31,(-$K$7*$T9+$L$7),'LED-Lighting'!$AZ$31))","v":{"$error":"#N/A"}},{"$f":"IF($T9>'LED-Lighting'!$AX$31,0,IF((-$K$8*$T9+$L$8)<='LED-Lighting'!$AZ$31,(-$K$8*$T9+$L$8),'LED-Lighting'!$AZ$31))","v":{"$error":"#N/A"}},null,null,{"$f":"#REF!","v":{"$error":"#REF!"}},null,{"$f":"#REF!","v":{"$error":"#REF!"}},{"$f":"#REF!","v":{"$error":"#REF!"}},{"$f":"#REF!","v":{"$error":"#REF!"}},{"$f":"#REF!","v":{"$error":"#REF!"}},{"$f":"#REF!","v":{"$error":"#REF!"}},{"$f":"#REF!","v":{"$error":"#REF!"}},null,null,null,"CASE-A.5",{"$f":"'LED-Lighting'!F15","v":0},{"$f":"'LED-Lighting'!D15","v":0},{"$error":"#N/A"},{"$error":"#N/A"},-10,{"$error":"#N/A"},{"$error":"#N/A"},-10,{"$error":"#N/A"},{"$error":"#N/A"},null,null,"CASE-B.5",{"$f":"'LED-Lighting'!F27","v":0},{"$f":"'LED-Lighting'!D27","v":0},{"$error":"#N/A"},{"$error":"#N/A"},-10,{"$error":"#N/A"},{"$error":"#N/A"},-10,{"$error":"#N/A"},{"$error":"#N/A"},null,null,"CASE-C.5",{"$f":"'LED-Lighting'!F39","v":0},{"$f":"'LED-Lighting'!D39","v":0},{"$error":"#N/A"},{"$error":"#N/A"},-10,{"$error":"#N/A"},{"$error":"#N/A"},-10,{"$error":"#N/A"},{"$error":"#N/A"}]
[null,null,null,null,null,null,null,null,null,null,null,null,null,null,null,null,null,null,null,15,{"$f":"IF($T10>'LED-Lighting'!$AX$7,0,IF((-$C$3*$T10+$D$3)<='LED-Lighting'!$AZ$7,(-$C$3*$T10+$D$3),'LED-Lighting'!$AZ$7))","v":{"$error":"#N/A"}},{"$f":"IF($T10>'LED-Lighting'!$AX$7,0,IF((-$C$4*$T10+$D$4)<='LED-Lighting'!$AZ$7,(-$C$4*$T10+$D$4),'LED-Lighting'!$AZ$7))","v":{"$error":"#N/A"}},{"$f":"IF($T10>'LED-Lighting'!$AX$7,0,IF((-$C$5*$T10+$D$5)<='LED-Lighting'!$AZ$7,(-$C$5*$T10+$D$5),'LED-Lighting'!$AZ$7))","v":{"$error":"#N/A"}},{"$f":"IF($T10>'LED-Lighting'!$AX$7,0,IF((-$C$6*$T10+$D$6)<='LED-Lighting'!$AZ$7,(-$C$6*$T10+$D$6),'LED-Lighting'!$AZ$7))","v":{"$error":"#N/A"}},{"$f":"IF($T10>'LED-Lighting'!$AX$7,0,IF((-$C$7*$T10+$D$7)<='LED-Lighting'!$AZ$7,(-$C$7*$T10+$D$7),'LED-Lighting'!$AZ$7))","v":{"$error":"#N/A"}},{"$f":"IF($T10>'LED-Lighting'!$AX$7,0,IF((-$C$8*$T10+$D$8)<='LED-Lighting'!$AZ$7,(-$C$8*$T10+$D$8),'LED-Lighting'!$AZ$7))","v":{"$error":"#N/A"}},null,{"$f":"IF($T10>'LED-Lighting'!$AX$19,0,IF((-$G$3*$T10+$H$3)<='LED-Lighting'!$AZ$19,(-$G$3*$T10+$H$3),'LED-Lighting'!$AZ$19))","v":{"$error":"#N/A"}},{"$f":"IF($T10>'LED-Lighting'!$AX$19,0,IF((-$G$4*$T10+$H$4)<='LED-Lighting'!$AZ$19,(-$G$4*$T10+$H$4),'LED-Lighting'!$AZ$19))","v":{"$error":"#N/A"}},{"$f":"IF($T10>'LED-Lighting'!$AX$19,0,IF((-$G$5*$T10+$H$5)<='LED-Lighting'!$AZ$19,(-$G$5*$T10+$H$5),'LED-Lighting'!$AZ$19))","v":{"$error":"#N/A"}},{"$f":"IF($T10>'LED-Lighting'!$AX$19,0,IF((-$G$6*$T10+$H$6)<='LED-Lighting'!$AZ$19,(-$G$6*$T10+$H$6),'LED-Lighting'!$AZ$19))","v":{"$error":"#N/A"}},{"$f":"IF($T10>'LED-Lighting'!$AX$19,0,IF((-$G$7*$T10+$H$7)<='LED-Lighting'!$AZ$19,(-$G$7*$T10+$H$7),'LED-Lighting'!$AZ$19))","v":{"$error":"#N/A"}},{"$f":"IF($T10>'LED-Lighting'!$AX$19,0,IF((-$G$8*$T10+$H$8)<='LED-Lighting'!$AZ$19,(-$G$8*$T10+$H$8),'LED-Lighting'!$AZ$19))","v":{"$error":"#N/A"}},null,{"$f":"IF($T10>'LED-Lighting'!$AX$31,0,IF((-$K$3*$T10+$L$3)<='LED-Lighting'!$AZ$31,(-$K$3*$T10+$L$3),'LED-Lighting'!$AZ$31))","v":{"$error":"#N/A"}},{"$f":"IF($T10>'LED-Lighting'!$AX$31,0,IF((-$K$4*$T10+$L$4)<='LED-Lighting'!$AZ$31,(-$K$4*$T10+$L$4),'LED-Lighting'!$AZ$31))","v":{"$error":"#N/A"}},{"$f":"IF($T10>'LED-Lighting'!$AX$31,0,IF((-$K$5*$T10+$L$5)<='LED-Lighting'!$AZ$31,(-$K$5*$T10+$L$5),'LED-Lighting'!$AZ$31))","v":{"$error":"#N/A"}},{"$f":"IF($T10>'LED-Lighting'!$AX$31,0,IF((-$K$6*$T10+$L$6)<='LED-Lighting'!$AZ$31,(-$K$6*$T10+$L$6),'LED-Lighting'!$AZ$31))","v":{"$error":"#N/A"}},{"$f":"IF($T10>'LED-Lighting'!$AX$31,0,IF((-$K$7*$T10+$L$7)<='LED-Lighting'!$AZ$31,(-$K$7*$T10+$L$7),'LED-Lighting'!$AZ$31))","v":{"$error":"#N/A"}},{"$f":"IF($T10>'LED-Lighting'!$AX$31,0,IF((-$K$8*$T10+$L$8)<='LED-Lighting'!$AZ$31,(-$K$8*$T10+$L$8),'LED-Lighting'!$AZ$31))","v":{"$error":"#N/A"}},null,null,{"$f":"#REF!","v":{"$error":"#REF!"}},null,{"$f":"#REF!","v":{"$error":"#REF!"}},{"$f":"#REF!","v":{"$error":"#REF!"}},{"$f":"#REF!","v":{"$error":"#REF!"}},{"$f":"#REF!","v":{"$error":"#REF!"}},{"$f":"#REF!","v":{"$error":"#REF!"}},{"$f":"#REF!","v":{"$error":"#REF!"}},null,null,null,"CASE-A.6",{"$f":"'LED-Lighting'!F16","v":0},{"$f":"'LED-Lighting'!D16","v":0},{"$error":"#N/A"},{"$error":"#N/A"},-10,{"$error":"#N/A"},{"$error":"#N/A"},-10,{"$error":"#N/A"},{"$error":"#N/A"},null,null,"CASE-B.6",{"$f":"'LED-Lighting'!F28","v":0},{"$f":"'LED-Lighting'!D28","v":0},{"$error":"#N/A"},{"$error":"#N/A"},-10,{"$error":"#N/A"},{"$error":"#N/A"},-10,{"$error":"#N/A"},{"$error":"#N/A"},null,null,"CASE-C.6",{"$f":"'LED-Lighting'!F40","v":0},{"$f":"'LED-Lighting'!D40","v":0},{"$error":"#N/A"},{"$error":"#N/A"},-10,{"$error":"#N/A"},{"$error":"#N/A"},-10,{"$error":"#N/A"},{"$error":"#N/A"}]
[null,null,null,null,null,null,null,null,null,null,null,null,null,null,null,null,null,null,null,18,{"$f":"IF($T11>'LED-Lighting'!$AX$7,0,IF((-$C$3*$T11+$D$3)<='LED-Lighting'!$AZ$7,(-$C$3*$T11+$D$3),'LED-Lighting'!$AZ$7))","v":{"$error":"#N/A"}},{"$f":"IF($T11>'LED-Lighting'!$AX$7,0,IF((-$C$4*$T11+$D$4)<='LED-Lighting'!$AZ$7,(-$C$4*$T11+$D$4),'LED-Lighting'!$AZ$7))","v":{"$error":"#N/A"}},{"$f":"IF($T11>'LED-Lighting'!$AX$7,0,IF((-$C$5*$T11+$D$5)<='LED-Lighting'!$AZ$7,(-$C$5*$T11+$D$5),'LED-Lighting'!$AZ$7))","v":{"$error":"#N/A"}},{"$f":"IF($T11>'LED-Lighting'!$AX$7,0,IF((-$C$6*$T11+$D$6)<='LED-Lighting'!$AZ$7,(-$C$6*$T11+$D$6),'LED-Lighting'!$AZ$7))","v":{"$error":"#N/A"}},{"$f":"IF($T11>'LED-Lighting'!$AX$7,0,IF((-$C$7*$T11+$D$7)<='LED-Lighting'!$AZ$7,(-$C$7*$T11+$D$7),'LED-Lighting'!$AZ$7))","v":{"$error":"#N/A"}},{"$f":"IF($T11>'LED-Lighting'!$AX$7,0,IF((-$C$8*$T11+$D$8)<='LED-Lighting'!$AZ$7,(-$C$8*$T11+$D$8),'LED-Lighting'!$AZ$7))","v":{"$error":"#N/A"}},null,{"$f":"IF($T11>'LED-Lighting'!$AX$19,0,IF((-$G$3*$T11+$H$3)<='LED-Lighting'!$AZ$19,(-$G$3*$T11+$H$3),'LED-Lighting'!$AZ$19))","v":{"$error":"#N/A"}},{"$f":"IF($T11>'LED-Lighting'!$AX$19,0,IF((-$G$4*$T11+$H$4)<='LED-Lighting'!$AZ$19,(-$G$4*$T11+$H$4),'LED-Lighting'!$AZ$19))","v":{"$error":"#N/A"}},{"$f":"IF($T11>'LED-Lighting'!$AX$19,0,IF((-$G$5*$T11+$H$5)<='LED-Lighting'!$AZ$19,(-$G$5*$T11+$H$5),'LED-Lighting'!$AZ$19))","v":{"$error":"#N/A"}},{"$f":"IF($T11>'LED-Lighting'!$AX$19,0,IF((-$G$6*$T11+$H$6)<='LED-Lighting'!$AZ$19,(-$G$6*$T11+$H$6),'LED-Lighting'!$AZ$19))","v":{"$error":"#N/A"}},{"$f":"IF($T11>'LED-Lighting'!$AX$19,0,IF((-$G$7*$T11+$H$7)<='LED-Lighting'!$AZ$19,(-$G$7*$T11+$H$7),'LED-Lighting'!$AZ$19))","v":{"$error":"#N/A"}},{"$f":"IF($T11>'LED-Lighting'!$AX$19,0,IF((-$G$8*$T11+$H$8)<='LED-Lighting'!$AZ$19,(-$G$8*$T11+$H$8),'LED-Lighting'!$AZ$19))","v":{"$error":"#N/A"}},null,{"$f":"IF($T11>'LED-Lighting'!$AX$31,0,IF((-$K$3*$T11+$L$3)<='LED-Lighting'!$AZ$31,(-$K$3*$T11+$L$3),'LED-Lighting'!$AZ$31))","v":{"$error":"#N/A"}},{"$f":"IF($T11>'LED-Lighting'!$AX$31,0,IF((-$K$4*$T11+$L$4)<='LED-Lighting'!$AZ$31,(-$K$4*$T11+$L$4),'LED-Lighting'!$AZ$31))","v":{"$error":"#N/A"}},{"$f":"IF($T11>'LED-Lighting'!$AX$31,0,IF((-$K$5*$T11+$L$5)<='LED-Lighting'!$AZ$31,(-$K$5*$T11+$L$5),'LED-Lighting'!$AZ$31))","v":{"$error":"#N/A"}},{"$f":"IF($T11>'LED-Lighting'!$AX$31,0,IF((-$K$6*$T11+$L$6)<='LED-Lighting'!$AZ$31,(-$K$6*$T11+$L$6),'LED-Lighting'!$AZ$31))","v":{"$error":"#N/A"}},{"$f":"IF($T11>'LED-Lighting'!$AX$31,0,IF((-$K$7*$T11+$L$7)<='LED-Lighting'!$AZ$31,(-$K$7*$T11+$L$7),'LED-Lighting'!$AZ$31))","v":{"$error":"#N/A"}},{"$f":"IF($T11>'LED-Lighting'!$AX$31,0,IF((-$K$8*$T11+$L$8)<='LED-Lighting'!$AZ$31,(-$K$8*$T11+$L$8),'LED-Lighting'!$AZ$31))","v":{"$error":"#N/A"}},null,null,{"$f":"#REF!","v":{"$error":"#REF!"}},null,{"$f":"#REF!","v":{"$error":"#REF!"}},{"$f":"#REF!","v":{"$error":"#REF!"}},{"$f":"#REF!","v":{"$error":"#REF!"}},{"$f":"#REF!","v":{"$error":"#REF!"}},{"$f":"#REF!","v":{"$error":"#REF!"}},{"$f":"#REF!","v":{"$error":"#REF!"}}]
[null,null,null,null,null,null,null,null,null,null,null,null,null,null,null,null,null,null,null,21,{"$f":"IF($T12>'LED-Lighting'!$AX$7,0,IF((-$C$3*$T12+$D$3)<='LED-Lighting'!$AZ$7,(-$C$3*$T12+$D$3),'LED-Lighting'!$AZ$7))","v":{"$error":"#N/A"}},{"$f":"IF($T12>'LED-Lighting'!$AX$7,0,IF((-$C$4*$T12+$D$4)<='LED-Lighting'!$AZ$7,(-$C$4*$T12+$D$4),'LED-Lighting'!$AZ$7))","v":{"$error":"#N/A"}},{"$f":"IF($T12>'LED-Lighting'!$AX$7,0,IF((-$C$5*$T12+$D$5)<='LED-Lighting'!$AZ$7,(-$C$5*$T12+$D$5),'LED-Lighting'!$AZ$7))","v":{"$error":"#N/A"}},{"$f":"IF($T12>'LED-Lighting'!$AX$7,0,IF((-$C$6*$T12+$D$6)<='LED-Lighting'!$AZ$7,(-$C$6*$T12+$D$6),'LED-Lighting'!$AZ$7))","v":{"$error":"#N/A"}},{"$f":"IF($T12>'LED-Lighting'!$AX$7,0,IF((-$C$7*$T12+$D$7)<='LED-Lighting'!$AZ$7,(-$C$7*$T12+$D$7),'LED-Lighting'!$AZ$7))","v":{"$error":"#N/A"}},{"$f":"IF($T12>'LED-Lighting'!$AX$7,0,IF((-$C$8*$T12+$D$8)<='LED-Lighting'!$AZ$7,(-$C$8*$T12+$D$8),'LED-Lighting'!$AZ$7))","v":{"$error":"#N/A"}},null,{"$f":"IF($T12>'LED-Lighting'!$AX$19,0,IF((-$G$3*$T12+$H$3)<='LED-Lighting'!$AZ$19,(-$G$3*$T12+$H$3),'LED-Lighting'!$AZ$19))","v":{"$error":"#N/A"}},{"$f":"IF($T12>'LED-Lighting'!$AX$19,0,IF((-$G$4*$T12+$H$4)<='LED-Lighting'!$AZ$19,(-$G$4*$T12+$H$4),'LED-Lighting'!$AZ$19))","v":{"$error":"#N/A"}},{"$f":"IF($T12>'LED-Lighting'!$AX$19,0,IF((-$G$5*$T12+$H$5)<='LED-Lighting'!$AZ$19,(-$G$5*$T12+$H$5),'LED-Lighting'!$AZ$19))","v":{"$error":"#N/A"}},{"$f":"IF($T12>'LED-Lighting'!$AX$19,0,IF((-$G$6*$T12+$H$6)<='LED-Lighting'!$AZ$19,(-$G$6*$T12+$H$6),'LED-Lighting'!$AZ$19))","v":{"$error":"#N/A"}},{"$f":"IF($T12>'LED-Lighting'!$AX$19,0,IF((-$G$7*$T12+$H$7)<='LED-Lighting'!$AZ$19,(-$G$7*$T12+$H$7),'LED-Lighting'!$AZ$19))","v":{"$error":"#N/A"}},{"$f":"IF($T12>'LED-Lighting'!$AX$19,0,IF((-$G$8*$T12+$H$8)<='LED-Lighting'!$AZ$19,(-$G$8*$T12+$H$8),'LED-Lighting'!$AZ$19))","v":{"$error":"#N/A"}},null,{"$f":"IF($T12>'LED-Lighting'!$AX$31,0,IF((-$K$3*$T12+$L$3)<='LED-Lighting'!$AZ$31,(-$K$3*$T12+$L$3),'LED-Lighting'!$AZ$31))","v":{"$error":"#N/A"}},{"$f":"IF($T12>'LED-Lighting'!$AX$31,0,IF((-$K$4*$T12+$L$4)<='LED-Lighting'!$AZ$31,(-$K$4*$T12+$L$4),'LED-Lighting'!$AZ$31))","v":{"$error":"#N/A"}},{"$f":"IF($T12>'LED-Lighting'!$AX$31,0,IF((-$K$5*$T12+$L$5)<='LED-Lighting'!$AZ$31,(-$K$5*$T12+$L$5),'LED-Lighting'!$AZ$31))","v":{"$error":"#N/A"}},{"$f":"IF($T12>'LED-Lighting'!$AX$31,0,IF((-$K$6*$T12+$L$6)<='LED-Lighting'!$AZ$31,(-$K$6*$T12+$L$6),'LED-Lighting'!$AZ$31))","v":{"$error":"#N/A"}},{"$f":"IF($T12>'LED-Lighting'!$AX$31,0,IF((-$K$7*$T12+$L$7)<='LED-Lighting'!$AZ$31,(-$K$7*$T12+$L$7),'LED-Lighting'!$AZ$31))","v":{"$error":"#N/A"}},{"$f":"IF($T12>'LED-Lighting'!$AX$31,0,IF((-$K$8*$T12+$L$8)<='LED-Lighting'!$AZ$31,(-$K$8*$T12+$L$8),'LED-Lighting'!$AZ$31))","v":{"$error":"#N/A"}},null,null,{"$f":"#REF!","v":{"$error":"#REF!"}},null,{"$f":"#REF!","v":{"$error":"#REF!"}},{"$f":"#REF!","v":{"$error":"#REF!"}},{"$f":"#REF!","v":{"$error":"#REF!"}},{"$f":"#REF!","v":{"$error":"#REF!"}},{"$f":"#REF!","v":{"$error":"#REF!"}},{"$f":"#REF!","v":{"$error":"#REF!"}}]
[null,"Case A",null,null,null,"Case B",null,null,null,"Case C",null,null,null,"Case Manual",null,null,null,null,null,24,{"$f":"IF($T13>'LED-Lighting'!$AX$7,0,IF((-$C$3*$T13+$D$3)<='LED-Lighting'!$AZ$7,(-$C$3*$T13+$D$3),'LED-Lighting'!$AZ$7))","v":{"$error":"#N/A"}},{"$f":"IF($T13>'LED-Lighting'!$AX$7,0,IF((-$C$4*$T13+$D$4)<='LED-Lighting'!$AZ$7,(-$C$4*$T13+$D$4),'LED-Lighting'!$AZ$7))","v":{"$error":"#N/A"}},{"$f":"IF($T13>'LED-Lighting'!$AX$7,0,IF((-$C$5*$T13+$D$5)<='LED-Lighting'!$AZ$7,(-$C$5*$T13+$D$5),'LED-Lighting'!$AZ$7))","v":{"$error":"#N/A"}},{"$f":"IF($T13>'LED-Lighting'!$AX$7,0,IF((-$C$6*$T13+$D$6)<='LED-Lighting'!$AZ$7,(-$C$6*$T13+$D$6),'LED-Lighting'!$AZ$7))","v":{"$error":"#N/A"}},{"$f":"IF($T13>'LED-Lighting'!$AX$7,0,IF((-$C$7*$T13+$D$7)<='LED-Lighting'!$AZ$7,(-$C$7*$T13+$D$7),'LED-Lighting'!$AZ$7))","v":{"$error":"#N/A"}},{"$f":"IF($T13>'LED-Lighting'!$AX$7,0,IF((-$C$8*$T13+$D$8)<='LED-Lighting'!$AZ$7,(-$C$8*$T13+$D$8),'LED-Lighting'!$AZ$7))","v":{"$error":"#N/A"}},null,{"$f":"IF($T13>'LED-Lighting'!$AX$19,0,IF((-$G$3*$T13+$H$3)<='LED-Lighting'!$AZ$19,(-$G$3*$T13+$H$3),'LED-Lighting'!$AZ$19))","v":{"$error":"#N/A"}},{"$f":"IF($T13>'LED-Lighting'!$AX$19,0,IF((-$G$4*$T13+$H$4)<='LED-Lighting'!$AZ$19,(-$G$4*$T13+$H$4),'LED-Lighting'!$AZ$19))","v":{"$error":"#N/A"}},{"$f":"IF($T13>'LED-Lighting'!$AX$19,0,IF((-$G$5*$T13+$H$5)<='LED-Lighting'!$AZ$19,(-$G$5*$T13+$H$5),'LED-Lighting'!$AZ$19))","v":{"$error":"#N/A"}},{"$f":"IF($T13>'LED-Lighting'!$AX$19,0,IF((-$G$6*$T13+$H$6)<='LED-Lighting'!$AZ$19,(-$G$6*$T13+$H$6),'LED-Lighting'!$AZ$19))","v":{"$error":"#N/A"}},{"$f":"IF($T13>'LED-Lighting'!$AX$19,0,IF((-$G$7*$T13+$H$7)<='LED-Lighting'!$AZ$19,(-$G$7*$T13+$H$7),'LED-Lighting'!$AZ$19))","v":{"$error":"#N/A"}},{"$f":"IF($T13>'LED-Lighting'!$AX$19,0,IF((-$G$8*$T13+$H$8)<='LED-Lighting'!$AZ$19,(-$G$8*$T13+$H$8),'LED-Lighting'!$AZ$19))","v":{"$error":"#N/A"}},null,{"$f":"IF($T13>'LED-Lighting'!$AX$31,0,IF((-$K$3*$T13+$L$3)<='LED-Lighting'!$AZ$31,(-$K$3*$T13+$L$3),'LED-Lighting'!$AZ$31))","v":{"$error":"#N/A"}},{"$f":"IF($T13>'LED-Lighting'!$AX$31,0,IF((-$K$4*$T13+$L$4)<='LED-Lighting'!$AZ$31,(-$K$4*$T13+$L$4),'LED-Lighting'!$AZ$31))","v":{"$error":"#N/A"}},{"$f":"IF($T13>'LED-Lighting'!$AX$31,0,IF((-$K$5*$T13+$L$5)<='LED-Lighting'!$AZ$31,(-$K$5*$T13+$L$5),'LED-Lighting'!$AZ$31))","v":{"$error":"#N/A"}},{"$f":"IF($T13>'LED-Lighting'!$AX$31,0,IF((-$K$6*$T13+$L$6)<='LED-Lighting'!$AZ$31,(-$K$6*$T13+$L$6),'LED-Lighting'!$AZ$31))","v":{"$error":"#N/A"}},{"$f":"IF($T13>'LED-Lighting'!$AX$31,0,IF((-$K$7*$T13+$L$7)<='LED-Lighting'!$AZ$31,(-$K$7*$T13+$L$7),'LED-Lighting'!$AZ$31))","v":{"$error":"#N/A"}},{"$f":"IF($T13>'LED-Lighting'!$AX$31,0,IF((-$K$8*$T13+$L$8)<='LED-Lighting'!$AZ$31,(-$K$8*$T13+$L$8),'LED-Lighting'!$AZ$31))","v":{"$error":"#N/A"}},null,null,{"$f":"#REF!","v":{"$error":"#REF!"}},null,{"$f":"#REF!","v":{"$error":"#REF!"}},{"$f":"#REF!","v":{"$error":"#REF!"}},{"$f":"#REF!","v":{"$error":"#REF!"}},{"$f":"#REF!","v":{"$error":"#REF!"}},{"$f":"#REF!","v":{"$error":"#REF!"}},{"$f":"#REF!","v":{"$error":"#REF!"}}]
[null,null,null,null,null,null,null,null,null,null,null,null,null,null,null,null,null,null,null,27,{"$f":"IF($T14>'LED-Lighting'!$AX$7,0,IF((-$C$3*$T14+$D$3)<='LED-Lighting'!$AZ$7,(-$C$3*$T14+$D$3),'LED-Lighting'!$AZ$7))","v":{"$error":"#N/A"}},{"$f":"IF($T14>'LED-Lighting'!$AX$7,0,IF((-$C$4*$T14+$D$4)<='LED-Lighting'!$AZ$7,(-$C$4*$T14+$D$4),'LED-Lighting'!$AZ$7))","v":{"$error":"#N/A"}},{"$f":"IF($T14>'LED-Lighting'!$AX$7,0,IF((-$C$5*$T14+$D$5)<='LED-Lighting'!$AZ$7,(-$C$5*$T14+$D$5),'LED-Lighting'!$AZ$7))","v":{"$error":"#N/A"}},{"$f":"IF($T14>'LED-Lighting'!$AX$7,0,IF((-$C$6*$T14+$D$6)<='LED-Lighting'!$AZ$7,(-$C$6*$T14+$D$6),'LED-Lighting'!$AZ$7))","v":{"$error":"#N/A"}},{"$f":"IF($T14>'LED-Lighting'!$AX$7,0,IF((-$C$7*$T14+$D$7)<='LED-Lighting'!$AZ$7,(-$C$7*$T14+$D$7),'LED-Lighting'!$AZ$7))","v":{"$error":"#N/A"}},{"$f":"IF($T14>'LED-Lighting'!$AX$7,0,IF((-$C$8*$T14+$D$8)<='LED-Lighting'!$AZ$7,(-$C$8*$T14+$D$8),'LED-Lighting'!$AZ$7))","v":{"$error":"#N/A"}},null,{"$f":"IF($T14>'LED-Lighting'!$AX$19,0,IF((-$G$3*$T14+$H$3)<='LED-Lighting'!$AZ$19,(-$G$3*$T14+$H$3),'LED-Lighting'!$AZ$19))","v":{"$error":"#N/A"}},{"$f":"IF($T14>'LED-Lighting'!$AX$19,0,IF((-$G$4*$T14+$H$4)<='LED-Lighting'!$AZ$19,(-$G$4*$T14+$H$4),'LED-Lighting'!$AZ$19))","v":{"$error":"#N/A"}},{"$f":"IF($T14>'LED-Lighting'!$AX$19,0,IF((-$G$5*$T14+$H$5)<='LED-Lighting'!$AZ$19,(-$G$5*$T14+$H$5),'LED-Lighting'!$AZ$19))","v":{"$error":"#N/A"}},{"$f":"IF($T14>'LED-Lighting'!$AX$19,0,IF((-$G$6*$T14+$H$6)<='LED-Lighting'!$AZ$19,(-$G$6*$T14+$H$6),'LED-Lighting'!$AZ$19))","v":{"$error":"#N/A"}},{"$f":"IF($T14>'LED-Lighting'!$AX$19,0,IF((-$G$7*$T14+$H$7)<='LED-Lighting'!$AZ$19,(-$G$7*$T14+$H$7),'LED-Lighting'!$AZ$19))","v":{"$error":"#N/A"}},{"$f":"IF($T14>'LED-Lighting'!$AX$19,0,IF((-$G$8*$T14+$H$8)<='LED-Lighting'!$AZ$19,(-$G$8*$T14+$H$8),'LED-Lighting'!$AZ$19))","v":{"$error":"#N/A"}},null,{"$f":"IF($T14>'LED-Lighting'!$AX$31,0,IF((-$K$3*$T14+$L$3)<='LED-Lighting'!$AZ$31,(-$K$3*$T14+$L$3),'LED-Lighting'!$AZ$31))","v":{"$error":"#N/A"}},{"$f":"IF($T14>'LED-Lighting'!$AX$31,0,IF((-$K$4*$T14+$L$4)<='LED-Lighting'!$AZ$31,(-$K$4*$T14+$L$4),'LED-Lighting'!$AZ$31))","v":{"$error":"#N/A"}},{"$f":"IF($T14>'LED-Lighting'!$AX$31,0,IF((-$K$5*$T14+$L$5)<='LED-Lighting'!$AZ$31,(-$K$5*$T14+$L$5),'LED-Lighting'!$AZ$31))","v":{"$error":"#N/A"}},{"$f":"IF($T14>'LED-Lighting'!$AX$31,0,IF((-$K$6*$T14+$L$6)<='LED-Lighting'!$AZ$31,(-$K$6*$T14+$L$6),'LED-Lighting'!$AZ$31))","v":{"$error":"#N/A"}},{"$f":"IF($T14>'LED-Lighting'!$AX$31,0,IF((-$K$7*$T14+$L$7)<='LED-Lighting'!$AZ$31,(-$K$7*$T14+$L$7),'LED-Lighting'!$AZ$31))","v":{"$error":"#N/A"}},{"$f":"IF($T14>'LED-Lighting'!$AX$31,0,IF((-$K$8*$T14+$L$8)<='LED-Lighting'!$AZ$31,(-$K$8*$T14+$L$8),'LED-Lighting'!$AZ$31))","v":{"$error":"#N/A"}},null,null,{"$f":"#REF!","v":{"$error":"#REF!"}},null,{"$f":"#REF!","v":{"$error":"#REF!"}},{"$f":"#REF!","v":{"$error":"#REF!"}},{"$f":"#REF!","v":{"$error":"#REF!"}},{"$f":"#REF!","v":{"$error":"#REF!"}},{"$f":"#REF!","v":{"$error":"#REF!"}},{"$f":"#REF!","v":{"$error":"#REF!"}},null,null,null,null,null,null,{"$f":"VLOOKUP(BF2,$AQ:$AZ,5,FALSE)","v":{"$error":"#N/A"}},{"$f":"VLOOKUP(BF2,$AQ:$AZ,6,FALSE)","v":{"$error":"#N/A"}},null,{"$f":"VLOOKUP(BF2,$AQ:$AZ,7,FALSE)","v":{"$error":"#N/A"}},{"$f":"VLOOKUP(BF2,$AQ:$AZ,8,FALSE)","v":{"$error":"#N/A"}},null,null,null,null,null,null,null,null,{"$f":"VLOOKUP(BS2,$AQ:$AZ,5,FALSE)","v":{"$error":"#N/A"}},{"$f":"VLOOKUP(BS2,$AQ:$AZ,6,FALSE)","v":{"$error":"#N/A"}},null,{"$f":"VLOOKUP(BS2,$AQ:$AZ,7,FALSE)","v":{"$error":"#N/A"}},{"$f":"VLOOKUP(BS2,$AQ:$AZ,8,FALSE)","v":{"$error":"#N/A"}},null,null,null,null,null,null,null,null,{"$f":"VLOOKUP(CF2,$AQ:$AZ,5,FALSE)","v":{"$error":"#N/A"}},{"$f":"VLOOKUP(CF2,$AQ:$AZ,6,FALSE)","v":{"$error":"#N/A"}},null,{"$f":"VLOOKUP(CF2,$AQ:$AZ,7,FALSE)","v":{"$error":"#N/A"}},{"$f":"VLOOKUP(CF2,$AQ:$AZ,8,FALSE)","v":{"$error":"#N/A"}}]
[null,null,null,null,null,null,null,null,null,null,null,null,null,null,null,null,null,null,null,30,{"$f":"IF($T15>'LED-Lighting'!$AX$7,0,IF((-$C$3*$T15+$D$3)<='LED-Lighting'!$AZ$7,(-$C$3*$T15+$D$3),'LED-Lighting'!$AZ$7))","v":{"$error":"#N/A"}},{"$f":"IF($T15>'LED-Lighting'!$AX$7,0,IF((-$C$4*$T15+$D$4)<='LED-Lighting'!$AZ$7,(-$C$4*$T15+$D$4),'LED-Lighting'!$AZ$7))","v":{"$error":"#N/A"}},{"$f":"IF($T15>'LED-Lighting'!$AX$7,0,IF((-$C$5*$T15+$D$5)<='LED-Lighting'!$AZ$7,(-$C$5*$T15+$D$5),'LED-Lighting'!$AZ$7))","v":{"$error":"#N/A"}},{"$f":"IF($T15>'LED-Lighting'!$AX$7,0,IF((-$C$6*$T15+$D$6)<='LED-Lighting'!$AZ$7,(-$C$6*$T15+$D$6),'LED-Lighting'!$AZ$7))","v":{"$error":"#N/A"}},{"$f":"IF($T15>'LED-Lighting'!$AX$7,0,IF((-$C$7*$T15+$D$7)<='LED-Lighting'!$AZ$7,(-$C$7*$T15+$D$7),'LED-Lighting'!$AZ$7))","v":{"$error":"#N/A"}},{"$f":"IF($T15>'LED-Lighting'!$AX$7,0,IF((-$C$8*$T15+$D$8)<='LED-Lighting'!$AZ$7,(-$C$8*$T15+$D$8),'LED-Lighting'!$AZ$7))","v":{"$error":"#N/A"}},null,{"$f":"IF($T15>'LED-Lighting'!$AX$19,0,IF((-$G$3*$T15+$H$3)<='LED-Lighting'!$AZ$19,(-$G$3*$T15+$H$3),'LED-Lighting'!$AZ$19))","v":{"$error":"#N/A"}},{"$f":"IF($T15>'LED-Lighting'!$AX$19,0,IF((-$G$4*$T15+$H$4)<='LED-Lighting'!$AZ$19,(-$G$4*$T15+$H$4),'LED-Lighting'!$AZ$19))","v":{"$error":"#N/A"}},{"$f":"IF($T15>'LED-Lighting'!$AX$19,0,IF((-$G$5*$T15+$H$5)<='LED-Lighting'!$AZ$19,(-$G$5*$T15+$H$5),'LED-Lighting'!$AZ$19))","v":{"$error":"#N/A"}},{"$f":"IF($T15>'LED-Lighting'!$AX$19,0,IF((-$G$6*$T15+$H$6)<='LED-Lighting'!$AZ$19,(-$G$6*$T15+$H$6),'LED-Lighting'!$AZ$19))","v":{"$error":"#N/A"}},{"$f":"IF($T15>'LED-Lighting'!$AX$19,0,IF((-$G$7*$T15+$H$7)<='LED-Lighting'!$AZ$19,(-$G$7*$T15+$H$7),'LED-Lighting'!$AZ$19))","v":{"$error":"#N/A"}},{"$f":"IF($T15>'LED-Lighting'!$AX$19,0,IF((-$G$8*$T15+$H$8)<='LED-Lighting'!$AZ$19,(-$G$8*$T15+$H$8),'LED-Lighting'!$AZ$19))","v":{"$error":"#N/A"}},null,{"$f":"IF($T15>'LED-Lighting'!$AX$31,0,IF((-$K$3*$T15+$L$3)<='LED-Lighting'!$AZ$31,(-$K$3*$T15+$L$3),'LED-Lighting'!$AZ$31))","v":{"$error":"#N/A"}},{"$f":"IF($T15>'LED-Lighting'!$AX$31,0,IF((-$K$4*$T15+$L$4)<='LED-Lighting'!$AZ$31,(-$K$4*$T15+$L$4),'LED-Lighting'!$AZ$31))","v":{"$error":"#N/A"}},{"$f":"IF($T15>'LED-Lighting'!$AX$31,0,IF((-$K$5*$T15+$L$5)<='LED-Lighting'!$AZ$31,(-$K$5*$T15+$L$5),'LED-Lighting'!$AZ$31))","v":{"$error":"#N/A"}},{"$f":"IF($T15>'LED-Lighting'!$AX$31,0,IF((-$K$6*$T15+$L$6)<='LED-Lighting'!$AZ$31,(-$K$6*$T15+$L$6),'LED-Lighting'!$AZ$31))","v":{"$error":"#N/A"}},{"$f":"IF($T15>'LED-Lighting'!$AX$31,0,IF((-$K$7*$T15+$L$7)<='LED-Lighting'!$AZ$31,(-$K$7*$T15+$L$7),'LED-Lighting'!$AZ$31))","v":{"$error":"#N/A"}},{"$f":"IF($T15>'LED-Lighting'!$AX$31,0,IF((-$K$8*$T15+$L$8)<='LED-Lighting'!$AZ$31,(-$K$8*$T15+$L$8),'LED-Lighting'!$AZ$31))","v":{"$error":"#N/A"}},null,null,{"$f":"#REF!","v":{"$error":"#REF!"}},null,{"$f":"#REF!","v":{"$error":"#REF!"}},{"$f":"#REF!","v":{"$error":"#REF!"}},{"$f":"#REF!","v":{"$error":"#REF!"}},{"$f":"#REF!","v":{"$error":"#REF!"}},{"$f":"#REF!","v":{"$error":"#REF!"}},{"$f":"#REF!","v":{"$error":"#REF!"}},null,null,null,null,null,null,"low current",null,null,"high current",null,null,null,null,null,null,null,null,null,"low current",null,null,"high current",null,null,null,null,null,null,null,null,null,"low current",null,null,"high current"]
[null,null,null,null,null,null,null,null,null,null,null,null,null,null,null,null,null,null,null,33,{"$f":"IF($T16>'LED-Lighting'!$AX$7,0,IF((-$C$3*$T16+$D$3)<='LED-Lighting'!$AZ$7,(-$C$3*$T16+$D$3),'LED-Lighting'!$AZ$7))","v":{"$error":"#N/A"}},{"$f":"IF($T16>'LED-Lighting'!$AX$7,0,IF((-$C$4*$T16+$D$4)<='LED-Lighting'!$AZ$7,(-$C$4*$T16+$D$4),'LED-Lighting'!$AZ$7))","v":{"$error":"#N/A"}},{"$f":"IF($T16>'LED-Lighting'!$AX$7,0,IF((-$C$5*$T16+$D$5)<='LED-Lighting'!$AZ$7,(-$C$5*$T16+$D$5),'LED-Lighting'!$AZ$7))","v":{"$error":"#N/A"}},{"$f":"IF($T16>'LED-Lighting'!$AX$7,0,IF((-$C$6*$T16+$D$6)<='LED-Lighting'!$AZ$7,(-$C$6*$T16+$D$6),'LED-Lighting'!$AZ$7))","v":{"$error":"#N/A"}},{"$f":"IF($T16>'LED-Lighting'!$AX$7,0,IF((-$C$7*$T16+$D$7)<='LED-Lighting'!$AZ$7,(-$C$7*$T16+$D$7),'LED-Lighting'!$AZ$7))","v":{"$error":"#N/A"}},{"$f":"IF($T16>'LED-Lighting'!$AX$7,0,IF((-$C$8*$T16+$D$8)<='LED-Lighting'!$AZ$7,(-$C$8*$T16+$D$8),'LED-Lighting'!$AZ$7))","v":{"$error":"#N/A"}},null,{"$f":"IF($T16>'LED-Lighting'!$AX$19,0,IF((-$G$3*$T16+$H$3)<='LED-Lighting'!$AZ$19,(-$G$3*$T16+$H$3),'LED-Lighting'!$AZ$19))","v":{"$error":"#N/A"}},{"$f":"IF($T16>'LED-Lighting'!$AX$19,0,IF((-$G$4*$T16+$H$4)<='LED-Lighting'!$AZ$19,(-$G$4*$T16+$H$4),'LED-Lighting'!$AZ$19))","v":{"$error":"#N/A"}},{"$f":"IF($T16>'LED-Lighting'!$AX$19,0,IF((-$G$5*$T16+$H$5)<='LED-Lighting'!$AZ$19,(-$G$5*$T16+$H$5),'LED-Lighting'!$AZ$19))","v":{"$error":"#N/A"}},{"$f":"IF($T16>'LED-Lighting'!$AX$19,0,IF((-$G$6*$T16+$H$6)<='LED-Lighting'!$AZ$19,(-$G$6*$T16+$H$6),'LED-Lighting'!$AZ$19))","v":{"$error":"#N/A"}},{"$f":"IF($T16>'LED-Lighting'!$AX$19,0,IF((-$G$7*$T16+$H$7)<='LED-Lighting'!$AZ$19,(-$G$7*$T16+$H$7),'LED-Lighting'!$AZ$19))","v":{"$error":"#N/A"}},{"$f":"IF($T16>'LED-Lighting'!$AX$19,0,IF((-$G$8*$T16+$H$8)<='LED-Lighting'!$AZ$19,(-$G$8*$T16+$H$8),'LED-Lighting'!$AZ$19))","v":{"$error":"#N/A"}},null,{"$f":"IF($T16>'LED-Lighting'!$AX$31,0,IF((-$K$3*$T16+$L$3)<='LED-Lighting'!$AZ$31,(-$K$3*$T16+$L$3),'LED-Lighting'!$AZ$31))","v":{"$error":"#N/A"}},{"$f":"IF($T16>'LED-Lighting'!$AX$31,0,IF((-$K$4*$T16+$L$4)<='LED-Lighting'!$AZ$31,(-$K$4*$T16+$L$4),'LED-Lighting'!$AZ$31))","v":{"$error":"#N/A"}},{"$f":"IF($T16>'LED-Lighting'!$AX$31,0,IF((-$K$5*$T16+$L$5)<='LED-Lighting'!$AZ$31,(-$K$5*$T16+$L$5),'LED-Lighting'!$AZ$31))","v":{"$error":"#N/A"}},{"$f":"IF($T16>'LED-Lighting'!$AX$31,0,IF((-$K$6*$T16+$L$6)<='LED-Lighting'!$AZ$31,(-$K$6*$T16+$L$6),'LED-Lighting'!$AZ$31))","v":{"$error":"#N/A"}},{"$f":"IF($T16>'LED-Lighting'!$AX$31,0,IF((-$K$7*$T16+$L$7)<='LED-Lighting'!$AZ$31,(-$K$7*$T16+$L$7),'LED-Lighting'!$AZ$31))","v":{"$error":"#N/A"}},{"$f":"IF($T16>'LED-Lighting'!$AX$31,0,IF((-$K$8*$T16+$L$8)<='LED-Lighting'!$AZ$31,(-$K$8*$T16+$L$8),'LED-Lighting'!$AZ$31))","v":{"$error":"#N/A"}},null,null,{"$f":"#REF!","v":{"$error":"#REF!"}},null,{"$f":"#REF!","v":{"$error":"#REF!"}},{"$f":"#REF!","v":{"$error":"#REF!"}},{"$f":"#REF!","v":{"$error":"#REF!"}},{"$f":"#REF!","v":{"$error":"#REF!"}},{"$f":"#REF!","v":{"$error":"#REF!"}},{"$f":"#REF!","v":{"$error":"#REF!"}},null,null,null,null,null,{"$f":"#REF!","v":{"$error":"#REF!"}},{"$f":"VLOOKUP(BD16,#REF!,BE$14,FALSE)","v":{"$error":"#REF!"}},{"$f":"VLOOKUP(BD16,#REF!,BF$14,FALSE)","v":{"$error":"#REF!"}},null,{"$f":"VLOOKUP(BD16,#REF!,BH$14,FALSE)","v":{"$error":"#REF!"}},{"$f":"VLOOKUP(BD16,#REF!,BI$14,FALSE)","v":{"$error":"#REF!"}},null,null,null,null,null,null,null,{"$f":"BD16","v":{"$error":"#REF!"}},{"$f":"VLOOKUP(BQ16,#REF!,BR$14,FALSE)","v":{"$error":"#REF!"}},{"$f":"VLOOKUP(BQ16,#REF!,BS$14,FALSE)","v":{"$error":"#REF!"}},null,{"$f":"VLOOKUP(BQ16,#REF!,BU$14,FALSE)","v":{"$error":"#REF!"}},{"$f":"VLOOKUP(BQ16,#REF!,BV$14,FALSE)","v":{"$error":"#REF!"}},null,null,null,null,null,null,null,{"$f":"BQ16","v":{"$error":"#REF!"}},{"$f":"VLOOKUP(CD16,#REF!,CE$14,FALSE)","v":{"$error":"#REF!"}},{"$f":"VLOOKUP(CD16,#REF!,CF$14,FALSE)","v":{"$error":"#REF!"}},null,{"$f":"VLOOKUP(CD16,#REF!,CH$14,FALSE)","v":{"$error":"#REF!"}},{"$f":"VLOOKUP(CD16,#REF!,CI$14,FALSE)","v":{"$error":"#REF!"}}]
[null,null,null,null,null,null,null,null,null,null,null,null,null,null,null,null,null,null,null,36,{"$f":"IF($T17>'LED-Lighting'!$AX$7,0,IF((-$C$3*$T17+$D$3)<='LED-Lighting'!$AZ$7,(-$C$3*$T17+$D$3),'LED-Lighting'!$AZ$7))","v":{"$error":"#N/A"}},{"$f":"IF($T17>'LED-Lighting'!$AX$7,0,IF((-$C$4*$T17+$D$4)<='LED-Lighting'!$AZ$7,(-$C$4*$T17+$D$4),'LED-Lighting'!$AZ$7))","v":{"$error":"#N/A"}},{"$f":"IF($T17>'LED-Lighting'!$AX$7,0,IF((-$C$5*$T17+$D$5)<='LED-Lighting'!$AZ$7,(-$C$5*$T17+$D$5),'LED-Lighting'!$AZ$7))","v":{"$error":"#N/A"}},{"$f":"IF($T17>'LED-Lighting'!$AX$7,0,IF((-$C$6*$T17+$D$6)<='LED-Lighting'!$AZ$7,(-$C$6*$T17+$D$6),'LED-Lighting'!$AZ$7))","v":{"$error":"#N/A"}},{"$f":"IF($T17>'LED-Lighting'!$AX$7,0,IF((-$C$7*$T17+$D$7)<='LED-Lighting'!$AZ$7,(-$C$7*$T17+$D$7),'LED-Lighting'!$AZ$7))","v":{"$error":"#N/A"}},{"$f":"IF($T17>'LED-Lighting'!$AX$7,0,IF((-$C$8*$T17+$D$8)<='LED-Lighting'!$AZ$7,(-$C$8*$T17+$D$8),'LED-Lighting'!$AZ$7))","v":{"$error":"#N/A"}},null,{"$f":"IF($T17>'LED-Lighting'!$AX$19,0,IF((-$G$3*$T17+$H$3)<='LED-Lighting'!$AZ$19,(-$G$3*$T17+$H$3),'LED-Lighting'!$AZ$19))","v":{"$error":"#N/A"}},{"$f":"IF($T17>'LED-Lighting'!$AX$19,0,IF((-$G$4*$T17+$H$4)<='LED-Lighting'!$AZ$19,(-$G$4*$T17+$H$4),'LED-Lighting'!$AZ$19))","v":{"$error":"#N/A"}},{"$f":"IF($T17>'LED-Lighting'!$AX$19,0,IF((-$G$5*$T17+$H$5)<='LED-Lighting'!$AZ$19,(-$G$5*$T17+$H$5),'LED-Lighting'!$AZ$19))","v":{"$error":"#N/A"}},{"$f":"IF($T17>'LED-Lighting'!$AX$19,0,IF((-$G$6*$T17+$H$6)<='LED-Lighting'!$AZ$19,(-$G$6*$T17+$H$6),'LED-Lighting'!$AZ$19))","v":{"$error":"#N/A"}},{"$f":"IF($T17>'LED-Lighting'!$AX$19,0,IF((-$G$7*$T17+$H$7)<='LED-Lighting'!$AZ$19,(-$G$7*$T17+$H$7),'LED-Lighting'!$AZ$19))","v":{"$error":"#N/A"}},{"$f":"IF($T17>'LED-Lighting'!$AX$19,0,IF((-$G$8*$T17+$H$8)<='LED-Lighting'!$AZ$19,(-$G$8*$T17+$H$8),'LED-Lighting'!$AZ$19))","v":{"$error":"#N/A"}},null,{"$f":"IF($T17>'LED-Lighting'!$AX$31,0,IF((-$K$3*$T17+$L$3)<='LED-Lighting'!$AZ$31,(-$K$3*$T17+$L$3),'LED-Lighting'!$AZ$31))","v":{"$error":"#N/A"}},{"$f":"IF($T17>'LED-Lighting'!$AX$31,0,IF((-$K$4*$T17+$L$4)<='LED-Lighting'!$AZ$31,(-$K$4*$T17+$L$4),'LED-Lighting'!$AZ$31))","v":{"$error":"#N/A"}},{"$f":"IF($T17>'LED-Lighting'!$AX$31,0,IF((-$K$5*$T17+$L$5)<='LED-Lighting'!$AZ$31,(-$K$5*$T17+$L$5),'LED-Lighting'!$AZ$31))","v":{"$error":"#N/A"}},{"$f":"IF($T17>'LED-Lighting'!$AX$31,0,IF((-$K$6*$T17+$L$6)<='LED-Lighting'!$AZ$31,(-$K$6*$T17+$L$6),'LED-Lighting'!$AZ$31))","v":{"$error":"#N/A"}},{"$f":"IF($T17>'LED-Lighting'!$AX$31,0,IF((-$K$7*$T17+$L$7)<='LED-Lighting'!$AZ$31,(-$K$7*$T17+$L$7),'LED-Lighting'!$AZ$31))","v":{"$error":"#N/A"}},{"$f":"IF($T17>'LED-Lighting'!$AX$31,0,IF((-$K$8*$T17+$L$8)<='LED-Lighting'!$AZ$31,(-$K$8*$T17+$L$8),'LED-Lighting'!$AZ$31))","v":{"$error":"#N/A"}},null,null,{"$f":"#REF!","v":{"$error":"#REF!"}},null,{"$f":"#REF!","v":{"$error":"#REF!"}},{"$f":"#REF!","v":{"$error":"#REF!"}},{"$f":"#REF!","v":{"$error":"#REF!"}},{"$f":"#REF!","v":{"$error":"#REF!"}},{"$f":"#REF!","v":{"$error":"#REF!"}},{"$f":"#REF!","v":{"$error":"#REF!"}},null,null,null,null,null,{"$f":"#REF!","v":{"$error":"#REF!"}},{"$f":"VLOOKUP(BD17,#REF!,BE$14,FALSE)","v":{"$error":"#REF!"}},{"$f":"VLOOKUP(BD17,#REF!,BF$14,FALSE)","v":{"$error":"#REF!"}},null,{"$f":"VLOOKUP(BD17,#REF!,BH$14,FALSE)","v":{"$error":"#REF!"}},{"$f":"VLOOKUP(BD17,#REF!,BI$14,FALSE)","v":{"$error":"#REF!"}},null,null,null,null,null,null,null,{"$f":"BD17","v":{"$error":"#REF!"}},{"$f":"VLOOKUP(BQ17,#REF!,BR$14,FALSE)","v":{"$error":"#REF!"}},{"$f":"VLOOKUP(BQ17,#REF!,BS$14,FALSE)","v":{"$error":"#REF!"}},null,{"$f":"VLOOKUP(BQ17,#REF!,BU$14,FALSE)","v":{"$error":"#REF!"}},{"$f":"VLOOKUP(BQ17,#REF!,BV$14,FALSE)","v":{"$error":"#REF!"}},null,null,null,null,null,null,null,{"$f":"BQ17","v":{"$error":"#REF!"}},{"$f":"VLOOKUP(CD17,#REF!,CE$14,FALSE)","v":{"$error":"#REF!"}},{"$f":"VLOOKUP(CD17,#REF!,CF$14,FALSE)","v":{"$error":"#REF!"}},null,{"$f":"VLOOKUP(CD17,#REF!,CH$14,FALSE)","v":{"$error":"#REF!"}},{"$f":"VLOOKUP(CD17,#REF!,CI$14,FALSE)","v":{"$error":"#REF!"}}]
[null,null,null,null,null,null,null,null,null,null,null,null,null,null,null,null,null,null,null,39,{"$f":"IF($T18>'LED-Lighting'!$AX$7,0,IF((-$C$3*$T18+$D$3)<='LED-Lighting'!$AZ$7,(-$C$3*$T18+$D$3),'LED-Lighting'!$AZ$7))","v":{"$error":"#N/A"}},{"$f":"IF($T18>'LED-Lighting'!$AX$7,0,IF((-$C$4*$T18+$D$4)<='LED-Lighting'!$AZ$7,(-$C$4*$T18+$D$4),'LED-Lighting'!$AZ$7))","v":{"$error":"#N/A"}},{"$f":"IF($T18>'LED-Lighting'!$AX$7,0,IF((-$C$5*$T18+$D$5)<='LED-Lighting'!$AZ$7,(-$C$5*$T18+$D$5),'LED-Lighting'!$AZ$7))","v":{"$error":"#N/A"}},{"$f":"IF($T18>'LED-Lighting'!$AX$7,0,IF((-$C$6*$T18+$D$6)<='LED-Lighting'!$AZ$7,(-$C$6*$T18+$D$6),'LED-Lighting'!$AZ$7))","v":{"$error":"#N/A"}},{"$f":"IF($T18>'LED-Lighting'!$AX$7,0,IF((-$C$7*$T18+$D$7)<='LED-Lighting'!$AZ$7,(-$C$7*$T18+$D$7),'LED-Lighting'!$AZ$7))","v":{"$error":"#N/A"}},{"$f":"IF($T18>'LED-Lighting'!$AX$7,0,IF((-$C$8*$T18+$D$8)<='LED-Lighting'!$AZ$7,(-$C$8*$T18+$D$8),'LED-Lighting'!$AZ$7))","v":{"$error":"#N/A"}},null,{"$f":"IF($T18>'LED-Lighting'!$AX$19,0,IF((-$G$3*$T18+$H$3)<='LED-Lighting'!$AZ$19,(-$G$3*$T18+$H$3),'LED-Lighting'!$AZ$19))","v":{"$error":"#N/A"}},{"$f":"IF($T18>'LED-Lighting'!$AX$19,0,IF((-$G$4*$T18+$H$4)<='LED-Lighting'!$AZ$19,(-$G$4*$T18+$H$4),'LED-Lighting'!$AZ$19))","v":{"$error":"#N/A"}},{"$f":"IF($T18>'LED-Lighting'!$AX$19,0,IF((-$G$5*$T18+$H$5)<='LED-Lighting'!$AZ$19,(-$G$5*$T18+$H$5),'LED-Lighting'!$AZ$19))","v":{"$error":"#N/A"}},{"$f":"IF($T18>'LED-Lighting'!$AX$19,0,IF((-$G$6*$T18+$H$6)<='LED-Lighting'!$AZ$19,(-$G$6*$T18+$H$6),'LED-Lighting'!$AZ$19))","v":{"$error":"#N/A"}},{"$f":"IF($T18>'LED-Lighting'!$AX$19,0,IF((-$G$7*$T18+$H$7)<='LED-Lighting'!$AZ$19,(-$G$7*$T18+$H$7),'LED-Lighting'!$AZ$19))","v":{"$error":"#N/A"}},{"$f":"IF($T18>'LED-Lighting'!$AX$19,0,IF((-$G$8*$T18+$H$8)<='LED-Lighting'!$AZ$19,(-$G$8*$T18+$H$8),'LED-Lighting'!$AZ$19))","v":{"$error":"#N/A"}},null,{"$f":"IF($T18>'LED-Lighting'!$AX$31,0,IF((-$K$3*$T18+$L$3)<='LED-Lighting'!$AZ$31,(-$K$3*$T18+$L$3),'LED-Lighting'!$AZ$31))","v":{"$error":"#N/A"}},{"$f":"IF($T18>'LED-Lighting'!$AX$31,0,IF((-$K$4*$T18+$L$4)<='LED-Lighting'!$AZ$31,(-$K$4*$T18+$L$4),'LED-Lighting'!$AZ$31))","v":{"$error":"#N/A"}},{"$f":"IF($T18>'LED-Lighting'!$AX$31,0,IF((-$K$5*$T18+$L$5)<='LED-Lighting'!$AZ$31,(-$K$5*$T18+$L$5),'LED-Lighting'!$AZ$31))","v":{"$error":"#N/A"}},{"$f":"IF($T18>'LED-Lighting'!$AX$31,0,IF((-$K$6*$T18+$L$6)<='LED-Lighting'!$AZ$31,(-$K$6*$T18+$L$6),'LED-Lighting'!$AZ$31))","v":{"$error":"#N/A"}},{"$f":"IF($T18>'LED-Lighting'!$AX$31,0,IF((-$K$7*$T18+$L$7)<='LED-Lighting'!$AZ$31,(-$K$7*$T18+$L$7),'LED-Lighting'!$AZ$31))","v":{"$error":"#N/A"}},{"$f":"IF($T18>'LED-Lighting'!$AX$31,0,IF((-$K$8*$T18+$L$8)<='LED-Lighting'!$AZ$31,(-$K$8*$T18+$L$8),'LED-Lighting'!$AZ$31))","v":{"$error":"#N/A"}},null,null,{"$f":"#REF!","v":{"$error":"#REF!"}},null,{"$f":"#REF!","v":{"$error":"#REF!"}},{"$f":"#REF!","v":{"$error":"#REF!"}},{"$f":"#REF!","v":{"$error":"#REF!"}},{"$f":"#REF!","v":{"$error":"#REF!"}},{"$f":"#REF!","v":{"$error":"#REF!"}},{"$f":"#REF!","v":{"$error":"#REF!"}},null,null,null,null,null,{"$f":"#REF!","v":{"$error":"#REF!"}},{"$f":"VLOOKUP(BD18,#REF!,BE$14,FALSE)","v":{"$error":"#REF!"}},{"$f":"VLOOKUP(BD18,#REF!,BF$14,FALSE)","v":{"$error":"#REF!"}},null,{"$f":"VLOOKUP(BD18,#REF!,BH$14,FALSE)","v":{"$error":"#REF!"}},{"$f":"VLOOKUP(BD18,#REF!,BI$14,FALSE)","v":{"$error":"#REF!"}},null,null,null,null,null,null,null,{"$error":"#REF!"},{"$f":"VLOOKUP(BQ18,#REF!,BR$14,FALSE)","v":{"$error":"#REF!"}},{"$f":"VLOOKUP(BQ18,#REF!,BS$14,FALSE)","v":{"$error":"#REF!"}},null,{"$f":"VLOOKUP(BQ18,#REF!,BU$14,FALSE)","v":{"$error":"#REF!"}},{"$f":"VLOOKUP(BQ18,#REF!,BV$14,FALSE)","v":{"$error":"#REF!"}},null,null,null,null,null,null,null,{"$error":"#REF!"},{"$f":"VLOOKUP(CD18,#REF!,CE$14,FALSE)","v":{"$error":"#REF!"}},{"$f":"VLOOKUP(CD18,#REF!,CF$14,FALSE)","v":{"$error":"#REF!"}},null,{"$f":"VLOOKUP(CD18,#REF!,CH$14,FALSE)","v":{"$error":"#REF!"}},{"$f":"VLOOKUP(CD18,#REF!,CI$14,FALSE)","v":{"$error":"#REF!"}}]
[null,null,null,null,null,null,null,null,null,null,null,null,null,null,null,null,null,null,null,42,{"$f":"IF($T19>'LED-Lighting'!$AX$7,0,IF((-$C$3*$T19+$D$3)<='LED-Lighting'!$AZ$7,(-$C$3*$T19+$D$3),'LED-Lighting'!$AZ$7))","v":{"$error":"#N/A"}},{"$f":"IF($T19>'LED-Lighting'!$AX$7,0,IF((-$C$4*$T19+$D$4)<='LED-Lighting'!$AZ$7,(-$C$4*$T19+$D$4),'LED-Lighting'!$AZ$7))","v":{"$error":"#N/A"}},{"$f":"IF($T19>'LED-Lighting'!$AX$7,0,IF((-$C$5*$T19+$D$5)<='LED-Lighting'!$AZ$7,(-$C$5*$T19+$D$5),'LED-Lighting'!$AZ$7))","v":{"$error":"#N/A"}},{"$f":"IF($T19>'LED-Lighting'!$AX$7,0,IF((-$C$6*$T19+$D$6)<='LED-Lighting'!$AZ$7,(-$C$6*$T19+$D$6),'LED-Lighting'!$AZ$7))","v":{"$error":"#N/A"}},{"$f":"IF($T19>'LED-Lighting'!$AX$7,0,IF((-$C$7*$T19+$D$7)<='LED-Lighting'!$AZ$7,(-$C$7*$T19+$D$7),'LED-Lighting'!$AZ$7))","v":{"$error":"#N/A"}},{"$f":"IF($T19>'LED-Lighting'!$AX$7,0,IF((-$C$8*$T19+$D$8)<='LED-Lighting'!$AZ$7,(-$C$8*$T19+$D$8),'LED-Lighting'!$AZ$7))","v":{"$error":"#N/A"}},null,{"$f":"IF($T19>'LED-Lighting'!$AX$19,0,IF((-$G$3*$T19+$H$3)<='LED-Lighting'!$AZ$19,(-$G$3*$T19+$H$3),'LED-Lighting'!$AZ$19))","v":{"$error":"#N/A"}},{"$f":"IF($T19>'LED-Lighting'!$AX$19,0,IF((-$G$4*$T19+$H$4)<='LED-Lighting'!$AZ$19,(-$G$4*$T19+$H$4),'LED-Lighting'!$AZ$19))","v":{"$error":"#N/A"}},{"$f":"IF($T19>'LED-Lighting'!$AX$19,0,IF((-$G$5*$T19+$H$5)<='LED-Lighting'!$AZ$19,(-$G$5*$T19+$H$5),'LED-Lighting'!$AZ$19))","v":{"$error":"#N/A"}},{"$f":"IF($T19>'LED-Lighting'!$AX$19,0,IF((-$G$6*$T19+$H$6)<='LED-Lighting'!$AZ$19,(-$G$6*$T19+$H$6),'LED-Lighting'!$AZ$19))","v":{"$error":"#N/A"}},{"$f":"IF($T19>'LED-Lighting'!$AX$19,0,IF((-$G$7*$T19+$H$7)<='LED-Lighting'!$AZ$19,(-$G$7*$T19+$H$7),'LED-Lighting'!$AZ$19))","v":{"$error":"#N/A"}},{"$f":"IF($T19>'LED-Lighting'!$AX$19,0,IF((-$G$8*$T19+$H$8)<='LED-Lighting'!$AZ$19,(-$G$8*$T19+$H$8),'LED-Lighting'!$AZ$19))","v":{"$error":"#N/A"}},null,{"$f":"IF($T19>'LED-Lighting'!$AX$31,0,IF((-$K$3*$T19+$L$3)<='LED-Lighting'!$AZ$31,(-$K$3*$T19+$L$3),'LED-Lighting'!$AZ$31))","v":{"$error":"#N/A"}},{"$f":"IF($T19>'LED-Lighting'!$AX$31,0,IF((-$K$4*$T19+$L$4)<='LED-Lighting'!$AZ$31,(-$K$4*$T19+$L$4),'LED-Lighting'!$AZ$31))","v":{"$error":"#N/A"}},{"$f":"IF($T19>'LED-Lighting'!$AX$31,0,IF((-$K$5*$T19+$L$5)<='LED-Lighting'!$AZ$31,(-$K$5*$T19+$L$5),'LED-Lighting'!$AZ$31))","v":{"$error":"#N/A"}},{"$f":"IF($T19>'LED-Lighting'!$AX$31,0,IF((-$K$6*$T19+$L$6)<='LED-Lighting'!$AZ$31,(-$K$6*$T19+$L$6),'LED-Lighting'!$AZ$31))","v":{"$error":"#N/A"}},{"$f":"IF($T19>'LED-Lighting'!$AX$31,0,IF((-$K$7*$T19+$L$7)<='LED-Lighting'!$AZ$31,(-$K$7*$T19+$L$7),'LED-Lighting'!$AZ$31))","v":{"$error":"#N/A"}},{"$f":"IF($T19>'LED-Lighting'!$AX$31,0,IF((-$K$8*$T19+$L$8)<='LED-Lighting'!$AZ$31,(-$K$8*$T19+$L$8),'LED-Lighting'!$AZ$31))","v":{"$error":"#N/A"}},null,null,null,null,null,null,null,null,null,null,null,null,null,null,null,{"$f":"#REF!","v":{"$error":"#REF!"}},{"$f":"VLOOKUP(BD19,#REF!,BE$14,FALSE)","v":{"$error":"#REF!"}},{"$f":"VLOOKUP(BD19,#REF!,BF$14,FALSE)","v":{"$error":"#REF!"}},null,{"$f":"VLOOKUP(BD19,#REF!,BH$14,FALSE)","v":{"$error":"#REF!"}},{"$f":"VLOOKUP(BD19,#REF!,BI$14,FALSE)","v":{"$error":"#REF!"}},null,null,null,null,null,null,null,{"$error":"#REF!"},{"$f":"VLOOKUP(BQ19,#REF!,BR$14,FALSE)","v":{"$error":"#REF!"}},{"$f":"VLOOKUP(BQ19,#REF!,BS$14,FALSE)","v":{"$error":"#REF!"}},null,{"$f":"VLOOKUP(BQ19,#REF!,BU$14,FALSE)","v":{"$error":"#REF!"}},{"$f":"VLOOKUP(BQ19,#REF!,BV$14,FALSE)","v":{"$error":"#REF!"}},null,null,null,null,null,null,null,{"$error":"#REF!"},{"$f":"VLOOKUP(CD19,#REF!,CE$14,FALSE)","v":{"$error":"#REF!"}},{"$f":"VLOOKUP(CD19,#REF!,CF$14,FALSE)","v":{"$error":"#REF!"}},null,{"$f":"VLOOKUP(CD19,#REF!,CH$14,FALSE)","v":{"$error":"#REF!"}},{"$f":"VLOOKUP(CD19,#REF!,CI$14,FALSE)","v":{"$error":"#REF!"}}]
[null,null,null,null,null,null,null,null,null,null,null,null,null,null,null,null,null,null,null,45,{"$f":"IF($T20>'LED-Lighting'!$AX$7,0,IF((-$C$3*$T20+$D$3)<='LED-Lighting'!$AZ$7,(-$C$3*$T20+$D$3),'LED-Lighting'!$AZ$7))","v":{"$error":"#N/A"}},{"$f":"IF($T20>'LED-Lighting'!$AX$7,0,IF((-$C$4*$T20+$D$4)<='LED-Lighting'!$AZ$7,(-$C$4*$T20+$D$4),'LED-Lighting'!$AZ$7))","v":{"$error":"#N/A"}},{"$f":"IF($T20>'LED-Lighting'!$AX$7,0,IF((-$C$5*$T20+$D$5)<='LED-Lighting'!$AZ$7,(-$C$5*$T20+$D$5),'LED-Lighting'!$AZ$7))","v":{"$error":"#N/A"}},{"$f":"IF($T20>'LED-Lighting'!$AX$7,0,IF((-$C$6*$T20+$D$6)<='LED-Lighting'!$AZ$7,(-$C$6*$T20+$D$6),'LED-Lighting'!$AZ$7))","v":{"$error":"#N/A"}},{"$f":"IF($T20>'LED-Lighting'!$AX$7,0,IF((-$C$7*$T20+$D$7)<='LED-Lighting'!$AZ$7,(-$C$7*$T20+$D$7),'LED-Lighting'!$AZ$7))","v":{"$error":"#N/A"}},{"$f":"IF($T20>'LED-Lighting'!$AX$7,0,IF((-$C$8*$T20+$D$8)<='LED-Lighting'!$AZ$7,(-$C$8*$T20+$D$8),'LED-Lighting'!$AZ$7))","v":{"$error":"#N/A"}},null,{"$f":"IF($T20>'LED-Lighting'!$AX$19,0,IF((-$G$3*$T20+$H$3)<='LED-Lighting'!$AZ$19,(-$G$3*$T20+$H$3),'LED-Lighting'!$AZ$19))","v":{"$error":"#N/A"}},{"$f":"IF($T20>'LED-Lighting'!$AX$19,0,IF((-$G$4*$T20+$H$4)<='LED-Lighting'!$AZ$19,(-$G$4*$T20+$H$4),'LED-Lighting'!$AZ$19))","v":{"$error":"#N/A"}},{"$f":"IF($T20>'LED-Lighting'!$AX$19,0,IF((-$G$5*$T20+$H$5)<='LED-Lighting'!$AZ$19,(-$G$5*$T20+$H$5),'LED-Lighting'!$AZ$19))","v":{"$error":"#N/A"}},{"$f":"IF($T20>'LED-Lighting'!$AX$19,0,IF((-$G$6*$T20+$H$6)<='LED-Lighting'!$AZ$19,(-$G$6*$T20+$H$6),'LED-Lighting'!$AZ$19))","v":{"$error":"#N/A"}},{"$f":"IF($T20>'LED-Lighting'!$AX$19,0,IF((-$G$7*$T20+$H$7)<='LED-Lighting'!$AZ$19,(-$G$7*$T20+$H$7),'LED-Lighting'!$AZ$19))","v":{"$error":"#N/A"}},{"$f":"IF($T20>'LED-Lighting'!$AX$19,0,IF((-$G$8*$T20+$H$8)<='LED-Lighting'!$AZ$19,(-$G$8*$T20+$H$8),'LED-Lighting'!$AZ$19))","v":{"$error":"#N/A"}},null,{"$f":"IF($T20>'LED-Lighting'!$AX$31,0,IF((-$K$3*$T20+$L$3)<='LED-Lighting'!$AZ$31,(-$K$3*$T20+$L$3),'LED-Lighting'!$AZ$31))","v":{"$error":"#N/A"}},{"$f":"IF($T20>'LED-Lighting'!$AX$31,0,IF((-$K$4*$T20+$L$4)<='LED-Lighting'!$AZ$31,(-$K$4*$T20+$L$4),'LED-Lighting'!$AZ$31))","v":{"$error":"#N/A"}},{"$f":"IF($T20>'LED-Lighting'!$AX$31,0,IF((-$K$5*$T20+$L$5)<='LED-Lighting'!$AZ$31,(-$K$5*$T20+$L$5),'LED-Lighting'!$AZ$31))","v":{"$error":"#N/A"}},{"$f":"IF($T20>'LED-Lighting'!$AX$31,0,IF((-$K$6*$T20+$L$6)<='LED-Lighting'!$AZ$31,(-$K$6*$T20+$L$6),'LED-Lighting'!$AZ$31))","v":{"$error":"#N/A"}},{"$f":"IF($T20>'LED-Lighting'!$AX$31,0,IF((-$K$7*$T20+$L$7)<='LED-Lighting'!$AZ$31,(-$K$7*$T20+$L$7),'LED-Lighting'!$AZ$31))","v":{"$error":"#N/A"}},{"$f":"IF($T20>'LED-Lighting'!$AX$31,0,IF((-$K$8*$T20+$L$8)<='LED-Lighting'!$AZ$31,(-$K$8*$T20+$L$8),'LED-Lighting'!$AZ$31))","v":{"$error":"#N/A"}},null,null,null,null,null,null,null,null,null,null,null,null,null,null,null,{"$f":"#REF!","v":{"$error":"#REF!"}},{"$f":"VLOOKUP(BD20,#REF!,BE$14,FALSE)","v":{"$error":"#REF!"}},{"$f":"VLOOKUP(BD20,#REF!,BF$14,FALSE)","v":{"$error":"#REF!"}},null,{"$f":"VLOOKUP(BD20,#REF!,BH$14,FALSE)","v":{"$error":"#REF!"}},{"$f":"VLOOKUP(BD20,#REF!,BI$14,FALSE)","v":{"$error":"#REF!"}},null,null,null,null,null,null,null,{"$error":"#REF!"},{"$f":"VLOOKUP(BQ20,#REF!,BR$14,FALSE)","v":{"$error":"#REF!"}},{"$f":"VLOOKUP(BQ20,#REF!,BS$14,FALSE)","v":{"$error":"#REF!"}},null,{"$f":"VLOOKUP(BQ20,#REF!,BU$14,FALSE)","v":{"$error":"#REF!"}},{"$f":"VLOOKUP(BQ20,#REF!,BV$14,FALSE)","v":{"$error":"#REF!"}},null,null,null,null,null,null,null,{"$error":"#REF!"},{"$f":"VLOOKUP(CD20,#REF!,CE$14,FALSE)","v":{"$error":"#REF!"}},{"$f":"VLOOKUP(CD20,#REF!,CF$14,FALSE)","v":{"$error":"#REF!"}},null,{"$f":"VLOOKUP(CD20,#REF!,CH$14,FALSE)","v":{"$error":"#REF!"}},{"$f":"VLOOKUP(CD20,#REF!,CI$14,FALSE)","v":{"$error":"#REF!"}}]
[null,null,null,null,null,null,null,null,null,null,null,null,null,null,null,null,null,null,null,48,{"$f":"IF($T21>'LED-Lighting'!$AX$7,0,IF((-$C$3*$T21+$D$3)<='LED-Lighting'!$AZ$7,(-$C$3*$T21+$D$3),'LED-Lighting'!$AZ$7))","v":{"$error":"#N/A"}},{"$f":"IF($T21>'LED-Lighting'!$AX$7,0,IF((-$C$4*$T21+$D$4)<='LED-Lighting'!$AZ$7,(-$C$4*$T21+$D$4),'LED-Lighting'!$AZ$7))","v":{"$error":"#N/A"}},{"$f":"IF($T21>'LED-Lighting'!$AX$7,0,IF((-$C$5*$T21+$D$5)<='LED-Lighting'!$AZ$7,(-$C$5*$T21+$D$5),'LED-Lighting'!$AZ$7))","v":{"$error":"#N/A"}},{"$f":"IF($T21>'LED-Lighting'!$AX$7,0,IF((-$C$6*$T21+$D$6)<='LED-Lighting'!$AZ$7,(-$C$6*$T21+$D$6),'LED-Lighting'!$AZ$7))","v":{"$error":"#N/A"}},{"$f":"IF($T21>'LED-Lighting'!$AX$7,0,IF((-$C$7*$T21+$D$7)<='LED-Lighting'!$AZ$7,(-$C$7*$T21+$D$7),'LED-Lighting'!$AZ$7))","v":{"$error":"#N/A"}},{"$f":"IF($T21>'LED-Lighting'!$AX$7,0,IF((-$C$8*$T21+$D$8)<='LED-Lighting'!$AZ$7,(-$C$8*$T21+$D$8),'LED-Lighting'!$AZ$7))","v":{"$error":"#N/A"}},null,{"$f":"IF($T21>'LED-Lighting'!$AX$19,0,IF((-$G$3*$T21+$H$3)<='LED-Lighting'!$AZ$19,(-$G$3*$T21+$H$3),'LED-Lighting'!$AZ$19))","v":{"$error":"#N/A"}},{"$f":"IF($T21>'LED-Lighting'!$AX$19,0,IF((-$G$4*$T21+$H$4)<='LED-Lighting'!$AZ$19,(-$G$4*$T21+$H$4),'LED-Lighting'!$AZ$19))","v":{"$error":"#N/A"}},{"$f":"IF($T21>'LED-Lighting'!$AX$19,0,IF((-$G$5*$T21+$H$5)<='LED-Lighting'!$AZ$19,(-$G$5*$T21+$H$5),'LED-Lighting'!$AZ$19))","v":{"$error":"#N/A"}},{"$f":"IF($T21>'LED-Lighting'!$AX$19,0,IF((-$G$6*$T21+$H$6)<='LED-Lighting'!$AZ$19,(-$G$6*$T21+$H$6),'LED-Lighting'!$AZ$19))","v":{"$error":"#N/A"}},{"$f":"IF($T21>'LED-Lighting'!$AX$19,0,IF((-$G$7*$T21+$H$7)<='LED-Lighting'!$AZ$19,(-$G$7*$T21+$H$7),'LED-Lighting'!$AZ$19))","v":{"$error":"#N/A"}},{"$f":"IF($T21>'LED-Lighting'!$AX$19,0,IF((-$G$8*$T21+$H$8)<='LED-Lighting'!$AZ$19,(-$G$8*$T21+$H$8),'LED-Lighting'!$AZ$19))","v":{"$error":"#N/A"}},null,{"$f":"IF($T21>'LED-Lighting'!$AX$31,0,IF((-$K$3*$T21+$L$3)<='LED-Lighting'!$AZ$31,(-$K$3*$T21+$L$3),'LED-Lighting'!$AZ$31))","v":{"$error":"#N/A"}},{"$f":"IF($T21>'LED-Lighting'!$AX$31,0,IF((-$K$4*$T21+$L$4)<='LED-Lighting'!$AZ$31,(-$K$4*$T21+$L$4),'LED-Lighting'!$AZ$31))","v":{"$error":"#N/A"}},{"$f":"IF($T21>'LED-Lighting'!$AX$31,0,IF((-$K$5*$T21+$L$5)<='LED-Lighting'!$AZ$31,(-$K$5*$T21+$L$5),'LED-Lighting'!$AZ$31))","v":{"$error":"#N/A"}},{"$f":"IF($T21>'LED-Lighting'!$AX$31,0,IF((-$K$6*$T21+$L$6)<='LED-Lighting'!$AZ$31,(-$K$6*$T21+$L$6),'LED-Lighting'!$AZ$31))","v":{"$error":"#N/A"}},{"$f":"IF($T21>'LED-Lighting'!$AX$31,0,IF((-$K$7*$T21+$L$7)<='LED-Lighting'!$AZ$31,(-$K$7*$T21+$L$7),'LED-Lighting'!$AZ$31))","v":{"$error":"#N/A"}},{"$f":"IF($T21>'LED-Lighting'!$AX$31,0,IF((-$K$8*$T21+$L$8)<='LED-Lighting'!$AZ$31,(-$K$8*$T21+$L$8),'LED-Lighting'!$AZ$31))","v":{"$error":"#N/A"}},null,null,null,null,null,null,null,null,null,null,null,null,null,null,null,{"$f":"#REF!","v":{"$error":"#REF!"}},{"$f":"VLOOKUP(BD21,#REF!,BE$14,FALSE)","v":{"$error":"#REF!"}},{"$f":"VLOOKUP(BD21,#REF!,BF$14,FALSE)","v":{"$error":"#REF!"}},null,{"$f":"VLOOKUP(BD21,#REF!,BH$14,FALSE)","v":{"$error":"#REF!"}},{"$f":"VLOOKUP(BD21,#REF!,BI$14,FALSE)","v":{"$error":"#REF!"}},null,null,null,null,null,null,null,{"$error":"#REF!"},{"$f":"VLOOKUP(BQ21,#REF!,BR$14,FALSE)","v":{"$error":"#REF!"}},{"$f":"VLOOKUP(BQ21,#REF!,BS$14,FALSE)","v":{"$error":"#REF!"}},null,{"$f":"VLOOKUP(BQ21,#REF!,BU$14,FALSE)","v":{"$error":"#REF!"}},{"$f":"VLOOKUP(BQ21,#REF!,BV$14,FALSE)","v":{"$error":"#REF!"}},null,null,null,null,null,null,null,{"$error":"#REF!"},{"$f":"VLOOKUP(CD21,#REF!,CE$14,FALSE)","v":{"$error":"#REF!"}},{"$f":"VLOOKUP(CD21,#REF!,CF$14,FALSE)","v":{"$error":"#REF!"}},null,{"$f":"VLOOKUP(CD21,#REF!,CH$14,FALSE)","v":{"$error":"#REF!"}},{"$f":"VLOOKUP(CD21,#REF!,CI$14,FALSE)","v":{"$error":"#REF!"}}]
[null,null,null,null,null,null,null,null,null,null,null,null,null,null,null,null,null,null,null,51,{"$f":"IF($T22>'LED-Lighting'!$AX$7,0,IF((-$C$3*$T22+$D$3)<='LED-Lighting'!$AZ$7,(-$C$3*$T22+$D$3),'LED-Lighting'!$AZ$7))","v":{"$error":"#N/A"}},{"$f":"IF($T22>'LED-Lighting'!$AX$7,0,IF((-$C$4*$T22+$D$4)<='LED-Lighting'!$AZ$7,(-$C$4*$T22+$D$4),'LED-Lighting'!$AZ$7))","v":{"$error":"#N/A"}},{"$f":"IF($T22>'LED-Lighting'!$AX$7,0,IF((-$C$5*$T22+$D$5)<='LED-Lighting'!$AZ$7,(-$C$5*$T22+$D$5),'LED-Lighting'!$AZ$7))","v":{"$error":"#N/A"}},{"$f":"IF($T22>'LED-Lighting'!$AX$7,0,IF((-$C$6*$T22+$D$6)<='LED-Lighting'!$AZ$7,(-$C$6*$T22+$D$6),'LED-Lighting'!$AZ$7))","v":{"$error":"#N/A"}},{"$f":"IF($T22>'LED-Lighting'!$AX$7,0,IF((-$C$7*$T22+$D$7)<='LED-Lighting'!$AZ$7,(-$C$7*$T22+$D$7),'LED-Lighting'!$AZ$7))","v":{"$error":"#N/A"}},{"$f":"IF($T22>'LED-Lighting'!$AX$7,0,IF((-$C$8*$T22+$D$8)<='LED-Lighting'!$AZ$7,(-$C$8*$T22+$D$8),'LED-Lighting'!$AZ$7))","v":{"$error":"#N/A"}},null,{"$f":"IF($T22>'LED-Lighting'!$AX$19,0,IF((-$G$3*$T22+$H$3)<='LED-Lighting'!$AZ$19,(-$G$3*$T22+$H$3),'LED-Lighting'!$AZ$19))","v":{"$error":"#N/A"}},{"$f":"IF($T22>'LED-Lighting'!$AX$19,0,IF((-$G$4*$T22+$H$4)<='LED-Lighting'!$AZ$19,(-$G$4*$T22+$H$4),'LED-Lighting'!$AZ$19))","v":{"$error":"#N/A"}},{"$f":"IF($T22>'LED-Lighting'!$AX$19,0,IF((-$G$5*$T22+$H$5)<='LED-Lighting'!$AZ$19,(-$G$5*$T22+$H$5),'LED-Lighting'!$AZ$19))","v":{"$error":"#N/A"}},{"$f":"IF($T22>'LED-Lighting'!$AX$19,0,IF((-$G$6*$T22+$H$6)<='LED-Lighting'!$AZ$19,(-$G$6*$T22+$H$6),'LED-Lighting'!$AZ$19))","v":{"$error":"#N/A"}},{"$f":"IF($T22>'LED-Lighting'!$AX$19,0,IF((-$G$7*$T22+$H$7)<='LED-Lighting'!$AZ$19,(-$G$7*$T22+$H$7),'LED-Lighting'!$AZ$19))","v":{"$error":"#N/A"}},{"$f":"IF($T22>'LED-Lighting'!$AX$19,0,IF((-$G$8*$T22+$H$8)<='LED-Lighting'!$AZ$19,(-$G$8*$T22+$H$8),'LED-Lighting'!$AZ$19))","v":{"$error":"#N/A"}},null,{"$f":"IF($T22>'LED-Lighting'!$AX$31,0,IF((-$K$3*$T22+$L$3)<='LED-Lighting'!$AZ$31,(-$K$3*$T22+$L$3),'LED-Lighting'!$AZ$31))","v":{"$error":"#N/A"}},{"$f":"IF($T22>'LED-Lighting'!$AX$31,0,IF((-$K$4*$T22+$L$4)<='LED-Lighting'!$AZ$31,(-$K$4*$T22+$L$4),'LED-Lighting'!$AZ$31))","v":{"$error":"#N/A"}},{"$f":"IF($T22>'LED-Lighting'!$AX$31,0,IF((-$K$5*$T22+$L$5)<='LED-Lighting'!$AZ$31,(-$K$5*$T22+$L$5),'LED-Lighting'!$AZ$31))","v":{"$error":"#N/A"}},{"$f":"IF($T22>'LED-Lighting'!$AX$31,0,IF((-$K$6*$T22+$L$6)<='LED-Lighting'!$AZ$31,(-$K$6*$T22+$L$6),'LED-Lighting'!$AZ$31))","v":{"$error":"#N/A"}},{"$f":"IF($T22>'LED-Lighting'!$AX$31,0,IF((-$K$7*$T22+$L$7)<='LED-Lighting'!$AZ$31,(-$K$7*$T22+$L$7),'LED-Lighting'!$AZ$31))","v":{"$error":"#N/A"}},{"$f":"IF($T22>'LED-Lighting'!$AX$31,0,IF((-$K$8*$T22+$L$8)<='LED-Lighting'!$AZ$31,(-$K$8*$T22+$L$8),'LED-Lighting'!$AZ$31))","v":{"$error":"#N/A"}},null,null,null,null,null,null,null,null,null,null,null,null,null,null,null,{"$f":"#REF!","v":{"$error":"#REF!"}},{"$f":"VLOOKUP(BD22,#REF!,BE$14,FALSE)","v":{"$error":"#REF!"}},{"$f":"VLOOKUP(BD22,#REF!,BF$14,FALSE)","v":{"$error":"#REF!"}},null,{"$f":"VLOOKUP(BD22,#REF!,BH$14,FALSE)","v":{"$error":"#REF!"}},{"$f":"VLOOKUP(BD22,#REF!,BI$14,FALSE)","v":{"$error":"#REF!"}},null,null,null,null,null,null,null,{"$error":"#REF!"},{"$f":"VLOOKUP(BQ22,#REF!,BR$14,FALSE)","v":{"$error":"#REF!"}},{"$f":"VLOOKUP(BQ22,#REF!,BS$14,FALSE)","v":{"$error":"#REF!"}},null,{"$f":"VLOOKUP(BQ22,#REF!,BU$14,FALSE)","v":{"$error":"#REF!"}},{"$f":"VLOOKUP(BQ22,#REF!,BV$14,FALSE)","v":{"$error":"#REF!"}},null,null,null,null,null,null,null,{"$error":"#REF!"},{"$f":"VLOOKUP(CD22,#REF!,CE$14,FALSE)","v":{"$error":"#REF!"}},{"$f":"VLOOKUP(CD22,#REF!,CF$14,FALSE)","v":{"$error":"#REF!"}},null,{"$f":"VLOOKUP(CD22,#REF!,CH$14,FALSE)","v":{"$error":"#REF!"}},{"$f":"VLOOKUP(CD22,#REF!,CI$14,FALSE)","v":{"$error":"#REF!"}}]
[null,null,null,null,null,null,null,null,null,null,null,null,null,null,null,null,null,null,null,54,{"$f":"IF($T23>'LED-Lighting'!$AX$7,0,IF((-$C$3*$T23+$D$3)<='LED-Lighting'!$AZ$7,(-$C$3*$T23+$D$3),'LED-Lighting'!$AZ$7))","v":{"$error":"#N/A"}},{"$f":"IF($T23>'LED-Lighting'!$AX$7,0,IF((-$C$4*$T23+$D$4)<='LED-Lighting'!$AZ$7,(-$C$4*$T23+$D$4),'LED-Lighting'!$AZ$7))","v":{"$error":"#N/A"}},{"$f":"IF($T23>'LED-Lighting'!$AX$7,0,IF((-$C$5*$T23+$D$5)<='LED-Lighting'!$AZ$7,(-$C$5*$T23+$D$5),'LED-Lighting'!$AZ$7))","v":{"$error":"#N/A"}},{"$f":"IF($T23>'LED-Lighting'!$AX$7,0,IF((-$C$6*$T23+$D$6)<='LED-Lighting'!$AZ$7,(-$C$6*$T23+$D$6),'LED-Lighting'!$AZ$7))","v":{"$error":"#N/A"}},{"$f":"IF($T23>'LED-Lighting'!$AX$7,0,IF((-$C$7*$T23+$D$7)<='LED-Lighting'!$AZ$7,(-$C$7*$T23+$D$7),'LED-Lighting'!$AZ$7))","v":{"$error":"#N/A"}},{"$f":"IF($T23>'LED-Lighting'!$AX$7,0,IF((-$C$8*$T23+$D$8)<='LED-Lighting'!$AZ$7,(-$C$8*$T23+$D$8),'LED-Lighting'!$AZ$7))","v":{"$error":"#N/A"}},null,{"$f":"IF($T23>'LED-Lighting'!$AX$19,0,IF((-$G$3*$T23+$H$3)<='LED-Lighting'!$AZ$19,(-$G$3*$T23+$H$3),'LED-Lighting'!$AZ$19))","v":{"$error":"#N/A"}},{"$f":"IF($T23>'LED-Lighting'!$AX$19,0,IF((-$G$4*$T23+$H$4)<='LED-Lighting'!$AZ$19,(-$G$4*$T23+$H$4),'LED-Lighting'!$AZ$19))","v":{"$error":"#N/A"}},{"$f":"IF($T23>'LED-Lighting'!$AX$19,0,IF((-$G$5*$T23+$H$5)<='LED-Lighting'!$AZ$19,(-$G$5*$T23+$H$5),'LED-Lighting'!$AZ$19))","v":{"$error":"#N/A"}},{"$f":"IF($T23>'LED-Lighting'!$AX$19,0,IF((-$G$6*$T23+$H$6)<='LED-Lighting'!$AZ$19,(-$G$6*$T23+$H$6),'LED-Lighting'!$AZ$19))","v":{"$error":"#N/A"}},{"$f":"IF($T23>'LED-Lighting'!$AX$19,0,IF((-$G$7*$T23+$H$7)<='LED-Lighting'!$AZ$19,(-$G$7*$T23+$H$7),'LED-Lighting'!$AZ$19))","v":{"$error":"#N/A"}},{"$f":"IF($T23>'LED-Lighting'!$AX$19,0,IF((-$G$8*$T23+$H$8)<='LED-Lighting'!$AZ$19,(-$G$8*$T23+$H$8),'LED-Lighting'!$AZ$19))","v":{"$error":"#N/A"}},null,{"$f":"IF($T23>'LED-Lighting'!$AX$31,0,IF((-$K$3*$T23+$L$3)<='LED-Lighting'!$AZ$31,(-$K$3*$T23+$L$3),'LED-Lighting'!$AZ$31))","v":{"$error":"#N/A"}},{"$f":"IF($T23>'LED-Lighting'!$AX$31,0,IF((-$K$4*$T23+$L$4)<='LED-Lighting'!$AZ$31,(-$K$4*$T23+$L$4),'LED-Lighting'!$AZ$31))","v":{"$error":"#N/A"}},{"$f":"IF($T23>'LED-Lighting'!$AX$31,0,IF((-$K$5*$T23+$L$5)<='LED-Lighting'!$AZ$31,(-$K$5*$T23+$L$5),'LED-Lighting'!$AZ$31))","v":{"$error":"#N/A"}},{"$f":"IF($T23>'LED-Lighting'!$AX$31,0,IF((-$K$6*$T23+$L$6)<='LED-Lighting'!$AZ$31,(-$K$6*$T23+$L$6),'LED-Lighting'!$AZ$31))","v":{"$error":"#N/A"}},{"$f":"IF($T23>'LED-Lighting'!$AX$31,0,IF((-$K$7*$T23+$L$7)<='LED-Lighting'!$AZ$31,(-$K$7*$T23+$L$7),'LED-Lighting'!$AZ$31))","v":{"$error":"#N/A"}},{"$f":"IF($T23>'LED-Lighting'!$AX$31,0,IF((-$K$8*$T23+$L$8)<='LED-Lighting'!$AZ$31,(-$K$8*$T23+$L$8),'LED-Lighting'!$AZ$31))","v":{"$error":"#N/A"}},null,null,null,null,null,null,null,null,null,null,null,null,null,null,null,{"$f":"#REF!","v":{"$error":"#REF!"}},{"$f":"VLOOKUP(BD23,#REF!,BE$14,FALSE)","v":{"$error":"#REF!"}},{"$f":"VLOOKUP(BD23,#REF!,BF$14,FALSE)","v":{"$error":"#REF!"}},null,{"$f":"VLOOKUP(BD23,#REF!,BH$14,FALSE)","v":{"$error":"#REF!"}},{"$f":"VLOOKUP(BD23,#REF!,BI$14,FALSE)","v":{"$error":"#REF!"}},null,null,null,null,null,null,null,{"$error":"#REF!"},{"$f":"VLOOKUP(BQ23,#REF!,BR$14,FALSE)","v":{"$error":"#REF!"}},{"$f":"VLOOKUP(BQ23,#REF!,BS$14,FALSE)","v":{"$error":"#REF!"}},null,{"$f":"VLOOKUP(BQ23,#REF!,BU$14,FALSE)","v":{"$error":"#REF!"}},{"$f":"VLOOKUP(BQ23,#REF!,BV$14,FALSE)","v":{"$error":"#REF!"}},null,null,null,null,null,null,null,{"$error":"#REF!"},{"$f":"VLOOKUP(CD23,#REF!,CE$14,FALSE)","v":{"$error":"#REF!"}},{"$f":"VLOOKUP(CD23,#REF!,CF$14,FALSE)","v":{"$error":"#REF!"}},null,{"$f":"VLOOKUP(CD23,#REF!,CH$14,FALSE)","v":{"$error":"#REF!"}},{"$f":"VLOOKUP(CD23,#REF!,CI$14,FALSE)","v":{"$error":"#REF!"}}]
[null,null,null,null,null,null,null,null,null,null,null,null,null,null,null,null,null,null,null,57,{"$f":"IF($T24>'LED-Lighting'!$AX$7,0,IF((-$C$3*$T24+$D$3)<='LED-Lighting'!$AZ$7,(-$C$3*$T24+$D$3),'LED-Lighting'!$AZ$7))","v":{"$error":"#N/A"}},{"$f":"IF($T24>'LED-Lighting'!$AX$7,0,IF((-$C$4*$T24+$D$4)<='LED-Lighting'!$AZ$7,(-$C$4*$T24+$D$4),'LED-Lighting'!$AZ$7))","v":{"$error":"#N/A"}},{"$f":"IF($T24>'LED-Lighting'!$AX$7,0,IF((-$C$5*$T24+$D$5)<='LED-Lighting'!$AZ$7,(-$C$5*$T24+$D$5),'LED-Lighting'!$AZ$7))","v":{"$error":"#N/A"}},{"$f":"IF($T24>'LED-Lighting'!$AX$7,0,IF((-$C$6*$T24+$D$6)<='LED-Lighting'!$AZ$7,(-$C$6*$T24+$D$6),'LED-Lighting'!$AZ$7))","v":{"$error":"#N/A"}},{"$f":"IF($T24>'LED-Lighting'!$AX$7,0,IF((-$C$7*$T24+$D$7)<='LED-Lighting'!$AZ$7,(-$C$7*$T24+$D$7),'LED-Lighting'!$AZ$7))","v":{"$error":"#N/A"}},{"$f":"IF($T24>'LED-Lighting'!$AX$7,0,IF((-$C$8*$T24+$D$8)<='LED-Lighting'!$AZ$7,(-$C$8*$T24+$D$8),'LED-Lighting'!$AZ$7))","v":{"$error":"#N/A"}},null,{"$f":"IF($T24>'LED-Lighting'!$AX$19,0,IF((-$G$3*$T24+$H$3)<='LED-Lighting'!$AZ$19,(-$G$3*$T24+$H$3),'LED-Lighting'!$AZ$19))","v":{"$error":"#N/A"}},{"$f":"IF($T24>'LED-Lighting'!$AX$19,0,IF((-$G$4*$T24+$H$4)<='LED-Lighting'!$AZ$19,(-$G$4*$T24+$H$4),'LED-Lighting'!$AZ$19))","v":{"$error":"#N/A"}},{"$f":"IF($T24>'LED-Lighting'!$AX$19,0,IF((-$G$5*$T24+$H$5)<='LED-Lighting'!$AZ$19,(-$G$5*$T24+$H$5),'LED-Lighting'!$AZ$19))","v":{"$error":"#N/A"}},{"$f":"IF($T24>'LED-Lighting'!$AX$19,0,IF((-$G$6*$T24+$H$6)<='LED-Lighting'!$AZ$19,(-$G$6*$T24+$H$6),'LED-Lighting'!$AZ$19))","v":{"$error":"#N/A"}},{"$f":"IF($T24>'LED-Lighting'!$AX$19,0,IF((-$G$7*$T24+$H$7)<='LED-Lighting'!$AZ$19,(-$G$7*$T24+$H$7),'LED-Lighting'!$AZ$19))","v":{"$error":"#N/A"}},{"$f":"IF($T24>'LED-Lighting'!$AX$19,0,IF((-$G$8*$T24+$H$8)<='LED-Lighting'!$AZ$19,(-$G$8*$T24+$H$8),'LED-Lighting'!$AZ$19))","v":{"$error":"#N/A"}},null,{"$f":"IF($T24>'LED-Lighting'!$AX$31,0,IF((-$K$3*$T24+$L$3)<='LED-Lighting'!$AZ$31,(-$K$3*$T24+$L$3),'LED-Lighting'!$AZ$31))","v":{"$error":"#N/A"}},{"$f":"IF($T24>'LED-Lighting'!$AX$31,0,IF((-$K$4*$T24+$L$4)<='LED-Lighting'!$AZ$31,(-$K$4*$T24+$L$4),'LED-Lighting'!$AZ$31))","v":{"$error":"#N/A"}},{"$f":"IF($T24>'LED-Lighting'!$AX$31,0,IF((-$K$5*$T24+$L$5)<='LED-Lighting'!$AZ$31,(-$K$5*$T24+$L$5),'LED-Lighting'!$AZ$31))","v":{"$error":"#N/A"}},{"$f":"IF($T24>'LED-Lighting'!$AX$31,0,IF((-$K$6*$T24+$L$6)<='LED-Lighting'!$AZ$31,(-$K$6*$T24+$L$6),'LED-Lighting'!$AZ$31))","v":{"$error":"#N/A"}},{"$f":"IF($T24>'LED-Lighting'!$AX$31,0,IF((-$K$7*$T24+$L$7)<='LED-Lighting'!$AZ$31,(-$K$7*$T24+$L$7),'LED-Lighting'!$AZ$31))","v":{"$error":"#N/A"}},{"$f":"IF($T24>'LED-Lighting'!$AX$31,0,IF((-$K$8*$T24+$L$8)<='LED-Lighting'!$AZ$31,(-$K$8*$T24+$L$8),'LED-Lighting'!$AZ$31))","v":{"$error":"#N/A"}},null,null,null,null,null,null,null,null,null,null,null,null,null,null,null,{"$f":"#REF!","v":{"$error":"#REF!"}},{"$f":"VLOOKUP(BD24,#REF!,BE$14,FALSE)","v":{"$error":"#REF!"}},{"$f":"VLOOKUP(BD24,#REF!,BF$14,FALSE)","v":{"$error":"#REF!"}},null,{"$f":"VLOOKUP(BD24,#REF!,BH$14,FALSE)","v":{"$error":"#REF!"}},{"$f":"VLOOKUP(BD24,#REF!,BI$14,FALSE)","v":{"$error":"#REF!"}},null,null,null,null,null,null,null,{"$error":"#REF!"},{"$f":"VLOOKUP(BQ24,#REF!,BR$14,FALSE)","v":{"$error":"#REF!"}},{"$f":"VLOOKUP(BQ24,#REF!,BS$14,FALSE)","v":{"$error":"#REF!"}},null,{"$f":"VLOOKUP(BQ24,#REF!,BU$14,FALSE)","v":{"$error":"#REF!"}},{"$f":"VLOOKUP(BQ24,#REF!,BV$14,FALSE)","v":{"$error":"#REF!"}},null,null,null,null,null,null,null,{"$error":"#REF!"},{"$f":"VLOOKUP(CD24,#REF!,CE$14,FALSE)","v":{"$error":"#REF!"}},{"$f":"VLOOKUP(CD24,#REF!,CF$14,FALSE)","v":{"$error":"#REF!"}},null,{"$f":"VLOOKUP(CD24,#REF!,CH$14,FALSE)","v":{"$error":"#REF!"}},{"$f":"VLOOKUP(CD24,#REF!,CI$14,FALSE)","v":{"$error":"#REF!"}}]
[null,null,null,null,null,null,null,null,null,null,null,null,null,null,null,null,null,null,null,60,{"$f":"IF($T25>'LED-Lighting'!$AX$7,0,IF((-$C$3*$T25+$D$3)<='LED-Lighting'!$AZ$7,(-$C$3*$T25+$D$3),'LED-Lighting'!$AZ$7))","v":{"$error":"#N/A"}},{"$f":"IF($T25>'LED-Lighting'!$AX$7,0,IF((-$C$4*$T25+$D$4)<='LED-Lighting'!$AZ$7,(-$C$4*$T25+$D$4),'LED-Lighting'!$AZ$7))","v":{"$error":"#N/A"}},{"$f":"IF($T25>'LED-Lighting'!$AX$7,0,IF((-$C$5*$T25+$D$5)<='LED-Lighting'!$AZ$7,(-$C$5*$T25+$D$5),'LED-Lighting'!$AZ$7))","v":{"$error":"#N/A"}},{"$f":"IF($T25>'LED-Lighting'!$AX$7,0,IF((-$C$6*$T25+$D$6)<='LED-Lighting'!$AZ$7,(-$C$6*$T25+$D$6),'LED-Lighting'!$AZ$7))","v":{"$error":"#N/A"}},{"$f":"IF($T25>'LED-Lighting'!$AX$7,0,IF((-$C$7*$T25+$D$7)<='LED-Lighting'!$AZ$7,(-$C$7*$T25+$D$7),'LED-Lighting'!$AZ$7))","v":{"$error":"#N/A"}},{"$f":"IF($T25>'LED-Lighting'!$AX$7,0,IF((-$C$8*$T25+$D$8)<='LED-Lighting'!$AZ$7,(-$C$8*$T25+$D$8),'LED-Lighting'!$AZ$7))","v":{"$error":"#N/A"}},null,{"$f":"IF($T25>'LED-Lighting'!$AX$19,0,IF((-$G$3*$T25+$H$3)<='LED-Lighting'!$AZ$19,(-$G$3*$T25+$H$3),'LED-Lighting'!$AZ$19))","v":{"$error":"#N/A"}},{"$f":"IF($T25>'LED-Lighting'!$AX$19,0,IF((-$G$4*$T25+$H$4)<='LED-Lighting'!$AZ$19,(-$G$4*$T25+$H$4),'LED-Lighting'!$AZ$19))","v":{"$error":"#N/A"}},{"$f":"IF($T25>'LED-Lighting'!$AX$19,0,IF((-$G$5*$T25+$H$5)<='LED-Lighting'!$AZ$19,(-$G$5*$T25+$H$5),'LED-Lighting'!$AZ$19))","v":{"$error":"#N/A"}},{"$f":"IF($T25>'LED-Lighting'!$AX$19,0,IF((-$G$6*$T25+$H$6)<='LED-Lighting'!$AZ$19,(-$G$6*$T25+$H$6),'LED-Lighting'!$AZ$19))","v":{"$error":"#N/A"}},{"$f":"IF($T25>'LED-Lighting'!$AX$19,0,IF((-$G$7*$T25+$H$7)<='LED-Lighting'!$AZ$19,(-$G$7*$T25+$H$7),'LED-Lighting'!$AZ$19))","v":{"$error":"#N/A"}},{"$f":"IF($T25>'LED-Lighting'!$AX$19,0,IF((-$G$8*$T25+$H$8)<='LED-Lighting'!$AZ$19,(-$G$8*$T25+$H$8),'LED-Lighting'!$AZ$19))","v":{"$error":"#N/A"}},null,{"$f":"IF($T25>'LED-Lighting'!$AX$31,0,IF((-$K$3*$T25+$L$3)<='LED-Lighting'!$AZ$31,(-$K$3*$T25+$L$3),'LED-Lighting'!$AZ$31))","v":{"$error":"#N/A"}},{"$f":"IF($T25>'LED-Lighting'!$AX$31,0,IF((-$K$4*$T25+$L$4)<='LED-Lighting'!$AZ$31,(-$K$4*$T25+$L$4),'LED-Lighting'!$AZ$31))","v":{"$error":"#N/A"}},{"$f":"IF($T25>'LED-Lighting'!$AX$31,0,IF((-$K$5*$T25+$L$5)<='LED-Lighting'!$AZ$31,(-$K$5*$T25+$L$5),'LED-Lighting'!$AZ$31))","v":{"$error":"#N/A"}},{"$f":"IF($T25>'LED-Lighting'!$AX$31,0,IF((-$K$6*$T25+$L$6)<='LED-Lighting'!$AZ$31,(-$K$6*$T25+$L$6),'LED-Lighting'!$AZ$31))","v":{"$error":"#N/A"}},{"$f":"IF($T25>'LED-Lighting'!$AX$31,0,IF((-$K$7*$T25+$L$7)<='LED-Lighting'!$AZ$31,(-$K$7*$T25+$L$7),'LED-Lighting'!$AZ$31))","v":{"$error":"#N/A"}},{"$f":"IF($T25>'LED-Lighting'!$AX$31,0,IF((-$K$8*$T25+$L$8)<='LED-Lighting'!$AZ$31,(-$K$8*$T25+$L$8),'LED-Lighting'!$AZ$31))","v":{"$error":"#N/A"}},null,null,null,null,null,null,null,null,null,null,null,null,null,null,null,{"$f":"#REF!","v":{"$error":"#REF!"}},{"$f":"VLOOKUP(BD25,#REF!,BE$14,FALSE)","v":{"$error":"#REF!"}},{"$f":"VLOOKUP(BD25,#REF!,BF$14,FALSE)","v":{"$error":"#REF!"}},null,{"$f":"VLOOKUP(BD25,#REF!,BH$14,FALSE)","v":{"$error":"#REF!"}},{"$f":"VLOOKUP(BD25,#REF!,BI$14,FALSE)","v":{"$error":"#REF!"}},null,null,null,null,null,null,null,{"$error":"#REF!"},{"$f":"VLOOKUP(BQ25,#REF!,BR$14,FALSE)","v":{"$error":"#REF!"}},{"$f":"VLOOKUP(BQ25,#REF!,BS$14,FALSE)","v":{"$error":"#REF!"}},null,{"$f":"VLOOKUP(BQ25,#REF!,BU$14,FALSE)","v":{"$error":"#REF!"}},{"$f":"VLOOKUP(BQ25,#REF!,BV$14,FALSE)","v":{"$error":"#REF!"}},null,null,null,null,null,null,null,{"$error":"#REF!"},{"$f":"VLOOKUP(CD25,#REF!,CE$14,FALSE)","v":{"$error":"#REF!"}},{"$f":"VLOOKUP(CD25,#REF!,CF$14,FALSE)","v":{"$error":"#REF!"}},null,{"$f":"VLOOKUP(CD25,#REF!,CH$14,FALSE)","v":{"$error":"#REF!"}},{"$f":"VLOOKUP(CD25,#REF!,CI$14,FALSE)","v":{"$error":"#REF!"}}]
[null,null,null,null,null,null,null,null,null,null,null,null,null,null,null,null,null,null,null,63,{"$f":"IF($T26>'LED-Lighting'!$AX$7,0,IF((-$C$3*$T26+$D$3)<='LED-Lighting'!$AZ$7,(-$C$3*$T26+$D$3),'LED-Lighting'!$AZ$7))","v":{"$error":"#N/A"}},{"$f":"IF($T26>'LED-Lighting'!$AX$7,0,IF((-$C$4*$T26+$D$4)<='LED-Lighting'!$AZ$7,(-$C$4*$T26+$D$4),'LED-Lighting'!$AZ$7))","v":{"$error":"#N/A"}},{"$f":"IF($T26>'LED-Lighting'!$AX$7,0,IF((-$C$5*$T26+$D$5)<='LED-Lighting'!$AZ$7,(-$C$5*$T26+$D$5),'LED-Lighting'!$AZ$7))","v":{"$error":"#N/A"}},{"$f":"IF($T26>'LED-Lighting'!$AX$7,0,IF((-$C$6*$T26+$D$6)<='LED-Lighting'!$AZ$7,(-$C$6*$T26+$D$6),'LED-Lighting'!$AZ$7))","v":{"$error":"#N/A"}},{"$f":"IF($T26>'LED-Lighting'!$AX$7,0,IF((-$C$7*$T26+$D$7)<='LED-Lighting'!$AZ$7,(-$C$7*$T26+$D$7),'LED-Lighting'!$AZ$7))","v":{"$error":"#N/A"}},{"$f":"IF($T26>'LED-Lighting'!$AX$7,0,IF((-$C$8*$T26+$D$8)<='LED-Lighting'!$AZ$7,(-$C$8*$T26+$D$8),'LED-Lighting'!$AZ$7))","v":{"$error":"#N/A"}},null,{"$f":"IF($T26>'LED-Lighting'!$AX$19,0,IF((-$G$3*$T26+$H$3)<='LED-Lighting'!$AZ$19,(-$G$3*$T26+$H$3),'LED-Lighting'!$AZ$19))","v":{"$error":"#N/A"}},{"$f":"IF($T26>'LED-Lighting'!$AX$19,0,IF((-$G$4*$T26+$H$4)<='LED-Lighting'!$AZ$19,(-$G$4*$T26+$H$4),'LED-Lighting'!$AZ$19))","v":{"$error":"#N/A"}},{"$f":"IF($T26>'LED-Lighting'!$AX$19,0,IF((-$G$5*$T26+$H$5)<='LED-Lighting'!$AZ$19,(-$G$5*$T26+$H$5),'LED-Lighting'!$AZ$19))","v":{"$error":"#N/A"}},{"$f":"IF($T26>'LED-Lighting'!$AX$19,0,IF((-$G$6*$T26+$H$6)<='LED-Lighting'!$AZ$19,(-$G$6*$T26+$H$6),'LED-Lighting'!$AZ$19))","v":{"$error":"#N/A"}},{"$f":"IF($T26>'LED-Lighting'!$AX$19,0,IF((-$G$7*$T26+$H$7)<='LED-Lighting'!$AZ$19,(-$G$7*$T26+$H$7),'LED-Lighting'!$AZ$19))","v":{"$error":"#N/A"}},{"$f":"IF($T26>'LED-Lighting'!$AX$19,0,IF((-$G$8*$T26+$H$8)<='LED-Lighting'!$AZ$19,(-$G$8*$T26+$H$8),'LED-Lighting'!$AZ$19))","v":{"$error":"#N/A"}},null,{"$f":"IF($T26>'LED-Lighting'!$AX$31,0,IF((-$K$3*$T26+$L$3)<='LED-Lighting'!$AZ$31,(-$K$3*$T26+$L$3),'LED-Lighting'!$AZ$31))","v":{"$error":"#N/A"}},{"$f":"IF($T26>'LED-Lighting'!$AX$31,0,IF((-$K$4*$T26+$L$4)<='LED-Lighting'!$AZ$31,(-$K$4*$T26+$L$4),'LED-Lighting'!$AZ$31))","v":{"$error":"#N/A"}},{"$f":"IF($T26>'LED-Lighting'!$AX$31,0,IF((-$K$5*$T26+$L$5)<='LED-Lighting'!$AZ$31,(-$K$5*$T26+$L$5),'LED-Lighting'!$AZ$31))","v":{"$error":"#N/A"}},{"$f":"IF($T26>'LED-Lighting'!$AX$31,0,IF((-$K$6*$T26+$L$6)<='LED-Lighting'!$AZ$31,(-$K$6*$T26+$L$6),'LED-Lighting'!$AZ$31))","v":{"$error":"#N/A"}},{"$f":"IF($T26>'LED-Lighting'!$AX$31,0,IF((-$K$7*$T26+$L$7)<='LED-Lighting'!$AZ$31,(-$K$7*$T26+$L$7),'LED-Lighting'!$AZ$31))","v":{"$error":"#N/A"}},{"$f":"IF($T26>'LED-Lighting'!$AX$31,0,IF((-$K$8*$T26+$L$8)<='LED-Lighting'!$AZ$31,(-$K$8*$T26+$L$8),'LED-Lighting'!$AZ$31))","v":{"$error":"#N/A"}},null,null,null,null,null,null,null,null,null,null,null,null,null,null,null,{"$f":"#REF!","v":{"$error":"#REF!"}},{"$f":"VLOOKUP(BD26,#REF!,BE$14,FALSE)","v":{"$error":"#REF!"}},{"$f":"VLOOKUP(BD26,#REF!,BF$14,FALSE)","v":{"$error":"#REF!"}},null,{"$f":"VLOOKUP(BD26,#REF!,BH$14,FALSE)","v":{"$error":"#REF!"}},{"$f":"VLOOKUP(BD26,#REF!,BI$14,FALSE)","v":{"$error":"#REF!"}},null,null,null,null,null,null,null,{"$error":"#REF!"},{"$f":"VLOOKUP(BQ26,#REF!,BR$14,FALSE)","v":{"$error":"#REF!"}},{"$f":"VLOOKUP(BQ26,#REF!,BS$14,FALSE)","v":{"$error":"#REF!"}},null,{"$f":"VLOOKUP(BQ26,#REF!,BU$14,FALSE)","v":{"$error":"#REF!"}},{"$f":"VLOOKUP(BQ26,#REF!,BV$14,FALSE)","v":{"$error":"#REF!"}},null,null,null,null,null,null,null,{"$error":"#REF!"},{"$f":"VLOOKUP(CD26,#REF!,CE$14,FALSE)","v":{"$error":"#REF!"}},{"$f":"VLOOKUP(CD26,#REF!,CF$14,FALSE)","v":{"$error":"#REF!"}},null,{"$f":"VLOOKUP(CD26,#REF!,CH$14,FALSE)","v":{"$error":"#REF!"}},{"$f":"VLOOKUP(CD26,#REF!,CI$14,FALSE)","v":{"$error":"#REF!"}}]
[null,null,null,null,null,null,null,null,null,null,null,null,null,null,null,null,null,null,null,66,{"$f":"IF($T27>'LED-Lighting'!$AX$7,0,IF((-$C$3*$T27+$D$3)<='LED-Lighting'!$AZ$7,(-$C$3*$T27+$D$3),'LED-Lighting'!$AZ$7))","v":{"$error":"#N/A"}},{"$f":"IF($T27>'LED-Lighting'!$AX$7,0,IF((-$C$4*$T27+$D$4)<='LED-Lighting'!$AZ$7,(-$C$4*$T27+$D$4),'LED-Lighting'!$AZ$7))","v":{"$error":"#N/A"}},{"$f":"IF($T27>'LED-Lighting'!$AX$7,0,IF((-$C$5*$T27+$D$5)<='LED-Lighting'!$AZ$7,(-$C$5*$T27+$D$5),'LED-Lighting'!$AZ$7))","v":{"$error":"#N/A"}},{"$f":"IF($T27>'LED-Lighting'!$AX$7,0,IF((-$C$6*$T27+$D$6)<='LED-Lighting'!$AZ$7,(-$C$6*$T27+$D$6),'LED-Lighting'!$AZ$7))","v":{"$error":"#N/A"}},{"$f":"IF($T27>'LED-Lighting'!$AX$7,0,IF((-$C$7*$T27+$D$7)<='LED-Lighting'!$AZ$7,(-$C$7*$T27+$D$7),'LED-Lighting'!$AZ$7))","v":{"$error":"#N/A"}},{"$f":"IF($T27>'LED-Lighting'!$AX$7,0,IF((-$C$8*$T27+$D$8)<='LED-Lighting'!$AZ$7,(-$C$8*$T27+$D$8),'LED-Lighting'!$AZ$7))","v":{"$error":"#N/A"}},null,{"$f":"IF($T27>'LED-Lighting'!$AX$19,0,IF((-$G$3*$T27+$H$3)<='LED-Lighting'!$AZ$19,(-$G$3*$T27+$H$3),'LED-Lighting'!$AZ$19))","v":{"$error":"#N/A"}},{"$f":"IF($T27>'LED-Lighting'!$AX$19,0,IF((-$G$4*$T27+$H$4)<='LED-Lighting'!$AZ$19,(-$G$4*$T27+$H$4),'LED-Lighting'!$AZ$19))","v":{"$error":"#N/A"}},{"$f":"IF($T27>'LED-Lighting'!$AX$19,0,IF((-$G$5*$T27+$H$5)<='LED-Lighting'!$AZ$19,(-$G$5*$T27+$H$5),'LED-Lighting'!$AZ$19))","v":{"$error":"#N/A"}},{"$f":"IF($T27>'LED-Lighting'!$AX$19,0,IF((-$G$6*$T27+$H$6)<='LED-Lighting'!$AZ$19,(-$G$6*$T27+$H$6),'LED-Lighting'!$AZ$19))","v":{"$error":"#N/A"}},{"$f":"IF($T27>'LED-Lighting'!$AX$19,0,IF((-$G$7*$T27+$H$7)<='LED-Lighting'!$AZ$19,(-$G$7*$T27+$H$7),'LED-Lighting'!$AZ$19))","v":{"$error":"#N/A"}},{"$f":"IF($T27>'LED-Lighting'!$AX$19,0,IF((-$G$8*$T27+$H$8)<='LED-Lighting'!$AZ$19,(-$G$8*$T27+$H$8),'LED-Lighting'!$AZ$19))","v":{"$error":"#N/A"}},null,{"$f":"IF($T27>'LED-Lighting'!$AX$31,0,IF((-$K$3*$T27+$L$3)<='LED-Lighting'!$AZ$31,(-$K$3*$T27+$L$3),'LED-Lighting'!$AZ$31))","v":{"$error":"#N/A"}},{"$f":"IF($T27>'LED-Lighting'!$AX$31,0,IF((-$K$4*$T27+$L$4)<='LED-Lighting'!$AZ$31,(-$K$4*$T27+$L$4),'LED-Lighting'!$AZ$31))","v":{"$error":"#N/A"}},{"$f":"IF($T27>'LED-Lighting'!$AX$31,0,IF((-$K$5*$T27+$L$5)<='LED-Lighting'!$AZ$31,(-$K$5*$T27+$L$5),'LED-Lighting'!$AZ$31))","v":{"$error":"#N/A"}},{"$f":"IF($T27>'LED-Lighting'!$AX$31,0,IF((-$K$6*$T27+$L$6)<='LED-Lighting'!$AZ$31,(-$K$6*$T27+$L$6),'LED-Lighting'!$AZ$31))","v":{"$error":"#N/A"}},{"$f":"IF($T27>'LED-Lighting'!$AX$31,0,IF((-$K$7*$T27+$L$7)<='LED-Lighting'!$AZ$31,(-$K$7*$T27+$L$7),'LED-Lighting'!$AZ$31))","v":{"$error":"#N/A"}},{"$f":"IF($T27>'LED-Lighting'!$AX$31,0,IF((-$K$8*$T27+$L$8)<='LED-Lighting'!$AZ$31,(-$K$8*$T27+$L$8),'LED-Lighting'!$AZ$31))","v":{"$error":"#N/A"}},null,null,null,null,null,null,null,null,null,null,null,null,null,null,null,{"$f":"#REF!","v":{"$error":"#REF!"}},{"$f":"VLOOKUP(BD27,#REF!,BE$14,FALSE)","v":{"$error":"#REF!"}},{"$f":"VLOOKUP(BD27,#REF!,BF$14,FALSE)","v":{"$error":"#REF!"}},null,{"$f":"VLOOKUP(BD27,#REF!,BH$14,FALSE)","v":{"$error":"#REF!"}},{"$f":"VLOOKUP(BD27,#REF!,BI$14,FALSE)","v":{"$error":"#REF!"}},null,null,null,null,null,null,null,{"$error":"#REF!"},{"$f":"VLOOKUP(BQ27,#REF!,BR$14,FALSE)","v":{"$error":"#REF!"}},{"$f":"VLOOKUP(BQ27,#REF!,BS$14,FALSE)","v":{"$error":"#REF!"}},null,{"$f":"VLOOKUP(BQ27,#REF!,BU$14,FALSE)","v":{"$error":"#REF!"}},{"$f":"VLOOKUP(BQ27,#REF!,BV$14,FALSE)","v":{"$error":"#REF!"}},null,null,null,null,null,null,null,{"$error":"#REF!"},{"$f":"VLOOKUP(CD27,#REF!,CE$14,FALSE)","v":{"$error":"#REF!"}},{"$f":"VLOOKUP(CD27,#REF!,CF$14,FALSE)","v":{"$error":"#REF!"}},null,{"$f":"VLOOKUP(CD27,#REF!,CH$14,FALSE)","v":{"$error":"#REF!"}},{"$f":"VLOOKUP(CD27,#REF!,CI$14,FALSE)","v":{"$error":"#REF!"}}]
[null,null,null,null,null,null,null,null,null,null,null,null,null,null,null,null,null,null,null,69,{"$f":"IF($T28>'LED-Lighting'!$AX$7,0,IF((-$C$3*$T28+$D$3)<='LED-Lighting'!$AZ$7,(-$C$3*$T28+$D$3),'LED-Lighting'!$AZ$7))","v":{"$error":"#N/A"}},{"$f":"IF($T28>'LED-Lighting'!$AX$7,0,IF((-$C$4*$T28+$D$4)<='LED-Lighting'!$AZ$7,(-$C$4*$T28+$D$4),'LED-Lighting'!$AZ$7))","v":{"$error":"#N/A"}},{"$f":"IF($T28>'LED-Lighting'!$AX$7,0,IF((-$C$5*$T28+$D$5)<='LED-Lighting'!$AZ$7,(-$C$5*$T28+$D$5),'LED-Lighting'!$AZ$7))","v":{"$error":"#N/A"}},{"$f":"IF($T28>'LED-Lighting'!$AX$7,0,IF((-$C$6*$T28+$D$6)<='LED-Lighting'!$AZ$7,(-$C$6*$T28+$D$6),'LED-Lighting'!$AZ$7))","v":{"$error":"#N/A"}},{"$f":"IF($T28>'LED-Lighting'!$AX$7,0,IF((-$C$7*$T28+$D$7)<='LED-Lighting'!$AZ$7,(-$C$7*$T28+$D$7),'LED-Lighting'!$AZ$7))","v":{"$error":"#N/A"}},{"$f":"IF($T28>'LED-Lighting'!$AX$7,0,IF((-$C$8*$T28+$D$8)<='LED-Lighting'!$AZ$7,(-$C$8*$T28+$D$8),'LED-Lighting'!$AZ$7))","v":{"$error":"#N/A"}},null,{"$f":"IF($T28>'LED-Lighting'!$AX$19,0,IF((-$G$3*$T28+$H$3)<='LED-Lighting'!$AZ$19,(-$G$3*$T28+$H$3),'LED-Lighting'!$AZ$19))","v":{"$error":"#N/A"}},{"$f":"IF($T28>'LED-Lighting'!$AX$19,0,IF((-$G$4*$T28+$H$4)<='LED-Lighting'!$AZ$19,(-$G$4*$T28+$H$4),'LED-Lighting'!$AZ$19))","v":{"$error":"#N/A"}},{"$f":"IF($T28>'LED-Lighting'!$AX$19,0,IF((-$G$5*$T28+$H$5)<='LED-Lighting'!$AZ$19,(-$G$5*$T28+$H$5),'LED-Lighting'!$AZ$19))","v":{"$error":"#N/A"}},{"$f":"IF($T28>'LED-Lighting'!$AX$19,0,IF((-$G$6*$T28+$H$6)<='LED-Lighting'!$AZ$19,(-$G$6*$T28+$H$6),'LED-Lighting'!$AZ$19))","v":{"$error":"#N/A"}},{"$f":"IF($T28>'LED-Lighting'!$AX$19,0,IF((-$G$7*$T28+$H$7)<='LED-Lighting'!$AZ$19,(-$G$7*$T28+$H$7),'LED-Lighting'!$AZ$19))","v":{"$error":"#N/A"}},{"$f":"IF($T28>'LED-Lighting'!$AX$19,0,IF((-$G$8*$T28+$H$8)<='LED-Lighting'!$AZ$19,(-$G$8*$T28+$H$8),'LED-Lighting'!$AZ$19))","v":{"$error":"#N/A"}},null,{"$f":"IF($T28>'LED-Lighting'!$AX$31,0,IF((-$K$3*$T28+$L$3)<='LED-Lighting'!$AZ$31,(-$K$3*$T28+$L$3),'LED-Lighting'!$AZ$31))","v":{"$error":"#N/A"}},{"$f":"IF($T28>'LED-Lighting'!$AX$31,0,IF((-$K$4*$T28+$L$4)<='LED-Lighting'!$AZ$31,(-$K$4*$T28+$L$4),'LED-Lighting'!$AZ$31))","v":{"$error":"#N/A"}},{"$f":"IF($T28>'LED-Lighting'!$AX$31,0,IF((-$K$5*$T28+$L$5)<='LED-Lighting'!$AZ$31,(-$K$5*$T28+$L$5),'LED-Lighting'!$AZ$31))","v":{"$error":"#N/A"}},{"$f":"IF($T28>'LED-Lighting'!$AX$31,0,IF((-$K$6*$T28+$L$6)<='LED-Lighting'!$AZ$31,(-$K$6*$T28+$L$6),'LED-Lighting'!$AZ$31))","v":{"$error":"#N/A"}},{"$f":"IF($T28>'LED-Lighting'!$AX$31,0,IF((-$K$7*$T28+$L$7)<='LED-Lighting'!$AZ$31,(-$K$7*$T28+$L$7),'LED-Lighting'!$AZ$31))","v":{"$error":"#N/A"}},{"$f":"IF($T28>'LED-Lighting'!$AX$31,0,IF((-$K$8*$T28+$L$8)<='LED-Lighting'!$AZ$31,(-$K$8*$T28+$L$8),'LED-Lighting'!$AZ$31))","v":{"$error":"#N/A"}},null,null,null,null,null,null,null,null,null,null,null,null,null,null,null,{"$f":"#REF!","v":{"$error":"#REF!"}},{"$f":"VLOOKUP(BD28,#REF!,BE$14,FALSE)","v":{"$error":"#REF!"}},{"$f":"VLOOKUP(BD28,#REF!,BF$14,FALSE)","v":{"$error":"#REF!"}},null,{"$f":"VLOOKUP(BD28,#REF!,BH$14,FALSE)","v":{"$error":"#REF!"}},{"$f":"VLOOKUP(BD28,#REF!,BI$14,FALSE)","v":{"$error":"#REF!"}},null,null,null,null,null,null,null,{"$error":"#REF!"},{"$f":"VLOOKUP(BQ28,#REF!,BR$14,FALSE)","v":{"$error":"#REF!"}},{"$f":"VLOOKUP(BQ28,#REF!,BS$14,FALSE)","v":{"$error":"#REF!"}},null,{"$f":"VLOOKUP(BQ28,#REF!,BU$14,FALSE)","v":{"$error":"#REF!"}},{"$f":"VLOOKUP(BQ28,#REF!,BV$14,FALSE)","v":{"$error":"#REF!"}},null,null,null,null,null,null,null,{"$error":"#REF!"},{"$f":"VLOOKUP(CD28,#REF!,CE$14,FALSE)","v":{"$error":"#REF!"}},{"$f":"VLOOKUP(CD28,#REF!,CF$14,FALSE)","v":{"$error":"#REF!"}},null,{"$f":"VLOOKUP(CD28,#REF!,CH$14,FALSE)","v":{"$error":"#REF!"}},{"$f":"VLOOKUP(CD28,#REF!,CI$14,FALSE)","v":{"$error":"#REF!"}}]
[null,null,null,null,null,null,null,null,null,null,null,null,null,null,null,null,null,null,null,72,{"$f":"IF($T29>'LED-Lighting'!$AX$7,0,IF((-$C$3*$T29+$D$3)<='LED-Lighting'!$AZ$7,(-$C$3*$T29+$D$3),'LED-Lighting'!$AZ$7))","v":{"$error":"#N/A"}},{"$f":"IF($T29>'LED-Lighting'!$AX$7,0,IF((-$C$4*$T29+$D$4)<='LED-Lighting'!$AZ$7,(-$C$4*$T29+$D$4),'LED-Lighting'!$AZ$7))","v":{"$error":"#N/A"}},{"$f":"IF($T29>'LED-Lighting'!$AX$7,0,IF((-$C$5*$T29+$D$5)<='LED-Lighting'!$AZ$7,(-$C$5*$T29+$D$5),'LED-Lighting'!$AZ$7))","v":{"$error":"#N/A"}},{"$f":"IF($T29>'LED-Lighting'!$AX$7,0,IF((-$C$6*$T29+$D$6)<='LED-Lighting'!$AZ$7,(-$C$6*$T29+$D$6),'LED-Lighting'!$AZ$7))","v":{"$error":"#N/A"}},{"$f":"IF($T29>'LED-Lighting'!$AX$7,0,IF((-$C$7*$T29+$D$7)<='LED-Lighting'!$AZ$7,(-$C$7*$T29+$D$7),'LED-Lighting'!$AZ$7))","v":{"$error":"#N/A"}},{"$f":"IF($T29>'LED-Lighting'!$AX$7,0,IF((-$C$8*$T29+$D$8)<='LED-Lighting'!$AZ$7,(-$C$8*$T29+$D$8),'LED-Lighting'!$AZ$7))","v":{"$error":"#N/A"}},null,{"$f":"IF($T29>'LED-Lighting'!$AX$19,0,IF((-$G$3*$T29+$H$3)<='LED-Lighting'!$AZ$19,(-$G$3*$T29+$H$3),'LED-Lighting'!$AZ$19))","v":{"$error":"#N/A"}},{"$f":"IF($T29>'LED-Lighting'!$AX$19,0,IF((-$G$4*$T29+$H$4)<='LED-Lighting'!$AZ$19,(-$G$4*$T29+$H$4),'LED-Lighting'!$AZ$19))","v":{"$error":"#N/A"}},{"$f":"IF($T29>'LED-Lighting'!$AX$19,0,IF((-$G$5*$T29+$H$5)<='LED-Lighting'!$AZ$19,(-$G$5*$T29+$H$5),'LED-Lighting'!$AZ$19))","v":{"$error":"#N/A"}},{"$f":"IF($T29>'LED-Lighting'!$AX$19,0,IF((-$G$6*$T29+$H$6)<='LED-Lighting'!$AZ$19,(-$G$6*$T29+$H$6),'LED-Lighting'!$AZ$19))","v":{"$error":"#N/A"}},{"$f":"IF($T29>'LED-Lighting'!$AX$19,0,IF((-$G$7*$T29+$H$7)<='LED-Lighting'!$AZ$19,(-$G$7*$T29+$H$7),'LED-Lighting'!$AZ$19))","v":{"$error":"#N/A"}},{"$f":"IF($T29>'LED-Lighting'!$AX$19,0,IF((-$G$8*$T29+$H$8)<='LED-Lighting'!$AZ$19,(-$G$8*$T29+$H$8),'LED-Lighting'!$AZ$19))","v":{"$error":"#N/A"}},null,{"$f":"IF($T29>'LED-Lighting'!$AX$31,0,IF((-$K$3*$T29+$L$3)<='LED-Lighting'!$AZ$31,(-$K$3*$T29+$L$3),'LED-Lighting'!$AZ$31))","v":{"$error":"#N/A"}},{"$f":"IF($T29>'LED-Lighting'!$AX$31,0,IF((-$K$4*$T29+$L$4)<='LED-Lighting'!$AZ$31,(-$K$4*$T29+$L$4),'LED-Lighting'!$AZ$31))","v":{"$error":"#N/A"}},{"$f":"IF($T29>'LED-Lighting'!$AX$31,0,IF((-$K$5*$T29+$L$5)<='LED-Lighting'!$AZ$31,(-$K$5*$T29+$L$5),'LED-Lighting'!$AZ$31))","v":{"$error":"#N/A"}},{"$f":"IF($T29>'LED-Lighting'!$AX$31,0,IF((-$K$6*$T29+$L$6)<='LED-Lighting'!$AZ$31,(-$K$6*$T29+$L$6),'LED-Lighting'!$AZ$31))","v":{"$error":"#N/A"}},{"$f":"IF($T29>'LED-Lighting'!$AX$31,0,IF((-$K$7*$T29+$L$7)<='LED-Lighting'!$AZ$31,(-$K$7*$T29+$L$7),'LED-Lighting'!$AZ$31))","v":{"$error":"#N/A"}},{"$f":"IF($T29>'LED-Lighting'!$AX$31,0,IF((-$K$8*$T29+$L$8)<='LED-Lighting'!$AZ$31,(-$K$8*$T29+$L$8),'LED-Lighting'!$AZ$31))","v":{"$error":"#N/A"}},null,null,null,null,null,null,null,null,null,null,null,null,null,null,null,{"$f":"#REF!","v":{"$error":"#REF!"}},{"$f":"VLOOKUP(BD29,#REF!,BE$14,FALSE)","v":{"$error":"#REF!"}},{"$f":"VLOOKUP(BD29,#REF!,BF$14,FALSE)","v":{"$error":"#REF!"}},null,{"$f":"VLOOKUP(BD29,#REF!,BH$14,FALSE)","v":{"$error":"#REF!"}},{"$f":"VLOOKUP(BD29,#REF!,BI$14,FALSE)","v":{"$error":"#REF!"}},null,null,null,null,null,null,null,{"$error":"#REF!"},{"$f":"VLOOKUP(BQ29,#REF!,BR$14,FALSE)","v":{"$error":"#REF!"}},{"$f":"VLOOKUP(BQ29,#REF!,BS$14,FALSE)","v":{"$error":"#REF!"}},null,{"$f":"VLOOKUP(BQ29,#REF!,BU$14,FALSE)","v":{"$error":"#REF!"}},{"$f":"VLOOKUP(BQ29,#REF!,BV$14,FALSE)","v":{"$error":"#REF!"}},null,null,null,null,null,null,null,{"$error":"#REF!"},{"$f":"VLOOKUP(CD29,#REF!,CE$14,FALSE)","v":{"$error":"#REF!"}},{"$f":"VLOOKUP(CD29,#REF!,CF$14,FALSE)","v":{"$error":"#REF!"}},null,{"$f":"VLOOKUP(CD29,#REF!,CH$14,FALSE)","v":{"$error":"#REF!"}},{"$f":"VLOOKUP(CD29,#REF!,CI$14,FALSE)","v":{"$error":"#REF!"}}]
[null,null,null,null,null,null,null,null,null,null,null,null,null,null,null,null,null,null,null,75,{"$f":"IF($T30>'LED-Lighting'!$AX$7,0,IF((-$C$3*$T30+$D$3)<='LED-Lighting'!$AZ$7,(-$C$3*$T30+$D$3),'LED-Lighting'!$AZ$7))","v":{"$error":"#N/A"}},{"$f":"IF($T30>'LED-Lighting'!$AX$7,0,IF((-$C$4*$T30+$D$4)<='LED-Lighting'!$AZ$7,(-$C$4*$T30+$D$4),'LED-Lighting'!$AZ$7))","v":{"$error":"#N/A"}},{"$f":"IF($T30>'LED-Lighting'!$AX$7,0,IF((-$C$5*$T30+$D$5)<='LED-Lighting'!$AZ$7,(-$C$5*$T30+$D$5),'LED-Lighting'!$AZ$7))","v":{"$error":"#N/A"}},{"$f":"IF($T30>'LED-Lighting'!$AX$7,0,IF((-$C$6*$T30+$D$6)<='LED-Lighting'!$AZ$7,(-$C$6*$T30+$D$6),'LED-Lighting'!$AZ$7))","v":{"$error":"#N/A"}},{"$f":"IF($T30>'LED-Lighting'!$AX$7,0,IF((-$C$7*$T30+$D$7)<='LED-Lighting'!$AZ$7,(-$C$7*$T30+$D$7),'LED-Lighting'!$AZ$7))","v":{"$error":"#N/A"}},{"$f":"IF($T30>'LED-Lighting'!$AX$7,0,IF((-$C$8*$T30+$D$8)<='LED-Lighting'!$AZ$7,(-$C$8*$T30+$D$8),'LED-Lighting'!$AZ$7))","v":{"$error":"#N/A"}},null,{"$f":"IF($T30>'LED-Lighting'!$AX$19,0,IF((-$G$3*$T30+$H$3)<='LED-Lighting'!$AZ$19,(-$G$3*$T30+$H$3),'LED-Lighting'!$AZ$19))","v":{"$error":"#N/A"}},{"$f":"IF($T30>'LED-Lighting'!$AX$19,0,IF((-$G$4*$T30+$H$4)<='LED-Lighting'!$AZ$19,(-$G$4*$T30+$H$4),'LED-Lighting'!$AZ$19))","v":{"$error":"#N/A"}},{"$f":"IF($T30>'LED-Lighting'!$AX$19,0,IF((-$G$5*$T30+$H$5)<='LED-Lighting'!$AZ$19,(-$G$5*$T30+$H$5),'LED-Lighting'!$AZ$19))","v":{"$error":"#N/A"}},{"$f":"IF($T30>'LED-Lighting'!$AX$19,0,IF((-$G$6*$T30+$H$6)<='LED-Lighting'!$AZ$19,(-$G$6*$T30+$H$6),'LED-Lighting'!$AZ$19))","v":{"$error":"#N/A"}},{"$f":"IF($T30>'LED-Lighting'!$AX$19,0,IF((-$G$7*$T30+$H$7)<='LED-Lighting'!$AZ$19,(-$G$7*$T30+$H$7),'LED-Lighting'!$AZ$19))","v":{"$error":"#N/A"}},{"$f":"IF($T30>'LED-Lighting'!$AX$19,0,IF((-$G$8*$T30+$H$8)<='LED-Lighting'!$AZ$19,(-$G$8*$T30+$H$8),'LED-Lighting'!$AZ$19))","v":{"$error":"#N/A"}},null,{"$f":"IF($T30>'LED-Lighting'!$AX$31,0,IF((-$K$3*$T30+$L$3)<='LED-Lighting'!$AZ$31,(-$K$3*$T30+$L$3),'LED-Lighting'!$AZ$31))","v":{"$error":"#N/A"}},{"$f":"IF($T30>'LED-Lighting'!$AX$31,0,IF((-$K$4*$T30+$L$4)<='LED-Lighting'!$AZ$31,(-$K$4*$T30+$L$4),'LED-Lighting'!$AZ$31))","v":{"$error":"#N/A"}},{"$f":"IF($T30>'LED-Lighting'!$AX$31,0,IF((-$K$5*$T30+$L$5)<='LED-Lighting'!$AZ$31,(-$K$5*$T30+$L$5),'LED-Lighting'!$AZ$31))","v":{"$error":"#N/A"}},{"$f":"IF($T30>'LED-Lighting'!$AX$31,0,IF((-$K$6*$T30+$L$6)<='LED-Lighting'!$AZ$31,(-$K$6*$T30+$L$6),'LED-Lighting'!$AZ$31))","v":{"$error":"#N/A"}},{"$f":"IF($T30>'LED-Lighting'!$AX$31,0,IF((-$K$7*$T30+$L$7)<='LED-Lighting'!$AZ$31,(-$K$7*$T30+$L$7),'LED-Lighting'!$AZ$31))","v":{"$error":"#N/A"}},{"$f":"IF($T30>'LED-Lighting'!$AX$31,0,IF((-$K$8*$T30+$L$8)<='LED-Lighting'!$AZ$31,(-$K$8*$T30+$L$8),'LED-Lighting'!$AZ$31))","v":{"$error":"#N/A"}},null,null,null,null,null,null,null,null,null,null,null,null,null,null,null,{"$f":"#REF!","v":{"$error":"#REF!"}},{"$f":"VLOOKUP(BD30,#REF!,BE$14,FALSE)","v":{"$error":"#REF!"}},{"$f":"VLOOKUP(BD30,#REF!,BF$14,FALSE)","v":{"$error":"#REF!"}},null,{"$f":"VLOOKUP(BD30,#REF!,BH$14,FALSE)","v":{"$error":"#REF!"}},{"$f":"VLOOKUP(BD30,#REF!,BI$14,FALSE)","v":{"$error":"#REF!"}},null,null,null,null,null,null,null,{"$error":"#REF!"},{"$f":"VLOOKUP(BQ30,#REF!,BR$14,FALSE)","v":{"$error":"#REF!"}},{"$f":"VLOOKUP(BQ30,#REF!,BS$14,FALSE)","v":{"$error":"#REF!"}},null,{"$f":"VLOOKUP(BQ30,#REF!,BU$14,FALSE)","v":{"$error":"#REF!"}},{"$f":"VLOOKUP(BQ30,#REF!,BV$14,FALSE)","v":{"$error":"#REF!"}},null,null,null,null,null,null,null,{"$error":"#REF!"},{"$f":"VLOOKUP(CD30,#REF!,CE$14,FALSE)","v":{"$error":"#REF!"}},{"$f":"VLOOKUP(CD30,#REF!,CF$14,FALSE)","v":{"$error":"#REF!"}},null,{"$f":"VLOOKUP(CD30,#REF!,CH$14,FALSE)","v":{"$error":"#REF!"}},{"$f":"VLOOKUP(CD30,#REF!,CI$14,FALSE)","v":{"$error":"#REF!"}}]
[null,null,null,null,null,null,null,null,null,null,null,null,null,null,null,null,null,null,null,78,{"$f":"IF($T31>'LED-Lighting'!$AX$7,0,IF((-$C$3*$T31+$D$3)<='LED-Lighting'!$AZ$7,(-$C$3*$T31+$D$3),'LED-Lighting'!$AZ$7))","v":{"$error":"#N/A"}},{"$f":"IF($T31>'LED-Lighting'!$AX$7,0,IF((-$C$4*$T31+$D$4)<='LED-Lighting'!$AZ$7,(-$C$4*$T31+$D$4),'LED-Lighting'!$AZ$7))","v":{"$error":"#N/A"}},{"$f":"IF($T31>'LED-Lighting'!$AX$7,0,IF((-$C$5*$T31+$D$5)<='LED-Lighting'!$AZ$7,(-$C$5*$T31+$D$5),'LED-Lighting'!$AZ$7))","v":{"$error":"#N/A"}},{"$f":"IF($T31>'LED-Lighting'!$AX$7,0,IF((-$C$6*$T31+$D$6)<='LED-Lighting'!$AZ$7,(-$C$6*$T31+$D$6),'LED-Lighting'!$AZ$7))","v":{"$error":"#N/A"}},{"$f":"IF($T31>'LED-Lighting'!$AX$7,0,IF((-$C$7*$T31+$D$7)<='LED-Lighting'!$AZ$7,(-$C$7*$T31+$D$7),'LED-Lighting'!$AZ$7))","v":{"$error":"#N/A"}},{"$f":"IF($T31>'LED-Lighting'!$AX$7,0,IF((-$C$8*$T31+$D$8)<='LED-Lighting'!$AZ$7,(-$C$8*$T31+$D$8),'LED-Lighting'!$AZ$7))","v":{"$error":"#N/A"}},null,{"$f":"IF($T31>'LED-Lighting'!$AX$19,0,IF((-$G$3*$T31+$H$3)<='LED-Lighting'!$AZ$19,(-$G$3*$T31+$H$3),'LED-Lighting'!$AZ$19))","v":{"$error":"#N/A"}},{"$f":"IF($T31>'LED-Lighting'!$AX$19,0,IF((-$G$4*$T31+$H$4)<='LED-Lighting'!$AZ$19,(-$G$4*$T31+$H$4),'LED-Lighting'!$AZ$19))","v":{"$error":"#N/A"}},{"$f":"IF($T31>'LED-Lighting'!$AX$19,0,IF((-$G$5*$T31+$H$5)<='LED-Lighting'!$AZ$19,(-$G$5*$T31+$H$5),'LED-Lighting'!$AZ$19))","v":{"$error":"#N/A"}},{"$f":"IF($T31>'LED-Lighting'!$AX$19,0,IF((-$G$6*$T31+$H$6)<='LED-Lighting'!$AZ$19,(-$G$6*$T31+$H$6),'LED-Lighting'!$AZ$19))","v":{"$error":"#N/A"}},{"$f":"IF($T31>'LED-Lighting'!$AX$19,0,IF((-$G$7*$T31+$H$7)<='LED-Lighting'!$AZ$19,(-$G$7*$T31+$H$7),'LED-Lighting'!$AZ$19))","v":{"$error":"#N/A"}},{"$f":"IF($T31>'LED-Lighting'!$AX$19,0,IF((-$G$8*$T31+$H$8)<='LED-Lighting'!$AZ$19,(-$G$8*$T31+$H$8),'LED-Lighting'!$AZ$19))","v":{"$error":"#N/A"}},null,{"$f":"IF($T31>'LED-Lighting'!$AX$31,0,IF((-$K$3*$T31+$L$3)<='LED-Lighting'!$AZ$31,(-$K$3*$T31+$L$3),'LED-Lighting'!$AZ$31))","v":{"$error":"#N/A"}},{"$f":"IF($T31>'LED-Lighting'!$AX$31,0,IF((-$K$4*$T31+$L$4)<='LED-Lighting'!$AZ$31,(-$K$4*$T31+$L$4),'LED-Lighting'!$AZ$31))","v":{"$error":"#N/A"}},{"$f":"IF($T31>'LED-Lighting'!$AX$31,0,IF((-$K$5*$T31+$L$5)<='LED-Lighting'!$AZ$31,(-$K$5*$T31+$L$5),'LED-Lighting'!$AZ$31))","v":{"$error":"#N/A"}},{"$f":"IF($T31>'LED-Lighting'!$AX$31,0,IF((-$K$6*$T31+$L$6)<='LED-Lighting'!$AZ$31,(-$K$6*$T31+$L$6),'LED-Lighting'!$AZ$31))","v":{"$error":"#N/A"}},{"$f":"IF($T31>'LED-Lighting'!$AX$31,0,IF((-$K$7*$T31+$L$7)<='LED-Lighting'!$AZ$31,(-$K$7*$T31+$L$7),'LED-Lighting'!$AZ$31))","v":{"$error":"#N/A"}},{"$f":"IF($T31>'LED-Lighting'!$AX$31,0,IF((-$K$8*$T31+$L$8)<='LED-Lighting'!$AZ$31,(-$K$8*$T31+$L$8),'LED-Lighting'!$AZ$31))","v":{"$error":"#N/A"}},null,null,null,null,null,null,null,null,null,null,null,null,null,null,null,{"$f":"#REF!","v":{"$error":"#REF!"}},{"$f":"VLOOKUP(BD31,#REF!,BE$14,FALSE)","v":{"$error":"#REF!"}},{"$f":"VLOOKUP(BD31,#REF!,BF$14,FALSE)","v":{"$error":"#REF!"}},null,{"$f":"VLOOKUP(BD31,#REF!,BH$14,FALSE)","v":{"$error":"#REF!"}},{"$f":"VLOOKUP(BD31,#REF!,BI$14,FALSE)","v":{"$error":"#REF!"}},null,null,null,null,null,null,null,{"$error":"#REF!"},{"$f":"VLOOKUP(BQ31,#REF!,BR$14,FALSE)","v":{"$error":"#REF!"}},{"$f":"VLOOKUP(BQ31,#REF!,BS$14,FALSE)","v":{"$error":"#REF!"}},null,{"$f":"VLOOKUP(BQ31,#REF!,BU$14,FALSE)","v":{"$error":"#REF!"}},{"$f":"VLOOKUP(BQ31,#REF!,BV$14,FALSE)","v":{"$error":"#REF!"}},null,null,null,null,null,null,null,{"$error":"#REF!"},{"$f":"VLOOKUP(CD31,#REF!,CE$14,FALSE)","v":{"$error":"#REF!"}},{"$f":"VLOOKUP(CD31,#REF!,CF$14,FALSE)","v":{"$error":"#REF!"}},null,{"$f":"VLOOKUP(CD31,#REF!,CH$14,FALSE)","v":{"$error":"#REF!"}},{"$f":"VLOOKUP(CD31,#REF!,CI$14,FALSE)","v":{"$error":"#REF!"}}]
[null,null,null,null,null,null,null,null,null,null,null,null,null,null,null,null,null,null,null,81,{"$f":"IF($T32>'LED-Lighting'!$AX$7,0,IF((-$C$3*$T32+$D$3)<='LED-Lighting'!$AZ$7,(-$C$3*$T32+$D$3),'LED-Lighting'!$AZ$7))","v":{"$error":"#N/A"}},{"$f":"IF($T32>'LED-Lighting'!$AX$7,0,IF((-$C$4*$T32+$D$4)<='LED-Lighting'!$AZ$7,(-$C$4*$T32+$D$4),'LED-Lighting'!$AZ$7))","v":{"$error":"#N/A"}},{"$f":"IF($T32>'LED-Lighting'!$AX$7,0,IF((-$C$5*$T32+$D$5)<='LED-Lighting'!$AZ$7,(-$C$5*$T32+$D$5),'LED-Lighting'!$AZ$7))","v":{"$error":"#N/A"}},{"$f":"IF($T32>'LED-Lighting'!$AX$7,0,IF((-$C$6*$T32+$D$6)<='LED-Lighting'!$AZ$7,(-$C$6*$T32+$D$6),'LED-Lighting'!$AZ$7))","v":{"$error":"#N/A"}},{"$f":"IF($T32>'LED-Lighting'!$AX$7,0,IF((-$C$7*$T32+$D$7)<='LED-Lighting'!$AZ$7,(-$C$7*$T32+$D$7),'LED-Lighting'!$AZ$7))","v":{"$error":"#N/A"}},{"$f":"IF($T32>'LED-Lighting'!$AX$7,0,IF((-$C$8*$T32+$D$8)<='LED-Lighting'!$AZ$7,(-$C$8*$T32+$D$8),'LED-Lighting'!$AZ$7))","v":{"$error":"#N/A"}},null,{"$f":"IF($T32>'LED-Lighting'!$AX$19,0,IF((-$G$3*$T32+$H$3)<='LED-Lighting'!$AZ$19,(-$G$3*$T32+$H$3),'LED-Lighting'!$AZ$19))","v":{"$error":"#N/A"}},{"$f":"IF($T32>'LED-Lighting'!$AX$19,0,IF((-$G$4*$T32+$H$4)<='LED-Lighting'!$AZ$19,(-$G$4*$T32+$H$4),'LED-Lighting'!$AZ$19))","v":{"$error":"#N/A"}},{"$f":"IF($T32>'LED-Lighting'!$AX$19,0,IF((-$G$5*$T32+$H$5)<='LED-Lighting'!$AZ$19,(-$G$5*$T32+$H$5),'LED-Lighting'!$AZ$19))","v":{"$error":"#N/A"}},{"$f":"IF($T32>'LED-Lighting'!$AX$19,0,IF((-$G$6*$T32+$H$6)<='LED-Lighting'!$AZ$19,(-$G$6*$T32+$H$6),'LED-Lighting'!$AZ$19))","v":{"$error":"#N/A"}},{"$f":"IF($T32>'LED-Lighting'!$AX$19,0,IF((-$G$7*$T32+$H$7)<='LED-Lighting'!$AZ$19,(-$G$7*$T32+$H$7),'LED-Lighting'!$AZ$19))","v":{"$error":"#N/A"}},{"$f":"IF($T32>'LED-Lighting'!$AX$19,0,IF((-$G$8*$T32+$H$8)<='LED-Lighting'!$AZ$19,(-$G$8*$T32+$H$8),'LED-Lighting'!$AZ$19))","v":{"$error":"#N/A"}},null,{"$f":"IF($T32>'LED-Lighting'!$AX$31,0,IF((-$K$3*$T32+$L$3)<='LED-Lighting'!$AZ$31,(-$K$3*$T32+$L$3),'LED-Lighting'!$AZ$31))","v":{"$error":"#N/A"}},{"$f":"IF($T32>'LED-Lighting'!$AX$31,0,IF((-$K$4*$T32+$L$4)<='LED-Lighting'!$AZ$31,(-$K$4*$T32+$L$4),'LED-Lighting'!$AZ$31))","v":{"$error":"#N/A"}},{"$f":"IF($T32>'LED-Lighting'!$AX$31,0,IF((-$K$5*$T32+$L$5)<='LED-Lighting'!$AZ$31,(-$K$5*$T32+$L$5),'LED-Lighting'!$AZ$31))","v":{"$error":"#N/A"}},{"$f":"IF($T32>'LED-Lighting'!$AX$31,0,IF((-$K$6*$T32+$L$6)<='LED-Lighting'!$AZ$31,(-$K$6*$T32+$L$6),'LED-Lighting'!$AZ$31))","v":{"$error":"#N/A"}},{"$f":"IF($T32>'LED-Lighting'!$AX$31,0,IF((-$K$7*$T32+$L$7)<='LED-Lighting'!$AZ$31,(-$K$7*$T32+$L$7),'LED-Lighting'!$AZ$31))","v":{"$error":"#N/A"}},{"$f":"IF($T32>'LED-Lighting'!$AX$31,0,IF((-$K$8*$T32+$L$8)<='LED-Lighting'!$AZ$31,(-$K$8*$T32+$L$8),'LED-Lighting'!$AZ$31))","v":{"$error":"#N/A"}},null,null,null,null,null,null,null,null,null,null,null,null,null,null,null,{"$f":"#REF!","v":{"$error":"#REF!"}},{"$f":"VLOOKUP(BD32,#REF!,BE$14,FALSE)","v":{"$error":"#REF!"}},{"$f":"VLOOKUP(BD32,#REF!,BF$14,FALSE)","v":{"$error":"#REF!"}},null,{"$f":"VLOOKUP(BD32,#REF!,BH$14,FALSE)","v":{"$error":"#REF!"}},{"$f":"VLOOKUP(BD32,#REF!,BI$14,FALSE)","v":{"$error":"#REF!"}},null,null,null,null,null,null,null,{"$error":"#REF!"},{"$f":"VLOOKUP(BQ32,#REF!,BR$14,FALSE)","v":{"$error":"#REF!"}},{"$f":"VLOOKUP(BQ32,#REF!,BS$14,FALSE)","v":{"$error":"#REF!"}},null,{"$f":"VLOOKUP(BQ32,#REF!,BU$14,FALSE)","v":{"$error":"#REF!"}},{"$f":"VLOOKUP(BQ32,#REF!,BV$14,FALSE)","v":{"$error":"#REF!"}},null,null,null,null,null,null,null,{"$error":"#REF!"},{"$f":"VLOOKUP(CD32,#REF!,CE$14,FALSE)","v":{"$error":"#REF!"}},{"$f":"VLOOKUP(CD32,#REF!,CF$14,FALSE)","v":{"$error":"#REF!"}},null,{"$f":"VLOOKUP(CD32,#REF!,CH$14,FALSE)","v":{"$error":"#REF!"}},{"$f":"VLOOKUP(CD32,#REF!,CI$14,FALSE)","v":{"$error":"#REF!"}}]
[null,null,null,null,null,null,null,null,null,null,null,null,null,null,null,null,null,null,null,84,{"$f":"IF($T33>'LED-Lighting'!$AX$7,0,IF((-$C$3*$T33+$D$3)<='LED-Lighting'!$AZ$7,(-$C$3*$T33+$D$3),'LED-Lighting'!$AZ$7))","v":{"$error":"#N/A"}},{"$f":"IF($T33>'LED-Lighting'!$AX$7,0,IF((-$C$4*$T33+$D$4)<='LED-Lighting'!$AZ$7,(-$C$4*$T33+$D$4),'LED-Lighting'!$AZ$7))","v":{"$error":"#N/A"}},{"$f":"IF($T33>'LED-Lighting'!$AX$7,0,IF((-$C$5*$T33+$D$5)<='LED-Lighting'!$AZ$7,(-$C$5*$T33+$D$5),'LED-Lighting'!$AZ$7))","v":{"$error":"#N/A"}},{"$f":"IF($T33>'LED-Lighting'!$AX$7,0,IF((-$C$6*$T33+$D$6)<='LED-Lighting'!$AZ$7,(-$C$6*$T33+$D$6),'LED-Lighting'!$AZ$7))","v":{"$error":"#N/A"}},{"$f":"IF($T33>'LED-Lighting'!$AX$7,0,IF((-$C$7*$T33+$D$7)<='LED-Lighting'!$AZ$7,(-$C$7*$T33+$D$7),'LED-Lighting'!$AZ$7))","v":{"$error":"#N/A"}},{"$f":"IF($T33>'LED-Lighting'!$AX$7,0,IF((-$C$8*$T33+$D$8)<='LED-Lighting'!$AZ$7,(-$C$8*$T33+$D$8),'LED-Lighting'!$AZ$7))","v":{"$error":"#N/A"}},null,{"$f":"IF($T33>'LED-Lighting'!$AX$19,0,IF((-$G$3*$T33+$H$3)<='LED-Lighting'!$AZ$19,(-$G$3*$T33+$H$3),'LED-Lighting'!$AZ$19))","v":{"$error":"#N/A"}},{"$f":"IF($T33>'LED-Lighting'!$AX$19,0,IF((-$G$4*$T33+$H$4)<='LED-Lighting'!$AZ$19,(-$G$4*$T33+$H$4),'LED-Lighting'!$AZ$19))","v":{"$error":"#N/A"}},{"$f":"IF($T33>'LED-Lighting'!$AX$19,0,IF((-$G$5*$T33+$H$5)<='LED-Lighting'!$AZ$19,(-$G$5*$T33+$H$5),'LED-Lighting'!$AZ$19))","v":{"$error":"#N/A"}},{"$f":"IF($T33>'LED-Lighting'!$AX$19,0,IF((-$G$6*$T33+$H$6)<='LED-Lighting'!$AZ$19,(-$G$6*$T33+$H$6),'LED-Lighting'!$AZ$19))","v":{"$error":"#N/A"}},{"$f":"IF($T33>'LED-Lighting'!$AX$19,0,IF((-$G$7*$T33+$H$7)<='LED-Lighting'!$AZ$19,(-$G$7*$T33+$H$7),'LED-Lighting'!$AZ$19))","v":{"$error":"#N/A"}},{"$f":"IF($T33>'LED-Lighting'!$AX$19,0,IF((-$G$8*$T33+$H$8)<='LED-Lighting'!$AZ$19,(-$G$8*$T33+$H$8),'LED-Lighting'!$AZ$19))","v":{"$error":"#N/A"}},null,{"$f":"IF($T33>'LED-Lighting'!$AX$31,0,IF((-$K$3*$T33+$L$3)<='LED-Lighting'!$AZ$31,(-$K$3*$T33+$L$3),'LED-Lighting'!$AZ$31))","v":{"$error":"#N/A"}},{"$f":"IF($T33>'LED-Lighting'!$AX$31,0,IF((-$K$4*$T33+$L$4)<='LED-Lighting'!$AZ$31,(-$K$4*$T33+$L$4),'LED-Lighting'!$AZ$31))","v":{"$error":"#N/A"}},{"$f":"IF($T33>'LED-Lighting'!$AX$31,0,IF((-$K$5*$T33+$L$5)<='LED-Lighting'!$AZ$31,(-$K$5*$T33+$L$5),'LED-Lighting'!$AZ$31))","v":{"$error":"#N/A"}},{"$f":"IF($T33>'LED-Lighting'!$AX$31,0,IF((-$K$6*$T33+$L$6)<='LED-Lighting'!$AZ$31,(-$K$6*$T33+$L$6),'LED-Lighting'!$AZ$31))","v":{"$error":"#N/A"}},{"$f":"IF($T33>'LED-Lighting'!$AX$31,0,IF((-$K$7*$T33+$L$7)<='LED-Lighting'!$AZ$31,(-$K$7*$T33+$L$7),'LED-Lighting'!$AZ$31))","v":{"$error":"#N/A"}},{"$f":"IF($T33>'LED-Lighting'!$AX$31,0,IF((-$K$8*$T33+$L$8)<='LED-Lighting'!$AZ$31,(-$K$8*$T33+$L$8),'LED-Lighting'!$AZ$31))","v":{"$error":"#N/A"}},null,null,null,null,null,null,null,null,null,null,null,null,null,null,null,{"$f":"#REF!","v":{"$error":"#REF!"}},{"$f":"VLOOKUP(BD33,#REF!,BE$14,FALSE)","v":{"$error":"#REF!"}},{"$f":"VLOOKUP(BD33,#REF!,BF$14,FALSE)","v":{"$error":"#REF!"}},null,{"$f":"VLOOKUP(BD33,#REF!,BH$14,FALSE)","v":{"$error":"#REF!"}},{"$f":"VLOOKUP(BD33,#REF!,BI$14,FALSE)","v":{"$error":"#REF!"}},null,null,null,null,null,null,null,{"$error":"#REF!"},{"$f":"VLOOKUP(BQ33,#REF!,BR$14,FALSE)","v":{"$error":"#REF!"}},{"$f":"VLOOKUP(BQ33,#REF!,BS$14,FALSE)","v":{"$error":"#REF!"}},null,{"$f":"VLOOKUP(BQ33,#REF!,BU$14,FALSE)","v":{"$error":"#REF!"}},{"$f":"VLOOKUP(BQ33,#REF!,BV$14,FALSE)","v":{"$error":"#REF!"}},null,null,null,null,null,null,null,{"$error":"#REF!"},{"$f":"VLOOKUP(CD33,#REF!,CE$14,FALSE)","v":{"$error":"#REF!"}},{"$f":"VLOOKUP(CD33,#REF!,CF$14,FALSE)","v":{"$error":"#REF!"}},null,{"$f":"VLOOKUP(CD33,#REF!,CH$14,FALSE)","v":{"$error":"#REF!"}},{"$f":"VLOOKUP(CD33,#REF!,CI$14,FALSE)","v":{"$error":"#REF!"}}]
[null,null,null,null,null,null,null,null,null,null,null,null,null,null,null,null,null,null,null,87,{"$f":"IF($T34>'LED-Lighting'!$AX$7,0,IF((-$C$3*$T34+$D$3)<='LED-Lighting'!$AZ$7,(-$C$3*$T34+$D$3),'LED-Lighting'!$AZ$7))","v":{"$error":"#N/A"}},{"$f":"IF($T34>'LED-Lighting'!$AX$7,0,IF((-$C$4*$T34+$D$4)<='LED-Lighting'!$AZ$7,(-$C$4*$T34+$D$4),'LED-Lighting'!$AZ$7))","v":{"$error":"#N/A"}},{"$f":"IF($T34>'LED-Lighting'!$AX$7,0,IF((-$C$5*$T34+$D$5)<='LED-Lighting'!$AZ$7,(-$C$5*$T34+$D$5),'LED-Lighting'!$AZ$7))","v":{"$error":"#N/A"}},{"$f":"IF($T34>'LED-Lighting'!$AX$7,0,IF((-$C$6*$T34+$D$6)<='LED-Lighting'!$AZ$7,(-$C$6*$T34+$D$6),'LED-Lighting'!$AZ$7))","v":{"$error":"#N/A"}},{"$f":"IF($T34>'LED-Lighting'!$AX$7,0,IF((-$C$7*$T34+$D$7)<='LED-Lighting'!$AZ$7,(-$C$7*$T34+$D$7),'LED-Lighting'!$AZ$7))","v":{"$error":"#N/A"}},{"$f":"IF($T34>'LED-Lighting'!$AX$7,0,IF((-$C$8*$T34+$D$8)<='LED-Lighting'!$AZ$7,(-$C$8*$T34+$D$8),'LED-Lighting'!$AZ$7))","v":{"$error":"#N/A"}},null,{"$f":"IF($T34>'LED-Lighting'!$AX$19,0,IF((-$G$3*$T34+$H$3)<='LED-Lighting'!$AZ$19,(-$G$3*$T34+$H$3),'LED-Lighting'!$AZ$19))","v":{"$error":"#N/A"}},{"$f":"IF($T34>'LED-Lighting'!$AX$19,0,IF((-$G$4*$T34+$H$4)<='LED-Lighting'!$AZ$19,(-$G$4*$T34+$H$4),'LED-Lighting'!$AZ$19))","v":{"$error":"#N/A"}},{"$f":"IF($T34>'LED-Lighting'!$AX$19,0,IF((-$G$5*$T34+$H$5)<='LED-Lighting'!$AZ$19,(-$G$5*$T34+$H$5),'LED-Lighting'!$AZ$19))","v":{"$error":"#N/A"}},{"$f":"IF($T34>'LED-Lighting'!$AX$19,0,IF((-$G$6*$T34+$H$6)<='LED-Lighting'!$AZ$19,(-$G$6*$T34+$H$6),'LED-Lighting'!$AZ$19))","v":{"$error":"#N/A"}},{"$f":"IF($T34>'LED-Lighting'!$AX$19,0,IF((-$G$7*$T34+$H$7)<='LED-Lighting'!$AZ$19,(-$G$7*$T34+$H$7),'LED-Lighting'!$AZ$19))","v":{"$error":"#N/A"}},{"$f":"IF($T34>'LED-Lighting'!$AX$19,0,IF((-$G$8*$T34+$H$8)<='LED-Lighting'!$AZ$19,(-$G$8*$T34+$H$8),'LED-Lighting'!$AZ$19))","v":{"$error":"#N/A"}},null,{"$f":"IF($T34>'LED-Lighting'!$AX$31,0,IF((-$K$3*$T34+$L$3)<='LED-Lighting'!$AZ$31,(-$K$3*$T34+$L$3),'LED-Lighting'!$AZ$31))","v":{"$error":"#N/A"}},{"$f":"IF($T34>'LED-Lighting'!$AX$31,0,IF((-$K$4*$T34+$L$4)<='LED-Lighting'!$AZ$31,(-$K$4*$T34+$L$4),'LED-Lighting'!$AZ$31))","v":{"$error":"#N/A"}},{"$f":"IF($T34>'LED-Lighting'!$AX$31,0,IF((-$K$5*$T34+$L$5)<='LED-Lighting'!$AZ$31,(-$K$5*$T34+$L$5),'LED-Lighting'!$AZ$31))","v":{"$error":"#N/A"}},{"$f":"IF($T34>'LED-Lighting'!$AX$31,0,IF((-$K$6*$T34+$L$6)<='LED-Lighting'!$AZ$31,(-$K$6*$T34+$L$6),'LED-Lighting'!$AZ$31))","v":{"$error":"#N/A"}},{"$f":"IF($T34>'LED-Lighting'!$AX$31,0,IF((-$K$7*$T34+$L$7)<='LED-Lighting'!$AZ$31,(-$K$7*$T34+$L$7),'LED-Lighting'!$AZ$31))","v":{"$error":"#N/A"}},{"$f":"IF($T34>'LED-Lighting'!$AX$31,0,IF((-$K$8*$T34+$L$8)<='LED-Lighting'!$AZ$31,(-$K$8*$T34+$L$8),'LED-Lighting'!$AZ$31))","v":{"$error":"#N/A"}},null,null,null,null,null,null,null,null,null,null,null,null,null,null,null,{"$f":"#REF!","v":{"$error":"#REF!"}},{"$f":"VLOOKUP(BD34,#REF!,BE$14,FALSE)","v":{"$error":"#REF!"}},{"$f":"VLOOKUP(BD34,#REF!,BF$14,FALSE)","v":{"$error":"#REF!"}},null,{"$f":"VLOOKUP(BD34,#REF!,BH$14,FALSE)","v":{"$error":"#REF!"}},{"$f":"VLOOKUP(BD34,#REF!,BI$14,FALSE)","v":{"$error":"#REF!"}},null,null,null,null,null,null,null,{"$error":"#REF!"},{"$f":"VLOOKUP(BQ34,#REF!,BR$14,FALSE)","v":{"$error":"#REF!"}},{"$f":"VLOOKUP(BQ34,#REF!,BS$14,FALSE)","v":{"$error":"#REF!"}},null,{"$f":"VLOOKUP(BQ34,#REF!,BU$14,FALSE)","v":{"$error":"#REF!"}},{"$f":"VLOOKUP(BQ34,#REF!,BV$14,FALSE)","v":{"$error":"#REF!"}},null,null,null,null,null,null,null,{"$error":"#REF!"},{"$f":"VLOOKUP(CD34,#REF!,CE$14,FALSE)","v":{"$error":"#REF!"}},{"$f":"VLOOKUP(CD34,#REF!,CF$14,FALSE)","v":{"$error":"#REF!"}},null,{"$f":"VLOOKUP(CD34,#REF!,CH$14,FALSE)","v":{"$error":"#REF!"}},{"$f":"VLOOKUP(CD34,#REF!,CI$14,FALSE)","v":{"$error":"#REF!"}}]
[null,null,null,null,null,null,null,null,null,null,null,null,null,null,null,null,null,null,null,90,{"$f":"IF($T35>'LED-Lighting'!$AX$7,0,IF((-$C$3*$T35+$D$3)<='LED-Lighting'!$AZ$7,(-$C$3*$T35+$D$3),'LED-Lighting'!$AZ$7))","v":{"$error":"#N/A"}},{"$f":"IF($T35>'LED-Lighting'!$AX$7,0,IF((-$C$4*$T35+$D$4)<='LED-Lighting'!$AZ$7,(-$C$4*$T35+$D$4),'LED-Lighting'!$AZ$7))","v":{"$error":"#N/A"}},{"$f":"IF($T35>'LED-Lighting'!$AX$7,0,IF((-$C$5*$T35+$D$5)<='LED-Lighting'!$AZ$7,(-$C$5*$T35+$D$5),'LED-Lighting'!$AZ$7))","v":{"$error":"#N/A"}},{"$f":"IF($T35>'LED-Lighting'!$AX$7,0,IF((-$C$6*$T35+$D$6)<='LED-Lighting'!$AZ$7,(-$C$6*$T35+$D$6),'LED-Lighting'!$AZ$7))","v":{"$error":"#N/A"}},{"$f":"IF($T35>'LED-Lighting'!$AX$7,0,IF((-$C$7*$T35+$D$7)<='LED-Lighting'!$AZ$7,(-$C$7*$T35+$D$7),'LED-Lighting'!$AZ$7))","v":{"$error":"#N/A"}},{"$f":"IF($T35>'LED-Lighting'!$AX$7,0,IF((-$C$8*$T35+$D$8)<='LED-Lighting'!$AZ$7,(-$C$8*$T35+$D$8),'LED-Lighting'!$AZ$7))","v":{"$error":"#N/A"}},null,{"$f":"IF($T35>'LED-Lighting'!$AX$19,0,IF((-$G$3*$T35+$H$3)<='LED-Lighting'!$AZ$19,(-$G$3*$T35+$H$3),'LED-Lighting'!$AZ$19))","v":{"$error":"#N/A"}},{"$f":"IF($T35>'LED-Lighting'!$AX$19,0,IF((-$G$4*$T35+$H$4)<='LED-Lighting'!$AZ$19,(-$G$4*$T35+$H$4),'LED-Lighting'!$AZ$19))","v":{"$error":"#N/A"}},{"$f":"IF($T35>'LED-Lighting'!$AX$19,0,IF((-$G$5*$T35+$H$5)<='LED-Lighting'!$AZ$19,(-$G$5*$T35+$H$5),'LED-Lighting'!$AZ$19))","v":{"$error":"#N/A"}},{"$f":"IF($T35>'LED-Lighting'!$AX$19,0,IF((-$G$6*$T35+$H$6)<='LED-Lighting'!$AZ$19,(-$G$6*$T35+$H$6),'LED-Lighting'!$AZ$19))","v":{"$error":"#N/A"}},{"$f":"IF($T35>'LED-Lighting'!$AX$19,0,IF((-$G$7*$T35+$H$7)<='LED-Lighting'!$AZ$19,(-$G$7*$T35+$H$7),'LED-Lighting'!$AZ$19))","v":{"$error":"#N/A"}},{"$f":"IF($T35>'LED-Lighting'!$AX$19,0,IF((-$G$8*$T35+$H$8)<='LED-Lighting'!$AZ$19,(-$G$8*$T35+$H$8),'LED-Lighting'!$AZ$19))","v":{"$error":"#N/A"}},null,{"$f":"IF($T35>'LED-Lighting'!$AX$31,0,IF((-$K$3*$T35+$L$3)<='LED-Lighting'!$AZ$31,(-$K$3*$T35+$L$3),'LED-Lighting'!$AZ$31))","v":{"$error":"#N/A"}},{"$f":"IF($T35>'LED-Lighting'!$AX$31,0,IF((-$K$4*$T35+$L$4)<='LED-Lighting'!$AZ$31,(-$K$4*$T35+$L$4),'LED-Lighting'!$AZ$31))","v":{"$error":"#N/A"}},{"$f":"IF($T35>'LED-Lighting'!$AX$31,0,IF((-$K$5*$T35+$L$5)<='LED-Lighting'!$AZ$31,(-$K$5*$T35+$L$5),'LED-Lighting'!$AZ$31))","v":{"$error":"#N/A"}},{"$f":"IF($T35>'LED-Lighting'!$AX$31,0,IF((-$K$6*$T35+$L$6)<='LED-Lighting'!$AZ$31,(-$K$6*$T35+$L$6),'LED-Lighting'!$AZ$31))","v":{"$error":"#N/A"}},{"$f":"IF($T35>'LED-Lighting'!$AX$31,0,IF((-$K$7*$T35+$L$7)<='LED-Lighting'!$AZ$31,(-$K$7*$T35+$L$7),'LED-Lighting'!$AZ$31))","v":{"$error":"#N/A"}},{"$f":"IF($T35>'LED-Lighting'!$AX$31,0,IF((-$K$8*$T35+$L$8)<='LED-Lighting'!$AZ$31,(-$K$8*$T35+$L$8),'LED-Lighting'!$AZ$31))","v":{"$error":"#N/A"}},null,null,null,null,null,null,null,null,null,null,null,null,null,null,null,{"$f":"#REF!","v":{"$error":"#REF!"}},{"$f":"VLOOKUP(BD35,#REF!,BE$14,FALSE)","v":{"$error":"#REF!"}},{"$f":"VLOOKUP(BD35,#REF!,BF$14,FALSE)","v":{"$error":"#REF!"}},null,{"$f":"VLOOKUP(BD35,#REF!,BH$14,FALSE)","v":{"$error":"#REF!"}},{"$f":"VLOOKUP(BD35,#REF!,BI$14,FALSE)","v":{"$error":"#REF!"}},null,null,null,null,null,null,null,{"$error":"#REF!"},{"$f":"VLOOKUP(BQ35,#REF!,BR$14,FALSE)","v":{"$error":"#REF!"}},{"$f":"VLOOKUP(BQ35,#REF!,BS$14,FALSE)","v":{"$error":"#REF!"}},null,{"$f":"VLOOKUP(BQ35,#REF!,BU$14,FALSE)","v":{"$error":"#REF!"}},{"$f":"VLOOKUP(BQ35,#REF!,BV$14,FALSE)","v":{"$error":"#REF!"}},null,null,null,null,null,null,null,{"$error":"#REF!"},{"$f":"VLOOKUP(CD35,#REF!,CE$14,FALSE)","v":{"$error":"#REF!"}},{"$f":"VLOOKUP(CD35,#REF!,CF$14,FALSE)","v":{"$error":"#REF!"}},null,{"$f":"VLOOKUP(CD35,#REF!,CH$14,FALSE)","v":{"$error":"#REF!"}},{"$f":"VLOOKUP(CD35,#REF!,CI$14,FALSE)","v":{"$error":"#REF!"}}]
[null,null,null,null,null,null,null,null,null,null,null,null,null,null,null,null,null,null,null,93,{"$f":"IF($T36>'LED-Lighting'!$AX$7,0,IF((-$C$3*$T36+$D$3)<='LED-Lighting'!$AZ$7,(-$C$3*$T36+$D$3),'LED-Lighting'!$AZ$7))","v":{"$error":"#N/A"}},{"$f":"IF($T36>'LED-Lighting'!$AX$7,0,IF((-$C$4*$T36+$D$4)<='LED-Lighting'!$AZ$7,(-$C$4*$T36+$D$4),'LED-Lighting'!$AZ$7))","v":{"$error":"#N/A"}},{"$f":"IF($T36>'LED-Lighting'!$AX$7,0,IF((-$C$5*$T36+$D$5)<='LED-Lighting'!$AZ$7,(-$C$5*$T36+$D$5),'LED-Lighting'!$AZ$7))","v":{"$error":"#N/A"}},{"$f":"IF($T36>'LED-Lighting'!$AX$7,0,IF((-$C$6*$T36+$D$6)<='LED-Lighting'!$AZ$7,(-$C$6*$T36+$D$6),'LED-Lighting'!$AZ$7))","v":{"$error":"#N/A"}},{"$f":"IF($T36>'LED-Lighting'!$AX$7,0,IF((-$C$7*$T36+$D$7)<='LED-Lighting'!$AZ$7,(-$C$7*$T36+$D$7),'LED-Lighting'!$AZ$7))","v":{"$error":"#N/A"}},{"$f":"IF($T36>'LED-Lighting'!$AX$7,0,IF((-$C$8*$T36+$D$8)<='LED-Lighting'!$AZ$7,(-$C$8*$T36+$D$8),'LED-Lighting'!$AZ$7))","v":{"$error":"#N/A"}},null,{"$f":"IF($T36>'LED-Lighting'!$AX$19,0,IF((-$G$3*$T36+$H$3)<='LED-Lighting'!$AZ$19,(-$G$3*$T36+$H$3),'LED-Lighting'!$AZ$19))","v":{"$error":"#N/A"}},{"$f":"IF($T36>'LED-Lighting'!$AX$19,0,IF((-$G$4*$T36+$H$4)<='LED-Lighting'!$AZ$19,(-$G$4*$T36+$H$4),'LED-Lighting'!$AZ$19))","v":{"$error":"#N/A"}},{"$f":"IF($T36>'LED-Lighting'!$AX$19,0,IF((-$G$5*$T36+$H$5)<='LED-Lighting'!$AZ$19,(-$G$5*$T36+$H$5),'LED-Lighting'!$AZ$19))","v":{"$error":"#N/A"}},{"$f":"IF($T36>'LED-Lighting'!$AX$19,0,IF((-$G$6*$T36+$H$6)<='LED-Lighting'!$AZ$19,(-$G$6*$T36+$H$6),'LED-Lighting'!$AZ$19))","v":{"$error":"#N/A"}},{"$f":"IF($T36>'LED-Lighting'!$AX$19,0,IF((-$G$7*$T36+$H$7)<='LED-Lighting'!$AZ$19,(-$G$7*$T36+$H$7),'LED-Lighting'!$AZ$19))","v":{"$error":"#N/A"}},{"$f":"IF($T36>'LED-Lighting'!$AX$19,0,IF((-$G$8*$T36+$H$8)<='LED-Lighting'!$AZ$19,(-$G$8*$T36+$H$8),'LED-Lighting'!$AZ$19))","v":{"$error":"#N/A"}},null,{"$f":"IF($T36>'LED-Lighting'!$AX$31,0,IF((-$K$3*$T36+$L$3)<='LED-Lighting'!$AZ$31,(-$K$3*$T36+$L$3),'LED-Lighting'!$AZ$31))","v":{"$error":"#N/A"}},{"$f":"IF($T36>'LED-Lighting'!$AX$31,0,IF((-$K$4*$T36+$L$4)<='LED-Lighting'!$AZ$31,(-$K$4*$T36+$L$4),'LED-Lighting'!$AZ$31))","v":{"$error":"#N/A"}},{"$f":"IF($T36>'LED-Lighting'!$AX$31,0,IF((-$K$5*$T36+$L$5)<='LED-Lighting'!$AZ$31,(-$K$5*$T36+$L$5),'LED-Lighting'!$AZ$31))","v":{"$error":"#N/A"}},{"$f":"IF($T36>'LED-Lighting'!$AX$31,0,IF((-$K$6*$T36+$L$6)<='LED-Lighting'!$AZ$31,(-$K$6*$T36+$L$6),'LED-Lighting'!$AZ$31))","v":{"$error":"#N/A"}},{"$f":"IF($T36>'LED-Lighting'!$AX$31,0,IF((-$K$7*$T36+$L$7)<='LED-Lighting'!$AZ$31,(-$K$7*$T36+$L$7),'LED-Lighting'!$AZ$31))","v":{"$error":"#N/A"}},{"$f":"IF($T36>'LED-Lighting'!$AX$31,0,IF((-$K$8*$T36+$L$8)<='LED-Lighting'!$AZ$31,(-$K$8*$T36+$L$8),'LED-Lighting'!$AZ$31))","v":{"$error":"#N/A"}},null,null,null,null,null,null,null,null,null,null,null,null,null,null,null,{"$f":"#REF!","v":{"$error":"#REF!"}},{"$f":"VLOOKUP(BD36,#REF!,BE$14,FALSE)","v":{"$error":"#REF!"}},{"$f":"VLOOKUP(BD36,#REF!,BF$14,FALSE)","v":{"$error":"#REF!"}},null,{"$f":"VLOOKUP(BD36,#REF!,BH$14,FALSE)","v":{"$error":"#REF!"}},{"$f":"VLOOKUP(BD36,#REF!,BI$14,FALSE)","v":{"$error":"#REF!"}},null,null,null,null,null,null,null,{"$error":"#REF!"},{"$f":"VLOOKUP(BQ36,#REF!,BR$14,FALSE)","v":{"$error":"#REF!"}},{"$f":"VLOOKUP(BQ36,#REF!,BS$14,FALSE)","v":{"$error":"#REF!"}},null,{"$f":"VLOOKUP(BQ36,#REF!,BU$14,FALSE)","v":{"$error":"#REF!"}},{"$f":"VLOOKUP(BQ36,#REF!,BV$14,FALSE)","v":{"$error":"#REF!"}},null,null,null,null,null,null,null,{"$error":"#REF!"},{"$f":"VLOOKUP(CD36,#REF!,CE$14,FALSE)","v":{"$error":"#REF!"}},{"$f":"VLOOKUP(CD36,#REF!,CF$14,FALSE)","v":{"$error":"#REF!"}},null,{"$f":"VLOOKUP(CD36,#REF!,CH$14,FALSE)","v":{"$error":"#REF!"}},{"$f":"VLOOKUP(CD36,#REF!,CI$14,FALSE)","v":{"$error":"#REF!"}}]
[null,null,null,null,null,null,null,null,null,null,null,null,null,null,null,null,null,null,null,96,{"$f":"IF($T37>'LED-Lighting'!$AX$7,0,IF((-$C$3*$T37+$D$3)<='LED-Lighting'!$AZ$7,(-$C$3*$T37+$D$3),'LED-Lighting'!$AZ$7))","v":{"$error":"#N/A"}},{"$f":"IF($T37>'LED-Lighting'!$AX$7,0,IF((-$C$4*$T37+$D$4)<='LED-Lighting'!$AZ$7,(-$C$4*$T37+$D$4),'LED-Lighting'!$AZ$7))","v":{"$error":"#N/A"}},{"$f":"IF($T37>'LED-Lighting'!$AX$7,0,IF((-$C$5*$T37+$D$5)<='LED-Lighting'!$AZ$7,(-$C$5*$T37+$D$5),'LED-Lighting'!$AZ$7))","v":{"$error":"#N/A"}},{"$f":"IF($T37>'LED-Lighting'!$AX$7,0,IF((-$C$6*$T37+$D$6)<='LED-Lighting'!$AZ$7,(-$C$6*$T37+$D$6),'LED-Lighting'!$AZ$7))","v":{"$error":"#N/A"}},{"$f":"IF($T37>'LED-Lighting'!$AX$7,0,IF((-$C$7*$T37+$D$7)<='LED-Lighting'!$AZ$7,(-$C$7*$T37+$D$7),'LED-Lighting'!$AZ$7))","v":{"$error":"#N/A"}},{"$f":"IF($T37>'LED-Lighting'!$AX$7,0,IF((-$C$8*$T37+$D$8)<='LED-Lighting'!$AZ$7,(-$C$8*$T37+$D$8),'LED-Lighting'!$AZ$7))","v":{"$error":"#N/A"}},null,{"$f":"IF($T37>'LED-Lighting'!$AX$19,0,IF((-$G$3*$T37+$H$3)<='LED-Lighting'!$AZ$19,(-$G$3*$T37+$H$3),'LED-Lighting'!$AZ$19))","v":{"$error":"#N/A"}},{"$f":"IF($T37>'LED-Lighting'!$AX$19,0,IF((-$G$4*$T37+$H$4)<='LED-Lighting'!$AZ$19,(-$G$4*$T37+$H$4),'LED-Lighting'!$AZ$19))","v":{"$error":"#N/A"}},{"$f":"IF($T37>'LED-Lighting'!$AX$19,0,IF((-$G$5*$T37+$H$5)<='LED-Lighting'!$AZ$19,(-$G$5*$T37+$H$5),'LED-Lighting'!$AZ$19))","v":{"$error":"#N/A"}},{"$f":"IF($T37>'LED-Lighting'!$AX$19,0,IF((-$G$6*$T37+$H$6)<='LED-Lighting'!$AZ$19,(-$G$6*$T37+$H$6),'LED-Lighting'!$AZ$19))","v":{"$error":"#N/A"}},{"$f":"IF($T37>'LED-Lighting'!$AX$19,0,IF((-$G$7*$T37+$H$7)<='LED-Lighting'!$AZ$19,(-$G$7*$T37+$H$7),'LED-Lighting'!$AZ$19))","v":{"$error":"#N/A"}},{"$f":"IF($T37>'LED-Lighting'!$AX$19,0,IF((-$G$8*$T37+$H$8)<='LED-Lighting'!$AZ$19,(-$G$8*$T37+$H$8),'LED-Lighting'!$AZ$19))","v":{"$error":"#N/A"}},null,{"$f":"IF($T37>'LED-Lighting'!$AX$31,0,IF((-$K$3*$T37+$L$3)<='LED-Lighting'!$AZ$31,(-$K$3*$T37+$L$3),'LED-Lighting'!$AZ$31))","v":{"$error":"#N/A"}},{"$f":"IF($T37>'LED-Lighting'!$AX$31,0,IF((-$K$4*$T37+$L$4)<='LED-Lighting'!$AZ$31,(-$K$4*$T37+$L$4),'LED-Lighting'!$AZ$31))","v":{"$error":"#N/A"}},{"$f":"IF($T37>'LED-Lighting'!$AX$31,0,IF((-$K$5*$T37+$L$5)<='LED-Lighting'!$AZ$31,(-$K$5*$T37+$L$5),'LED-Lighting'!$AZ$31))","v":{"$error":"#N/A"}},{"$f":"IF($T37>'LED-Lighting'!$AX$31,0,IF((-$K$6*$T37+$L$6)<='LED-Lighting'!$AZ$31,(-$K$6*$T37+$L$6),'LED-Lighting'!$AZ$31))","v":{"$error":"#N/A"}},{"$f":"IF($T37>'LED-Lighting'!$AX$31,0,IF((-$K$7*$T37+$L$7)<='LED-Lighting'!$AZ$31,(-$K$7*$T37+$L$7),'LED-Lighting'!$AZ$31))","v":{"$error":"#N/A"}},{"$f":"IF($T37>'LED-Lighting'!$AX$31,0,IF((-$K$8*$T37+$L$8)<='LED-Lighting'!$AZ$31,(-$K$8*$T37+$L$8),'LED-Lighting'!$AZ$31))","v":{"$error":"#N/A"}},null,null,null,null,null,null,null,null,null,null,null,null,null,null,null,{"$f":"#REF!","v":{"$error":"#REF!"}},{"$f":"VLOOKUP(BD37,#REF!,BE$14,FALSE)","v":{"$error":"#REF!"}},{"$f":"VLOOKUP(BD37,#REF!,BF$14,FALSE)","v":{"$error":"#REF!"}},null,{"$f":"VLOOKUP(BD37,#REF!,BH$14,FALSE)","v":{"$error":"#REF!"}},{"$f":"VLOOKUP(BD37,#REF!,BI$14,FALSE)","v":{"$error":"#REF!"}},null,null,null,null,null,null,null,{"$error":"#REF!"},{"$f":"VLOOKUP(BQ37,#REF!,BR$14,FALSE)","v":{"$error":"#REF!"}},{"$f":"VLOOKUP(BQ37,#REF!,BS$14,FALSE)","v":{"$error":"#REF!"}},null,{"$f":"VLOOKUP(BQ37,#REF!,BU$14,FALSE)","v":{"$error":"#REF!"}},{"$f":"VLOOKUP(BQ37,#REF!,BV$14,FALSE)","v":{"$error":"#REF!"}},null,null,null,null,null,null,null,{"$error":"#REF!"},{"$f":"VLOOKUP(CD37,#REF!,CE$14,FALSE)","v":{"$error":"#REF!"}},{"$f":"VLOOKUP(CD37,#REF!,CF$14,FALSE)","v":{"$error":"#REF!"}},null,{"$f":"VLOOKUP(CD37,#REF!,CH$14,FALSE)","v":{"$error":"#REF!"}},{"$f":"VLOOKUP(CD37,#REF!,CI$14,FALSE)","v":{"$error":"#REF!"}}]
[null,null,null,null,null,null,null,null,null,null,null,null,null,null,null,null,null,null,null,99,{"$f":"IF($T38>'LED-Lighting'!$AX$7,0,IF((-$C$3*$T38+$D$3)<='LED-Lighting'!$AZ$7,(-$C$3*$T38+$D$3),'LED-Lighting'!$AZ$7))","v":{"$error":"#N/A"}},{"$f":"IF($T38>'LED-Lighting'!$AX$7,0,IF((-$C$4*$T38+$D$4)<='LED-Lighting'!$AZ$7,(-$C$4*$T38+$D$4),'LED-Lighting'!$AZ$7))","v":{"$error":"#N/A"}},{"$f":"IF($T38>'LED-Lighting'!$AX$7,0,IF((-$C$5*$T38+$D$5)<='LED-Lighting'!$AZ$7,(-$C$5*$T38+$D$5),'LED-Lighting'!$AZ$7))","v":{"$error":"#N/A"}},{"$f":"IF($T38>'LED-Lighting'!$AX$7,0,IF((-$C$6*$T38+$D$6)<='LED-Lighting'!$AZ$7,(-$C$6*$T38+$D$6),'LED-Lighting'!$AZ$7))","v":{"$error":"#N/A"}},{"$f":"IF($T38>'LED-Lighting'!$AX$7,0,IF((-$C$7*$T38+$D$7)<='LED-Lighting'!$AZ$7,(-$C$7*$T38+$D$7),'LED-Lighting'!$AZ$7))","v":{"$error":"#N/A"}},{"$f":"IF($T38>'LED-Lighting'!$AX$7,0,IF((-$C$8*$T38+$D$8)<='LED-Lighting'!$AZ$7,(-$C$8*$T38+$D$8),'LED-Lighting'!$AZ$7))","v":{"$error":"#N/A"}},null,{"$f":"IF($T38>'LED-Lighting'!$AX$19,0,IF((-$G$3*$T38+$H$3)<='LED-Lighting'!$AZ$19,(-$G$3*$T38+$H$3),'LED-Lighting'!$AZ$19))","v":{"$error":"#N/A"}},{"$f":"IF($T38>'LED-Lighting'!$AX$19,0,IF((-$G$4*$T38+$H$4)<='LED-Lighting'!$AZ$19,(-$G$4*$T38+$H$4),'LED-Lighting'!$AZ$19))","v":{"$error":"#N/A"}},{"$f":"IF($T38>'LED-Lighting'!$AX$19,0,IF((-$G$5*$T38+$H$5)<='LED-Lighting'!$AZ$19,(-$G$5*$T38+$H$5),'LED-Lighting'!$AZ$19))","v":{"$error":"#N/A"}},{"$f":"IF($T38>'LED-Lighting'!$AX$19,0,IF((-$G$6*$T38+$H$6)<='LED-Lighting'!$AZ$19,(-$G$6*$T38+$H$6),'LED-Lighting'!$AZ$19))","v":{"$error":"#N/A"}},{"$f":"IF($T38>'LED-Lighting'!$AX$19,0,IF((-$G$7*$T38+$H$7)<='LED-Lighting'!$AZ$19,(-$G$7*$T38+$H$7),'LED-Lighting'!$AZ$19))","v":{"$error":"#N/A"}},{"$f":"IF($T38>'LED-Lighting'!$AX$19,0,IF((-$G$8*$T38+$H$8)<='LED-Lighting'!$AZ$19,(-$G$8*$T38+$H$8),'LED-Lighting'!$AZ$19))","v":{"$error":"#N/A"}},null,{"$f":"IF($T38>'LED-Lighting'!$AX$31,0,IF((-$K$3*$T38+$L$3)<='LED-Lighting'!$AZ$31,(-$K$3*$T38+$L$3),'LED-Lighting'!$AZ$31))","v":{"$error":"#N/A"}},{"$f":"IF($T38>'LED-Lighting'!$AX$31,0,IF((-$K$4*$T38+$L$4)<='LED-Lighting'!$AZ$31,(-$K$4*$T38+$L$4),'LED-Lighting'!$AZ$31))","v":{"$error":"#N/A"}},{"$f":"IF($T38>'LED-Lighting'!$AX$31,0,IF((-$K$5*$T38+$L$5)<='LED-Lighting'!$AZ$31,(-$K$5*$T38+$L$5),'LED-Lighting'!$AZ$31))","v":{"$error":"#N/A"}},{"$f":"IF($T38>'LED-Lighting'!$AX$31,0,IF((-$K$6*$T38+$L$6)<='LED-Lighting'!$AZ$31,(-$K$6*$T38+$L$6),'LED-Lighting'!$AZ$31))","v":{"$error":"#N/A"}},{"$f":"IF($T38>'LED-Lighting'!$AX$31,0,IF((-$K$7*$T38+$L$7)<='LED-Lighting'!$AZ$31,(-$K$7*$T38+$L$7),'LED-Lighting'!$AZ$31))","v":{"$error":"#N/A"}},{"$f":"IF($T38>'LED-Lighting'!$AX$31,0,IF((-$K$8*$T38+$L$8)<='LED-Lighting'!$AZ$31,(-$K$8*$T38+$L$8),'LED-Lighting'!$AZ$31))","v":{"$error":"#N/A"}},null,null,null,null,null,null,null,null,null,null,null,null,null,null,null,{"$f":"#REF!","v":{"$error":"#REF!"}},{"$f":"VLOOKUP(BD38,#REF!,BE$14,FALSE)","v":{"$error":"#REF!"}},{"$f":"VLOOKUP(BD38,#REF!,BF$14,FALSE)","v":{"$error":"#REF!"}},null,{"$f":"VLOOKUP(BD38,#REF!,BH$14,FALSE)","v":{"$error":"#REF!"}},{"$f":"VLOOKUP(BD38,#REF!,BI$14,FALSE)","v":{"$error":"#REF!"}},null,null,null,null,null,null,null,{"$error":"#REF!"},{"$f":"VLOOKUP(BQ38,#REF!,BR$14,FALSE)","v":{"$error":"#REF!"}},{"$f":"VLOOKUP(BQ38,#REF!,BS$14,FALSE)","v":{"$error":"#REF!"}},null,{"$f":"VLOOKUP(BQ38,#REF!,BU$14,FALSE)","v":{"$error":"#REF!"}},{"$f":"VLOOKUP(BQ38,#REF!,BV$14,FALSE)","v":{"$error":"#REF!"}},null,null,null,null,null,null,null,{"$error":"#REF!"},{"$f":"VLOOKUP(CD38,#REF!,CE$14,FALSE)","v":{"$error":"#REF!"}},{"$f":"VLOOKUP(CD38,#REF!,CF$14,FALSE)","v":{"$error":"#REF!"}},null,{"$f":"VLOOKUP(CD38,#REF!,CH$14,FALSE)","v":{"$error":"#REF!"}},{"$f":"VLOOKUP(CD38,#REF!,CI$14,FALSE)","v":{"$error":"#REF!"}}]
[null,null,null,null,null,null,null,null,null,null,null,null,null,null,null,null,null,null,null,102,{"$f":"IF($T39>'LED-Lighting'!$AX$7,0,IF((-$C$3*$T39+$D$3)<='LED-Lighting'!$AZ$7,(-$C$3*$T39+$D$3),'LED-Lighting'!$AZ$7))","v":{"$error":"#N/A"}},{"$f":"IF($T39>'LED-Lighting'!$AX$7,0,IF((-$C$4*$T39+$D$4)<='LED-Lighting'!$AZ$7,(-$C$4*$T39+$D$4),'LED-Lighting'!$AZ$7))","v":{"$error":"#N/A"}},{"$f":"IF($T39>'LED-Lighting'!$AX$7,0,IF((-$C$5*$T39+$D$5)<='LED-Lighting'!$AZ$7,(-$C$5*$T39+$D$5),'LED-Lighting'!$AZ$7))","v":{"$error":"#N/A"}},{"$f":"IF($T39>'LED-Lighting'!$AX$7,0,IF((-$C$6*$T39+$D$6)<='LED-Lighting'!$AZ$7,(-$C$6*$T39+$D$6),'LED-Lighting'!$AZ$7))","v":{"$error":"#N/A"}},{"$f":"IF($T39>'LED-Lighting'!$AX$7,0,IF((-$C$7*$T39+$D$7)<='LED-Lighting'!$AZ$7,(-$C$7*$T39+$D$7),'LED-Lighting'!$AZ$7))","v":{"$error":"#N/A"}},{"$f":"IF($T39>'LED-Lighting'!$AX$7,0,IF((-$C$8*$T39+$D$8)<='LED-Lighting'!$AZ$7,(-$C$8*$T39+$D$8),'LED-Lighting'!$AZ$7))","v":{"$error":"#N/A"}},null,{"$f":"IF($T39>'LED-Lighting'!$AX$19,0,IF((-$G$3*$T39+$H$3)<='LED-Lighting'!$AZ$19,(-$G$3*$T39+$H$3),'LED-Lighting'!$AZ$19))","v":{"$error":"#N/A"}},{"$f":"IF($T39>'LED-Lighting'!$AX$19,0,IF((-$G$4*$T39+$H$4)<='LED-Lighting'!$AZ$19,(-$G$4*$T39+$H$4),'LED-Lighting'!$AZ$19))","v":{"$error":"#N/A"}},{"$f":"IF($T39>'LED-Lighting'!$AX$19,0,IF((-$G$5*$T39+$H$5)<='LED-Lighting'!$AZ$19,(-$G$5*$T39+$H$5),'LED-Lighting'!$AZ$19))","v":{"$error":"#N/A"}},{"$f":"IF($T39>'LED-Lighting'!$AX$19,0,IF((-$G$6*$T39+$H$6)<='LED-Lighting'!$AZ$19,(-$G$6*$T39+$H$6),'LED-Lighting'!$AZ$19))","v":{"$error":"#N/A"}},{"$f":"IF($T39>'LED-Lighting'!$AX$19,0,IF((-$G$7*$T39+$H$7)<='LED-Lighting'!$AZ$19,(-$G$7*$T39+$H$7),'LED-Lighting'!$AZ$19))","v":{"$error":"#N/A"}},{"$f":"IF($T39>'LED-Lighting'!$AX$19,0,IF((-$G$8*$T39+$H$8)<='LED-Lighting'!$AZ$19,(-$G$8*$T39+$H$8),'LED-Lighting'!$AZ$19))","v":{"$error":"#N/A"}},null,{"$f":"IF($T39>'LED-Lighting'!$AX$31,0,IF((-$K$3*$T39+$L$3)<='LED-Lighting'!$AZ$31,(-$K$3*$T39+$L$3),'LED-Lighting'!$AZ$31))","v":{"$error":"#N/A"}},{"$f":"IF($T39>'LED-Lighting'!$AX$31,0,IF((-$K$4*$T39+$L$4)<='LED-Lighting'!$AZ$31,(-$K$4*$T39+$L$4),'LED-Lighting'!$AZ$31))","v":{"$error":"#N/A"}},{"$f":"IF($T39>'LED-Lighting'!$AX$31,0,IF((-$K$5*$T39+$L$5)<='LED-Lighting'!$AZ$31,(-$K$5*$T39+$L$5),'LED-Lighting'!$AZ$31))","v":{"$error":"#N/A"}},{"$f":"IF($T39>'LED-Lighting'!$AX$31,0,IF((-$K$6*$T39+$L$6)<='LED-Lighting'!$AZ$31,(-$K$6*$T39+$L$6),'LED-Lighting'!$AZ$31))","v":{"$error":"#N/A"}},{"$f":"IF($T39>'LED-Lighting'!$AX$31,0,IF((-$K$7*$T39+$L$7)<='LED-Lighting'!$AZ$31,(-$K$7*$T39+$L$7),'LED-Lighting'!$AZ$31))","v":{"$error":"#N/A"}},{"$f":"IF($T39>'LED-Lighting'!$AX$31,0,IF((-$K$8*$T39+$L$8)<='LED-Lighting'!$AZ$31,(-$K$8*$T39+$L$8),'LED-Lighting'!$AZ$31))","v":{"$error":"#N/A"}},null,null,null,null,null,null,null,null,null,null,null,null,null,null,null,{"$f":"#REF!","v":{"$error":"#REF!"}},{"$f":"VLOOKUP(BD39,#REF!,BE$14,FALSE)","v":{"$error":"#REF!"}},{"$f":"VLOOKUP(BD39,#REF!,BF$14,FALSE)","v":{"$error":"#REF!"}},null,{"$f":"VLOOKUP(BD39,#REF!,BH$14,FALSE)","v":{"$error":"#REF!"}},{"$f":"VLOOKUP(BD39,#REF!,BI$14,FALSE)","v":{"$error":"#REF!"}},null,null,null,null,null,null,null,{"$error":"#REF!"},{"$f":"VLOOKUP(BQ39,#REF!,BR$14,FALSE)","v":{"$error":"#REF!"}},{"$f":"VLOOKUP(BQ39,#REF!,BS$14,FALSE)","v":{"$error":"#REF!"}},null,{"$f":"VLOOKUP(BQ39,#REF!,BU$14,FALSE)","v":{"$error":"#REF!"}},{"$f":"VLOOKUP(BQ39,#REF!,BV$14,FALSE)","v":{"$error":"#REF!"}},null,null,null,null,null,null,null,{"$error":"#REF!"},{"$f":"VLOOKUP(CD39,#REF!,CE$14,FALSE)","v":{"$error":"#REF!"}},{"$f":"VLOOKUP(CD39,#REF!,CF$14,FALSE)","v":{"$error":"#REF!"}},null,{"$f":"VLOOKUP(CD39,#REF!,CH$14,FALSE)","v":{"$error":"#REF!"}},{"$f":"VLOOKUP(CD39,#REF!,CI$14,FALSE)","v":{"$error":"#REF!"}}]
[null,null,null,null,null,null,null,null,null,null,null,null,null,null,null,null,null,null,null,105,{"$f":"IF($T40>'LED-Lighting'!$AX$7,0,IF((-$C$3*$T40+$D$3)<='LED-Lighting'!$AZ$7,(-$C$3*$T40+$D$3),'LED-Lighting'!$AZ$7))","v":{"$error":"#N/A"}},{"$f":"IF($T40>'LED-Lighting'!$AX$7,0,IF((-$C$4*$T40+$D$4)<='LED-Lighting'!$AZ$7,(-$C$4*$T40+$D$4),'LED-Lighting'!$AZ$7))","v":{"$error":"#N/A"}},{"$f":"IF($T40>'LED-Lighting'!$AX$7,0,IF((-$C$5*$T40+$D$5)<='LED-Lighting'!$AZ$7,(-$C$5*$T40+$D$5),'LED-Lighting'!$AZ$7))","v":{"$error":"#N/A"}},{"$f":"IF($T40>'LED-Lighting'!$AX$7,0,IF((-$C$6*$T40+$D$6)<='LED-Lighting'!$AZ$7,(-$C$6*$T40+$D$6),'LED-Lighting'!$AZ$7))","v":{"$error":"#N/A"}},{"$f":"IF($T40>'LED-Lighting'!$AX$7,0,IF((-$C$7*$T40+$D$7)<='LED-Lighting'!$AZ$7,(-$C$7*$T40+$D$7),'LED-Lighting'!$AZ$7))","v":{"$error":"#N/A"}},{"$f":"IF($T40>'LED-Lighting'!$AX$7,0,IF((-$C$8*$T40+$D$8)<='LED-Lighting'!$AZ$7,(-$C$8*$T40+$D$8),'LED-Lighting'!$AZ$7))","v":{"$error":"#N/A"}},null,{"$f":"IF($T40>'LED-Lighting'!$AX$19,0,IF((-$G$3*$T40+$H$3)<='LED-Lighting'!$AZ$19,(-$G$3*$T40+$H$3),'LED-Lighting'!$AZ$19))","v":{"$error":"#N/A"}},{"$f":"IF($T40>'LED-Lighting'!$AX$19,0,IF((-$G$4*$T40+$H$4)<='LED-Lighting'!$AZ$19,(-$G$4*$T40+$H$4),'LED-Lighting'!$AZ$19))","v":{"$error":"#N/A"}},{"$f":"IF($T40>'LED-Lighting'!$AX$19,0,IF((-$G$5*$T40+$H$5)<='LED-Lighting'!$AZ$19,(-$G$5*$T40+$H$5),'LED-Lighting'!$AZ$19))","v":{"$error":"#N/A"}},{"$f":"IF($T40>'LED-Lighting'!$AX$19,0,IF((-$G$6*$T40+$H$6)<='LED-Lighting'!$AZ$19,(-$G$6*$T40+$H$6),'LED-Lighting'!$AZ$19))","v":{"$error":"#N/A"}},{"$f":"IF($T40>'LED-Lighting'!$AX$19,0,IF((-$G$7*$T40+$H$7)<='LED-Lighting'!$AZ$19,(-$G$7*$T40+$H$7),'LED-Lighting'!$AZ$19))","v":{"$error":"#N/A"}},{"$f":"IF($T40>'LED-Lighting'!$AX$19,0,IF((-$G$8*$T40+$H$8)<='LED-Lighting'!$AZ$19,(-$G$8*$T40+$H$8),'LED-Lighting'!$AZ$19))","v":{"$error":"#N/A"}},null,{"$f":"IF($T40>'LED-Lighting'!$AX$31,0,IF((-$K$3*$T40+$L$3)<='LED-Lighting'!$AZ$31,(-$K$3*$T40+$L$3),'LED-Lighting'!$AZ$31))","v":{"$error":"#N/A"}},{"$f":"IF($T40>'LED-Lighting'!$AX$31,0,IF((-$K$4*$T40+$L$4)<='LED-Lighting'!$AZ$31,(-$K$4*$T40+$L$4),'LED-Lighting'!$AZ$31))","v":{"$error":"#N/A"}},{"$f":"IF($T40>'LED-Lighting'!$AX$31,0,IF((-$K$5*$T40+$L$5)<='LED-Lighting'!$AZ$31,(-$K$5*$T40+$L$5),'LED-Lighting'!$AZ$31))","v":{"$error":"#N/A"}},{"$f":"IF($T40>'LED-Lighting'!$AX$31,0,IF((-$K$6*$T40+$L$6)<='LED-Lighting'!$AZ$31,(-$K$6*$T40+$L$6),'LED-Lighting'!$AZ$31))","v":{"$error":"#N/A"}},{"$f":"IF($T40>'LED-Lighting'!$AX$31,0,IF((-$K$7*$T40+$L$7)<='LED-Lighting'!$AZ$31,(-$K$7*$T40+$L$7),'LED-Lighting'!$AZ$31))","v":{"$error":"#N/A"}},{"$f":"IF($T40>'LED-Lighting'!$AX$31,0,IF((-$K$8*$T40+$L$8)<='LED-Lighting'!$AZ$31,(-$K$8*$T40+$L$8),'LED-Lighting'!$AZ$31))","v":{"$error":"#N/A"}},null,null,null,null,null,null,null,null,null,null,null,null,null,null,null,{"$f":"#REF!","v":{"$error":"#REF!"}},{"$f":"VLOOKUP(BD40,#REF!,BE$14,FALSE)","v":{"$error":"#REF!"}},{"$f":"VLOOKUP(BD40,#REF!,BF$14,FALSE)","v":{"$error":"#REF!"}},null,{"$f":"VLOOKUP(BD40,#REF!,BH$14,FALSE)","v":{"$error":"#REF!"}},{"$f":"VLOOKUP(BD40,#REF!,BI$14,FALSE)","v":{"$error":"#REF!"}},null,null,null,null,null,null,null,{"$error":"#REF!"},{"$f":"VLOOKUP(BQ40,#REF!,BR$14,FALSE)","v":{"$error":"#REF!"}},{"$f":"VLOOKUP(BQ40,#REF!,BS$14,FALSE)","v":{"$error":"#REF!"}},null,{"$f":"VLOOKUP(BQ40,#REF!,BU$14,FALSE)","v":{"$error":"#REF!"}},{"$f":"VLOOKUP(BQ40,#REF!,BV$14,FALSE)","v":{"$error":"#REF!"}},null,null,null,null,null,null,null,{"$error":"#REF!"},{"$f":"VLOOKUP(CD40,#REF!,CE$14,FALSE)","v":{"$error":"#REF!"}},{"$f":"VLOOKUP(CD40,#REF!,CF$14,FALSE)","v":{"$error":"#REF!"}},null,{"$f":"VLOOKUP(CD40,#REF!,CH$14,FALSE)","v":{"$error":"#REF!"}},{"$f":"VLOOKUP(CD40,#REF!,CI$14,FALSE)","v":{"$error":"#REF!"}}]
[null,null,null,null,null,null,null,null,null,null,null,null,null,null,null,null,null,null,null,108,{"$f":"IF($T41>'LED-Lighting'!$AX$7,0,IF((-$C$3*$T41+$D$3)<='LED-Lighting'!$AZ$7,(-$C$3*$T41+$D$3),'LED-Lighting'!$AZ$7))","v":{"$error":"#N/A"}},{"$f":"IF($T41>'LED-Lighting'!$AX$7,0,IF((-$C$4*$T41+$D$4)<='LED-Lighting'!$AZ$7,(-$C$4*$T41+$D$4),'LED-Lighting'!$AZ$7))","v":{"$error":"#N/A"}},{"$f":"IF($T41>'LED-Lighting'!$AX$7,0,IF((-$C$5*$T41+$D$5)<='LED-Lighting'!$AZ$7,(-$C$5*$T41+$D$5),'LED-Lighting'!$AZ$7))","v":{"$error":"#N/A"}},{"$f":"IF($T41>'LED-Lighting'!$AX$7,0,IF((-$C$6*$T41+$D$6)<='LED-Lighting'!$AZ$7,(-$C$6*$T41+$D$6),'LED-Lighting'!$AZ$7))","v":{"$error":"#N/A"}},{"$f":"IF($T41>'LED-Lighting'!$AX$7,0,IF((-$C$7*$T41+$D$7)<='LED-Lighting'!$AZ$7,(-$C$7*$T41+$D$7),'LED-Lighting'!$AZ$7))","v":{"$error":"#N/A"}},{"$f":"IF($T41>'LED-Lighting'!$AX$7,0,IF((-$C$8*$T41+$D$8)<='LED-Lighting'!$AZ$7,(-$C$8*$T41+$D$8),'LED-Lighting'!$AZ$7))","v":{"$error":"#N/A"}},null,{"$f":"IF($T41>'LED-Lighting'!$AX$19,0,IF((-$G$3*$T41+$H$3)<='LED-Lighting'!$AZ$19,(-$G$3*$T41+$H$3),'LED-Lighting'!$AZ$19))","v":{"$error":"#N/A"}},{"$f":"IF($T41>'LED-Lighting'!$AX$19,0,IF((-$G$4*$T41+$H$4)<='LED-Lighting'!$AZ$19,(-$G$4*$T41+$H$4),'LED-Lighting'!$AZ$19))","v":{"$error":"#N/A"}},{"$f":"IF($T41>'LED-Lighting'!$AX$19,0,IF((-$G$5*$T41+$H$5)<='LED-Lighting'!$AZ$19,(-$G$5*$T41+$H$5),'LED-Lighting'!$AZ$19))","v":{"$error":"#N/A"}},{"$f":"IF($T41>'LED-Lighting'!$AX$19,0,IF((-$G$6*$T41+$H$6)<='LED-Lighting'!$AZ$19,(-$G$6*$T41+$H$6),'LED-Lighting'!$AZ$19))","v":{"$error":"#N/A"}},{"$f":"IF($T41>'LED-Lighting'!$AX$19,0,IF((-$G$7*$T41+$H$7)<='LED-Lighting'!$AZ$19,(-$G$7*$T41+$H$7),'LED-Lighting'!$AZ$19))","v":{"$error":"#N/A"}},{"$f":"IF($T41>'LED-Lighting'!$AX$19,0,IF((-$G$8*$T41+$H$8)<='LED-Lighting'!$AZ$19,(-$G$8*$T41+$H$8),'LED-Lighting'!$AZ$19))","v":{"$error":"#N/A"}},null,{"$f":"IF($T41>'LED-Lighting'!$AX$31,0,IF((-$K$3*$T41+$L$3)<='LED-Lighting'!$AZ$31,(-$K$3*$T41+$L$3),'LED-Lighting'!$AZ$31))","v":{"$error":"#N/A"}},{"$f":"IF($T41>'LED-Lighting'!$AX$31,0,IF((-$K$4*$T41+$L$4)<='LED-Lighting'!$AZ$31,(-$K$4*$T41+$L$4),'LED-Lighting'!$AZ$31))","v":{"$error":"#N/A"}},{"$f":"IF($T41>'LED-Lighting'!$AX$31,0,IF((-$K$5*$T41+$L$5)<='LED-Lighting'!$AZ$31,(-$K$5*$T41+$L$5),'LED-Lighting'!$AZ$31))","v":{"$error":"#N/A"}},{"$f":"IF($T41>'LED-Lighting'!$AX$31,0,IF((-$K$6*$T41+$L$6)<='LED-Lighting'!$AZ$31,(-$K$6*$T41+$L$6),'LED-Lighting'!$AZ$31))","v":{"$error":"#N/A"}},{"$f":"IF($T41>'LED-Lighting'!$AX$31,0,IF((-$K$7*$T41+$L$7)<='LED-Lighting'!$AZ$31,(-$K$7*$T41+$L$7),'LED-Lighting'!$AZ$31))","v":{"$error":"#N/A"}},{"$f":"IF($T41>'LED-Lighting'!$AX$31,0,IF((-$K$8*$T41+$L$8)<='LED-Lighting'!$AZ$31,(-$K$8*$T41+$L$8),'LED-Lighting'!$AZ$31))","v":{"$error":"#N/A"}},null,null,null,null,null,null,null,null,null,null,null,null,null,null,null,{"$f":"#REF!","v":{"$error":"#REF!"}},{"$f":"VLOOKUP(BD41,#REF!,BE$14,FALSE)","v":{"$error":"#REF!"}},{"$f":"VLOOKUP(BD41,#REF!,BF$14,FALSE)","v":{"$error":"#REF!"}},null,{"$f":"VLOOKUP(BD41,#REF!,BH$14,FALSE)","v":{"$error":"#REF!"}},{"$f":"VLOOKUP(BD41,#REF!,BI$14,FALSE)","v":{"$error":"#REF!"}},null,null,null,null,null,null,null,{"$error":"#REF!"},{"$f":"VLOOKUP(BQ41,#REF!,BR$14,FALSE)","v":{"$error":"#REF!"}},{"$f":"VLOOKUP(BQ41,#REF!,BS$14,FALSE)","v":{"$error":"#REF!"}},null,{"$f":"VLOOKUP(BQ41,#REF!,BU$14,FALSE)","v":{"$error":"#REF!"}},{"$f":"VLOOKUP(BQ41,#REF!,BV$14,FALSE)","v":{"$error":"#REF!"}},null,null,null,null,null,null,null,{"$error":"#REF!"},{"$f":"VLOOKUP(CD41,#REF!,CE$14,FALSE)","v":{"$error":"#REF!"}},{"$f":"VLOOKUP(CD41,#REF!,CF$14,FALSE)","v":{"$error":"#REF!"}},null,{"$f":"VLOOKUP(CD41,#REF!,CH$14,FALSE)","v":{"$error":"#REF!"}},{"$f":"VLOOKUP(CD41,#REF!,CI$14,FALSE)","v":{"$error":"#REF!"}}]
[null,null,null,null,null,null,null,null,null,null,null,null,null,null,null,null,null,null,null,111,{"$f":"IF($T42>'LED-Lighting'!$AX$7,0,IF((-$C$3*$T42+$D$3)<='LED-Lighting'!$AZ$7,(-$C$3*$T42+$D$3),'LED-Lighting'!$AZ$7))","v":{"$error":"#N/A"}},{"$f":"IF($T42>'LED-Lighting'!$AX$7,0,IF((-$C$4*$T42+$D$4)<='LED-Lighting'!$AZ$7,(-$C$4*$T42+$D$4),'LED-Lighting'!$AZ$7))","v":{"$error":"#N/A"}},{"$f":"IF($T42>'LED-Lighting'!$AX$7,0,IF((-$C$5*$T42+$D$5)<='LED-Lighting'!$AZ$7,(-$C$5*$T42+$D$5),'LED-Lighting'!$AZ$7))","v":{"$error":"#N/A"}},{"$f":"IF($T42>'LED-Lighting'!$AX$7,0,IF((-$C$6*$T42+$D$6)<='LED-Lighting'!$AZ$7,(-$C$6*$T42+$D$6),'LED-Lighting'!$AZ$7))","v":{"$error":"#N/A"}},{"$f":"IF($T42>'LED-Lighting'!$AX$7,0,IF((-$C$7*$T42+$D$7)<='LED-Lighting'!$AZ$7,(-$C$7*$T42+$D$7),'LED-Lighting'!$AZ$7))","v":{"$error":"#N/A"}},{"$f":"IF($T42>'LED-Lighting'!$AX$7,0,IF((-$C$8*$T42+$D$8)<='LED-Lighting'!$AZ$7,(-$C$8*$T42+$D$8),'LED-Lighting'!$AZ$7))","v":{"$error":"#N/A"}},null,{"$f":"IF($T42>'LED-Lighting'!$AX$19,0,IF((-$G$3*$T42+$H$3)<='LED-Lighting'!$AZ$19,(-$G$3*$T42+$H$3),'LED-Lighting'!$AZ$19))","v":{"$error":"#N/A"}},{"$f":"IF($T42>'LED-Lighting'!$AX$19,0,IF((-$G$4*$T42+$H$4)<='LED-Lighting'!$AZ$19,(-$G$4*$T42+$H$4),'LED-Lighting'!$AZ$19))","v":{"$error":"#N/A"}},{"$f":"IF($T42>'LED-Lighting'!$AX$19,0,IF((-$G$5*$T42+$H$5)<='LED-Lighting'!$AZ$19,(-$G$5*$T42+$H$5),'LED-Lighting'!$AZ$19))","v":{"$error":"#N/A"}},{"$f":"IF($T42>'LED-Lighting'!$AX$19,0,IF((-$G$6*$T42+$H$6)<='LED-Lighting'!$AZ$19,(-$G$6*$T42+$H$6),'LED-Lighting'!$AZ$19))","v":{"$error":"#N/A"}},{"$f":"IF($T42>'LED-Lighting'!$AX$19,0,IF((-$G$7*$T42+$H$7)<='LED-Lighting'!$AZ$19,(-$G$7*$T42+$H$7),'LED-Lighting'!$AZ$19))","v":{"$error":"#N/A"}},{"$f":"IF($T42>'LED-Lighting'!$AX$19,0,IF((-$G$8*$T42+$H$8)<='LED-Lighting'!$AZ$19,(-$G$8*$T42+$H$8),'LED-Lighting'!$AZ$19))","v":{"$error":"#N/A"}},null,{"$f":"IF($T42>'LED-Lighting'!$AX$31,0,IF((-$K$3*$T42+$L$3)<='LED-Lighting'!$AZ$31,(-$K$3*$T42+$L$3),'LED-Lighting'!$AZ$31))","v":{"$error":"#N/A"}},{"$f":"IF($T42>'LED-Lighting'!$AX$31,0,IF((-$K$4*$T42+$L$4)<='LED-Lighting'!$AZ$31,(-$K$4*$T42+$L$4),'LED-Lighting'!$AZ$31))","v":{"$error":"#N/A"}},{"$f":"IF($T42>'LED-Lighting'!$AX$31,0,IF((-$K$5*$T42+$L$5)<='LED-Lighting'!$AZ$31,(-$K$5*$T42+$L$5),'LED-Lighting'!$AZ$31))","v":{"$error":"#N/A"}},{"$f":"IF($T42>'LED-Lighting'!$AX$31,0,IF((-$K$6*$T42+$L$6)<='LED-Lighting'!$AZ$31,(-$K$6*$T42+$L$6),'LED-Lighting'!$AZ$31))","v":{"$error":"#N/A"}},{"$f":"IF($T42>'LED-Lighting'!$AX$31,0,IF((-$K$7*$T42+$L$7)<='LED-Lighting'!$AZ$31,(-$K$7*$T42+$L$7),'LED-Lighting'!$AZ$31))","v":{"$error":"#N/A"}},{"$f":"IF($T42>'LED-Lighting'!$AX$31,0,IF((-$K$8*$T42+$L$8)<='LED-Lighting'!$AZ$31,(-$K$8*$T42+$L$8),'LED-Lighting'!$AZ$31))","v":{"$error":"#N/A"}},null,null,null,null,null,null,null,null,null,null,null,null,null,null,null,{"$f":"#REF!","v":{"$error":"#REF!"}},{"$f":"VLOOKUP(BD42,#REF!,BE$14,FALSE)","v":{"$error":"#REF!"}},{"$f":"VLOOKUP(BD42,#REF!,BF$14,FALSE)","v":{"$error":"#REF!"}},null,{"$f":"VLOOKUP(BD42,#REF!,BH$14,FALSE)","v":{"$error":"#REF!"}},{"$f":"VLOOKUP(BD42,#REF!,BI$14,FALSE)","v":{"$error":"#REF!"}},null,null,null,null,null,null,null,{"$error":"#REF!"},{"$f":"VLOOKUP(BQ42,#REF!,BR$14,FALSE)","v":{"$error":"#REF!"}},{"$f":"VLOOKUP(BQ42,#REF!,BS$14,FALSE)","v":{"$error":"#REF!"}},null,{"$f":"VLOOKUP(BQ42,#REF!,BU$14,FALSE)","v":{"$error":"#REF!"}},{"$f":"VLOOKUP(BQ42,#REF!,BV$14,FALSE)","v":{"$error":"#REF!"}},null,null,null,null,null,null,null,{"$error":"#REF!"},{"$f":"VLOOKUP(CD42,#REF!,CE$14,FALSE)","v":{"$error":"#REF!"}},{"$f":"VLOOKUP(CD42,#REF!,CF$14,FALSE)","v":{"$error":"#REF!"}},null,{"$f":"VLOOKUP(CD42,#REF!,CH$14,FALSE)","v":{"$error":"#REF!"}},{"$f":"VLOOKUP(CD42,#REF!,CI$14,FALSE)","v":{"$error":"#REF!"}}]
[null,null,null,null,null,null,null,null,null,null,null,null,null,null,null,null,null,null,null,114,{"$f":"IF($T43>'LED-Lighting'!$AX$7,0,IF((-$C$3*$T43+$D$3)<='LED-Lighting'!$AZ$7,(-$C$3*$T43+$D$3),'LED-Lighting'!$AZ$7))","v":{"$error":"#N/A"}},{"$f":"IF($T43>'LED-Lighting'!$AX$7,0,IF((-$C$4*$T43+$D$4)<='LED-Lighting'!$AZ$7,(-$C$4*$T43+$D$4),'LED-Lighting'!$AZ$7))","v":{"$error":"#N/A"}},{"$f":"IF($T43>'LED-Lighting'!$AX$7,0,IF((-$C$5*$T43+$D$5)<='LED-Lighting'!$AZ$7,(-$C$5*$T43+$D$5),'LED-Lighting'!$AZ$7))","v":{"$error":"#N/A"}},{"$f":"IF($T43>'LED-Lighting'!$AX$7,0,IF((-$C$6*$T43+$D$6)<='LED-Lighting'!$AZ$7,(-$C$6*$T43+$D$6),'LED-Lighting'!$AZ$7))","v":{"$error":"#N/A"}},{"$f":"IF($T43>'LED-Lighting'!$AX$7,0,IF((-$C$7*$T43+$D$7)<='LED-Lighting'!$AZ$7,(-$C$7*$T43+$D$7),'LED-Lighting'!$AZ$7))","v":{"$error":"#N/A"}},{"$f":"IF($T43>'LED-Lighting'!$AX$7,0,IF((-$C$8*$T43+$D$8)<='LED-Lighting'!$AZ$7,(-$C$8*$T43+$D$8),'LED-Lighting'!$AZ$7))","v":{"$error":"#N/A"}},null,{"$f":"IF($T43>'LED-Lighting'!$AX$19,0,IF((-$G$3*$T43+$H$3)<='LED-Lighting'!$AZ$19,(-$G$3*$T43+$H$3),'LED-Lighting'!$AZ$19))","v":{"$error":"#N/A"}},{"$f":"IF($T43>'LED-Lighting'!$AX$19,0,IF((-$G$4*$T43+$H$4)<='LED-Lighting'!$AZ$19,(-$G$4*$T43+$H$4),'LED-Lighting'!$AZ$19))","v":{"$error":"#N/A"}},{"$f":"IF($T43>'LED-Lighting'!$AX$19,0,IF((-$G$5*$T43+$H$5)<='LED-Lighting'!$AZ$19,(-$G$5*$T43+$H$5),'LED-Lighting'!$AZ$19))","v":{"$error":"#N/A"}},{"$f":"IF($T43>'LED-Lighting'!$AX$19,0,IF((-$G$6*$T43+$H$6)<='LED-Lighting'!$AZ$19,(-$G$6*$T43+$H$6),'LED-Lighting'!$AZ$19))","v":{"$error":"#N/A"}},{"$f":"IF($T43>'LED-Lighting'!$AX$19,0,IF((-$G$7*$T43+$H$7)<='LED-Lighting'!$AZ$19,(-$G$7*$T43+$H$7),'LED-Lighting'!$AZ$19))","v":{"$error":"#N/A"}},{"$f":"IF($T43>'LED-Lighting'!$AX$19,0,IF((-$G$8*$T43+$H$8)<='LED-Lighting'!$AZ$19,(-$G$8*$T43+$H$8),'LED-Lighting'!$AZ$19))","v":{"$error":"#N/A"}},null,{"$f":"IF($T43>'LED-Lighting'!$AX$31,0,IF((-$K$3*$T43+$L$3)<='LED-Lighting'!$AZ$31,(-$K$3*$T43+$L$3),'LED-Lighting'!$AZ$31))","v":{"$error":"#N/A"}},{"$f":"IF($T43>'LED-Lighting'!$AX$31,0,IF((-$K$4*$T43+$L$4)<='LED-Lighting'!$AZ$31,(-$K$4*$T43+$L$4),'LED-Lighting'!$AZ$31))","v":{"$error":"#N/A"}},{"$f":"IF($T43>'LED-Lighting'!$AX$31,0,IF((-$K$5*$T43+$L$5)<='LED-Lighting'!$AZ$31,(-$K$5*$T43+$L$5),'LED-Lighting'!$AZ$31))","v":{"$error":"#N/A"}},{"$f":"IF($T43>'LED-Lighting'!$AX$31,0,IF((-$K$6*$T43+$L$6)<='LED-Lighting'!$AZ$31,(-$K$6*$T43+$L$6),'LED-Lighting'!$AZ$31))","v":{"$error":"#N/A"}},{"$f":"IF($T43>'LED-Lighting'!$AX$31,0,IF((-$K$7*$T43+$L$7)<='LED-Lighting'!$AZ$31,(-$K$7*$T43+$L$7),'LED-Lighting'!$AZ$31))","v":{"$error":"#N/A"}},{"$f":"IF($T43>'LED-Lighting'!$AX$31,0,IF((-$K$8*$T43+$L$8)<='LED-Lighting'!$AZ$31,(-$K$8*$T43+$L$8),'LED-Lighting'!$AZ$31))","v":{"$error":"#N/A"}},null,null,null,null,null,null,null,null,null,null,null,null,null,null,null,{"$f":"#REF!","v":{"$error":"#REF!"}},{"$f":"VLOOKUP(BD43,#REF!,BE$14,FALSE)","v":{"$error":"#REF!"}},{"$f":"VLOOKUP(BD43,#REF!,BF$14,FALSE)","v":{"$error":"#REF!"}},null,{"$f":"VLOOKUP(BD43,#REF!,BH$14,FALSE)","v":{"$error":"#REF!"}},{"$f":"VLOOKUP(BD43,#REF!,BI$14,FALSE)","v":{"$error":"#REF!"}},null,null,null,null,null,null,null,{"$error":"#REF!"},{"$f":"VLOOKUP(BQ43,#REF!,BR$14,FALSE)","v":{"$error":"#REF!"}},{"$f":"VLOOKUP(BQ43,#REF!,BS$14,FALSE)","v":{"$error":"#REF!"}},null,{"$f":"VLOOKUP(BQ43,#REF!,BU$14,FALSE)","v":{"$error":"#REF!"}},{"$f":"VLOOKUP(BQ43,#REF!,BV$14,FALSE)","v":{"$error":"#REF!"}},null,null,null,null,null,null,null,{"$error":"#REF!"},{"$f":"VLOOKUP(CD43,#REF!,CE$14,FALSE)","v":{"$error":"#REF!"}},{"$f":"VLOOKUP(CD43,#REF!,CF$14,FALSE)","v":{"$error":"#REF!"}},null,{"$f":"VLOOKUP(CD43,#REF!,CH$14,FALSE)","v":{"$error":"#REF!"}},{"$f":"VLOOKUP(CD43,#REF!,CI$14,FALSE)","v":{"$error":"#REF!"}}]
[null,null,null,null,null,null,null,null,null,null,null,null,null,null,null,null,null,null,null,117,{"$f":"IF($T44>'LED-Lighting'!$AX$7,0,IF((-$C$3*$T44+$D$3)<='LED-Lighting'!$AZ$7,(-$C$3*$T44+$D$3),'LED-Lighting'!$AZ$7))","v":{"$error":"#N/A"}},{"$f":"IF($T44>'LED-Lighting'!$AX$7,0,IF((-$C$4*$T44+$D$4)<='LED-Lighting'!$AZ$7,(-$C$4*$T44+$D$4),'LED-Lighting'!$AZ$7))","v":{"$error":"#N/A"}},{"$f":"IF($T44>'LED-Lighting'!$AX$7,0,IF((-$C$5*$T44+$D$5)<='LED-Lighting'!$AZ$7,(-$C$5*$T44+$D$5),'LED-Lighting'!$AZ$7))","v":{"$error":"#N/A"}},{"$f":"IF($T44>'LED-Lighting'!$AX$7,0,IF((-$C$6*$T44+$D$6)<='LED-Lighting'!$AZ$7,(-$C$6*$T44+$D$6),'LED-Lighting'!$AZ$7))","v":{"$error":"#N/A"}},{"$f":"IF($T44>'LED-Lighting'!$AX$7,0,IF((-$C$7*$T44+$D$7)<='LED-Lighting'!$AZ$7,(-$C$7*$T44+$D$7),'LED-Lighting'!$AZ$7))","v":{"$error":"#N/A"}},{"$f":"IF($T44>'LED-Lighting'!$AX$7,0,IF((-$C$8*$T44+$D$8)<='LED-Lighting'!$AZ$7,(-$C$8*$T44+$D$8),'LED-Lighting'!$AZ$7))","v":{"$error":"#N/A"}},null,{"$f":"IF($T44>'LED-Lighting'!$AX$19,0,IF((-$G$3*$T44+$H$3)<='LED-Lighting'!$AZ$19,(-$G$3*$T44+$H$3),'LED-Lighting'!$AZ$19))","v":{"$error":"#N/A"}},{"$f":"IF($T44>'LED-Lighting'!$AX$19,0,IF((-$G$4*$T44+$H$4)<='LED-Lighting'!$AZ$19,(-$G$4*$T44+$H$4),'LED-Lighting'!$AZ$19))","v":{"$error":"#N/A"}},{"$f":"IF($T44>'LED-Lighting'!$AX$19,0,IF((-$G$5*$T44+$H$5)<='LED-Lighting'!$AZ$19,(-$G$5*$T44+$H$5),'LED-Lighting'!$AZ$19))","v":{"$error":"#N/A"}},{"$f":"IF($T44>'LED-Lighting'!$AX$19,0,IF((-$G$6*$T44+$H$6)<='LED-Lighting'!$AZ$19,(-$G$6*$T44+$H$6),'LED-Lighting'!$AZ$19))","v":{"$error":"#N/A"}},{"$f":"IF($T44>'LED-Lighting'!$AX$19,0,IF((-$G$7*$T44+$H$7)<='LED-Lighting'!$AZ$19,(-$G$7*$T44+$H$7),'LED-Lighting'!$AZ$19))","v":{"$error":"#N/A"}},{"$f":"IF($T44>'LED-Lighting'!$AX$19,0,IF((-$G$8*$T44+$H$8)<='LED-Lighting'!$AZ$19,(-$G$8*$T44+$H$8),'LED-Lighting'!$AZ$19))","v":{"$error":"#N/A"}},null,{"$f":"IF($T44>'LED-Lighting'!$AX$31,0,IF((-$K$3*$T44+$L$3)<='LED-Lighting'!$AZ$31,(-$K$3*$T44+$L$3),'LED-Lighting'!$AZ$31))","v":{"$error":"#N/A"}},{"$f":"IF($T44>'LED-Lighting'!$AX$31,0,IF((-$K$4*$T44+$L$4)<='LED-Lighting'!$AZ$31,(-$K$4*$T44+$L$4),'LED-Lighting'!$AZ$31))","v":{"$error":"#N/A"}},{"$f":"IF($T44>'LED-Lighting'!$AX$31,0,IF((-$K$5*$T44+$L$5)<='LED-Lighting'!$AZ$31,(-$K$5*$T44+$L$5),'LED-Lighting'!$AZ$31))","v":{"$error":"#N/A"}},{"$f":"IF($T44>'LED-Lighting'!$AX$31,0,IF((-$K$6*$T44+$L$6)<='LED-Lighting'!$AZ$31,(-$K$6*$T44+$L$6),'LED-Lighting'!$AZ$31))","v":{"$error":"#N/A"}},{"$f":"IF($T44>'LED-Lighting'!$AX$31,0,IF((-$K$7*$T44+$L$7)<='LED-Lighting'!$AZ$31,(-$K$7*$T44+$L$7),'LED-Lighting'!$AZ$31))","v":{"$error":"#N/A"}},{"$f":"IF($T44>'LED-Lighting'!$AX$31,0,IF((-$K$8*$T44+$L$8)<='LED-Lighting'!$AZ$31,(-$K$8*$T44+$L$8),'LED-Lighting'!$AZ$31))","v":{"$error":"#N/A"}},null,null,null,null,null,null,null,null,null,null,null,null,null,null,null,{"$f":"#REF!","v":{"$error":"#REF!"}},{"$f":"VLOOKUP(BD44,#REF!,BE$14,FALSE)","v":{"$error":"#REF!"}},{"$f":"VLOOKUP(BD44,#REF!,BF$14,FALSE)","v":{"$error":"#REF!"}},null,{"$f":"VLOOKUP(BD44,#REF!,BH$14,FALSE)","v":{"$error":"#REF!"}},{"$f":"VLOOKUP(BD44,#REF!,BI$14,FALSE)","v":{"$error":"#REF!"}},null,null,null,null,null,null,null,{"$error":"#REF!"},{"$f":"VLOOKUP(BQ44,#REF!,BR$14,FALSE)","v":{"$error":"#REF!"}},{"$f":"VLOOKUP(BQ44,#REF!,BS$14,FALSE)","v":{"$error":"#REF!"}},null,{"$f":"VLOOKUP(BQ44,#REF!,BU$14,FALSE)","v":{"$error":"#REF!"}},{"$f":"VLOOKUP(BQ44,#REF!,BV$14,FALSE)","v":{"$error":"#REF!"}},null,null,null,null,null,null,null,{"$error":"#REF!"},{"$f":"VLOOKUP(CD44,#REF!,CE$14,FALSE)","v":{"$error":"#REF!"}},{"$f":"VLOOKUP(CD44,#REF!,CF$14,FALSE)","v":{"$error":"#REF!"}},null,{"$f":"VLOOKUP(CD44,#REF!,CH$14,FALSE)","v":{"$error":"#REF!"}},{"$f":"VLOOKUP(CD44,#REF!,CI$14,FALSE)","v":{"$error":"#REF!"}}]
[null,null,null,null,null,null,null,null,null,null,null,null,null,null,null,null,null,null,null,120,{"$f":"IF($T45>'LED-Lighting'!$AX$7,0,IF((-$C$3*$T45+$D$3)<='LED-Lighting'!$AZ$7,(-$C$3*$T45+$D$3),'LED-Lighting'!$AZ$7))","v":{"$error":"#N/A"}},{"$f":"IF($T45>'LED-Lighting'!$AX$7,0,IF((-$C$4*$T45+$D$4)<='LED-Lighting'!$AZ$7,(-$C$4*$T45+$D$4),'LED-Lighting'!$AZ$7))","v":{"$error":"#N/A"}},{"$f":"IF($T45>'LED-Lighting'!$AX$7,0,IF((-$C$5*$T45+$D$5)<='LED-Lighting'!$AZ$7,(-$C$5*$T45+$D$5),'LED-Lighting'!$AZ$7))","v":{"$error":"#N/A"}},{"$f":"IF($T45>'LED-Lighting'!$AX$7,0,IF((-$C$6*$T45+$D$6)<='LED-Lighting'!$AZ$7,(-$C$6*$T45+$D$6),'LED-Lighting'!$AZ$7))","v":{"$error":"#N/A"}},{"$f":"IF($T45>'LED-Lighting'!$AX$7,0,IF((-$C$7*$T45+$D$7)<='LED-Lighting'!$AZ$7,(-$C$7*$T45+$D$7),'LED-Lighting'!$AZ$7))","v":{"$error":"#N/A"}},{"$f":"IF($T45>'LED-Lighting'!$AX$7,0,IF((-$C$8*$T45+$D$8)<='LED-Lighting'!$AZ$7,(-$C$8*$T45+$D$8),'LED-Lighting'!$AZ$7))","v":{"$error":"#N/A"}},null,{"$f":"IF($T45>'LED-Lighting'!$AX$19,0,IF((-$G$3*$T45+$H$3)<='LED-Lighting'!$AZ$19,(-$G$3*$T45+$H$3),'LED-Lighting'!$AZ$19))","v":{"$error":"#N/A"}},{"$f":"IF($T45>'LED-Lighting'!$AX$19,0,IF((-$G$4*$T45+$H$4)<='LED-Lighting'!$AZ$19,(-$G$4*$T45+$H$4),'LED-Lighting'!$AZ$19))","v":{"$error":"#N/A"}},{"$f":"IF($T45>'LED-Lighting'!$AX$19,0,IF((-$G$5*$T45+$H$5)<='LED-Lighting'!$AZ$19,(-$G$5*$T45+$H$5),'LED-Lighting'!$AZ$19))","v":{"$error":"#N/A"}},{"$f":"IF($T45>'LED-Lighting'!$AX$19,0,IF((-$G$6*$T45+$H$6)<='LED-Lighting'!$AZ$19,(-$G$6*$T45+$H$6),'LED-Lighting'!$AZ$19))","v":{"$error":"#N/A"}},{"$f":"IF($T45>'LED-Lighting'!$AX$19,0,IF((-$G$7*$T45+$H$7)<='LED-Lighting'!$AZ$19,(-$G$7*$T45+$H$7),'LED-Lighting'!$AZ$19))","v":{"$error":"#N/A"}},{"$f":"IF($T45>'LED-Lighting'!$AX$19,0,IF((-$G$8*$T45+$H$8)<='LED-Lighting'!$AZ$19,(-$G$8*$T45+$H$8),'LED-Lighting'!$AZ$19))","v":{"$error":"#N/A"}},null,{"$f":"IF($T45>'LED-Lighting'!$AX$31,0,IF((-$K$3*$T45+$L$3)<='LED-Lighting'!$AZ$31,(-$K$3*$T45+$L$3),'LED-Lighting'!$AZ$31))","v":{"$error":"#N/A"}},{"$f":"IF($T45>'LED-Lighting'!$AX$31,0,IF((-$K$4*$T45+$L$4)<='LED-Lighting'!$AZ$31,(-$K$4*$T45+$L$4),'LED-Lighting'!$AZ$31))","v":{"$error":"#N/A"}},{"$f":"IF($T45>'LED-Lighting'!$AX$31,0,IF((-$K$5*$T45+$L$5)<='LED-Lighting'!$AZ$31,(-$K$5*$T45+$L$5),'LED-Lighting'!$AZ$31))","v":{"$error":"#N/A"}},{"$f":"IF($T45>'LED-Lighting'!$AX$31,0,IF((-$K$6*$T45+$L$6)<='LED-Lighting'!$AZ$31,(-$K$6*$T45+$L$6),'LED-Lighting'!$AZ$31))","v":{"$error":"#N/A"}},{"$f":"IF($T45>'LED-Lighting'!$AX$31,0,IF((-$K$7*$T45+$L$7)<='LED-Lighting'!$AZ$31,(-$K$7*$T45+$L$7),'LED-Lighting'!$AZ$31))","v":{"$error":"#N/A"}},{"$f":"IF($T45>'LED-Lighting'!$AX$31,0,IF((-$K$8*$T45+$L$8)<='LED-Lighting'!$AZ$31,(-$K$8*$T45+$L$8),'LED-Lighting'!$AZ$31))","v":{"$error":"#N/A"}},null,null,null,null,null,null,null,null,null,null,null,null,null,null,null,{"$f":"#REF!","v":{"$error":"#REF!"}},{"$f":"VLOOKUP(BD45,#REF!,BE$14,FALSE)","v":{"$error":"#REF!"}},{"$f":"VLOOKUP(BD45,#REF!,BF$14,FALSE)","v":{"$error":"#REF!"}},null,{"$f":"VLOOKUP(BD45,#REF!,BH$14,FALSE)","v":{"$error":"#REF!"}},{"$f":"VLOOKUP(BD45,#REF!,BI$14,FALSE)","v":{"$error":"#REF!"}},null,null,null,null,null,null,null,{"$error":"#REF!"},{"$f":"VLOOKUP(BQ45,#REF!,BR$14,FALSE)","v":{"$error":"#REF!"}},{"$f":"VLOOKUP(BQ45,#REF!,BS$14,FALSE)","v":{"$error":"#REF!"}},null,{"$f":"VLOOKUP(BQ45,#REF!,BU$14,FALSE)","v":{"$error":"#REF!"}},{"$f":"VLOOKUP(BQ45,#REF!,BV$14,FALSE)","v":{"$error":"#REF!"}},null,null,null,null,null,null,null,{"$error":"#REF!"},{"$f":"VLOOKUP(CD45,#REF!,CE$14,FALSE)","v":{"$error":"#REF!"}},{"$f":"VLOOKUP(CD45,#REF!,CF$14,FALSE)","v":{"$error":"#REF!"}},null,{"$f":"VLOOKUP(CD45,#REF!,CH$14,FALSE)","v":{"$error":"#REF!"}},{"$f":"VLOOKUP(CD45,#REF!,CI$14,FALSE)","v":{"$error":"#REF!"}}]
[null,null,null,null,null,null,null,null,null,null,null,null,null,null,null,null,null,null,null,123,{"$f":"IF($T46>'LED-Lighting'!$AX$7,0,IF((-$C$3*$T46+$D$3)<='LED-Lighting'!$AZ$7,(-$C$3*$T46+$D$3),'LED-Lighting'!$AZ$7))","v":{"$error":"#N/A"}},{"$f":"IF($T46>'LED-Lighting'!$AX$7,0,IF((-$C$4*$T46+$D$4)<='LED-Lighting'!$AZ$7,(-$C$4*$T46+$D$4),'LED-Lighting'!$AZ$7))","v":{"$error":"#N/A"}},{"$f":"IF($T46>'LED-Lighting'!$AX$7,0,IF((-$C$5*$T46+$D$5)<='LED-Lighting'!$AZ$7,(-$C$5*$T46+$D$5),'LED-Lighting'!$AZ$7))","v":{"$error":"#N/A"}},{"$f":"IF($T46>'LED-Lighting'!$AX$7,0,IF((-$C$6*$T46+$D$6)<='LED-Lighting'!$AZ$7,(-$C$6*$T46+$D$6),'LED-Lighting'!$AZ$7))","v":{"$error":"#N/A"}},{"$f":"IF($T46>'LED-Lighting'!$AX$7,0,IF((-$C$7*$T46+$D$7)<='LED-Lighting'!$AZ$7,(-$C$7*$T46+$D$7),'LED-Lighting'!$AZ$7))","v":{"$error":"#N/A"}},{"$f":"IF($T46>'LED-Lighting'!$AX$7,0,IF((-$C$8*$T46+$D$8)<='LED-Lighting'!$AZ$7,(-$C$8*$T46+$D$8),'LED-Lighting'!$AZ$7))","v":{"$error":"#N/A"}},null,{"$f":"IF($T46>'LED-Lighting'!$AX$19,0,IF((-$G$3*$T46+$H$3)<='LED-Lighting'!$AZ$19,(-$G$3*$T46+$H$3),'LED-Lighting'!$AZ$19))","v":{"$error":"#N/A"}},{"$f":"IF($T46>'LED-Lighting'!$AX$19,0,IF((-$G$4*$T46+$H$4)<='LED-Lighting'!$AZ$19,(-$G$4*$T46+$H$4),'LED-Lighting'!$AZ$19))","v":{"$error":"#N/A"}},{"$f":"IF($T46>'LED-Lighting'!$AX$19,0,IF((-$G$5*$T46+$H$5)<='LED-Lighting'!$AZ$19,(-$G$5*$T46+$H$5),'LED-Lighting'!$AZ$19))","v":{"$error":"#N/A"}},{"$f":"IF($T46>'LED-Lighting'!$AX$19,0,IF((-$G$6*$T46+$H$6)<='LED-Lighting'!$AZ$19,(-$G$6*$T46+$H$6),'LED-Lighting'!$AZ$19))","v":{"$error":"#N/A"}},{"$f":"IF($T46>'LED-Lighting'!$AX$19,0,IF((-$G$7*$T46+$H$7)<='LED-Lighting'!$AZ$19,(-$G$7*$T46+$H$7),'LED-Lighting'!$AZ$19))","v":{"$error":"#N/A"}},{"$f":"IF($T46>'LED-Lighting'!$AX$19,0,IF((-$G$8*$T46+$H$8)<='LED-Lighting'!$AZ$19,(-$G$8*$T46+$H$8),'LED-Lighting'!$AZ$19))","v":{"$error":"#N/A"}},null,{"$f":"IF($T46>'LED-Lighting'!$AX$31,0,IF((-$K$3*$T46+$L$3)<='LED-Lighting'!$AZ$31,(-$K$3*$T46+$L$3),'LED-Lighting'!$AZ$31))","v":{"$error":"#N/A"}},{"$f":"IF($T46>'LED-Lighting'!$AX$31,0,IF((-$K$4*$T46+$L$4)<='LED-Lighting'!$AZ$31,(-$K$4*$T46+$L$4),'LED-Lighting'!$AZ$31))","v":{"$error":"#N/A"}},{"$f":"IF($T46>'LED-Lighting'!$AX$31,0,IF((-$K$5*$T46+$L$5)<='LED-Lighting'!$AZ$31,(-$K$5*$T46+$L$5),'LED-Lighting'!$AZ$31))","v":{"$error":"#N/A"}},{"$f":"IF($T46>'LED-Lighting'!$AX$31,0,IF((-$K$6*$T46+$L$6)<='LED-Lighting'!$AZ$31,(-$K$6*$T46+$L$6),'LED-Lighting'!$AZ$31))","v":{"$error":"#N/A"}},{"$f":"IF($T46>'LED-Lighting'!$AX$31,0,IF((-$K$7*$T46+$L$7)<='LED-Lighting'!$AZ$31,(-$K$7*$T46+$L$7),'LED-Lighting'!$AZ$31))","v":{"$error":"#N/A"}},{"$f":"IF($T46>'LED-Lighting'!$AX$31,0,IF((-$K$8*$T46+$L$8)<='LED-Lighting'!$AZ$31,(-$K$8*$T46+$L$8),'LED-Lighting'!$AZ$31))","v":{"$error":"#N/A"}},null,null,null,null,null,null,null,null,null,null,null,null,null,null,null,{"$f":"#REF!","v":{"$error":"#REF!"}},{"$f":"VLOOKUP(BD46,#REF!,BE$14,FALSE)","v":{"$error":"#REF!"}},{"$f":"VLOOKUP(BD46,#REF!,BF$14,FALSE)","v":{"$error":"#REF!"}},null,{"$f":"VLOOKUP(BD46,#REF!,BH$14,FALSE)","v":{"$error":"#REF!"}},{"$f":"VLOOKUP(BD46,#REF!,BI$14,FALSE)","v":{"$error":"#REF!"}},null,null,null,null,null,null,null,{"$error":"#REF!"},{"$f":"VLOOKUP(BQ46,#REF!,BR$14,FALSE)","v":{"$error":"#REF!"}},{"$f":"VLOOKUP(BQ46,#REF!,BS$14,FALSE)","v":{"$error":"#REF!"}},null,{"$f":"VLOOKUP(BQ46,#REF!,BU$14,FALSE)","v":{"$error":"#REF!"}},{"$f":"VLOOKUP(BQ46,#REF!,BV$14,FALSE)","v":{"$error":"#REF!"}},null,null,null,null,null,null,null,{"$error":"#REF!"},{"$f":"VLOOKUP(CD46,#REF!,CE$14,FALSE)","v":{"$error":"#REF!"}},{"$f":"VLOOKUP(CD46,#REF!,CF$14,FALSE)","v":{"$error":"#REF!"}},null,{"$f":"VLOOKUP(CD46,#REF!,CH$14,FALSE)","v":{"$error":"#REF!"}},{"$f":"VLOOKUP(CD46,#REF!,CI$14,FALSE)","v":{"$error":"#REF!"}}]
[null,null,null,null,null,null,null,null,null,null,null,null,null,null,null,null,null,null,null,126,{"$f":"IF($T47>'LED-Lighting'!$AX$7,0,IF((-$C$3*$T47+$D$3)<='LED-Lighting'!$AZ$7,(-$C$3*$T47+$D$3),'LED-Lighting'!$AZ$7))","v":{"$error":"#N/A"}},{"$f":"IF($T47>'LED-Lighting'!$AX$7,0,IF((-$C$4*$T47+$D$4)<='LED-Lighting'!$AZ$7,(-$C$4*$T47+$D$4),'LED-Lighting'!$AZ$7))","v":{"$error":"#N/A"}},{"$f":"IF($T47>'LED-Lighting'!$AX$7,0,IF((-$C$5*$T47+$D$5)<='LED-Lighting'!$AZ$7,(-$C$5*$T47+$D$5),'LED-Lighting'!$AZ$7))","v":{"$error":"#N/A"}},{"$f":"IF($T47>'LED-Lighting'!$AX$7,0,IF((-$C$6*$T47+$D$6)<='LED-Lighting'!$AZ$7,(-$C$6*$T47+$D$6),'LED-Lighting'!$AZ$7))","v":{"$error":"#N/A"}},{"$f":"IF($T47>'LED-Lighting'!$AX$7,0,IF((-$C$7*$T47+$D$7)<='LED-Lighting'!$AZ$7,(-$C$7*$T47+$D$7),'LED-Lighting'!$AZ$7))","v":{"$error":"#N/A"}},{"$f":"IF($T47>'LED-Lighting'!$AX$7,0,IF((-$C$8*$T47+$D$8)<='LED-Lighting'!$AZ$7,(-$C$8*$T47+$D$8),'LED-Lighting'!$AZ$7))","v":{"$error":"#N/A"}},null,{"$f":"IF($T47>'LED-Lighting'!$AX$19,0,IF((-$G$3*$T47+$H$3)<='LED-Lighting'!$AZ$19,(-$G$3*$T47+$H$3),'LED-Lighting'!$AZ$19))","v":{"$error":"#N/A"}},{"$f":"IF($T47>'LED-Lighting'!$AX$19,0,IF((-$G$4*$T47+$H$4)<='LED-Lighting'!$AZ$19,(-$G$4*$T47+$H$4),'LED-Lighting'!$AZ$19))","v":{"$error":"#N/A"}},{"$f":"IF($T47>'LED-Lighting'!$AX$19,0,IF((-$G$5*$T47+$H$5)<='LED-Lighting'!$AZ$19,(-$G$5*$T47+$H$5),'LED-Lighting'!$AZ$19))","v":{"$error":"#N/A"}},{"$f":"IF($T47>'LED-Lighting'!$AX$19,0,IF((-$G$6*$T47+$H$6)<='LED-Lighting'!$AZ$19,(-$G$6*$T47+$H$6),'LED-Lighting'!$AZ$19))","v":{"$error":"#N/A"}},{"$f":"IF($T47>'LED-Lighting'!$AX$19,0,IF((-$G$7*$T47+$H$7)<='LED-Lighting'!$AZ$19,(-$G$7*$T47+$H$7),'LED-Lighting'!$AZ$19))","v":{"$error":"#N/A"}},{"$f":"IF($T47>'LED-Lighting'!$AX$19,0,IF((-$G$8*$T47+$H$8)<='LED-Lighting'!$AZ$19,(-$G$8*$T47+$H$8),'LED-Lighting'!$AZ$19))","v":{"$error":"#N/A"}},null,{"$f":"IF($T47>'LED-Lighting'!$AX$31,0,IF((-$K$3*$T47+$L$3)<='LED-Lighting'!$AZ$31,(-$K$3*$T47+$L$3),'LED-Lighting'!$AZ$31))","v":{"$error":"#N/A"}},{"$f":"IF($T47>'LED-Lighting'!$AX$31,0,IF((-$K$4*$T47+$L$4)<='LED-Lighting'!$AZ$31,(-$K$4*$T47+$L$4),'LED-Lighting'!$AZ$31))","v":{"$error":"#N/A"}},{"$f":"IF($T47>'LED-Lighting'!$AX$31,0,IF((-$K$5*$T47+$L$5)<='LED-Lighting'!$AZ$31,(-$K$5*$T47+$L$5),'LED-Lighting'!$AZ$31))","v":{"$error":"#N/A"}},{"$f":"IF($T47>'LED-Lighting'!$AX$31,0,IF((-$K$6*$T47+$L$6)<='LED-Lighting'!$AZ$31,(-$K$6*$T47+$L$6),'LED-Lighting'!$AZ$31))","v":{"$error":"#N/A"}},{"$f":"IF($T47>'LED-Lighting'!$AX$31,0,IF((-$K$7*$T47+$L$7)<='LED-Lighting'!$AZ$31,(-$K$7*$T47+$L$7),'LED-Lighting'!$AZ$31))","v":{"$error":"#N/A"}},{"$f":"IF($T47>'LED-Lighting'!$AX$31,0,IF((-$K$8*$T47+$L$8)<='LED-Lighting'!$AZ$31,(-$K$8*$T47+$L$8),'LED-Lighting'!$AZ$31))","v":{"$error":"#N/A"}},null,null,null,null,null,null,null,null,null,null,null,null,null,null,null,{"$f":"#REF!","v":{"$error":"#REF!"}},{"$f":"VLOOKUP(BD47,#REF!,BE$14,FALSE)","v":{"$error":"#REF!"}},{"$f":"VLOOKUP(BD47,#REF!,BF$14,FALSE)","v":{"$error":"#REF!"}},null,{"$f":"VLOOKUP(BD47,#REF!,BH$14,FALSE)","v":{"$error":"#REF!"}},{"$f":"VLOOKUP(BD47,#REF!,BI$14,FALSE)","v":{"$error":"#REF!"}},null,null,null,null,null,null,null,{"$error":"#REF!"},{"$f":"VLOOKUP(BQ47,#REF!,BR$14,FALSE)","v":{"$error":"#REF!"}},{"$f":"VLOOKUP(BQ47,#REF!,BS$14,FALSE)","v":{"$error":"#REF!"}},null,{"$f":"VLOOKUP(BQ47,#REF!,BU$14,FALSE)","v":{"$error":"#REF!"}},{"$f":"VLOOKUP(BQ47,#REF!,BV$14,FALSE)","v":{"$error":"#REF!"}},null,null,null,null,null,null,null,{"$error":"#REF!"},{"$f":"VLOOKUP(CD47,#REF!,CE$14,FALSE)","v":{"$error":"#REF!"}},{"$f":"VLOOKUP(CD47,#REF!,CF$14,FALSE)","v":{"$error":"#REF!"}},null,{"$f":"VLOOKUP(CD47,#REF!,CH$14,FALSE)","v":{"$error":"#REF!"}},{"$f":"VLOOKUP(CD47,#REF!,CI$14,FALSE)","v":{"$error":"#REF!"}}]
[null,null,null,null,null,null,null,null,null,null,null,null,null,null,null,null,null,null,null,129,{"$f":"IF($T48>'LED-Lighting'!$AX$7,0,IF((-$C$3*$T48+$D$3)<='LED-Lighting'!$AZ$7,(-$C$3*$T48+$D$3),'LED-Lighting'!$AZ$7))","v":{"$error":"#N/A"}},{"$f":"IF($T48>'LED-Lighting'!$AX$7,0,IF((-$C$4*$T48+$D$4)<='LED-Lighting'!$AZ$7,(-$C$4*$T48+$D$4),'LED-Lighting'!$AZ$7))","v":{"$error":"#N/A"}},{"$f":"IF($T48>'LED-Lighting'!$AX$7,0,IF((-$C$5*$T48+$D$5)<='LED-Lighting'!$AZ$7,(-$C$5*$T48+$D$5),'LED-Lighting'!$AZ$7))","v":{"$error":"#N/A"}},{"$f":"IF($T48>'LED-Lighting'!$AX$7,0,IF((-$C$6*$T48+$D$6)<='LED-Lighting'!$AZ$7,(-$C$6*$T48+$D$6),'LED-Lighting'!$AZ$7))","v":{"$error":"#N/A"}},{"$f":"IF($T48>'LED-Lighting'!$AX$7,0,IF((-$C$7*$T48+$D$7)<='LED-Lighting'!$AZ$7,(-$C$7*$T48+$D$7),'LED-Lighting'!$AZ$7))","v":{"$error":"#N/A"}},{"$f":"IF($T48>'LED-Lighting'!$AX$7,0,IF((-$C$8*$T48+$D$8)<='LED-Lighting'!$AZ$7,(-$C$8*$T48+$D$8),'LED-Lighting'!$AZ$7))","v":{"$error":"#N/A"}},null,{"$f":"IF($T48>'LED-Lighting'!$AX$19,0,IF((-$G$3*$T48+$H$3)<='LED-Lighting'!$AZ$19,(-$G$3*$T48+$H$3),'LED-Lighting'!$AZ$19))","v":{"$error":"#N/A"}},{"$f":"IF($T48>'LED-Lighting'!$AX$19,0,IF((-$G$4*$T48+$H$4)<='LED-Lighting'!$AZ$19,(-$G$4*$T48+$H$4),'LED-Lighting'!$AZ$19))","v":{"$error":"#N/A"}},{"$f":"IF($T48>'LED-Lighting'!$AX$19,0,IF((-$G$5*$T48+$H$5)<='LED-Lighting'!$AZ$19,(-$G$5*$T48+$H$5),'LED-Lighting'!$AZ$19))","v":{"$error":"#N/A"}},{"$f":"IF($T48>'LED-Lighting'!$AX$19,0,IF((-$G$6*$T48+$H$6)<='LED-Lighting'!$AZ$19,(-$G$6*$T48+$H$6),'LED-Lighting'!$AZ$19))","v":{"$error":"#N/A"}},{"$f":"IF($T48>'LED-Lighting'!$AX$19,0,IF((-$G$7*$T48+$H$7)<='LED-Lighting'!$AZ$19,(-$G$7*$T48+$H$7),'LED-Lighting'!$AZ$19))","v":{"$error":"#N/A"}},{"$f":"IF($T48>'LED-Lighting'!$AX$19,0,IF((-$G$8*$T48+$H$8)<='LED-Lighting'!$AZ$19,(-$G$8*$T48+$H$8),'LED-Lighting'!$AZ$19))","v":{"$error":"#N/A"}},null,{"$f":"IF($T48>'LED-Lighting'!$AX$31,0,IF((-$K$3*$T48+$L$3)<='LED-Lighting'!$AZ$31,(-$K$3*$T48+$L$3),'LED-Lighting'!$AZ$31))","v":{"$error":"#N/A"}},{"$f":"IF($T48>'LED-Lighting'!$AX$31,0,IF((-$K$4*$T48+$L$4)<='LED-Lighting'!$AZ$31,(-$K$4*$T48+$L$4),'LED-Lighting'!$AZ$31))","v":{"$error":"#N/A"}},{"$f":"IF($T48>'LED-Lighting'!$AX$31,0,IF((-$K$5*$T48+$L$5)<='LED-Lighting'!$AZ$31,(-$K$5*$T48+$L$5),'LED-Lighting'!$AZ$31))","v":{"$error":"#N/A"}},{"$f":"IF($T48>'LED-Lighting'!$AX$31,0,IF((-$K$6*$T48+$L$6)<='LED-Lighting'!$AZ$31,(-$K$6*$T48+$L$6),'LED-Lighting'!$AZ$31))","v":{"$error":"#N/A"}},{"$f":"IF($T48>'LED-Lighting'!$AX$31,0,IF((-$K$7*$T48+$L$7)<='LED-Lighting'!$AZ$31,(-$K$7*$T48+$L$7),'LED-Lighting'!$AZ$31))","v":{"$error":"#N/A"}},{"$f":"IF($T48>'LED-Lighting'!$AX$31,0,IF((-$K$8*$T48+$L$8)<='LED-Lighting'!$AZ$31,(-$K$8*$T48+$L$8),'LED-Lighting'!$AZ$31))","v":{"$error":"#N/A"}},null,null,null,null,null,null,null,null,null,null,null,null,null,null,null,{"$f":"#REF!","v":{"$error":"#REF!"}},{"$f":"VLOOKUP(BD48,#REF!,BE$14,FALSE)","v":{"$error":"#REF!"}},{"$f":"VLOOKUP(BD48,#REF!,BF$14,FALSE)","v":{"$error":"#REF!"}},null,{"$f":"VLOOKUP(BD48,#REF!,BH$14,FALSE)","v":{"$error":"#REF!"}},{"$f":"VLOOKUP(BD48,#REF!,BI$14,FALSE)","v":{"$error":"#REF!"}},null,null,null,null,null,null,null,{"$error":"#REF!"},{"$f":"VLOOKUP(BQ48,#REF!,BR$14,FALSE)","v":{"$error":"#REF!"}},{"$f":"VLOOKUP(BQ48,#REF!,BS$14,FALSE)","v":{"$error":"#REF!"}},null,{"$f":"VLOOKUP(BQ48,#REF!,BU$14,FALSE)","v":{"$error":"#REF!"}},{"$f":"VLOOKUP(BQ48,#REF!,BV$14,FALSE)","v":{"$error":"#REF!"}},null,null,null,null,null,null,null,{"$error":"#REF!"},{"$f":"VLOOKUP(CD48,#REF!,CE$14,FALSE)","v":{"$error":"#REF!"}},{"$f":"VLOOKUP(CD48,#REF!,CF$14,FALSE)","v":{"$error":"#REF!"}},null,{"$f":"VLOOKUP(CD48,#REF!,CH$14,FALSE)","v":{"$error":"#REF!"}},{"$f":"VLOOKUP(CD48,#REF!,CI$14,FALSE)","v":{"$error":"#REF!"}}]
[null,null,null,null,null,null,null,null,null,null,null,null,null,null,null,null,null,null,null,132,{"$f":"IF($T49>'LED-Lighting'!$AX$7,0,IF((-$C$3*$T49+$D$3)<='LED-Lighting'!$AZ$7,(-$C$3*$T49+$D$3),'LED-Lighting'!$AZ$7))","v":{"$error":"#N/A"}},{"$f":"IF($T49>'LED-Lighting'!$AX$7,0,IF((-$C$4*$T49+$D$4)<='LED-Lighting'!$AZ$7,(-$C$4*$T49+$D$4),'LED-Lighting'!$AZ$7))","v":{"$error":"#N/A"}},{"$f":"IF($T49>'LED-Lighting'!$AX$7,0,IF((-$C$5*$T49+$D$5)<='LED-Lighting'!$AZ$7,(-$C$5*$T49+$D$5),'LED-Lighting'!$AZ$7))","v":{"$error":"#N/A"}},{"$f":"IF($T49>'LED-Lighting'!$AX$7,0,IF((-$C$6*$T49+$D$6)<='LED-Lighting'!$AZ$7,(-$C$6*$T49+$D$6),'LED-Lighting'!$AZ$7))","v":{"$error":"#N/A"}},{"$f":"IF($T49>'LED-Lighting'!$AX$7,0,IF((-$C$7*$T49+$D$7)<='LED-Lighting'!$AZ$7,(-$C$7*$T49+$D$7),'LED-Lighting'!$AZ$7))","v":{"$error":"#N/A"}},{"$f":"IF($T49>'LED-Lighting'!$AX$7,0,IF((-$C$8*$T49+$D$8)<='LED-Lighting'!$AZ$7,(-$C$8*$T49+$D$8),'LED-Lighting'!$AZ$7))","v":{"$error":"#N/A"}},null,{"$f":"IF($T49>'LED-Lighting'!$AX$19,0,IF((-$G$3*$T49+$H$3)<='LED-Lighting'!$AZ$19,(-$G$3*$T49+$H$3),'LED-Lighting'!$AZ$19))","v":{"$error":"#N/A"}},{"$f":"IF($T49>'LED-Lighting'!$AX$19,0,IF((-$G$4*$T49+$H$4)<='LED-Lighting'!$AZ$19,(-$G$4*$T49+$H$4),'LED-Lighting'!$AZ$19))","v":{"$error":"#N/A"}},{"$f":"IF($T49>'LED-Lighting'!$AX$19,0,IF((-$G$5*$T49+$H$5)<='LED-Lighting'!$AZ$19,(-$G$5*$T49+$H$5),'LED-Lighting'!$AZ$19))","v":{"$error":"#N/A"}},{"$f":"IF($T49>'LED-Lighting'!$AX$19,0,IF((-$G$6*$T49+$H$6)<='LED-Lighting'!$AZ$19,(-$G$6*$T49+$H$6),'LED-Lighting'!$AZ$19))","v":{"$error":"#N/A"}},{"$f":"IF($T49>'LED-Lighting'!$AX$19,0,IF((-$G$7*$T49+$H$7)<='LED-Lighting'!$AZ$19,(-$G$7*$T49+$H$7),'LED-Lighting'!$AZ$19))","v":{"$error":"#N/A"}},{"$f":"IF($T49>'LED-Lighting'!$AX$19,0,IF((-$G$8*$T49+$H$8)<='LED-Lighting'!$AZ$19,(-$G$8*$T49+$H$8),'LED-Lighting'!$AZ$19))","v":{"$error":"#N/A"}},null,{"$f":"IF($T49>'LED-Lighting'!$AX$31,0,IF((-$K$3*$T49+$L$3)<='LED-Lighting'!$AZ$31,(-$K$3*$T49+$L$3),'LED-Lighting'!$AZ$31))","v":{"$error":"#N/A"}},{"$f":"IF($T49>'LED-Lighting'!$AX$31,0,IF((-$K$4*$T49+$L$4)<='LED-Lighting'!$AZ$31,(-$K$4*$T49+$L$4),'LED-Lighting'!$AZ$31))","v":{"$error":"#N/A"}},{"$f":"IF($T49>'LED-Lighting'!$AX$31,0,IF((-$K$5*$T49+$L$5)<='LED-Lighting'!$AZ$31,(-$K$5*$T49+$L$5),'LED-Lighting'!$AZ$31))","v":{"$error":"#N/A"}},{"$f":"IF($T49>'LED-Lighting'!$AX$31,0,IF((-$K$6*$T49+$L$6)<='LED-Lighting'!$AZ$31,(-$K$6*$T49+$L$6),'LED-Lighting'!$AZ$31))","v":{"$error":"#N/A"}},{"$f":"IF($T49>'LED-Lighting'!$AX$31,0,IF((-$K$7*$T49+$L$7)<='LED-Lighting'!$AZ$31,(-$K$7*$T49+$L$7),'LED-Lighting'!$AZ$31))","v":{"$error":"#N/A"}},{"$f":"IF($T49>'LED-Lighting'!$AX$31,0,IF((-$K$8*$T49+$L$8)<='LED-Lighting'!$AZ$31,(-$K$8*$T49+$L$8),'LED-Lighting'!$AZ$31))","v":{"$error":"#N/A"}},null,null,null,null,null,null,null,null,null,null,null,null,null,null,null,{"$f":"#REF!","v":{"$error":"#REF!"}},{"$f":"VLOOKUP(BD49,#REF!,BE$14,FALSE)","v":{"$error":"#REF!"}},{"$f":"VLOOKUP(BD49,#REF!,BF$14,FALSE)","v":{"$error":"#REF!"}},null,{"$f":"VLOOKUP(BD49,#REF!,BH$14,FALSE)","v":{"$error":"#REF!"}},{"$f":"VLOOKUP(BD49,#REF!,BI$14,FALSE)","v":{"$error":"#REF!"}},null,null,null,null,null,null,null,{"$error":"#REF!"},{"$f":"VLOOKUP(BQ49,#REF!,BR$14,FALSE)","v":{"$error":"#REF!"}},{"$f":"VLOOKUP(BQ49,#REF!,BS$14,FALSE)","v":{"$error":"#REF!"}},null,{"$f":"VLOOKUP(BQ49,#REF!,BU$14,FALSE)","v":{"$error":"#REF!"}},{"$f":"VLOOKUP(BQ49,#REF!,BV$14,FALSE)","v":{"$error":"#REF!"}},null,null,null,null,null,null,null,{"$error":"#REF!"},{"$f":"VLOOKUP(CD49,#REF!,CE$14,FALSE)","v":{"$error":"#REF!"}},{"$f":"VLOOKUP(CD49,#REF!,CF$14,FALSE)","v":{"$error":"#REF!"}},null,{"$f":"VLOOKUP(CD49,#REF!,CH$14,FALSE)","v":{"$error":"#REF!"}},{"$f":"VLOOKUP(CD49,#REF!,CI$14,FALSE)","v":{"$error":"#REF!"}}]
[null,null,null,null,null,null,null,null,null,null,null,null,null,null,null,null,null,null,null,135,{"$f":"IF($T50>'LED-Lighting'!$AX$7,0,IF((-$C$3*$T50+$D$3)<='LED-Lighting'!$AZ$7,(-$C$3*$T50+$D$3),'LED-Lighting'!$AZ$7))","v":{"$error":"#N/A"}},{"$f":"IF($T50>'LED-Lighting'!$AX$7,0,IF((-$C$4*$T50+$D$4)<='LED-Lighting'!$AZ$7,(-$C$4*$T50+$D$4),'LED-Lighting'!$AZ$7))","v":{"$error":"#N/A"}},{"$f":"IF($T50>'LED-Lighting'!$AX$7,0,IF((-$C$5*$T50+$D$5)<='LED-Lighting'!$AZ$7,(-$C$5*$T50+$D$5),'LED-Lighting'!$AZ$7))","v":{"$error":"#N/A"}},{"$f":"IF($T50>'LED-Lighting'!$AX$7,0,IF((-$C$6*$T50+$D$6)<='LED-Lighting'!$AZ$7,(-$C$6*$T50+$D$6),'LED-Lighting'!$AZ$7))","v":{"$error":"#N/A"}},{"$f":"IF($T50>'LED-Lighting'!$AX$7,0,IF((-$C$7*$T50+$D$7)<='LED-Lighting'!$AZ$7,(-$C$7*$T50+$D$7),'LED-Lighting'!$AZ$7))","v":{"$error":"#N/A"}},{"$f":"IF($T50>'LED-Lighting'!$AX$7,0,IF((-$C$8*$T50+$D$8)<='LED-Lighting'!$AZ$7,(-$C$8*$T50+$D$8),'LED-Lighting'!$AZ$7))","v":{"$error":"#N/A"}},null,{"$f":"IF($T50>'LED-Lighting'!$AX$19,0,IF((-$G$3*$T50+$H$3)<='LED-Lighting'!$AZ$19,(-$G$3*$T50+$H$3),'LED-Lighting'!$AZ$19))","v":{"$error":"#N/A"}},{"$f":"IF($T50>'LED-Lighting'!$AX$19,0,IF((-$G$4*$T50+$H$4)<='LED-Lighting'!$AZ$19,(-$G$4*$T50+$H$4),'LED-Lighting'!$AZ$19))","v":{"$error":"#N/A"}},{"$f":"IF($T50>'LED-Lighting'!$AX$19,0,IF((-$G$5*$T50+$H$5)<='LED-Lighting'!$AZ$19,(-$G$5*$T50+$H$5),'LED-Lighting'!$AZ$19))","v":{"$error":"#N/A"}},{"$f":"IF($T50>'LED-Lighting'!$AX$19,0,IF((-$G$6*$T50+$H$6)<='LED-Lighting'!$AZ$19,(-$G$6*$T50+$H$6),'LED-Lighting'!$AZ$19))","v":{"$error":"#N/A"}},{"$f":"IF($T50>'LED-Lighting'!$AX$19,0,IF((-$G$7*$T50+$H$7)<='LED-Lighting'!$AZ$19,(-$G$7*$T50+$H$7),'LED-Lighting'!$AZ$19))","v":{"$error":"#N/A"}},{"$f":"IF($T50>'LED-Lighting'!$AX$19,0,IF((-$G$8*$T50+$H$8)<='LED-Lighting'!$AZ$19,(-$G$8*$T50+$H$8),'LED-Lighting'!$AZ$19))","v":{"$error":"#N/A"}},null,{"$f":"IF($T50>'LED-Lighting'!$AX$31,0,IF((-$K$3*$T50+$L$3)<='LED-Lighting'!$AZ$31,(-$K$3*$T50+$L$3),'LED-Lighting'!$AZ$31))","v":{"$error":"#N/A"}},{"$f":"IF($T50>'LED-Lighting'!$AX$31,0,IF((-$K$4*$T50+$L$4)<='LED-Lighting'!$AZ$31,(-$K$4*$T50+$L$4),'LED-Lighting'!$AZ$31))","v":{"$error":"#N/A"}},{"$f":"IF($T50>'LED-Lighting'!$AX$31,0,IF((-$K$5*$T50+$L$5)<='LED-Lighting'!$AZ$31,(-$K$5*$T50+$L$5),'LED-Lighting'!$AZ$31))","v":{"$error":"#N/A"}},{"$f":"IF($T50>'LED-Lighting'!$AX$31,0,IF((-$K$6*$T50+$L$6)<='LED-Lighting'!$AZ$31,(-$K$6*$T50+$L$6),'LED-Lighting'!$AZ$31))","v":{"$error":"#N/A"}},{"$f":"IF($T50>'LED-Lighting'!$AX$31,0,IF((-$K$7*$T50+$L$7)<='LED-Lighting'!$AZ$31,(-$K$7*$T50+$L$7),'LED-Lighting'!$AZ$31))","v":{"$error":"#N/A"}},{"$f":"IF($T50>'LED-Lighting'!$AX$31,0,IF((-$K$8*$T50+$L$8)<='LED-Lighting'!$AZ$31,(-$K$8*$T50+$L$8),'LED-Lighting'!$AZ$31))","v":{"$error":"#N/A"}},null,null,null,null,null,null,null,null,null,null,null,null,null,null,null,{"$f":"#REF!","v":{"$error":"#REF!"}},{"$f":"VLOOKUP(BD50,#REF!,BE$14,FALSE)","v":{"$error":"#REF!"}},{"$f":"VLOOKUP(BD50,#REF!,BF$14,FALSE)","v":{"$error":"#REF!"}},null,{"$f":"VLOOKUP(BD50,#REF!,BH$14,FALSE)","v":{"$error":"#REF!"}},{"$f":"VLOOKUP(BD50,#REF!,BI$14,FALSE)","v":{"$error":"#REF!"}},null,null,null,null,null,null,null,{"$error":"#REF!"},{"$f":"VLOOKUP(BQ50,#REF!,BR$14,FALSE)","v":{"$error":"#REF!"}},{"$f":"VLOOKUP(BQ50,#REF!,BS$14,FALSE)","v":{"$error":"#REF!"}},null,{"$f":"VLOOKUP(BQ50,#REF!,BU$14,FALSE)","v":{"$error":"#REF!"}},{"$f":"VLOOKUP(BQ50,#REF!,BV$14,FALSE)","v":{"$error":"#REF!"}},null,null,null,null,null,null,null,{"$error":"#REF!"},{"$f":"VLOOKUP(CD50,#REF!,CE$14,FALSE)","v":{"$error":"#REF!"}},{"$f":"VLOOKUP(CD50,#REF!,CF$14,FALSE)","v":{"$error":"#REF!"}},null,{"$f":"VLOOKUP(CD50,#REF!,CH$14,FALSE)","v":{"$error":"#REF!"}},{"$f":"VLOOKUP(CD50,#REF!,CI$14,FALSE)","v":{"$error":"#REF!"}}]
[null,null,null,null,null,null,null,null,null,null,null,null,null,null,null,null,null,null,null,138,{"$f":"IF($T51>'LED-Lighting'!$AX$7,0,IF((-$C$3*$T51+$D$3)<='LED-Lighting'!$AZ$7,(-$C$3*$T51+$D$3),'LED-Lighting'!$AZ$7))","v":{"$error":"#N/A"}},{"$f":"IF($T51>'LED-Lighting'!$AX$7,0,IF((-$C$4*$T51+$D$4)<='LED-Lighting'!$AZ$7,(-$C$4*$T51+$D$4),'LED-Lighting'!$AZ$7))","v":{"$error":"#N/A"}},{"$f":"IF($T51>'LED-Lighting'!$AX$7,0,IF((-$C$5*$T51+$D$5)<='LED-Lighting'!$AZ$7,(-$C$5*$T51+$D$5),'LED-Lighting'!$AZ$7))","v":{"$error":"#N/A"}},{"$f":"IF($T51>'LED-Lighting'!$AX$7,0,IF((-$C$6*$T51+$D$6)<='LED-Lighting'!$AZ$7,(-$C$6*$T51+$D$6),'LED-Lighting'!$AZ$7))","v":{"$error":"#N/A"}},{"$f":"IF($T51>'LED-Lighting'!$AX$7,0,IF((-$C$7*$T51+$D$7)<='LED-Lighting'!$AZ$7,(-$C$7*$T51+$D$7),'LED-Lighting'!$AZ$7))","v":{"$error":"#N/A"}},{"$f":"IF($T51>'LED-Lighting'!$AX$7,0,IF((-$C$8*$T51+$D$8)<='LED-Lighting'!$AZ$7,(-$C$8*$T51+$D$8),'LED-Lighting'!$AZ$7))","v":{"$error":"#N/A"}},null,{"$f":"IF($T51>'LED-Lighting'!$AX$19,0,IF((-$G$3*$T51+$H$3)<='LED-Lighting'!$AZ$19,(-$G$3*$T51+$H$3),'LED-Lighting'!$AZ$19))","v":{"$error":"#N/A"}},{"$f":"IF($T51>'LED-Lighting'!$AX$19,0,IF((-$G$4*$T51+$H$4)<='LED-Lighting'!$AZ$19,(-$G$4*$T51+$H$4),'LED-Lighting'!$AZ$19))","v":{"$error":"#N/A"}},{"$f":"IF($T51>'LED-Lighting'!$AX$19,0,IF((-$G$5*$T51+$H$5)<='LED-Lighting'!$AZ$19,(-$G$5*$T51+$H$5),'LED-Lighting'!$AZ$19))","v":{"$error":"#N/A"}},{"$f":"IF($T51>'LED-Lighting'!$AX$19,0,IF((-$G$6*$T51+$H$6)<='LED-Lighting'!$AZ$19,(-$G$6*$T51+$H$6),'LED-Lighting'!$AZ$19))","v":{"$error":"#N/A"}},{"$f":"IF($T51>'LED-Lighting'!$AX$19,0,IF((-$G$7*$T51+$H$7)<='LED-Lighting'!$AZ$19,(-$G$7*$T51+$H$7),'LED-Lighting'!$AZ$19))","v":{"$error":"#N/A"}},{"$f":"IF($T51>'LED-Lighting'!$AX$19,0,IF((-$G$8*$T51+$H$8)<='LED-Lighting'!$AZ$19,(-$G$8*$T51+$H$8),'LED-Lighting'!$AZ$19))","v":{"$error":"#N/A"}},null,{"$f":"IF($T51>'LED-Lighting'!$AX$31,0,IF((-$K$3*$T51+$L$3)<='LED-Lighting'!$AZ$31,(-$K$3*$T51+$L$3),'LED-Lighting'!$AZ$31))","v":{"$error":"#N/A"}},{"$f":"IF($T51>'LED-Lighting'!$AX$31,0,IF((-$K$4*$T51+$L$4)<='LED-Lighting'!$AZ$31,(-$K$4*$T51+$L$4),'LED-Lighting'!$AZ$31))","v":{"$error":"#N/A"}},{"$f":"IF($T51>'LED-Lighting'!$AX$31,0,IF((-$K$5*$T51+$L$5)<='LED-Lighting'!$AZ$31,(-$K$5*$T51+$L$5),'LED-Lighting'!$AZ$31))","v":{"$error":"#N/A"}},{"$f":"IF($T51>'LED-Lighting'!$AX$31,0,IF((-$K$6*$T51+$L$6)<='LED-Lighting'!$AZ$31,(-$K$6*$T51+$L$6),'LED-Lighting'!$AZ$31))","v":{"$error":"#N/A"}},{"$f":"IF($T51>'LED-Lighting'!$AX$31,0,IF((-$K$7*$T51+$L$7)<='LED-Lighting'!$AZ$31,(-$K$7*$T51+$L$7),'LED-Lighting'!$AZ$31))","v":{"$error":"#N/A"}},{"$f":"IF($T51>'LED-Lighting'!$AX$31,0,IF((-$K$8*$T51+$L$8)<='LED-Lighting'!$AZ$31,(-$K$8*$T51+$L$8),'LED-Lighting'!$AZ$31))","v":{"$error":"#N/A"}},null,null,null,null,null,null,null,null,null,null,null,null,null,null,null,{"$f":"#REF!","v":{"$error":"#REF!"}},{"$f":"VLOOKUP(BD51,#REF!,BE$14,FALSE)","v":{"$error":"#REF!"}},{"$f":"VLOOKUP(BD51,#REF!,BF$14,FALSE)","v":{"$error":"#REF!"}},null,{"$f":"VLOOKUP(BD51,#REF!,BH$14,FALSE)","v":{"$error":"#REF!"}},{"$f":"VLOOKUP(BD51,#REF!,BI$14,FALSE)","v":{"$error":"#REF!"}},null,null,null,null,null,null,null,{"$error":"#REF!"},{"$f":"VLOOKUP(BQ51,#REF!,BR$14,FALSE)","v":{"$error":"#REF!"}},{"$f":"VLOOKUP(BQ51,#REF!,BS$14,FALSE)","v":{"$error":"#REF!"}},null,{"$f":"VLOOKUP(BQ51,#REF!,BU$14,FALSE)","v":{"$error":"#REF!"}},{"$f":"VLOOKUP(BQ51,#REF!,BV$14,FALSE)","v":{"$error":"#REF!"}},null,null,null,null,null,null,null,{"$error":"#REF!"},{"$f":"VLOOKUP(CD51,#REF!,CE$14,FALSE)","v":{"$error":"#REF!"}},{"$f":"VLOOKUP(CD51,#REF!,CF$14,FALSE)","v":{"$error":"#REF!"}},null,{"$f":"VLOOKUP(CD51,#REF!,CH$14,FALSE)","v":{"$error":"#REF!"}},{"$f":"VLOOKUP(CD51,#REF!,CI$14,FALSE)","v":{"$error":"#REF!"}}]
[null,null,null,null,null,null,null,null,null,null,null,null,null,null,null,null,null,null,null,141,{"$f":"IF($T52>'LED-Lighting'!$AX$7,0,IF((-$C$3*$T52+$D$3)<='LED-Lighting'!$AZ$7,(-$C$3*$T52+$D$3),'LED-Lighting'!$AZ$7))","v":{"$error":"#N/A"}},{"$f":"IF($T52>'LED-Lighting'!$AX$7,0,IF((-$C$4*$T52+$D$4)<='LED-Lighting'!$AZ$7,(-$C$4*$T52+$D$4),'LED-Lighting'!$AZ$7))","v":{"$error":"#N/A"}},{"$f":"IF($T52>'LED-Lighting'!$AX$7,0,IF((-$C$5*$T52+$D$5)<='LED-Lighting'!$AZ$7,(-$C$5*$T52+$D$5),'LED-Lighting'!$AZ$7))","v":{"$error":"#N/A"}},{"$f":"IF($T52>'LED-Lighting'!$AX$7,0,IF((-$C$6*$T52+$D$6)<='LED-Lighting'!$AZ$7,(-$C$6*$T52+$D$6),'LED-Lighting'!$AZ$7))","v":{"$error":"#N/A"}},{"$f":"IF($T52>'LED-Lighting'!$AX$7,0,IF((-$C$7*$T52+$D$7)<='LED-Lighting'!$AZ$7,(-$C$7*$T52+$D$7),'LED-Lighting'!$AZ$7))","v":{"$error":"#N/A"}},{"$f":"IF($T52>'LED-Lighting'!$AX$7,0,IF((-$C$8*$T52+$D$8)<='LED-Lighting'!$AZ$7,(-$C$8*$T52+$D$8),'LED-Lighting'!$AZ$7))","v":{"$error":"#N/A"}},null,{"$f":"IF($T52>'LED-Lighting'!$AX$19,0,IF((-$G$3*$T52+$H$3)<='LED-Lighting'!$AZ$19,(-$G$3*$T52+$H$3),'LED-Lighting'!$AZ$19))","v":{"$error":"#N/A"}},{"$f":"IF($T52>'LED-Lighting'!$AX$19,0,IF((-$G$4*$T52+$H$4)<='LED-Lighting'!$AZ$19,(-$G$4*$T52+$H$4),'LED-Lighting'!$AZ$19))","v":{"$error":"#N/A"}},{"$f":"IF($T52>'LED-Lighting'!$AX$19,0,IF((-$G$5*$T52+$H$5)<='LED-Lighting'!$AZ$19,(-$G$5*$T52+$H$5),'LED-Lighting'!$AZ$19))","v":{"$error":"#N/A"}},{"$f":"IF($T52>'LED-Lighting'!$AX$19,0,IF((-$G$6*$T52+$H$6)<='LED-Lighting'!$AZ$19,(-$G$6*$T52+$H$6),'LED-Lighting'!$AZ$19))","v":{"$error":"#N/A"}},{"$f":"IF($T52>'LED-Lighting'!$AX$19,0,IF((-$G$7*$T52+$H$7)<='LED-Lighting'!$AZ$19,(-$G$7*$T52+$H$7),'LED-Lighting'!$AZ$19))","v":{"$error":"#N/A"}},{"$f":"IF($T52>'LED-Lighting'!$AX$19,0,IF((-$G$8*$T52+$H$8)<='LED-Lighting'!$AZ$19,(-$G$8*$T52+$H$8),'LED-Lighting'!$AZ$19))","v":{"$error":"#N/A"}},null,{"$f":"IF($T52>'LED-Lighting'!$AX$31,0,IF((-$K$3*$T52+$L$3)<='LED-Lighting'!$AZ$31,(-$K$3*$T52+$L$3),'LED-Lighting'!$AZ$31))","v":{"$error":"#N/A"}},{"$f":"IF($T52>'LED-Lighting'!$AX$31,0,IF((-$K$4*$T52+$L$4)<='LED-Lighting'!$AZ$31,(-$K$4*$T52+$L$4),'LED-Lighting'!$AZ$31))","v":{"$error":"#N/A"}},{"$f":"IF($T52>'LED-Lighting'!$AX$31,0,IF((-$K$5*$T52+$L$5)<='LED-Lighting'!$AZ$31,(-$K$5*$T52+$L$5),'LED-Lighting'!$AZ$31))","v":{"$error":"#N/A"}},{"$f":"IF($T52>'LED-Lighting'!$AX$31,0,IF((-$K$6*$T52+$L$6)<='LED-Lighting'!$AZ$31,(-$K$6*$T52+$L$6),'LED-Lighting'!$AZ$31))","v":{"$error":"#N/A"}},{"$f":"IF($T52>'LED-Lighting'!$AX$31,0,IF((-$K$7*$T52+$L$7)<='LED-Lighting'!$AZ$31,(-$K$7*$T52+$L$7),'LED-Lighting'!$AZ$31))","v":{"$error":"#N/A"}},{"$f":"IF($T52>'LED-Lighting'!$AX$31,0,IF((-$K$8*$T52+$L$8)<='LED-Lighting'!$AZ$31,(-$K$8*$T52+$L$8),'LED-Lighting'!$AZ$31))","v":{"$error":"#N/A"}},null,null,null,null,null,null,null,null,null,null,null,null,null,null,null,{"$f":"#REF!","v":{"$error":"#REF!"}},{"$f":"VLOOKUP(BD52,#REF!,BE$14,FALSE)","v":{"$error":"#REF!"}},{"$f":"VLOOKUP(BD52,#REF!,BF$14,FALSE)","v":{"$error":"#REF!"}},null,{"$f":"VLOOKUP(BD52,#REF!,BH$14,FALSE)","v":{"$error":"#REF!"}},{"$f":"VLOOKUP(BD52,#REF!,BI$14,FALSE)","v":{"$error":"#REF!"}},null,null,null,null,null,null,null,{"$error":"#REF!"},{"$f":"VLOOKUP(BQ52,#REF!,BR$14,FALSE)","v":{"$error":"#REF!"}},{"$f":"VLOOKUP(BQ52,#REF!,BS$14,FALSE)","v":{"$error":"#REF!"}},null,{"$f":"VLOOKUP(BQ52,#REF!,BU$14,FALSE)","v":{"$error":"#REF!"}},{"$f":"VLOOKUP(BQ52,#REF!,BV$14,FALSE)","v":{"$error":"#REF!"}},null,null,null,null,null,null,null,{"$error":"#REF!"},{"$f":"VLOOKUP(CD52,#REF!,CE$14,FALSE)","v":{"$error":"#REF!"}},{"$f":"VLOOKUP(CD52,#REF!,CF$14,FALSE)","v":{"$error":"#REF!"}},null,{"$f":"VLOOKUP(CD52,#REF!,CH$14,FALSE)","v":{"$error":"#REF!"}},{"$f":"VLOOKUP(CD52,#REF!,CI$14,FALSE)","v":{"$error":"#REF!"}}]
[null,null,null,null,null,null,null,null,null,null,null,null,null,null,null,null,null,null,null,144,{"$f":"IF($T53>'LED-Lighting'!$AX$7,0,IF((-$C$3*$T53+$D$3)<='LED-Lighting'!$AZ$7,(-$C$3*$T53+$D$3),'LED-Lighting'!$AZ$7))","v":{"$error":"#N/A"}},{"$f":"IF($T53>'LED-Lighting'!$AX$7,0,IF((-$C$4*$T53+$D$4)<='LED-Lighting'!$AZ$7,(-$C$4*$T53+$D$4),'LED-Lighting'!$AZ$7))","v":{"$error":"#N/A"}},{"$f":"IF($T53>'LED-Lighting'!$AX$7,0,IF((-$C$5*$T53+$D$5)<='LED-Lighting'!$AZ$7,(-$C$5*$T53+$D$5),'LED-Lighting'!$AZ$7))","v":{"$error":"#N/A"}},{"$f":"IF($T53>'LED-Lighting'!$AX$7,0,IF((-$C$6*$T53+$D$6)<='LED-Lighting'!$AZ$7,(-$C$6*$T53+$D$6),'LED-Lighting'!$AZ$7))","v":{"$error":"#N/A"}},{"$f":"IF($T53>'LED-Lighting'!$AX$7,0,IF((-$C$7*$T53+$D$7)<='LED-Lighting'!$AZ$7,(-$C$7*$T53+$D$7),'LED-Lighting'!$AZ$7))","v":{"$error":"#N/A"}},{"$f":"IF($T53>'LED-Lighting'!$AX$7,0,IF((-$C$8*$T53+$D$8)<='LED-Lighting'!$AZ$7,(-$C$8*$T53+$D$8),'LED-Lighting'!$AZ$7))","v":{"$error":"#N/A"}},null,{"$f":"IF($T53>'LED-Lighting'!$AX$19,0,IF((-$G$3*$T53+$H$3)<='LED-Lighting'!$AZ$19,(-$G$3*$T53+$H$3),'LED-Lighting'!$AZ$19))","v":{"$error":"#N/A"}},{"$f":"IF($T53>'LED-Lighting'!$AX$19,0,IF((-$G$4*$T53+$H$4)<='LED-Lighting'!$AZ$19,(-$G$4*$T53+$H$4),'LED-Lighting'!$AZ$19))","v":{"$error":"#N/A"}},{"$f":"IF($T53>'LED-Lighting'!$AX$19,0,IF((-$G$5*$T53+$H$5)<='LED-Lighting'!$AZ$19,(-$G$5*$T53+$H$5),'LED-Lighting'!$AZ$19))","v":{"$error":"#N/A"}},{"$f":"IF($T53>'LED-Lighting'!$AX$19,0,IF((-$G$6*$T53+$H$6)<='LED-Lighting'!$AZ$19,(-$G$6*$T53+$H$6),'LED-Lighting'!$AZ$19))","v":{"$error":"#N/A"}},{"$f":"IF($T53>'LED-Lighting'!$AX$19,0,IF((-$G$7*$T53+$H$7)<='LED-Lighting'!$AZ$19,(-$G$7*$T53+$H$7),'LED-Lighting'!$AZ$19))","v":{"$error":"#N/A"}},{"$f":"IF($T53>'LED-Lighting'!$AX$19,0,IF((-$G$8*$T53+$H$8)<='LED-Lighting'!$AZ$19,(-$G$8*$T53+$H$8),'LED-Lighting'!$AZ$19))","v":{"$error":"#N/A"}},null,{"$f":"IF($T53>'LED-Lighting'!$AX$31,0,IF((-$K$3*$T53+$L$3)<='LED-Lighting'!$AZ$31,(-$K$3*$T53+$L$3),'LED-Lighting'!$AZ$31))","v":{"$error":"#N/A"}},{"$f":"IF($T53>'LED-Lighting'!$AX$31,0,IF((-$K$4*$T53+$L$4)<='LED-Lighting'!$AZ$31,(-$K$4*$T53+$L$4),'LED-Lighting'!$AZ$31))","v":{"$error":"#N/A"}},{"$f":"IF($T53>'LED-Lighting'!$AX$31,0,IF((-$K$5*$T53+$L$5)<='LED-Lighting'!$AZ$31,(-$K$5*$T53+$L$5),'LED-Lighting'!$AZ$31))","v":{"$error":"#N/A"}},{"$f":"IF($T53>'LED-Lighting'!$AX$31,0,IF((-$K$6*$T53+$L$6)<='LED-Lighting'!$AZ$31,(-$K$6*$T53+$L$6),'LED-Lighting'!$AZ$31))","v":{"$error":"#N/A"}},{"$f":"IF($T53>'LED-Lighting'!$AX$31,0,IF((-$K$7*$T53+$L$7)<='LED-Lighting'!$AZ$31,(-$K$7*$T53+$L$7),'LED-Lighting'!$AZ$31))","v":{"$error":"#N/A"}},{"$f":"IF($T53>'LED-Lighting'!$AX$31,0,IF((-$K$8*$T53+$L$8)<='LED-Lighting'!$AZ$31,(-$K$8*$T53+$L$8),'LED-Lighting'!$AZ$31))","v":{"$error":"#N/A"}},null,null,null,null,null,null,null,null,null,null,null,null,null,null,null,{"$f":"#REF!","v":{"$error":"#REF!"}},{"$f":"VLOOKUP(BD53,#REF!,BE$14,FALSE)","v":{"$error":"#REF!"}},{"$f":"VLOOKUP(BD53,#REF!,BF$14,FALSE)","v":{"$error":"#REF!"}},null,{"$f":"VLOOKUP(BD53,#REF!,BH$14,FALSE)","v":{"$error":"#REF!"}},{"$f":"VLOOKUP(BD53,#REF!,BI$14,FALSE)","v":{"$error":"#REF!"}},null,null,null,null,null,null,null,{"$error":"#REF!"},{"$f":"VLOOKUP(BQ53,#REF!,BR$14,FALSE)","v":{"$error":"#REF!"}},{"$f":"VLOOKUP(BQ53,#REF!,BS$14,FALSE)","v":{"$error":"#REF!"}},null,{"$f":"VLOOKUP(BQ53,#REF!,BU$14,FALSE)","v":{"$error":"#REF!"}},{"$f":"VLOOKUP(BQ53,#REF!,BV$14,FALSE)","v":{"$error":"#REF!"}},null,null,null,null,null,null,null,{"$error":"#REF!"},{"$f":"VLOOKUP(CD53,#REF!,CE$14,FALSE)","v":{"$error":"#REF!"}},{"$f":"VLOOKUP(CD53,#REF!,CF$14,FALSE)","v":{"$error":"#REF!"}},null,{"$f":"VLOOKUP(CD53,#REF!,CH$14,FALSE)","v":{"$error":"#REF!"}},{"$f":"VLOOKUP(CD53,#REF!,CI$14,FALSE)","v":{"$error":"#REF!"}}]
[null,null,null,null,null,null,null,null,null,null,null,null,null,null,null,null,null,null,null,147,{"$f":"IF($T54>'LED-Lighting'!$AX$7,0,IF((-$C$3*$T54+$D$3)<='LED-Lighting'!$AZ$7,(-$C$3*$T54+$D$3),'LED-Lighting'!$AZ$7))","v":{"$error":"#N/A"}},{"$f":"IF($T54>'LED-Lighting'!$AX$7,0,IF((-$C$4*$T54+$D$4)<='LED-Lighting'!$AZ$7,(-$C$4*$T54+$D$4),'LED-Lighting'!$AZ$7))","v":{"$error":"#N/A"}},{"$f":"IF($T54>'LED-Lighting'!$AX$7,0,IF((-$C$5*$T54+$D$5)<='LED-Lighting'!$AZ$7,(-$C$5*$T54+$D$5),'LED-Lighting'!$AZ$7))","v":{"$error":"#N/A"}},{"$f":"IF($T54>'LED-Lighting'!$AX$7,0,IF((-$C$6*$T54+$D$6)<='LED-Lighting'!$AZ$7,(-$C$6*$T54+$D$6),'LED-Lighting'!$AZ$7))","v":{"$error":"#N/A"}},{"$f":"IF($T54>'LED-Lighting'!$AX$7,0,IF((-$C$7*$T54+$D$7)<='LED-Lighting'!$AZ$7,(-$C$7*$T54+$D$7),'LED-Lighting'!$AZ$7))","v":{"$error":"#N/A"}},{"$f":"IF($T54>'LED-Lighting'!$AX$7,0,IF((-$C$8*$T54+$D$8)<='LED-Lighting'!$AZ$7,(-$C$8*$T54+$D$8),'LED-Lighting'!$AZ$7))","v":{"$error":"#N/A"}},null,{"$f":"IF($T54>'LED-Lighting'!$AX$19,0,IF((-$G$3*$T54+$H$3)<='LED-Lighting'!$AZ$19,(-$G$3*$T54+$H$3),'LED-Lighting'!$AZ$19))","v":{"$error":"#N/A"}},{"$f":"IF($T54>'LED-Lighting'!$AX$19,0,IF((-$G$4*$T54+$H$4)<='LED-Lighting'!$AZ$19,(-$G$4*$T54+$H$4),'LED-Lighting'!$AZ$19))","v":{"$error":"#N/A"}},{"$f":"IF($T54>'LED-Lighting'!$AX$19,0,IF((-$G$5*$T54+$H$5)<='LED-Lighting'!$AZ$19,(-$G$5*$T54+$H$5),'LED-Lighting'!$AZ$19))","v":{"$error":"#N/A"}},{"$f":"IF($T54>'LED-Lighting'!$AX$19,0,IF((-$G$6*$T54+$H$6)<='LED-Lighting'!$AZ$19,(-$G$6*$T54+$H$6),'LED-Lighting'!$AZ$19))","v":{"$error":"#N/A"}},{"$f":"IF($T54>'LED-Lighting'!$AX$19,0,IF((-$G$7*$T54+$H$7)<='LED-Lighting'!$AZ$19,(-$G$7*$T54+$H$7),'LED-Lighting'!$AZ$19))","v":{"$error":"#N/A"}},{"$f":"IF($T54>'LED-Lighting'!$AX$19,0,IF((-$G$8*$T54+$H$8)<='LED-Lighting'!$AZ$19,(-$G$8*$T54+$H$8),'LED-Lighting'!$AZ$19))","v":{"$error":"#N/A"}},null,{"$f":"IF($T54>'LED-Lighting'!$AX$31,0,IF((-$K$3*$T54+$L$3)<='LED-Lighting'!$AZ$31,(-$K$3*$T54+$L$3),'LED-Lighting'!$AZ$31))","v":{"$error":"#N/A"}},{"$f":"IF($T54>'LED-Lighting'!$AX$31,0,IF((-$K$4*$T54+$L$4)<='LED-Lighting'!$AZ$31,(-$K$4*$T54+$L$4),'LED-Lighting'!$AZ$31))","v":{"$error":"#N/A"}},{"$f":"IF($T54>'LED-Lighting'!$AX$31,0,IF((-$K$5*$T54+$L$5)<='LED-Lighting'!$AZ$31,(-$K$5*$T54+$L$5),'LED-Lighting'!$AZ$31))","v":{"$error":"#N/A"}},{"$f":"IF($T54>'LED-Lighting'!$AX$31,0,IF((-$K$6*$T54+$L$6)<='LED-Lighting'!$AZ$31,(-$K$6*$T54+$L$6),'LED-Lighting'!$AZ$31))","v":{"$error":"#N/A"}},{"$f":"IF($T54>'LED-Lighting'!$AX$31,0,IF((-$K$7*$T54+$L$7)<='LED-Lighting'!$AZ$31,(-$K$7*$T54+$L$7),'LED-Lighting'!$AZ$31))","v":{"$error":"#N/A"}},{"$f":"IF($T54>'LED-Lighting'!$AX$31,0,IF((-$K$8*$T54+$L$8)<='LED-Lighting'!$AZ$31,(-$K$8*$T54+$L$8),'LED-Lighting'!$AZ$31))","v":{"$error":"#N/A"}},null,null,null,null,null,null,null,null,null,null,null,null,null,null,null,{"$f":"#REF!","v":{"$error":"#REF!"}},{"$f":"VLOOKUP(BD54,#REF!,BE$14,FALSE)","v":{"$error":"#REF!"}},{"$f":"VLOOKUP(BD54,#REF!,BF$14,FALSE)","v":{"$error":"#REF!"}},null,{"$f":"VLOOKUP(BD54,#REF!,BH$14,FALSE)","v":{"$error":"#REF!"}},{"$f":"VLOOKUP(BD54,#REF!,BI$14,FALSE)","v":{"$error":"#REF!"}},null,null,null,null,null,null,null,{"$error":"#REF!"},{"$f":"VLOOKUP(BQ54,#REF!,BR$14,FALSE)","v":{"$error":"#REF!"}},{"$f":"VLOOKUP(BQ54,#REF!,BS$14,FALSE)","v":{"$error":"#REF!"}},null,{"$f":"VLOOKUP(BQ54,#REF!,BU$14,FALSE)","v":{"$error":"#REF!"}},{"$f":"VLOOKUP(BQ54,#REF!,BV$14,FALSE)","v":{"$error":"#REF!"}},null,null,null,null,null,null,null,{"$error":"#REF!"},{"$f":"VLOOKUP(CD54,#REF!,CE$14,FALSE)","v":{"$error":"#REF!"}},{"$f":"VLOOKUP(CD54,#REF!,CF$14,FALSE)","v":{"$error":"#REF!"}},null,{"$f":"VLOOKUP(CD54,#REF!,CH$14,FALSE)","v":{"$error":"#REF!"}},{"$f":"VLOOKUP(CD54,#REF!,CI$14,FALSE)","v":{"$error":"#REF!"}}]
[null,null,null,null,null,null,null,null,null,null,null,null,null,null,null,null,null,null,null,150,{"$f":"IF($T55>'LED-Lighting'!$AX$7,0,IF((-$C$3*$T55+$D$3)<='LED-Lighting'!$AZ$7,(-$C$3*$T55+$D$3),'LED-Lighting'!$AZ$7))","v":{"$error":"#N/A"}},{"$f":"IF($T55>'LED-Lighting'!$AX$7,0,IF((-$C$4*$T55+$D$4)<='LED-Lighting'!$AZ$7,(-$C$4*$T55+$D$4),'LED-Lighting'!$AZ$7))","v":{"$error":"#N/A"}},{"$f":"IF($T55>'LED-Lighting'!$AX$7,0,IF((-$C$5*$T55+$D$5)<='LED-Lighting'!$AZ$7,(-$C$5*$T55+$D$5),'LED-Lighting'!$AZ$7))","v":{"$error":"#N/A"}},{"$f":"IF($T55>'LED-Lighting'!$AX$7,0,IF((-$C$6*$T55+$D$6)<='LED-Lighting'!$AZ$7,(-$C$6*$T55+$D$6),'LED-Lighting'!$AZ$7))","v":{"$error":"#N/A"}},{"$f":"IF($T55>'LED-Lighting'!$AX$7,0,IF((-$C$7*$T55+$D$7)<='LED-Lighting'!$AZ$7,(-$C$7*$T55+$D$7),'LED-Lighting'!$AZ$7))","v":{"$error":"#N/A"}},{"$f":"IF($T55>'LED-Lighting'!$AX$7,0,IF((-$C$8*$T55+$D$8)<='LED-Lighting'!$AZ$7,(-$C$8*$T55+$D$8),'LED-Lighting'!$AZ$7))","v":{"$error":"#N/A"}},null,{"$f":"IF($T55>'LED-Lighting'!$AX$19,0,IF((-$G$3*$T55+$H$3)<='LED-Lighting'!$AZ$19,(-$G$3*$T55+$H$3),'LED-Lighting'!$AZ$19))","v":{"$error":"#N/A"}},{"$f":"IF($T55>'LED-Lighting'!$AX$19,0,IF((-$G$4*$T55+$H$4)<='LED-Lighting'!$AZ$19,(-$G$4*$T55+$H$4),'LED-Lighting'!$AZ$19))","v":{"$error":"#N/A"}},{"$f":"IF($T55>'LED-Lighting'!$AX$19,0,IF((-$G$5*$T55+$H$5)<='LED-Lighting'!$AZ$19,(-$G$5*$T55+$H$5),'LED-Lighting'!$AZ$19))","v":{"$error":"#N/A"}},{"$f":"IF($T55>'LED-Lighting'!$AX$19,0,IF((-$G$6*$T55+$H$6)<='LED-Lighting'!$AZ$19,(-$G$6*$T55+$H$6),'LED-Lighting'!$AZ$19))","v":{"$error":"#N/A"}},{"$f":"IF($T55>'LED-Lighting'!$AX$19,0,IF((-$G$7*$T55+$H$7)<='LED-Lighting'!$AZ$19,(-$G$7*$T55+$H$7),'LED-Lighting'!$AZ$19))","v":{"$error":"#N/A"}},{"$f":"IF($T55>'LED-Lighting'!$AX$19,0,IF((-$G$8*$T55+$H$8)<='LED-Lighting'!$AZ$19,(-$G$8*$T55+$H$8),'LED-Lighting'!$AZ$19))","v":{"$error":"#N/A"}},null,{"$f":"IF($T55>'LED-Lighting'!$AX$31,0,IF((-$K$3*$T55+$L$3)<='LED-Lighting'!$AZ$31,(-$K$3*$T55+$L$3),'LED-Lighting'!$AZ$31))","v":{"$error":"#N/A"}},{"$f":"IF($T55>'LED-Lighting'!$AX$31,0,IF((-$K$4*$T55+$L$4)<='LED-Lighting'!$AZ$31,(-$K$4*$T55+$L$4),'LED-Lighting'!$AZ$31))","v":{"$error":"#N/A"}},{"$f":"IF($T55>'LED-Lighting'!$AX$31,0,IF((-$K$5*$T55+$L$5)<='LED-Lighting'!$AZ$31,(-$K$5*$T55+$L$5),'LED-Lighting'!$AZ$31))","v":{"$error":"#N/A"}},{"$f":"IF($T55>'LED-Lighting'!$AX$31,0,IF((-$K$6*$T55+$L$6)<='LED-Lighting'!$AZ$31,(-$K$6*$T55+$L$6),'LED-Lighting'!$AZ$31))","v":{"$error":"#N/A"}},{"$f":"IF($T55>'LED-Lighting'!$AX$31,0,IF((-$K$7*$T55+$L$7)<='LED-Lighting'!$AZ$31,(-$K$7*$T55+$L$7),'LED-Lighting'!$AZ$31))","v":{"$error":"#N/A"}},{"$f":"IF($T55>'LED-Lighting'!$AX$31,0,IF((-$K$8*$T55+$L$8)<='LED-Lighting'!$AZ$31,(-$K$8*$T55+$L$8),'LED-Lighting'!$AZ$31))","v":{"$error":"#N/A"}},null,null,null,null,null,null,null,null,null,null,null,null,null,null,null,{"$f":"#REF!","v":{"$error":"#REF!"}},{"$f":"VLOOKUP(BD55,#REF!,BE$14,FALSE)","v":{"$error":"#REF!"}},{"$f":"VLOOKUP(BD55,#REF!,BF$14,FALSE)","v":{"$error":"#REF!"}},null,{"$f":"VLOOKUP(BD55,#REF!,BH$14,FALSE)","v":{"$error":"#REF!"}},{"$f":"VLOOKUP(BD55,#REF!,BI$14,FALSE)","v":{"$error":"#REF!"}},null,null,null,null,null,null,null,{"$error":"#REF!"},{"$f":"VLOOKUP(BQ55,#REF!,BR$14,FALSE)","v":{"$error":"#REF!"}},{"$f":"VLOOKUP(BQ55,#REF!,BS$14,FALSE)","v":{"$error":"#REF!"}},null,{"$f":"VLOOKUP(BQ55,#REF!,BU$14,FALSE)","v":{"$error":"#REF!"}},{"$f":"VLOOKUP(BQ55,#REF!,BV$14,FALSE)","v":{"$error":"#REF!"}},null,null,null,null,null,null,null,{"$error":"#REF!"},{"$f":"VLOOKUP(CD55,#REF!,CE$14,FALSE)","v":{"$error":"#REF!"}},{"$f":"VLOOKUP(CD55,#REF!,CF$14,FALSE)","v":{"$error":"#REF!"}},null,{"$f":"VLOOKUP(CD55,#REF!,CH$14,FALSE)","v":{"$error":"#REF!"}},{"$f":"VLOOKUP(CD55,#REF!,CI$14,FALSE)","v":{"$error":"#REF!"}}]
[null,null,null,null,null,null,null,null,null,null,null,null,null,null,null,null,null,null,null,null,null,null,null,null,null,null,null,null,null,null,null,null,null,null,null,null,null,null,null,null,null,null,null,null,null,null,null,null,null,null,null,null,null,null,null,{"$f":"#REF!","v":{"$error":"#REF!"}},{"$f":"VLOOKUP(BD56,#REF!,BE$14,FALSE)","v":{"$error":"#REF!"}},{"$f":"VLOOKUP(BD56,#REF!,BF$14,FALSE)","v":{"$error":"#REF!"}},null,{"$f":"VLOOKUP(BD56,#REF!,BH$14,FALSE)","v":{"$error":"#REF!"}},{"$f":"VLOOKUP(BD56,#REF!,BI$14,FALSE)","v":{"$error":"#REF!"}},null,null,null,null,null,null,null,{"$error":"#REF!"},{"$f":"VLOOKUP(BQ56,#REF!,BR$14,FALSE)","v":{"$error":"#REF!"}},{"$f":"VLOOKUP(BQ56,#REF!,BS$14,FALSE)","v":{"$error":"#REF!"}},null,{"$f":"VLOOKUP(BQ56,#REF!,BU$14,FALSE)","v":{"$error":"#REF!"}},{"$f":"VLOOKUP(BQ56,#REF!,BV$14,FALSE)","v":{"$error":"#REF!"}},null,null,null,null,null,null,null,{"$error":"#REF!"},{"$f":"VLOOKUP(CD56,#REF!,CE$14,FALSE)","v":{"$error":"#REF!"}},{"$f":"VLOOKUP(CD56,#REF!,CF$14,FALSE)","v":{"$error":"#REF!"}},null,{"$f":"VLOOKUP(CD56,#REF!,CH$14,FALSE)","v":{"$error":"#REF!"}},{"$f":"VLOOKUP(CD56,#REF!,CI$14,FALSE)","v":{"$error":"#REF!"}}]
[null,null,null,null,null,null,null,null,null,null,null,null,null,null,null,null,null,null,null,null,null,null,null,null,null,null,null,null,null,null,null,null,null,null,null,null,null,null,null,null,null,null,null,null,null,null,null,null,null,null,null,null,null,null,null,{"$f":"#REF!","v":{"$error":"#REF!"}},{"$f":"VLOOKUP(BD57,#REF!,BE$14,FALSE)","v":{"$error":"#REF!"}},{"$f":"VLOOKUP(BD57,#REF!,BF$14,FALSE)","v":{"$error":"#REF!"}},null,{"$f":"VLOOKUP(BD57,#REF!,BH$14,FALSE)","v":{"$error":"#REF!"}},{"$f":"VLOOKUP(BD57,#REF!,BI$14,FALSE)","v":{"$error":"#REF!"}},null,null,null,null,null,null,null,{"$error":"#REF!"},{"$f":"VLOOKUP(BQ57,#REF!,BR$14,FALSE)","v":{"$error":"#REF!"}},{"$f":"VLOOKUP(BQ57,#REF!,BS$14,FALSE)","v":{"$error":"#REF!"}},null,{"$f":"VLOOKUP(BQ57,#REF!,BU$14,FALSE)","v":{"$error":"#REF!"}},{"$f":"VLOOKUP(BQ57,#REF!,BV$14,FALSE)","v":{"$error":"#REF!"}},null,null,null,null,null,null,null,{"$error":"#REF!"},{"$f":"VLOOKUP(CD57,#REF!,CE$14,FALSE)","v":{"$error":"#REF!"}},{"$f":"VLOOKUP(CD57,#REF!,CF$14,FALSE)","v":{"$error":"#REF!"}},null,{"$f":"VLOOKUP(CD57,#REF!,CH$14,FALSE)","v":{"$error":"#REF!"}},{"$f":"VLOOKUP(CD57,#REF!,CI$14,FALSE)","v":{"$error":"#REF!"}}]
[null,null,null,null,null,null,null,null,null,null,null,null,null,null,null,null,null,null,null,null,null,null,null,null,null,null,null,null,null,null,null,null,null,null,null,null,null,null,null,null,null,null,null,null,null,null,null,null,null,null,null,null,null,null,null,{"$f":"#REF!","v":{"$error":"#REF!"}},{"$f":"VLOOKUP(BD58,#REF!,BE$14,FALSE)","v":{"$error":"#REF!"}},{"$f":"VLOOKUP(BD58,#REF!,BF$14,FALSE)","v":{"$error":"#REF!"}},null,{"$f":"VLOOKUP(BD58,#REF!,BH$14,FALSE)","v":{"$error":"#REF!"}},{"$f":"VLOOKUP(BD58,#REF!,BI$14,FALSE)","v":{"$error":"#REF!"}},null,null,null,null,null,null,null,{"$error":"#REF!"},{"$f":"VLOOKUP(BQ58,#REF!,BR$14,FALSE)","v":{"$error":"#REF!"}},{"$f":"VLOOKUP(BQ58,#REF!,BS$14,FALSE)","v":{"$error":"#REF!"}},null,{"$f":"VLOOKUP(BQ58,#REF!,BU$14,FALSE)","v":{"$error":"#REF!"}},{"$f":"VLOOKUP(BQ58,#REF!,BV$14,FALSE)","v":{"$error":"#REF!"}},null,null,null,null,null,null,null,{"$error":"#REF!"},{"$f":"VLOOKUP(CD58,#REF!,CE$14,FALSE)","v":{"$error":"#REF!"}},{"$f":"VLOOKUP(CD58,#REF!,CF$14,FALSE)","v":{"$error":"#REF!"}},null,{"$f":"VLOOKUP(CD58,#REF!,CH$14,FALSE)","v":{"$error":"#REF!"}},{"$f":"VLOOKUP(CD58,#REF!,CI$14,FALSE)","v":{"$error":"#REF!"}}]
[null,null,null,null,null,null,null,null,null,null,null,null,null,null,null,null,null,null,null,null,null,null,null,null,null,null,null,null,null,null,null,null,null,null,null,null,null,null,null,null,null,null,null,null,null,null,null,null,null,null,null,null,null,null,null,{"$f":"#REF!","v":{"$error":"#REF!"}},{"$f":"VLOOKUP(BD59,#REF!,BE$14,FALSE)","v":{"$error":"#REF!"}},{"$f":"VLOOKUP(BD59,#REF!,BF$14,FALSE)","v":{"$error":"#REF!"}},null,{"$f":"VLOOKUP(BD59,#REF!,BH$14,FALSE)","v":{"$error":"#REF!"}},{"$f":"VLOOKUP(BD59,#REF!,BI$14,FALSE)","v":{"$error":"#REF!"}},null,null,null,null,null,null,null,{"$error":"#REF!"},{"$f":"VLOOKUP(BQ59,#REF!,BR$14,FALSE)","v":{"$error":"#REF!"}},{"$f":"VLOOKUP(BQ59,#REF!,BS$14,FALSE)","v":{"$error":"#REF!"}},null,{"$f":"VLOOKUP(BQ59,#REF!,BU$14,FALSE)","v":{"$error":"#REF!"}},{"$f":"VLOOKUP(BQ59,#REF!,BV$14,FALSE)","v":{"$error":"#REF!"}},null,null,null,null,null,null,null,{"$error":"#REF!"},{"$f":"VLOOKUP(CD59,#REF!,CE$14,FALSE)","v":{"$error":"#REF!"}},{"$f":"VLOOKUP(CD59,#REF!,CF$14,FALSE)","v":{"$error":"#REF!"}},null,{"$f":"VLOOKUP(CD59,#REF!,CH$14,FALSE)","v":{"$error":"#REF!"}},{"$f":"VLOOKUP(CD59,#REF!,CI$14,FALSE)","v":{"$error":"#REF!"}}]
[null,null,null,null,null,null,null,null,null,null,null,null,null,null,null,null,null,null,null,null,null,null,null,null,null,null,null,null,null,null,null,null,null,null,null,null,null,null,null,null,null,null,null,null,null,null,null,null,null,null,null,null,null,null,null,{"$f":"#REF!","v":{"$error":"#REF!"}},{"$f":"VLOOKUP(BD60,#REF!,BE$14,FALSE)","v":{"$error":"#REF!"}},{"$f":"VLOOKUP(BD60,#REF!,BF$14,FALSE)","v":{"$error":"#REF!"}},null,{"$f":"VLOOKUP(BD60,#REF!,BH$14,FALSE)","v":{"$error":"#REF!"}},{"$f":"VLOOKUP(BD60,#REF!,BI$14,FALSE)","v":{"$error":"#REF!"}},null,null,null,null,null,null,null,{"$error":"#REF!"},{"$f":"VLOOKUP(BQ60,#REF!,BR$14,FALSE)","v":{"$error":"#REF!"}},{"$f":"VLOOKUP(BQ60,#REF!,BS$14,FALSE)","v":{"$error":"#REF!"}},null,{"$f":"VLOOKUP(BQ60,#REF!,BU$14,FALSE)","v":{"$error":"#REF!"}},{"$f":"VLOOKUP(BQ60,#REF!,BV$14,FALSE)","v":{"$error":"#REF!"}},null,null,null,null,null,null,null,{"$error":"#REF!"},{"$f":"VLOOKUP(CD60,#REF!,CE$14,FALSE)","v":{"$error":"#REF!"}},{"$f":"VLOOKUP(CD60,#REF!,CF$14,FALSE)","v":{"$error":"#REF!"}},null,{"$f":"VLOOKUP(CD60,#REF!,CH$14,FALSE)","v":{"$error":"#REF!"}},{"$f":"VLOOKUP(CD60,#REF!,CI$14,FALSE)","v":{"$error":"#REF!"}}]
[null,null,null,null,null,null,null,null,null,null,null,null,null,null,null,null,null,null,null,null,null,null,null,null,null,null,null,null,null,null,null,null,null,null,null,null,null,null,null,null,null,null,null,null,null,null,null,null,null,null,null,null,null,null,null,{"$f":"#REF!","v":{"$error":"#REF!"}},{"$f":"VLOOKUP(BD61,#REF!,BE$14,FALSE)","v":{"$error":"#REF!"}},{"$f":"VLOOKUP(BD61,#REF!,BF$14,FALSE)","v":{"$error":"#REF!"}},null,{"$f":"VLOOKUP(BD61,#REF!,BH$14,FALSE)","v":{"$error":"#REF!"}},{"$f":"VLOOKUP(BD61,#REF!,BI$14,FALSE)","v":{"$error":"#REF!"}},null,null,null,null,null,null,null,{"$error":"#REF!"},{"$f":"VLOOKUP(BQ61,#REF!,BR$14,FALSE)","v":{"$error":"#REF!"}},{"$f":"VLOOKUP(BQ61,#REF!,BS$14,FALSE)","v":{"$error":"#REF!"}},null,{"$f":"VLOOKUP(BQ61,#REF!,BU$14,FALSE)","v":{"$error":"#REF!"}},{"$f":"VLOOKUP(BQ61,#REF!,BV$14,FALSE)","v":{"$error":"#REF!"}},null,null,null,null,null,null,null,{"$error":"#REF!"},{"$f":"VLOOKUP(CD61,#REF!,CE$14,FALSE)","v":{"$error":"#REF!"}},{"$f":"VLOOKUP(CD61,#REF!,CF$14,FALSE)","v":{"$error":"#REF!"}},null,{"$f":"VLOOKUP(CD61,#REF!,CH$14,FALSE)","v":{"$error":"#REF!"}},{"$f":"VLOOKUP(CD61,#REF!,CI$14,FALSE)","v":{"$error":"#REF!"}}]
[null,null,null,null,null,null,null,null,null,null,null,null,null,null,null,null,null,null,null,null,null,null,null,null,null,null,null,null,null,null,null,null,null,null,null,null,null,null,null,null,null,null,null,null,null,null,null,null,null,null,null,null,null,null,null,{"$f":"#REF!","v":{"$error":"#REF!"}},{"$f":"VLOOKUP(BD62,#REF!,BE$14,FALSE)","v":{"$error":"#REF!"}},{"$f":"VLOOKUP(BD62,#REF!,BF$14,FALSE)","v":{"$error":"#REF!"}},null,{"$f":"VLOOKUP(BD62,#REF!,BH$14,FALSE)","v":{"$error":"#REF!"}},{"$f":"VLOOKUP(BD62,#REF!,BI$14,FALSE)","v":{"$error":"#REF!"}},null,null,null,null,null,null,null,{"$error":"#REF!"},{"$f":"VLOOKUP(BQ62,#REF!,BR$14,FALSE)","v":{"$error":"#REF!"}},{"$f":"VLOOKUP(BQ62,#REF!,BS$14,FALSE)","v":{"$error":"#REF!"}},null,{"$f":"VLOOKUP(BQ62,#REF!,BU$14,FALSE)","v":{"$error":"#REF!"}},{"$f":"VLOOKUP(BQ62,#REF!,BV$14,FALSE)","v":{"$error":"#REF!"}},null,null,null,null,null,null,null,{"$error":"#REF!"},{"$f":"VLOOKUP(CD62,#REF!,CE$14,FALSE)","v":{"$error":"#REF!"}},{"$f":"VLOOKUP(CD62,#REF!,CF$14,FALSE)","v":{"$error":"#REF!"}},null,{"$f":"VLOOKUP(CD62,#REF!,CH$14,FALSE)","v":{"$error":"#REF!"}},{"$f":"VLOOKUP(CD62,#REF!,CI$14,FALSE)","v":{"$error":"#REF!"}}]
[null,null,null,null,null,null,null,null,null,null,null,null,null,null,null,null,null,null,null,null,null,null,null,null,null,null,null,null,null,null,null,null,null,null,null,null,null,null,null,null,null,null,null,null,null,null,null,null,null,null,null,null,null,null,null,{"$f":"#REF!","v":{"$error":"#REF!"}},{"$f":"VLOOKUP(BD63,#REF!,BE$14,FALSE)","v":{"$error":"#REF!"}},{"$f":"VLOOKUP(BD63,#REF!,BF$14,FALSE)","v":{"$error":"#REF!"}},null,{"$f":"VLOOKUP(BD63,#REF!,BH$14,FALSE)","v":{"$error":"#REF!"}},{"$f":"VLOOKUP(BD63,#REF!,BI$14,FALSE)","v":{"$error":"#REF!"}},null,null,null,null,null,null,null,{"$error":"#REF!"},{"$f":"VLOOKUP(BQ63,#REF!,BR$14,FALSE)","v":{"$error":"#REF!"}},{"$f":"VLOOKUP(BQ63,#REF!,BS$14,FALSE)","v":{"$error":"#REF!"}},null,{"$f":"VLOOKUP(BQ63,#REF!,BU$14,FALSE)","v":{"$error":"#REF!"}},{"$f":"VLOOKUP(BQ63,#REF!,BV$14,FALSE)","v":{"$error":"#REF!"}},null,null,null,null,null,null,null,{"$error":"#REF!"},{"$f":"VLOOKUP(CD63,#REF!,CE$14,FALSE)","v":{"$error":"#REF!"}},{"$f":"VLOOKUP(CD63,#REF!,CF$14,FALSE)","v":{"$error":"#REF!"}},null,{"$f":"VLOOKUP(CD63,#REF!,CH$14,FALSE)","v":{"$error":"#REF!"}},{"$f":"VLOOKUP(CD63,#REF!,CI$14,FALSE)","v":{"$error":"#REF!"}}]
[null,null,null,null,null,null,null,null,null,null,null,null,null,null,null,null,null,null,null,null,null,null,null,null,null,null,null,null,null,null,null,null,null,null,null,null,null,null,null,null,null,null,null,null,null,null,null,null,null,null,null,null,null,null,null,{"$f":"#REF!","v":{"$error":"#REF!"}},{"$f":"VLOOKUP(BD64,#REF!,BE$14,FALSE)","v":{"$error":"#REF!"}},{"$f":"VLOOKUP(BD64,#REF!,BF$14,FALSE)","v":{"$error":"#REF!"}},null,{"$f":"VLOOKUP(BD64,#REF!,BH$14,FALSE)","v":{"$error":"#REF!"}},{"$f":"VLOOKUP(BD64,#REF!,BI$14,FALSE)","v":{"$error":"#REF!"}},null,null,null,null,null,null,null,{"$error":"#REF!"},{"$f":"VLOOKUP(BQ64,#REF!,BR$14,FALSE)","v":{"$error":"#REF!"}},{"$f":"VLOOKUP(BQ64,#REF!,BS$14,FALSE)","v":{"$error":"#REF!"}},null,{"$f":"VLOOKUP(BQ64,#REF!,BU$14,FALSE)","v":{"$error":"#REF!"}},{"$f":"VLOOKUP(BQ64,#REF!,BV$14,FALSE)","v":{"$error":"#REF!"}},null,null,null,null,null,null,null,{"$error":"#REF!"},{"$f":"VLOOKUP(CD64,#REF!,CE$14,FALSE)","v":{"$error":"#REF!"}},{"$f":"VLOOKUP(CD64,#REF!,CF$14,FALSE)","v":{"$error":"#REF!"}},null,{"$f":"VLOOKUP(CD64,#REF!,CH$14,FALSE)","v":{"$error":"#REF!"}},{"$f":"VLOOKUP(CD64,#REF!,CI$14,FALSE)","v":{"$error":"#REF!"}}]
[null,null,null,null,null,null,null,null,null,null,null,null,null,null,null,null,null,null,null,null,null,null,null,null,null,null,null,null,null,null,null,null,null,null,null,null,null,null,null,null,null,null,null,null,null,null,null,null,null,null,null,null,null,null,null,{"$f":"#REF!","v":{"$error":"#REF!"}},{"$f":"VLOOKUP(BD65,#REF!,BE$14,FALSE)","v":{"$error":"#REF!"}},{"$f":"VLOOKUP(BD65,#REF!,BF$14,FALSE)","v":{"$error":"#REF!"}},null,{"$f":"VLOOKUP(BD65,#REF!,BH$14,FALSE)","v":{"$error":"#REF!"}},{"$f":"VLOOKUP(BD65,#REF!,BI$14,FALSE)","v":{"$error":"#REF!"}},null,null,null,null,null,null,null,{"$error":"#REF!"},{"$f":"VLOOKUP(BQ65,#REF!,BR$14,FALSE)","v":{"$error":"#REF!"}},{"$f":"VLOOKUP(BQ65,#REF!,BS$14,FALSE)","v":{"$error":"#REF!"}},null,{"$f":"VLOOKUP(BQ65,#REF!,BU$14,FALSE)","v":{"$error":"#REF!"}},{"$f":"VLOOKUP(BQ65,#REF!,BV$14,FALSE)","v":{"$error":"#REF!"}},null,null,null,null,null,null,null,{"$error":"#REF!"},{"$f":"VLOOKUP(CD65,#REF!,CE$14,FALSE)","v":{"$error":"#REF!"}},{"$f":"VLOOKUP(CD65,#REF!,CF$14,FALSE)","v":{"$error":"#REF!"}},null,{"$f":"VLOOKUP(CD65,#REF!,CH$14,FALSE)","v":{"$error":"#REF!"}},{"$f":"VLOOKUP(CD65,#REF!,CI$14,FALSE)","v":{"$error":"#REF!"}}]
[null,null,null,null,null,null,null,null,null,null,null,null,null,null,null,null,null,null,null,null,null,null,null,null,null,null,null,null,null,null,null,null,null,null,null,null,null,null,null,null,null,null,null,null,null,null,null,null,null,null,null,null,null,null,null,{"$f":"#REF!","v":{"$error":"#REF!"}},{"$f":"VLOOKUP(BD66,#REF!,BE$14,FALSE)","v":{"$error":"#REF!"}},{"$f":"VLOOKUP(BD66,#REF!,BF$14,FALSE)","v":{"$error":"#REF!"}},null,{"$f":"VLOOKUP(BD66,#REF!,BH$14,FALSE)","v":{"$error":"#REF!"}},{"$f":"VLOOKUP(BD66,#REF!,BI$14,FALSE)","v":{"$error":"#REF!"}},null,null,null,null,null,null,null,{"$error":"#REF!"},{"$f":"VLOOKUP(BQ66,#REF!,BR$14,FALSE)","v":{"$error":"#REF!"}},{"$f":"VLOOKUP(BQ66,#REF!,BS$14,FALSE)","v":{"$error":"#REF!"}},null,{"$f":"VLOOKUP(BQ66,#REF!,BU$14,FALSE)","v":{"$error":"#REF!"}},{"$f":"VLOOKUP(BQ66,#REF!,BV$14,FALSE)","v":{"$error":"#REF!"}},null,null,null,null,null,null,null,{"$error":"#REF!"},{"$f":"VLOOKUP(CD66,#REF!,CE$14,FALSE)","v":{"$error":"#REF!"}},{"$f":"VLOOKUP(CD66,#REF!,CF$14,FALSE)","v":{"$error":"#REF!"}},null,{"$f":"VLOOKUP(CD66,#REF!,CH$14,FALSE)","v":{"$error":"#REF!"}},{"$f":"VLOOKUP(CD66,#REF!,CI$14,FALSE)","v":{"$error":"#REF!"}}]
[null,null,null,null,null,null,null,null,null,null,null,null,null,null,null,null,null,null,null,null,null,null,null,null,null,null,null,null,null,null,null,null,null,null,null,null,null,null,null,null,null,null,null,null,null,null,null,null,null,null,null,null,null,null,null,{"$f":"#REF!","v":{"$error":"#REF!"}},{"$f":"VLOOKUP(BD67,#REF!,BE$14,FALSE)","v":{"$error":"#REF!"}},{"$f":"VLOOKUP(BD67,#REF!,BF$14,FALSE)","v":{"$error":"#REF!"}},null,{"$f":"VLOOKUP(BD67,#REF!,BH$14,FALSE)","v":{"$error":"#REF!"}},{"$f":"VLOOKUP(BD67,#REF!,BI$14,FALSE)","v":{"$error":"#REF!"}},null,null,null,null,null,null,null,{"$error":"#REF!"},{"$f":"VLOOKUP(BQ67,#REF!,BR$14,FALSE)","v":{"$error":"#REF!"}},{"$f":"VLOOKUP(BQ67,#REF!,BS$14,FALSE)","v":{"$error":"#REF!"}},null,{"$f":"VLOOKUP(BQ67,#REF!,BU$14,FALSE)","v":{"$error":"#REF!"}},{"$f":"VLOOKUP(BQ67,#REF!,BV$14,FALSE)","v":{"$error":"#REF!"}},null,null,null,null,null,null,null,{"$error":"#REF!"},{"$f":"VLOOKUP(CD67,#REF!,CE$14,FALSE)","v":{"$error":"#REF!"}},{"$f":"VLOOKUP(CD67,#REF!,CF$14,FALSE)","v":{"$error":"#REF!"}},null,{"$f":"VLOOKUP(CD67,#REF!,CH$14,FALSE)","v":{"$error":"#REF!"}},{"$f":"VLOOKUP(CD67,#REF!,CI$14,FALSE)","v":{"$error":"#REF!"}}]
[null,null,null,null,null,null,null,null,null,null,null,null,null,null,null,null,null,null,null,null,null,null,null,null,null,null,null,null,null,null,null,null,null,null,null,null,null,null,null,null,null,null,null,null,null,null,null,null,null,null,null,null,null,null,null,{"$f":"#REF!","v":{"$error":"#REF!"}},{"$f":"VLOOKUP(BD68,#REF!,BE$14,FALSE)","v":{"$error":"#REF!"}},{"$f":"VLOOKUP(BD68,#REF!,BF$14,FALSE)","v":{"$error":"#REF!"}},null,{"$f":"VLOOKUP(BD68,#REF!,BH$14,FALSE)","v":{"$error":"#REF!"}},{"$f":"VLOOKUP(BD68,#REF!,BI$14,FALSE)","v":{"$error":"#REF!"}},null,null,null,null,null,null,null,{"$error":"#REF!"},{"$f":"VLOOKUP(BQ68,#REF!,BR$14,FALSE)","v":{"$error":"#REF!"}},{"$f":"VLOOKUP(BQ68,#REF!,BS$14,FALSE)","v":{"$error":"#REF!"}},null,{"$f":"VLOOKUP(BQ68,#REF!,BU$14,FALSE)","v":{"$error":"#REF!"}},{"$f":"VLOOKUP(BQ68,#REF!,BV$14,FALSE)","v":{"$error":"#REF!"}},null,null,null,null,null,null,null,{"$error":"#REF!"},{"$f":"VLOOKUP(CD68,#REF!,CE$14,FALSE)","v":{"$error":"#REF!"}},{"$f":"VLOOKUP(CD68,#REF!,CF$14,FALSE)","v":{"$error":"#REF!"}},null,{"$f":"VLOOKUP(CD68,#REF!,CH$14,FALSE)","v":{"$error":"#REF!"}},{"$f":"VLOOKUP(CD68,#REF!,CI$14,FALSE)","v":{"$error":"#REF!"}}]
[null,null,null,null,null,null,null,null,null,null,null,null,null,null,null,null,null,null,null,null,null,null,null,null,null,null,null,null,null,null,null,null,null,null,null,null,null,null,null,null,null,null,null,null,null,null,null,null,null,null,null,null,null,null,null,{"$f":"#REF!","v":{"$error":"#REF!"}},{"$f":"VLOOKUP(BD69,#REF!,BE$14,FALSE)","v":{"$error":"#REF!"}},{"$f":"VLOOKUP(BD69,#REF!,BF$14,FALSE)","v":{"$error":"#REF!"}},null,{"$f":"VLOOKUP(BD69,#REF!,BH$14,FALSE)","v":{"$error":"#REF!"}},{"$f":"VLOOKUP(BD69,#REF!,BI$14,FALSE)","v":{"$error":"#REF!"}},null,null,null,null,null,null,null,{"$error":"#REF!"},{"$f":"VLOOKUP(BQ69,#REF!,BR$14,FALSE)","v":{"$error":"#REF!"}},{"$f":"VLOOKUP(BQ69,#REF!,BS$14,FALSE)","v":{"$error":"#REF!"}},null,{"$f":"VLOOKUP(BQ69,#REF!,BU$14,FALSE)","v":{"$error":"#REF!"}},{"$f":"VLOOKUP(BQ69,#REF!,BV$14,FALSE)","v":{"$error":"#REF!"}},null,null,null,null,null,null,null,{"$error":"#REF!"},{"$f":"VLOOKUP(CD69,#REF!,CE$14,FALSE)","v":{"$error":"#REF!"}},{"$f":"VLOOKUP(CD69,#REF!,CF$14,FALSE)","v":{"$error":"#REF!"}},null,{"$f":"VLOOKUP(CD69,#REF!,CH$14,FALSE)","v":{"$error":"#REF!"}},{"$f":"VLOOKUP(CD69,#REF!,CI$14,FALSE)","v":{"$error":"#REF!"}}]
[null,null,null,null,null,null,null,null,null,null,null,null,null,null,null,null,null,null,null,null,null,null,null,null,null,null,null,null,null,null,null,null,null,null,null,null,null,null,null,null,null,null,null,null,null,null,null,null,null,null,null,null,null,null,null,{"$f":"#REF!","v":{"$error":"#REF!"}},{"$f":"VLOOKUP(BD70,#REF!,BE$14,FALSE)","v":{"$error":"#REF!"}},{"$f":"VLOOKUP(BD70,#REF!,BF$14,FALSE)","v":{"$error":"#REF!"}},null,{"$f":"VLOOKUP(BD70,#REF!,BH$14,FALSE)","v":{"$error":"#REF!"}},{"$f":"VLOOKUP(BD70,#REF!,BI$14,FALSE)","v":{"$error":"#REF!"}},null,null,null,null,null,null,null,{"$error":"#REF!"},{"$f":"VLOOKUP(BQ70,#REF!,BR$14,FALSE)","v":{"$error":"#REF!"}},{"$f":"VLOOKUP(BQ70,#REF!,BS$14,FALSE)","v":{"$error":"#REF!"}},null,{"$f":"VLOOKUP(BQ70,#REF!,BU$14,FALSE)","v":{"$error":"#REF!"}},{"$f":"VLOOKUP(BQ70,#REF!,BV$14,FALSE)","v":{"$error":"#REF!"}},null,null,null,null,null,null,null,{"$error":"#REF!"},{"$f":"VLOOKUP(CD70,#REF!,CE$14,FALSE)","v":{"$error":"#REF!"}},{"$f":"VLOOKUP(CD70,#REF!,CF$14,FALSE)","v":{"$error":"#REF!"}},null,{"$f":"VLOOKUP(CD70,#REF!,CH$14,FALSE)","v":{"$error":"#REF!"}},{"$f":"VLOOKUP(CD70,#REF!,CI$14,FALSE)","v":{"$error":"#REF!"}}]
[null,null,null,null,null,null,null,null,null,null,null,null,null,null,null,null,null,null,null,null,null,null,null,null,null,null,null,null,null,null,null,null,null,null,null,null,null,null,null,null,null,null,null,null,null,null,null,null,null,null,null,null,null,null,null,{"$f":"#REF!","v":{"$error":"#REF!"}},{"$f":"VLOOKUP(BD71,#REF!,BE$14,FALSE)","v":{"$error":"#REF!"}},{"$f":"VLOOKUP(BD71,#REF!,BF$14,FALSE)","v":{"$error":"#REF!"}},null,{"$f":"VLOOKUP(BD71,#REF!,BH$14,FALSE)","v":{"$error":"#REF!"}},{"$f":"VLOOKUP(BD71,#REF!,BI$14,FALSE)","v":{"$error":"#REF!"}},null,null,null,null,null,null,null,{"$error":"#REF!"},{"$f":"VLOOKUP(BQ71,#REF!,BR$14,FALSE)","v":{"$error":"#REF!"}},{"$f":"VLOOKUP(BQ71,#REF!,BS$14,FALSE)","v":{"$error":"#REF!"}},null,{"$f":"VLOOKUP(BQ71,#REF!,BU$14,FALSE)","v":{"$error":"#REF!"}},{"$f":"VLOOKUP(BQ71,#REF!,BV$14,FALSE)","v":{"$error":"#REF!"}},null,null,null,null,null,null,null,{"$error":"#REF!"},{"$f":"VLOOKUP(CD71,#REF!,CE$14,FALSE)","v":{"$error":"#REF!"}},{"$f":"VLOOKUP(CD71,#REF!,CF$14,FALSE)","v":{"$error":"#REF!"}},null,{"$f":"VLOOKUP(CD71,#REF!,CH$14,FALSE)","v":{"$error":"#REF!"}},{"$f":"VLOOKUP(CD71,#REF!,CI$14,FALSE)","v":{"$error":"#REF!"}}]
[null,null,null,null,null,null,null,null,null,null,null,null,null,null,null,null,null,null,null,null,null,null,null,null,null,null,null,null,null,null,null,null,null,null,null,null,null,null,null,null,null,null,null,null,null,null,null,null,null,null,null,null,null,null,null,{"$f":"#REF!","v":{"$error":"#REF!"}},{"$f":"VLOOKUP(BD72,#REF!,BE$14,FALSE)","v":{"$error":"#REF!"}},{"$f":"VLOOKUP(BD72,#REF!,BF$14,FALSE)","v":{"$error":"#REF!"}},null,{"$f":"VLOOKUP(BD72,#REF!,BH$14,FALSE)","v":{"$error":"#REF!"}},{"$f":"VLOOKUP(BD72,#REF!,BI$14,FALSE)","v":{"$error":"#REF!"}},null,null,null,null,null,null,null,{"$error":"#REF!"},{"$f":"VLOOKUP(BQ72,#REF!,BR$14,FALSE)","v":{"$error":"#REF!"}},{"$f":"VLOOKUP(BQ72,#REF!,BS$14,FALSE)","v":{"$error":"#REF!"}},null,{"$f":"VLOOKUP(BQ72,#REF!,BU$14,FALSE)","v":{"$error":"#REF!"}},{"$f":"VLOOKUP(BQ72,#REF!,BV$14,FALSE)","v":{"$error":"#REF!"}},null,null,null,null,null,null,null,{"$error":"#REF!"},{"$f":"VLOOKUP(CD72,#REF!,CE$14,FALSE)","v":{"$error":"#REF!"}},{"$f":"VLOOKUP(CD72,#REF!,CF$14,FALSE)","v":{"$error":"#REF!"}},null,{"$f":"VLOOKUP(CD72,#REF!,CH$14,FALSE)","v":{"$error":"#REF!"}},{"$f":"VLOOKUP(CD72,#REF!,CI$14,FALSE)","v":{"$error":"#REF!"}}]
[null,null,null,null,null,null,null,null,null,null,null,null,null,null,null,null,null,null,null,null,null,null,null,null,null,null,null,null,null,null,null,null,null,null,null,null,null,null,null,null,null,null,null,null,null,null,null,null,null,null,null,null,null,null,null,{"$f":"#REF!","v":{"$error":"#REF!"}},{"$f":"VLOOKUP(BD73,#REF!,BE$14,FALSE)","v":{"$error":"#REF!"}},{"$f":"VLOOKUP(BD73,#REF!,BF$14,FALSE)","v":{"$error":"#REF!"}},null,{"$f":"VLOOKUP(BD73,#REF!,BH$14,FALSE)","v":{"$error":"#REF!"}},{"$f":"VLOOKUP(BD73,#REF!,BI$14,FALSE)","v":{"$error":"#REF!"}},null,null,null,null,null,null,null,{"$error":"#REF!"},{"$f":"VLOOKUP(BQ73,#REF!,BR$14,FALSE)","v":{"$error":"#REF!"}},{"$f":"VLOOKUP(BQ73,#REF!,BS$14,FALSE)","v":{"$error":"#REF!"}},null,{"$f":"VLOOKUP(BQ73,#REF!,BU$14,FALSE)","v":{"$error":"#REF!"}},{"$f":"VLOOKUP(BQ73,#REF!,BV$14,FALSE)","v":{"$error":"#REF!"}},null,null,null,null,null,null,null,{"$error":"#REF!"},{"$f":"VLOOKUP(CD73,#REF!,CE$14,FALSE)","v":{"$error":"#REF!"}},{"$f":"VLOOKUP(CD73,#REF!,CF$14,FALSE)","v":{"$error":"#REF!"}},null,{"$f":"VLOOKUP(CD73,#REF!,CH$14,FALSE)","v":{"$error":"#REF!"}},{"$f":"VLOOKUP(CD73,#REF!,CI$14,FALSE)","v":{"$error":"#REF!"}}]
[null,null,null,null,null,null,null,null,null,null,null,null,null,null,null,null,null,null,null,null,null,null,null,null,null,null,null,null,null,null,null,null,null,null,null,null,null,null,null,null,null,null,null,null,null,null,null,null,null,null,null,null,null,null,null,{"$f":"#REF!","v":{"$error":"#REF!"}},{"$f":"VLOOKUP(BD74,#REF!,BE$14,FALSE)","v":{"$error":"#REF!"}},{"$f":"VLOOKUP(BD74,#REF!,BF$14,FALSE)","v":{"$error":"#REF!"}},null,{"$f":"VLOOKUP(BD74,#REF!,BH$14,FALSE)","v":{"$error":"#REF!"}},{"$f":"VLOOKUP(BD74,#REF!,BI$14,FALSE)","v":{"$error":"#REF!"}},null,null,null,null,null,null,null,{"$error":"#REF!"},{"$f":"VLOOKUP(BQ74,#REF!,BR$14,FALSE)","v":{"$error":"#REF!"}},{"$f":"VLOOKUP(BQ74,#REF!,BS$14,FALSE)","v":{"$error":"#REF!"}},null,{"$f":"VLOOKUP(BQ74,#REF!,BU$14,FALSE)","v":{"$error":"#REF!"}},{"$f":"VLOOKUP(BQ74,#REF!,BV$14,FALSE)","v":{"$error":"#REF!"}},null,null,null,null,null,null,null,{"$error":"#REF!"},{"$f":"VLOOKUP(CD74,#REF!,CE$14,FALSE)","v":{"$error":"#REF!"}},{"$f":"VLOOKUP(CD74,#REF!,CF$14,FALSE)","v":{"$error":"#REF!"}},null,{"$f":"VLOOKUP(CD74,#REF!,CH$14,FALSE)","v":{"$error":"#REF!"}},{"$f":"VLOOKUP(CD74,#REF!,CI$14,FALSE)","v":{"$error":"#REF!"}}]
[null,null,null,null,null,null,null,null,null,null,null,null,null,null,null,null,null,null,null,null,null,null,null,null,null,null,null,null,null,null,null,null,null,null,null,null,null,null,null,null,null,null,null,null,null,null,null,null,null,null,null,null,null,null,null,{"$f":"#REF!","v":{"$error":"#REF!"}},{"$f":"VLOOKUP(BD75,#REF!,BE$14,FALSE)","v":{"$error":"#REF!"}},{"$f":"VLOOKUP(BD75,#REF!,BF$14,FALSE)","v":{"$error":"#REF!"}},null,{"$f":"VLOOKUP(BD75,#REF!,BH$14,FALSE)","v":{"$error":"#REF!"}},{"$f":"VLOOKUP(BD75,#REF!,BI$14,FALSE)","v":{"$error":"#REF!"}},null,null,null,null,null,null,null,{"$error":"#REF!"},{"$f":"VLOOKUP(BQ75,#REF!,BR$14,FALSE)","v":{"$error":"#REF!"}},{"$f":"VLOOKUP(BQ75,#REF!,BS$14,FALSE)","v":{"$error":"#REF!"}},null,{"$f":"VLOOKUP(BQ75,#REF!,BU$14,FALSE)","v":{"$error":"#REF!"}},{"$f":"VLOOKUP(BQ75,#REF!,BV$14,FALSE)","v":{"$error":"#REF!"}},null,null,null,null,null,null,null,{"$error":"#REF!"},{"$f":"VLOOKUP(CD75,#REF!,CE$14,FALSE)","v":{"$error":"#REF!"}},{"$f":"VLOOKUP(CD75,#REF!,CF$14,FALSE)","v":{"$error":"#REF!"}},null,{"$f":"VLOOKUP(CD75,#REF!,CH$14,FALSE)","v":{"$error":"#REF!"}},{"$f":"VLOOKUP(CD75,#REF!,CI$14,FALSE)","v":{"$error":"#REF!"}}]
[null,null,null,null,null,null,null,null,null,null,null,null,null,null,null,null,null,null,null,null,null,null,null,null,null,null,null,null,null,null,null,null,null,null,null,null,null,null,null,null,null,null,null,null,null,null,null,null,null,null,null,null,null,null,null,{"$f":"#REF!","v":{"$error":"#REF!"}},{"$f":"VLOOKUP(BD76,#REF!,BE$14,FALSE)","v":{"$error":"#REF!"}},{"$f":"VLOOKUP(BD76,#REF!,BF$14,FALSE)","v":{"$error":"#REF!"}},null,{"$f":"VLOOKUP(BD76,#REF!,BH$14,FALSE)","v":{"$error":"#REF!"}},{"$f":"VLOOKUP(BD76,#REF!,BI$14,FALSE)","v":{"$error":"#REF!"}},null,null,null,null,null,null,null,{"$error":"#REF!"},{"$f":"VLOOKUP(BQ76,#REF!,BR$14,FALSE)","v":{"$error":"#REF!"}},{"$f":"VLOOKUP(BQ76,#REF!,BS$14,FALSE)","v":{"$error":"#REF!"}},null,{"$f":"VLOOKUP(BQ76,#REF!,BU$14,FALSE)","v":{"$error":"#REF!"}},{"$f":"VLOOKUP(BQ76,#REF!,BV$14,FALSE)","v":{"$error":"#REF!"}},null,null,null,null,null,null,null,{"$error":"#REF!"},{"$f":"VLOOKUP(CD76,#REF!,CE$14,FALSE)","v":{"$error":"#REF!"}},{"$f":"VLOOKUP(CD76,#REF!,CF$14,FALSE)","v":{"$error":"#REF!"}},null,{"$f":"VLOOKUP(CD76,#REF!,CH$14,FALSE)","v":{"$error":"#REF!"}},{"$f":"VLOOKUP(CD76,#REF!,CI$14,FALSE)","v":{"$error":"#REF!"}}]
[null,null,null,null,null,null,null,null,null,null,null,null,null,null,null,null,null,null,null,null,null,null,null,null,null,null,null,null,null,null,null,null,null,null,null,null,null,null,null,null,null,null,null,null,null,null,null,null,null,null,null,null,null,null,null,{"$f":"#REF!","v":{"$error":"#REF!"}},{"$f":"VLOOKUP(BD77,#REF!,BE$14,FALSE)","v":{"$error":"#REF!"}},{"$f":"VLOOKUP(BD77,#REF!,BF$14,FALSE)","v":{"$error":"#REF!"}},null,{"$f":"VLOOKUP(BD77,#REF!,BH$14,FALSE)","v":{"$error":"#REF!"}},{"$f":"VLOOKUP(BD77,#REF!,BI$14,FALSE)","v":{"$error":"#REF!"}},null,null,null,null,null,null,null,{"$error":"#REF!"},{"$f":"VLOOKUP(BQ77,#REF!,BR$14,FALSE)","v":{"$error":"#REF!"}},{"$f":"VLOOKUP(BQ77,#REF!,BS$14,FALSE)","v":{"$error":"#REF!"}},null,{"$f":"VLOOKUP(BQ77,#REF!,BU$14,FALSE)","v":{"$error":"#REF!"}},{"$f":"VLOOKUP(BQ77,#REF!,BV$14,FALSE)","v":{"$error":"#REF!"}},null,null,null,null,null,null,null,{"$error":"#REF!"},{"$f":"VLOOKUP(CD77,#REF!,CE$14,FALSE)","v":{"$error":"#REF!"}},{"$f":"VLOOKUP(CD77,#REF!,CF$14,FALSE)","v":{"$error":"#REF!"}},null,{"$f":"VLOOKUP(CD77,#REF!,CH$14,FALSE)","v":{"$error":"#REF!"}},{"$f":"VLOOKUP(CD77,#REF!,CI$14,FALSE)","v":{"$error":"#REF!"}}]
[null,null,null,null,null,null,null,null,null,null,null,null,null,null,null,null,null,null,null,null,null,null,null,null,null,null,null,null,null,null,null,null,null,null,null,null,null,null,null,null,null,null,null,null,null,null,null,null,null,null,null,null,null,null,null,{"$f":"#REF!","v":{"$error":"#REF!"}},{"$f":"VLOOKUP(BD78,#REF!,BE$14,FALSE)","v":{"$error":"#REF!"}},{"$f":"VLOOKUP(BD78,#REF!,BF$14,FALSE)","v":{"$error":"#REF!"}},null,{"$f":"VLOOKUP(BD78,#REF!,BH$14,FALSE)","v":{"$error":"#REF!"}},{"$f":"VLOOKUP(BD78,#REF!,BI$14,FALSE)","v":{"$error":"#REF!"}},null,null,null,null,null,null,null,{"$error":"#REF!"},{"$f":"VLOOKUP(BQ78,#REF!,BR$14,FALSE)","v":{"$error":"#REF!"}},{"$f":"VLOOKUP(BQ78,#REF!,BS$14,FALSE)","v":{"$error":"#REF!"}},null,{"$f":"VLOOKUP(BQ78,#REF!,BU$14,FALSE)","v":{"$error":"#REF!"}},{"$f":"VLOOKUP(BQ78,#REF!,BV$14,FALSE)","v":{"$error":"#REF!"}},null,null,null,null,null,null,null,{"$error":"#REF!"},{"$f":"VLOOKUP(CD78,#REF!,CE$14,FALSE)","v":{"$error":"#REF!"}},{"$f":"VLOOKUP(CD78,#REF!,CF$14,FALSE)","v":{"$error":"#REF!"}},null,{"$f":"VLOOKUP(CD78,#REF!,CH$14,FALSE)","v":{"$error":"#REF!"}},{"$f":"VLOOKUP(CD78,#REF!,CI$14,FALSE)","v":{"$error":"#REF!"}}]
[null,null,null,null,null,null,null,null,null,null,null,null,null,null,null,null,null,null,null,null,null,null,null,null,null,null,null,null,null,null,null,null,null,null,null,null,null,null,null,null,null,null,null,null,null,null,null,null,null,null,null,null,null,null,null,{"$f":"#REF!","v":{"$error":"#REF!"}},{"$f":"VLOOKUP(BD79,#REF!,BE$14,FALSE)","v":{"$error":"#REF!"}},{"$f":"VLOOKUP(BD79,#REF!,BF$14,FALSE)","v":{"$error":"#REF!"}},null,{"$f":"VLOOKUP(BD79,#REF!,BH$14,FALSE)","v":{"$error":"#REF!"}},{"$f":"VLOOKUP(BD79,#REF!,BI$14,FALSE)","v":{"$error":"#REF!"}},null,null,null,null,null,null,null,{"$error":"#REF!"},{"$f":"VLOOKUP(BQ79,#REF!,BR$14,FALSE)","v":{"$error":"#REF!"}},{"$f":"VLOOKUP(BQ79,#REF!,BS$14,FALSE)","v":{"$error":"#REF!"}},null,{"$f":"VLOOKUP(BQ79,#REF!,BU$14,FALSE)","v":{"$error":"#REF!"}},{"$f":"VLOOKUP(BQ79,#REF!,BV$14,FALSE)","v":{"$error":"#REF!"}},null,null,null,null,null,null,null,{"$error":"#REF!"},{"$f":"VLOOKUP(CD79,#REF!,CE$14,FALSE)","v":{"$error":"#REF!"}},{"$f":"VLOOKUP(CD79,#REF!,CF$14,FALSE)","v":{"$error":"#REF!"}},null,{"$f":"VLOOKUP(CD79,#REF!,CH$14,FALSE)","v":{"$error":"#REF!"}},{"$f":"VLOOKUP(CD79,#REF!,CI$14,FALSE)","v":{"$error":"#REF!"}}]
[null,null,null,null,null,null,null,null,null,null,null,null,null,null,null,null,null,null,null,null,null,null,null,null,null,null,null,null,null,null,null,null,null,null,null,null,null,null,null,null,null,null,null,null,null,null,null,null,null,null,null,null,null,null,null,{"$f":"#REF!","v":{"$error":"#REF!"}},{"$f":"VLOOKUP(BD80,#REF!,BE$14,FALSE)","v":{"$error":"#REF!"}},{"$f":"VLOOKUP(BD80,#REF!,BF$14,FALSE)","v":{"$error":"#REF!"}},null,{"$f":"VLOOKUP(BD80,#REF!,BH$14,FALSE)","v":{"$error":"#REF!"}},{"$f":"VLOOKUP(BD80,#REF!,BI$14,FALSE)","v":{"$error":"#REF!"}},null,null,null,null,null,null,null,{"$error":"#REF!"},{"$f":"VLOOKUP(BQ80,#REF!,BR$14,FALSE)","v":{"$error":"#REF!"}},{"$f":"VLOOKUP(BQ80,#REF!,BS$14,FALSE)","v":{"$error":"#REF!"}},null,{"$f":"VLOOKUP(BQ80,#REF!,BU$14,FALSE)","v":{"$error":"#REF!"}},{"$f":"VLOOKUP(BQ80,#REF!,BV$14,FALSE)","v":{"$error":"#REF!"}},null,null,null,null,null,null,null,{"$error":"#REF!"},{"$f":"VLOOKUP(CD80,#REF!,CE$14,FALSE)","v":{"$error":"#REF!"}},{"$f":"VLOOKUP(CD80,#REF!,CF$14,FALSE)","v":{"$error":"#REF!"}},null,{"$f":"VLOOKUP(CD80,#REF!,CH$14,FALSE)","v":{"$error":"#REF!"}},{"$f":"VLOOKUP(CD80,#REF!,CI$14,FALSE)","v":{"$error":"#REF!"}}]
[null,null,null,null,null,null,null,null,null,null,null,null,null,null,null,null,null,null,null,null,null,null,null,null,null,null,null,null,null,null,null,null,null,null,null,null,null,null,null,null,null,null,null,null,null,null,null,null,null,null,null,null,null,null,null,{"$f":"#REF!","v":{"$error":"#REF!"}},{"$f":"VLOOKUP(BD81,#REF!,BE$14,FALSE)","v":{"$error":"#REF!"}},{"$f":"VLOOKUP(BD81,#REF!,BF$14,FALSE)","v":{"$error":"#REF!"}},null,{"$f":"VLOOKUP(BD81,#REF!,BH$14,FALSE)","v":{"$error":"#REF!"}},{"$f":"VLOOKUP(BD81,#REF!,BI$14,FALSE)","v":{"$error":"#REF!"}},null,null,null,null,null,null,null,{"$f":"BD81","v":{"$error":"#REF!"}},{"$f":"VLOOKUP(BQ81,#REF!,BR$14,FALSE)","v":{"$error":"#REF!"}},{"$f":"VLOOKUP(BQ81,#REF!,BS$14,FALSE)","v":{"$error":"#REF!"}},null,{"$f":"VLOOKUP(BQ81,#REF!,BU$14,FALSE)","v":{"$error":"#REF!"}},{"$f":"VLOOKUP(BQ81,#REF!,BV$14,FALSE)","v":{"$error":"#REF!"}},null,null,null,null,null,null,null,{"$f":"BQ81","v":{"$error":"#REF!"}},{"$f":"VLOOKUP(CD81,#REF!,CE$14,FALSE)","v":{"$error":"#REF!"}},{"$f":"VLOOKUP(CD81,#REF!,CF$14,FALSE)","v":{"$error":"#REF!"}},null,{"$f":"VLOOKUP(CD81,#REF!,CH$14,FALSE)","v":{"$error":"#REF!"}},{"$f":"VLOOKUP(CD81,#REF!,CI$14,FALSE)","v":{"$error":"#REF!"}}]
[null,null,null,null,null,null,null,null,null,null,null,null,null,null,null,null,null,null,null,null,null,null,null,null,null,null,null,null,null,null,null,null,null,null,null,null,null,null,null,null,null,null,null,null,null,null,null,null,null,null,null,null,null,null,null,{"$f":"#REF!","v":{"$error":"#REF!"}},{"$f":"VLOOKUP(BD82,#REF!,BE$14,FALSE)","v":{"$error":"#REF!"}},{"$f":"VLOOKUP(BD82,#REF!,BF$14,FALSE)","v":{"$error":"#REF!"}},null,{"$f":"VLOOKUP(BD82,#REF!,BH$14,FALSE)","v":{"$error":"#REF!"}},{"$f":"VLOOKUP(BD82,#REF!,BI$14,FALSE)","v":{"$error":"#REF!"}},null,null,null,null,null,null,null,{"$error":"#REF!"},{"$f":"VLOOKUP(BQ82,#REF!,BR$14,FALSE)","v":{"$error":"#REF!"}},{"$f":"VLOOKUP(BQ82,#REF!,BS$14,FALSE)","v":{"$error":"#REF!"}},null,{"$f":"VLOOKUP(BQ82,#REF!,BU$14,FALSE)","v":{"$error":"#REF!"}},{"$f":"VLOOKUP(BQ82,#REF!,BV$14,FALSE)","v":{"$error":"#REF!"}},null,null,null,null,null,null,null,{"$error":"#REF!"},{"$f":"VLOOKUP(CD82,#REF!,CE$14,FALSE)","v":{"$error":"#REF!"}},{"$f":"VLOOKUP(CD82,#REF!,CF$14,FALSE)","v":{"$error":"#REF!"}},null,{"$f":"VLOOKUP(CD82,#REF!,CH$14,FALSE)","v":{"$error":"#REF!"}},{"$f":"VLOOKUP(CD82,#REF!,CI$14,FALSE)","v":{"$error":"#REF!"}}]
[null,null,null,null,null,null,null,null,null,null,null,null,null,null,null,null,null,null,null,null,null,null,null,null,null,null,null,null,null,null,null,null,null,null,null,null,null,null,null,null,null,null,null,null,null,null,null,null,null,null,null,null,null,null,null,{"$f":"#REF!","v":{"$error":"#REF!"}},{"$f":"VLOOKUP(BD83,#REF!,BE$14,FALSE)","v":{"$error":"#REF!"}},{"$f":"VLOOKUP(BD83,#REF!,BF$14,FALSE)","v":{"$error":"#REF!"}},null,{"$f":"VLOOKUP(BD83,#REF!,BH$14,FALSE)","v":{"$error":"#REF!"}},{"$f":"VLOOKUP(BD83,#REF!,BI$14,FALSE)","v":{"$error":"#REF!"}},null,null,null,null,null,null,null,{"$error":"#REF!"},{"$f":"VLOOKUP(BQ83,#REF!,BR$14,FALSE)","v":{"$error":"#REF!"}},{"$f":"VLOOKUP(BQ83,#REF!,BS$14,FALSE)","v":{"$error":"#REF!"}},null,{"$f":"VLOOKUP(BQ83,#REF!,BU$14,FALSE)","v":{"$error":"#REF!"}},{"$f":"VLOOKUP(BQ83,#REF!,BV$14,FALSE)","v":{"$error":"#REF!"}},null,null,null,null,null,null,null,{"$error":"#REF!"},{"$f":"VLOOKUP(CD83,#REF!,CE$14,FALSE)","v":{"$error":"#REF!"}},{"$f":"VLOOKUP(CD83,#REF!,CF$14,FALSE)","v":{"$error":"#REF!"}},null,{"$f":"VLOOKUP(CD83,#REF!,CH$14,FALSE)","v":{"$error":"#REF!"}},{"$f":"VLOOKUP(CD83,#REF!,CI$14,FALSE)","v":{"$error":"#REF!"}}]
[null,null,null,null,null,null,null,null,null,null,null,null,null,null,null,null,null,null,null,null,null,null,null,null,null,null,null,null,null,null,null,null,null,null,null,null,null,null,null,null,null,null,null,null,null,null,null,null,null,null,null,null,null,null,null,{"$f":"#REF!","v":{"$error":"#REF!"}},{"$f":"VLOOKUP(BD84,#REF!,BE$14,FALSE)","v":{"$error":"#REF!"}},{"$f":"VLOOKUP(BD84,#REF!,BF$14,FALSE)","v":{"$error":"#REF!"}},null,{"$f":"VLOOKUP(BD84,#REF!,BH$14,FALSE)","v":{"$error":"#REF!"}},{"$f":"VLOOKUP(BD84,#REF!,BI$14,FALSE)","v":{"$error":"#REF!"}},null,null,null,null,null,null,null,{"$error":"#REF!"},{"$f":"VLOOKUP(BQ84,#REF!,BR$14,FALSE)","v":{"$error":"#REF!"}},{"$f":"VLOOKUP(BQ84,#REF!,BS$14,FALSE)","v":{"$error":"#REF!"}},null,{"$f":"VLOOKUP(BQ84,#REF!,BU$14,FALSE)","v":{"$error":"#REF!"}},{"$f":"VLOOKUP(BQ84,#REF!,BV$14,FALSE)","v":{"$error":"#REF!"}},null,null,null,null,null,null,null,{"$error":"#REF!"},{"$f":"VLOOKUP(CD84,#REF!,CE$14,FALSE)","v":{"$error":"#REF!"}},{"$f":"VLOOKUP(CD84,#REF!,CF$14,FALSE)","v":{"$error":"#REF!"}},null,{"$f":"VLOOKUP(CD84,#REF!,CH$14,FALSE)","v":{"$error":"#REF!"}},{"$f":"VLOOKUP(CD84,#REF!,CI$14,FALSE)","v":{"$error":"#REF!"}}]
[null,null,null,null,null,null,null,null,null,null,null,null,null,null,null,null,null,null,null,null,null,null,null,null,null,null,null,null,null,null,null,null,null,null,null,null,null,null,null,null,null,null,null,null,null,null,null,null,null,null,null,null,null,null,null,{"$f":"#REF!","v":{"$error":"#REF!"}},{"$f":"VLOOKUP(BD85,#REF!,BE$14,FALSE)","v":{"$error":"#REF!"}},{"$f":"VLOOKUP(BD85,#REF!,BF$14,FALSE)","v":{"$error":"#REF!"}},null,{"$f":"VLOOKUP(BD85,#REF!,BH$14,FALSE)","v":{"$error":"#REF!"}},{"$f":"VLOOKUP(BD85,#REF!,BI$14,FALSE)","v":{"$error":"#REF!"}},null,null,null,null,null,null,null,{"$error":"#REF!"},{"$f":"VLOOKUP(BQ85,#REF!,BR$14,FALSE)","v":{"$error":"#REF!"}},{"$f":"VLOOKUP(BQ85,#REF!,BS$14,FALSE)","v":{"$error":"#REF!"}},null,{"$f":"VLOOKUP(BQ85,#REF!,BU$14,FALSE)","v":{"$error":"#REF!"}},{"$f":"VLOOKUP(BQ85,#REF!,BV$14,FALSE)","v":{"$error":"#REF!"}},null,null,null,null,null,null,null,{"$error":"#REF!"},{"$f":"VLOOKUP(CD85,#REF!,CE$14,FALSE)","v":{"$error":"#REF!"}},{"$f":"VLOOKUP(CD85,#REF!,CF$14,FALSE)","v":{"$error":"#REF!"}},null,{"$f":"VLOOKUP(CD85,#REF!,CH$14,FALSE)","v":{"$error":"#REF!"}},{"$f":"VLOOKUP(CD85,#REF!,CI$14,FALSE)","v":{"$error":"#REF!"}}]
[null,null,null,null,null,null,null,null,null,null,null,null,null,null,null,null,null,null,null,null,null,null,null,null,null,null,null,null,null,null,null,null,null,null,null,null,null,null,null,null,null,null,null,null,null,null,null,null,null,null,null,null,null,null,null,{"$f":"#REF!","v":{"$error":"#REF!"}},{"$f":"VLOOKUP(BD86,#REF!,BE$14,FALSE)","v":{"$error":"#REF!"}},{"$f":"VLOOKUP(BD86,#REF!,BF$14,FALSE)","v":{"$error":"#REF!"}},null,{"$f":"VLOOKUP(BD86,#REF!,BH$14,FALSE)","v":{"$error":"#REF!"}},{"$f":"VLOOKUP(BD86,#REF!,BI$14,FALSE)","v":{"$error":"#REF!"}},null,null,null,null,null,null,null,{"$error":"#REF!"},{"$f":"VLOOKUP(BQ86,#REF!,BR$14,FALSE)","v":{"$error":"#REF!"}},{"$f":"VLOOKUP(BQ86,#REF!,BS$14,FALSE)","v":{"$error":"#REF!"}},null,{"$f":"VLOOKUP(BQ86,#REF!,BU$14,FALSE)","v":{"$error":"#REF!"}},{"$f":"VLOOKUP(BQ86,#REF!,BV$14,FALSE)","v":{"$error":"#REF!"}},null,null,null,null,null,null,null,{"$error":"#REF!"},{"$f":"VLOOKUP(CD86,#REF!,CE$14,FALSE)","v":{"$error":"#REF!"}},{"$f":"VLOOKUP(CD86,#REF!,CF$14,FALSE)","v":{"$error":"#REF!"}},null,{"$f":"VLOOKUP(CD86,#REF!,CH$14,FALSE)","v":{"$error":"#REF!"}},{"$f":"VLOOKUP(CD86,#REF!,CI$14,FALSE)","v":{"$error":"#REF!"}}]
[null,null,null,null,null,null,null,null,null,null,null,null,null,null,null,null,null,null,null,null,null,null,null,null,null,null,null,null,null,null,null,null,null,null,null,null,null,null,null,null,null,null,null,null,null,null,null,null,null,null,null,null,null,null,null,{"$f":"#REF!","v":{"$error":"#REF!"}},{"$f":"VLOOKUP(BD87,#REF!,BE$14,FALSE)","v":{"$error":"#REF!"}},{"$f":"VLOOKUP(BD87,#REF!,BF$14,FALSE)","v":{"$error":"#REF!"}},null,{"$f":"VLOOKUP(BD87,#REF!,BH$14,FALSE)","v":{"$error":"#REF!"}},{"$f":"VLOOKUP(BD87,#REF!,BI$14,FALSE)","v":{"$error":"#REF!"}},null,null,null,null,null,null,null,{"$error":"#REF!"},{"$f":"VLOOKUP(BQ87,#REF!,BR$14,FALSE)","v":{"$error":"#REF!"}},{"$f":"VLOOKUP(BQ87,#REF!,BS$14,FALSE)","v":{"$error":"#REF!"}},null,{"$f":"VLOOKUP(BQ87,#REF!,BU$14,FALSE)","v":{"$error":"#REF!"}},{"$f":"VLOOKUP(BQ87,#REF!,BV$14,FALSE)","v":{"$error":"#REF!"}},null,null,null,null,null,null,null,{"$error":"#REF!"},{"$f":"VLOOKUP(CD87,#REF!,CE$14,FALSE)","v":{"$error":"#REF!"}},{"$f":"VLOOKUP(CD87,#REF!,CF$14,FALSE)","v":{"$error":"#REF!"}},null,{"$f":"VLOOKUP(CD87,#REF!,CH$14,FALSE)","v":{"$error":"#REF!"}},{"$f":"VLOOKUP(CD87,#REF!,CI$14,FALSE)","v":{"$error":"#REF!"}}]
[null,null,null,null,null,null,null,null,null,null,null,null,null,null,null,null,null,null,null,null,null,null,null,null,null,null,null,null,null,null,null,null,null,null,null,null,null,null,null,null,null,null,null,null,null,null,null,null,null,null,null,null,null,null,null,{"$f":"#REF!","v":{"$error":"#REF!"}},{"$f":"VLOOKUP(BD88,#REF!,BE$14,FALSE)","v":{"$error":"#REF!"}},{"$f":"VLOOKUP(BD88,#REF!,BF$14,FALSE)","v":{"$error":"#REF!"}},null,{"$f":"VLOOKUP(BD88,#REF!,BH$14,FALSE)","v":{"$error":"#REF!"}},{"$f":"VLOOKUP(BD88,#REF!,BI$14,FALSE)","v":{"$error":"#REF!"}},null,null,null,null,null,null,null,{"$error":"#REF!"},{"$f":"VLOOKUP(BQ88,#REF!,BR$14,FALSE)","v":{"$error":"#REF!"}},{"$f":"VLOOKUP(BQ88,#REF!,BS$14,FALSE)","v":{"$error":"#REF!"}},null,{"$f":"VLOOKUP(BQ88,#REF!,BU$14,FALSE)","v":{"$error":"#REF!"}},{"$f":"VLOOKUP(BQ88,#REF!,BV$14,FALSE)","v":{"$error":"#REF!"}},null,null,null,null,null,null,null,{"$error":"#REF!"},{"$f":"VLOOKUP(CD88,#REF!,CE$14,FALSE)","v":{"$error":"#REF!"}},{"$f":"VLOOKUP(CD88,#REF!,CF$14,FALSE)","v":{"$error":"#REF!"}},null,{"$f":"VLOOKUP(CD88,#REF!,CH$14,FALSE)","v":{"$error":"#REF!"}},{"$f":"VLOOKUP(CD88,#REF!,CI$14,FALSE)","v":{"$error":"#REF!"}}]
[null,null,null,null,null,null,null,null,null,null,null,null,null,null,null,null,null,null,null,null,null,null,null,null,null,null,null,null,null,null,null,null,null,null,null,null,null,null,null,null,null,null,null,null,null,null,null,null,null,null,null,null,null,null,null,{"$f":"#REF!","v":{"$error":"#REF!"}},{"$f":"VLOOKUP(BD89,#REF!,BE$14,FALSE)","v":{"$error":"#REF!"}},{"$f":"VLOOKUP(BD89,#REF!,BF$14,FALSE)","v":{"$error":"#REF!"}},null,{"$f":"VLOOKUP(BD89,#REF!,BH$14,FALSE)","v":{"$error":"#REF!"}},{"$f":"VLOOKUP(BD89,#REF!,BI$14,FALSE)","v":{"$error":"#REF!"}},null,null,null,null,null,null,null,{"$error":"#REF!"},{"$f":"VLOOKUP(BQ89,#REF!,BR$14,FALSE)","v":{"$error":"#REF!"}},{"$f":"VLOOKUP(BQ89,#REF!,BS$14,FALSE)","v":{"$error":"#REF!"}},null,{"$f":"VLOOKUP(BQ89,#REF!,BU$14,FALSE)","v":{"$error":"#REF!"}},{"$f":"VLOOKUP(BQ89,#REF!,BV$14,FALSE)","v":{"$error":"#REF!"}},null,null,null,null,null,null,null,{"$error":"#REF!"},{"$f":"VLOOKUP(CD89,#REF!,CE$14,FALSE)","v":{"$error":"#REF!"}},{"$f":"VLOOKUP(CD89,#REF!,CF$14,FALSE)","v":{"$error":"#REF!"}},null,{"$f":"VLOOKUP(CD89,#REF!,CH$14,FALSE)","v":{"$error":"#REF!"}},{"$f":"VLOOKUP(CD89,#REF!,CI$14,FALSE)","v":{"$error":"#REF!"}}]
[null,null,null,null,null,null,null,null,null,null,null,null,null,null,null,null,null,null,null,null,null,null,null,null,null,null,null,null,null,null,null,null,null,null,null,null,null,null,null,null,null,null,null,null,null,null,null,null,null,null,null,null,null,null,null,{"$f":"#REF!","v":{"$error":"#REF!"}},{"$f":"VLOOKUP(BD90,#REF!,BE$14,FALSE)","v":{"$error":"#REF!"}},{"$f":"VLOOKUP(BD90,#REF!,BF$14,FALSE)","v":{"$error":"#REF!"}},null,{"$f":"VLOOKUP(BD90,#REF!,BH$14,FALSE)","v":{"$error":"#REF!"}},{"$f":"VLOOKUP(BD90,#REF!,BI$14,FALSE)","v":{"$error":"#REF!"}},null,null,null,null,null,null,null,{"$error":"#REF!"},{"$f":"VLOOKUP(BQ90,#REF!,BR$14,FALSE)","v":{"$error":"#REF!"}},{"$f":"VLOOKUP(BQ90,#REF!,BS$14,FALSE)","v":{"$error":"#REF!"}},null,{"$f":"VLOOKUP(BQ90,#REF!,BU$14,FALSE)","v":{"$error":"#REF!"}},{"$f":"VLOOKUP(BQ90,#REF!,BV$14,FALSE)","v":{"$error":"#REF!"}},null,null,null,null,null,null,null,{"$error":"#REF!"},{"$f":"VLOOKUP(CD90,#REF!,CE$14,FALSE)","v":{"$error":"#REF!"}},{"$f":"VLOOKUP(CD90,#REF!,CF$14,FALSE)","v":{"$error":"#REF!"}},null,{"$f":"VLOOKUP(CD90,#REF!,CH$14,FALSE)","v":{"$error":"#REF!"}},{"$f":"VLOOKUP(CD90,#REF!,CI$14,FALSE)","v":{"$error":"#REF!"}}]
[null,null,null,null,null,null,null,null,null,null,null,null,null,null,null,null,null,null,null,null,null,null,null,null,null,null,null,null,null,null,null,null,null,null,null,null,null,null,null,null,null,null,null,null,null,null,null,null,null,null,null,null,null,null,null,{"$f":"#REF!","v":{"$error":"#REF!"}},{"$f":"VLOOKUP(BD91,#REF!,BE$14,FALSE)","v":{"$error":"#REF!"}},{"$f":"VLOOKUP(BD91,#REF!,BF$14,FALSE)","v":{"$error":"#REF!"}},null,{"$f":"VLOOKUP(BD91,#REF!,BH$14,FALSE)","v":{"$error":"#REF!"}},{"$f":"VLOOKUP(BD91,#REF!,BI$14,FALSE)","v":{"$error":"#REF!"}},null,null,null,null,null,null,null,{"$error":"#REF!"},{"$f":"VLOOKUP(BQ91,#REF!,BR$14,FALSE)","v":{"$error":"#REF!"}},{"$f":"VLOOKUP(BQ91,#REF!,BS$14,FALSE)","v":{"$error":"#REF!"}},null,{"$f":"VLOOKUP(BQ91,#REF!,BU$14,FALSE)","v":{"$error":"#REF!"}},{"$f":"VLOOKUP(BQ91,#REF!,BV$14,FALSE)","v":{"$error":"#REF!"}},null,null,null,null,null,null,null,{"$error":"#REF!"},{"$f":"VLOOKUP(CD91,#REF!,CE$14,FALSE)","v":{"$error":"#REF!"}},{"$f":"VLOOKUP(CD91,#REF!,CF$14,FALSE)","v":{"$error":"#REF!"}},null,{"$f":"VLOOKUP(CD91,#REF!,CH$14,FALSE)","v":{"$error":"#REF!"}},{"$f":"VLOOKUP(CD91,#REF!,CI$14,FALSE)","v":{"$error":"#REF!"}}]
[null,null,null,null,null,null,null,null,null,null,null,null,null,null,null,null,null,null,null,null,null,null,null,null,null,null,null,null,null,null,null,null,null,null,null,null,null,null,null,null,null,null,null,null,null,null,null,null,null,null,null,null,null,null,null,{"$f":"#REF!","v":{"$error":"#REF!"}},{"$f":"VLOOKUP(BD92,#REF!,BE$14,FALSE)","v":{"$error":"#REF!"}},{"$f":"VLOOKUP(BD92,#REF!,BF$14,FALSE)","v":{"$error":"#REF!"}},null,{"$f":"VLOOKUP(BD92,#REF!,BH$14,FALSE)","v":{"$error":"#REF!"}},{"$f":"VLOOKUP(BD92,#REF!,BI$14,FALSE)","v":{"$error":"#REF!"}},null,null,null,null,null,null,null,{"$error":"#REF!"},{"$f":"VLOOKUP(BQ92,#REF!,BR$14,FALSE)","v":{"$error":"#REF!"}},{"$f":"VLOOKUP(BQ92,#REF!,BS$14,FALSE)","v":{"$error":"#REF!"}},null,{"$f":"VLOOKUP(BQ92,#REF!,BU$14,FALSE)","v":{"$error":"#REF!"}},{"$f":"VLOOKUP(BQ92,#REF!,BV$14,FALSE)","v":{"$error":"#REF!"}},null,null,null,null,null,null,null,{"$error":"#REF!"},{"$f":"VLOOKUP(CD92,#REF!,CE$14,FALSE)","v":{"$error":"#REF!"}},{"$f":"VLOOKUP(CD92,#REF!,CF$14,FALSE)","v":{"$error":"#REF!"}},null,{"$f":"VLOOKUP(CD92,#REF!,CH$14,FALSE)","v":{"$error":"#REF!"}},{"$f":"VLOOKUP(CD92,#REF!,CI$14,FALSE)","v":{"$error":"#REF!"}}]
[null,null,null,null,null,null,null,null,null,null,null,null,null,null,null,null,null,null,null,null,null,null,null,null,null,null,null,null,null,null,null,null,null,null,null,null,null,null,null,null,null,null,null,null,null,null,null,null,null,null,null,null,null,null,null,{"$f":"#REF!","v":{"$error":"#REF!"}},{"$f":"VLOOKUP(BD93,#REF!,BE$14,FALSE)","v":{"$error":"#REF!"}},{"$f":"VLOOKUP(BD93,#REF!,BF$14,FALSE)","v":{"$error":"#REF!"}},null,{"$f":"VLOOKUP(BD93,#REF!,BH$14,FALSE)","v":{"$error":"#REF!"}},{"$f":"VLOOKUP(BD93,#REF!,BI$14,FALSE)","v":{"$error":"#REF!"}},null,null,null,null,null,null,null,{"$error":"#REF!"},{"$f":"VLOOKUP(BQ93,#REF!,BR$14,FALSE)","v":{"$error":"#REF!"}},{"$f":"VLOOKUP(BQ93,#REF!,BS$14,FALSE)","v":{"$error":"#REF!"}},null,{"$f":"VLOOKUP(BQ93,#REF!,BU$14,FALSE)","v":{"$error":"#REF!"}},{"$f":"VLOOKUP(BQ93,#REF!,BV$14,FALSE)","v":{"$error":"#REF!"}},null,null,null,null,null,null,null,{"$error":"#REF!"},{"$f":"VLOOKUP(CD93,#REF!,CE$14,FALSE)","v":{"$error":"#REF!"}},{"$f":"VLOOKUP(CD93,#REF!,CF$14,FALSE)","v":{"$error":"#REF!"}},null,{"$f":"VLOOKUP(CD93,#REF!,CH$14,FALSE)","v":{"$error":"#REF!"}},{"$f":"VLOOKUP(CD93,#REF!,CI$14,FALSE)","v":{"$error":"#REF!"}}]
[null,null,null,null,null,null,null,null,null,null,null,null,null,null,null,null,null,null,null,null,null,null,null,null,null,null,null,null,null,null,null,null,null,null,null,null,null,null,null,null,null,null,null,null,null,null,null,null,null,null,null,null,null,null,null,{"$f":"#REF!","v":{"$error":"#REF!"}},{"$f":"VLOOKUP(BD94,#REF!,BE$14,FALSE)","v":{"$error":"#REF!"}},{"$f":"VLOOKUP(BD94,#REF!,BF$14,FALSE)","v":{"$error":"#REF!"}},null,{"$f":"VLOOKUP(BD94,#REF!,BH$14,FALSE)","v":{"$error":"#REF!"}},{"$f":"VLOOKUP(BD94,#REF!,BI$14,FALSE)","v":{"$error":"#REF!"}},null,null,null,null,null,null,null,{"$error":"#REF!"},{"$f":"VLOOKUP(BQ94,#REF!,BR$14,FALSE)","v":{"$error":"#REF!"}},{"$f":"VLOOKUP(BQ94,#REF!,BS$14,FALSE)","v":{"$error":"#REF!"}},null,{"$f":"VLOOKUP(BQ94,#REF!,BU$14,FALSE)","v":{"$error":"#REF!"}},{"$f":"VLOOKUP(BQ94,#REF!,BV$14,FALSE)","v":{"$error":"#REF!"}},null,null,null,null,null,null,null,{"$error":"#REF!"},{"$f":"VLOOKUP(CD94,#REF!,CE$14,FALSE)","v":{"$error":"#REF!"}},{"$f":"VLOOKUP(CD94,#REF!,CF$14,FALSE)","v":{"$error":"#REF!"}},null,{"$f":"VLOOKUP(CD94,#REF!,CH$14,FALSE)","v":{"$error":"#REF!"}},{"$f":"VLOOKUP(CD94,#REF!,CI$14,FALSE)","v":{"$error":"#REF!"}}]
[null,null,null,null,null,null,null,null,null,null,null,null,null,null,null,null,null,null,null,null,null,null,null,null,null,null,null,null,null,null,null,null,null,null,null,null,null,null,null,null,null,null,null,null,null,null,null,null,null,null,null,null,null,null,null,{"$f":"#REF!","v":{"$error":"#REF!"}},{"$f":"VLOOKUP(BD95,#REF!,BE$14,FALSE)","v":{"$error":"#REF!"}},{"$f":"VLOOKUP(BD95,#REF!,BF$14,FALSE)","v":{"$error":"#REF!"}},null,{"$f":"VLOOKUP(BD95,#REF!,BH$14,FALSE)","v":{"$error":"#REF!"}},{"$f":"VLOOKUP(BD95,#REF!,BI$14,FALSE)","v":{"$error":"#REF!"}},null,null,null,null,null,null,null,{"$error":"#REF!"},{"$f":"VLOOKUP(BQ95,#REF!,BR$14,FALSE)","v":{"$error":"#REF!"}},{"$f":"VLOOKUP(BQ95,#REF!,BS$14,FALSE)","v":{"$error":"#REF!"}},null,{"$f":"VLOOKUP(BQ95,#REF!,BU$14,FALSE)","v":{"$error":"#REF!"}},{"$f":"VLOOKUP(BQ95,#REF!,BV$14,FALSE)","v":{"$error":"#REF!"}},null,null,null,null,null,null,null,{"$error":"#REF!"},{"$f":"VLOOKUP(CD95,#REF!,CE$14,FALSE)","v":{"$error":"#REF!"}},{"$f":"VLOOKUP(CD95,#REF!,CF$14,FALSE)","v":{"$error":"#REF!"}},null,{"$f":"VLOOKUP(CD95,#REF!,CH$14,FALSE)","v":{"$error":"#REF!"}},{"$f":"VLOOKUP(CD95,#REF!,CI$14,FALSE)","v":{"$error":"#REF!"}}]
[null,null,null,null,null,null,null,null,null,null,null,null,null,null,null,null,null,null,null,null,null,null,null,null,null,null,null,null,null,null,null,null,null,null,null,null,null,null,null,null,null,null,null,null,null,null,null,null,null,null,null,null,null,null,null,{"$f":"#REF!","v":{"$error":"#REF!"}},{"$f":"VLOOKUP(BD96,#REF!,BE$14,FALSE)","v":{"$error":"#REF!"}},{"$f":"VLOOKUP(BD96,#REF!,BF$14,FALSE)","v":{"$error":"#REF!"}},null,{"$f":"VLOOKUP(BD96,#REF!,BH$14,FALSE)","v":{"$error":"#REF!"}},{"$f":"VLOOKUP(BD96,#REF!,BI$14,FALSE)","v":{"$error":"#REF!"}},null,null,null,null,null,null,null,{"$error":"#REF!"},{"$f":"VLOOKUP(BQ96,#REF!,BR$14,FALSE)","v":{"$error":"#REF!"}},{"$f":"VLOOKUP(BQ96,#REF!,BS$14,FALSE)","v":{"$error":"#REF!"}},null,{"$f":"VLOOKUP(BQ96,#REF!,BU$14,FALSE)","v":{"$error":"#REF!"}},{"$f":"VLOOKUP(BQ96,#REF!,BV$14,FALSE)","v":{"$error":"#REF!"}},null,null,null,null,null,null,null,{"$error":"#REF!"},{"$f":"VLOOKUP(CD96,#REF!,CE$14,FALSE)","v":{"$error":"#REF!"}},{"$f":"VLOOKUP(CD96,#REF!,CF$14,FALSE)","v":{"$error":"#REF!"}},null,{"$f":"VLOOKUP(CD96,#REF!,CH$14,FALSE)","v":{"$error":"#REF!"}},{"$f":"VLOOKUP(CD96,#REF!,CI$14,FALSE)","v":{"$error":"#REF!"}}]
[null,null,null,null,null,null,null,null,null,null,null,null,null,null,null,null,null,null,null,null,null,null,null,null,null,null,null,null,null,null,null,null,null,null,null,null,null,null,null,null,null,null,null,null,null,null,null,null,null,null,null,null,null,null,null,{"$f":"#REF!","v":{"$error":"#REF!"}},{"$f":"VLOOKUP(BD97,#REF!,BE$14,FALSE)","v":{"$error":"#REF!"}},{"$f":"VLOOKUP(BD97,#REF!,BF$14,FALSE)","v":{"$error":"#REF!"}},null,{"$f":"VLOOKUP(BD97,#REF!,BH$14,FALSE)","v":{"$error":"#REF!"}},{"$f":"VLOOKUP(BD97,#REF!,BI$14,FALSE)","v":{"$error":"#REF!"}},null,null,null,null,null,null,null,{"$error":"#REF!"},{"$f":"VLOOKUP(BQ97,#REF!,BR$14,FALSE)","v":{"$error":"#REF!"}},{"$f":"VLOOKUP(BQ97,#REF!,BS$14,FALSE)","v":{"$error":"#REF!"}},null,{"$f":"VLOOKUP(BQ97,#REF!,BU$14,FALSE)","v":{"$error":"#REF!"}},{"$f":"VLOOKUP(BQ97,#REF!,BV$14,FALSE)","v":{"$error":"#REF!"}},null,null,null,null,null,null,null,{"$error":"#REF!"},{"$f":"VLOOKUP(CD97,#REF!,CE$14,FALSE)","v":{"$error":"#REF!"}},{"$f":"VLOOKUP(CD97,#REF!,CF$14,FALSE)","v":{"$error":"#REF!"}},null,{"$f":"VLOOKUP(CD97,#REF!,CH$14,FALSE)","v":{"$error":"#REF!"}},{"$f":"VLOOKUP(CD97,#REF!,CI$14,FALSE)","v":{"$error":"#REF!"}}]
[null,null,null,null,null,null,null,null,null,null,null,null,null,null,null,null,null,null,null,null,null,null,null,null,null,null,null,null,null,null,null,null,null,null,null,null,null,null,null,null,null,null,null,null,null,null,null,null,null,null,null,null,null,null,null,{"$f":"#REF!","v":{"$error":"#REF!"}},{"$f":"VLOOKUP(BD98,#REF!,BE$14,FALSE)","v":{"$error":"#REF!"}},{"$f":"VLOOKUP(BD98,#REF!,BF$14,FALSE)","v":{"$error":"#REF!"}},null,{"$f":"VLOOKUP(BD98,#REF!,BH$14,FALSE)","v":{"$error":"#REF!"}},{"$f":"VLOOKUP(BD98,#REF!,BI$14,FALSE)","v":{"$error":"#REF!"}},null,null,null,null,null,null,null,{"$error":"#REF!"},{"$f":"VLOOKUP(BQ98,#REF!,BR$14,FALSE)","v":{"$error":"#REF!"}},{"$f":"VLOOKUP(BQ98,#REF!,BS$14,FALSE)","v":{"$error":"#REF!"}},null,{"$f":"VLOOKUP(BQ98,#REF!,BU$14,FALSE)","v":{"$error":"#REF!"}},{"$f":"VLOOKUP(BQ98,#REF!,BV$14,FALSE)","v":{"$error":"#REF!"}},null,null,null,null,null,null,null,{"$error":"#REF!"},{"$f":"VLOOKUP(CD98,#REF!,CE$14,FALSE)","v":{"$error":"#REF!"}},{"$f":"VLOOKUP(CD98,#REF!,CF$14,FALSE)","v":{"$error":"#REF!"}},null,{"$f":"VLOOKUP(CD98,#REF!,CH$14,FALSE)","v":{"$error":"#REF!"}},{"$f":"VLOOKUP(CD98,#REF!,CI$14,FALSE)","v":{"$error":"#REF!"}}]
[null,null,null,null,null,null,null,null,null,null,null,null,null,null,null,null,null,null,null,null,null,null,null,null,null,null,null,null,null,null,null,null,null,null,null,null,null,null,null,null,null,null,null,null,null,null,null,null,null,null,null,null,null,null,null,{"$f":"#REF!","v":{"$error":"#REF!"}},{"$f":"VLOOKUP(BD99,#REF!,BE$14,FALSE)","v":{"$error":"#REF!"}},{"$f":"VLOOKUP(BD99,#REF!,BF$14,FALSE)","v":{"$error":"#REF!"}},null,{"$f":"VLOOKUP(BD99,#REF!,BH$14,FALSE)","v":{"$error":"#REF!"}},{"$f":"VLOOKUP(BD99,#REF!,BI$14,FALSE)","v":{"$error":"#REF!"}},null,null,null,null,null,null,null,{"$error":"#REF!"},{"$f":"VLOOKUP(BQ99,#REF!,BR$14,FALSE)","v":{"$error":"#REF!"}},{"$f":"VLOOKUP(BQ99,#REF!,BS$14,FALSE)","v":{"$error":"#REF!"}},null,{"$f":"VLOOKUP(BQ99,#REF!,BU$14,FALSE)","v":{"$error":"#REF!"}},{"$f":"VLOOKUP(BQ99,#REF!,BV$14,FALSE)","v":{"$error":"#REF!"}},null,null,null,null,null,null,null,{"$error":"#REF!"},{"$f":"VLOOKUP(CD99,#REF!,CE$14,FALSE)","v":{"$error":"#REF!"}},{"$f":"VLOOKUP(CD99,#REF!,CF$14,FALSE)","v":{"$error":"#REF!"}},null,{"$f":"VLOOKUP(CD99,#REF!,CH$14,FALSE)","v":{"$error":"#REF!"}},{"$f":"VLOOKUP(CD99,#REF!,CI$14,FALSE)","v":{"$error":"#REF!"}}]
[null,null,null,null,null,null,null,null,null,null,null,null,null,null,null,null,null,null,null,null,null,null,null,null,null,null,null,null,null,null,null,null,null,null,null,null,null,null,null,null,null,null,null,null,null,null,null,null,null,null,null,null,null,null,null,{"$f":"#REF!","v":{"$error":"#REF!"}},{"$f":"VLOOKUP(BD100,#REF!,BE$14,FALSE)","v":{"$error":"#REF!"}},{"$f":"VLOOKUP(BD100,#REF!,BF$14,FALSE)","v":{"$error":"#REF!"}},null,{"$f":"VLOOKUP(BD100,#REF!,BH$14,FALSE)","v":{"$error":"#REF!"}},{"$f":"VLOOKUP(BD100,#REF!,BI$14,FALSE)","v":{"$error":"#REF!"}},null,null,null,null,null,null,null,{"$error":"#REF!"},{"$f":"VLOOKUP(BQ100,#REF!,BR$14,FALSE)","v":{"$error":"#REF!"}},{"$f":"VLOOKUP(BQ100,#REF!,BS$14,FALSE)","v":{"$error":"#REF!"}},null,{"$f":"VLOOKUP(BQ100,#REF!,BU$14,FALSE)","v":{"$error":"#REF!"}},{"$f":"VLOOKUP(BQ100,#REF!,BV$14,FALSE)","v":{"$error":"#REF!"}},null,null,null,null,null,null,null,{"$error":"#REF!"},{"$f":"VLOOKUP(CD100,#REF!,CE$14,FALSE)","v":{"$error":"#REF!"}},{"$f":"VLOOKUP(CD100,#REF!,CF$14,FALSE)","v":{"$error":"#REF!"}},null,{"$f":"VLOOKUP(CD100,#REF!,CH$14,FALSE)","v":{"$error":"#REF!"}},{"$f":"VLOOKUP(CD100,#REF!,CI$14,FALSE)","v":{"$error":"#REF!"}}]
[null,null,null,null,null,null,null,null,null,null,null,null,null,null,null,null,null,null,null,null,null,null,null,null,null,null,null,null,null,null,null,null,null,null,null,null,null,null,null,null,null,null,null,null,null,null,null,null,null,null,null,null,null,null,null,{"$f":"#REF!","v":{"$error":"#REF!"}},{"$f":"VLOOKUP(BD101,#REF!,BE$14,FALSE)","v":{"$error":"#REF!"}},{"$f":"VLOOKUP(BD101,#REF!,BF$14,FALSE)","v":{"$error":"#REF!"}},null,{"$f":"VLOOKUP(BD101,#REF!,BH$14,FALSE)","v":{"$error":"#REF!"}},{"$f":"VLOOKUP(BD101,#REF!,BI$14,FALSE)","v":{"$error":"#REF!"}},null,null,null,null,null,null,null,{"$error":"#REF!"},{"$f":"VLOOKUP(BQ101,#REF!,BR$14,FALSE)","v":{"$error":"#REF!"}},{"$f":"VLOOKUP(BQ101,#REF!,BS$14,FALSE)","v":{"$error":"#REF!"}},null,{"$f":"VLOOKUP(BQ101,#REF!,BU$14,FALSE)","v":{"$error":"#REF!"}},{"$f":"VLOOKUP(BQ101,#REF!,BV$14,FALSE)","v":{"$error":"#REF!"}},null,null,null,null,null,null,null,{"$error":"#REF!"},{"$f":"VLOOKUP(CD101,#REF!,CE$14,FALSE)","v":{"$error":"#REF!"}},{"$f":"VLOOKUP(CD101,#REF!,CF$14,FALSE)","v":{"$error":"#REF!"}},null,{"$f":"VLOOKUP(CD101,#REF!,CH$14,FALSE)","v":{"$error":"#REF!"}},{"$f":"VLOOKUP(CD101,#REF!,CI$14,FALSE)","v":{"$error":"#REF!"}}]
[null,null,null,null,null,null,null,null,null,null,null,null,null,null,null,null,null,null,null,null,null,null,null,null,null,null,null,null,null,null,null,null,null,null,null,null,null,null,null,null,null,null,null,null,null,null,null,null,null,null,null,null,null,null,null,{"$f":"#REF!","v":{"$error":"#REF!"}},{"$f":"VLOOKUP(BD102,#REF!,BE$14,FALSE)","v":{"$error":"#REF!"}},{"$f":"VLOOKUP(BD102,#REF!,BF$14,FALSE)","v":{"$error":"#REF!"}},null,{"$f":"VLOOKUP(BD102,#REF!,BH$14,FALSE)","v":{"$error":"#REF!"}},{"$f":"VLOOKUP(BD102,#REF!,BI$14,FALSE)","v":{"$error":"#REF!"}},null,null,null,null,null,null,null,{"$error":"#REF!"},{"$f":"VLOOKUP(BQ102,#REF!,BR$14,FALSE)","v":{"$error":"#REF!"}},{"$f":"VLOOKUP(BQ102,#REF!,BS$14,FALSE)","v":{"$error":"#REF!"}},null,{"$f":"VLOOKUP(BQ102,#REF!,BU$14,FALSE)","v":{"$error":"#REF!"}},{"$f":"VLOOKUP(BQ102,#REF!,BV$14,FALSE)","v":{"$error":"#REF!"}},null,null,null,null,null,null,null,{"$error":"#REF!"},{"$f":"VLOOKUP(CD102,#REF!,CE$14,FALSE)","v":{"$error":"#REF!"}},{"$f":"VLOOKUP(CD102,#REF!,CF$14,FALSE)","v":{"$error":"#REF!"}},null,{"$f":"VLOOKUP(CD102,#REF!,CH$14,FALSE)","v":{"$error":"#REF!"}},{"$f":"VLOOKUP(CD102,#REF!,CI$14,FALSE)","v":{"$error":"#REF!"}}]
[null,null,null,null,null,null,null,null,null,null,null,null,null,null,null,null,null,null,null,null,null,null,null,null,null,null,null,null,null,null,null,null,null,null,null,null,null,null,null,null,null,null,null,null,null,null,null,null,null,null,null,null,null,null,null,{"$f":"#REF!","v":{"$error":"#REF!"}},{"$f":"VLOOKUP(BD103,#REF!,BE$14,FALSE)","v":{"$error":"#REF!"}},{"$f":"VLOOKUP(BD103,#REF!,BF$14,FALSE)","v":{"$error":"#REF!"}},null,{"$f":"VLOOKUP(BD103,#REF!,BH$14,FALSE)","v":{"$error":"#REF!"}},{"$f":"VLOOKUP(BD103,#REF!,BI$14,FALSE)","v":{"$error":"#REF!"}},null,null,null,null,null,null,null,{"$error":"#REF!"},{"$f":"VLOOKUP(BQ103,#REF!,BR$14,FALSE)","v":{"$error":"#REF!"}},{"$f":"VLOOKUP(BQ103,#REF!,BS$14,FALSE)","v":{"$error":"#REF!"}},null,{"$f":"VLOOKUP(BQ103,#REF!,BU$14,FALSE)","v":{"$error":"#REF!"}},{"$f":"VLOOKUP(BQ103,#REF!,BV$14,FALSE)","v":{"$error":"#REF!"}},null,null,null,null,null,null,null,{"$error":"#REF!"},{"$f":"VLOOKUP(CD103,#REF!,CE$14,FALSE)","v":{"$error":"#REF!"}},{"$f":"VLOOKUP(CD103,#REF!,CF$14,FALSE)","v":{"$error":"#REF!"}},null,{"$f":"VLOOKUP(CD103,#REF!,CH$14,FALSE)","v":{"$error":"#REF!"}},{"$f":"VLOOKUP(CD103,#REF!,CI$14,FALSE)","v":{"$error":"#REF!"}}]
[null,null,null,null,null,null,null,null,null,null,null,null,null,null,null,null,null,null,null,null,null,null,null,null,null,null,null,null,null,null,null,null,null,null,null,null,null,null,null,null,null,null,null,null,null,null,null,null,null,null,null,null,null,null,null,{"$f":"#REF!","v":{"$error":"#REF!"}},{"$f":"VLOOKUP(BD104,#REF!,BE$14,FALSE)","v":{"$error":"#REF!"}},{"$f":"VLOOKUP(BD104,#REF!,BF$14,FALSE)","v":{"$error":"#REF!"}},null,{"$f":"VLOOKUP(BD104,#REF!,BH$14,FALSE)","v":{"$error":"#REF!"}},{"$f":"VLOOKUP(BD104,#REF!,BI$14,FALSE)","v":{"$error":"#REF!"}},null,null,null,null,null,null,null,{"$error":"#REF!"},{"$f":"VLOOKUP(BQ104,#REF!,BR$14,FALSE)","v":{"$error":"#REF!"}},{"$f":"VLOOKUP(BQ104,#REF!,BS$14,FALSE)","v":{"$error":"#REF!"}},null,{"$f":"VLOOKUP(BQ104,#REF!,BU$14,FALSE)","v":{"$error":"#REF!"}},{"$f":"VLOOKUP(BQ104,#REF!,BV$14,FALSE)","v":{"$error":"#REF!"}},null,null,null,null,null,null,null,{"$error":"#REF!"},{"$f":"VLOOKUP(CD104,#REF!,CE$14,FALSE)","v":{"$error":"#REF!"}},{"$f":"VLOOKUP(CD104,#REF!,CF$14,FALSE)","v":{"$error":"#REF!"}},null,{"$f":"VLOOKUP(CD104,#REF!,CH$14,FALSE)","v":{"$error":"#REF!"}},{"$f":"VLOOKUP(CD104,#REF!,CI$14,FALSE)","v":{"$error":"#REF!"}}]
[null,null,null,null,null,null,null,null,null,null,null,null,null,null,null,null,null,null,null,null,null,null,null,null,null,null,null,null,null,null,null,null,null,null,null,null,null,null,null,null,null,null,null,null,null,null,null,null,null,null,null,null,null,null,null,{"$f":"#REF!","v":{"$error":"#REF!"}},{"$f":"VLOOKUP(BD105,#REF!,BE$14,FALSE)","v":{"$error":"#REF!"}},{"$f":"VLOOKUP(BD105,#REF!,BF$14,FALSE)","v":{"$error":"#REF!"}},null,{"$f":"VLOOKUP(BD105,#REF!,BH$14,FALSE)","v":{"$error":"#REF!"}},{"$f":"VLOOKUP(BD105,#REF!,BI$14,FALSE)","v":{"$error":"#REF!"}},null,null,null,null,null,null,null,{"$error":"#REF!"},{"$f":"VLOOKUP(BQ105,#REF!,BR$14,FALSE)","v":{"$error":"#REF!"}},{"$f":"VLOOKUP(BQ105,#REF!,BS$14,FALSE)","v":{"$error":"#REF!"}},null,{"$f":"VLOOKUP(BQ105,#REF!,BU$14,FALSE)","v":{"$error":"#REF!"}},{"$f":"VLOOKUP(BQ105,#REF!,BV$14,FALSE)","v":{"$error":"#REF!"}},null,null,null,null,null,null,null,{"$error":"#REF!"},{"$f":"VLOOKUP(CD105,#REF!,CE$14,FALSE)","v":{"$error":"#REF!"}},{"$f":"VLOOKUP(CD105,#REF!,CF$14,FALSE)","v":{"$error":"#REF!"}},null,{"$f":"VLOOKUP(CD105,#REF!,CH$14,FALSE)","v":{"$error":"#REF!"}},{"$f":"VLOOKUP(CD105,#REF!,CI$14,FALSE)","v":{"$error":"#REF!"}}]
[null,null,null,null,null,null,null,null,null,null,null,null,null,null,null,null,null,null,null,null,null,null,null,null,null,null,null,null,null,null,null,null,null,null,null,null,null,null,null,null,null,null,null,null,null,null,null,null,null,null,null,null,null,null,null,{"$f":"#REF!","v":{"$error":"#REF!"}},{"$f":"VLOOKUP(BD106,#REF!,BE$14,FALSE)","v":{"$error":"#REF!"}},{"$f":"VLOOKUP(BD106,#REF!,BF$14,FALSE)","v":{"$error":"#REF!"}},null,{"$f":"VLOOKUP(BD106,#REF!,BH$14,FALSE)","v":{"$error":"#REF!"}},{"$f":"VLOOKUP(BD106,#REF!,BI$14,FALSE)","v":{"$error":"#REF!"}},null,null,null,null,null,null,null,{"$error":"#REF!"},{"$f":"VLOOKUP(BQ106,#REF!,BR$14,FALSE)","v":{"$error":"#REF!"}},{"$f":"VLOOKUP(BQ106,#REF!,BS$14,FALSE)","v":{"$error":"#REF!"}},null,{"$f":"VLOOKUP(BQ106,#REF!,BU$14,FALSE)","v":{"$error":"#REF!"}},{"$f":"VLOOKUP(BQ106,#REF!,BV$14,FALSE)","v":{"$error":"#REF!"}},null,null,null,null,null,null,null,{"$error":"#REF!"},{"$f":"VLOOKUP(CD106,#REF!,CE$14,FALSE)","v":{"$error":"#REF!"}},{"$f":"VLOOKUP(CD106,#REF!,CF$14,FALSE)","v":{"$error":"#REF!"}},null,{"$f":"VLOOKUP(CD106,#REF!,CH$14,FALSE)","v":{"$error":"#REF!"}},{"$f":"VLOOKUP(CD106,#REF!,CI$14,FALSE)","v":{"$error":"#REF!"}}]
[null,null,null,null,null,null,null,null,null,null,null,null,null,null,null,null,null,null,null,null,null,null,null,null,null,null,null,null,null,null,null,null,null,null,null,null,null,null,null,null,null,null,null,null,null,null,null,null,null,null,null,null,null,null,null,{"$f":"#REF!","v":{"$error":"#REF!"}},{"$f":"VLOOKUP(BD107,#REF!,BE$14,FALSE)","v":{"$error":"#REF!"}},{"$f":"VLOOKUP(BD107,#REF!,BF$14,FALSE)","v":{"$error":"#REF!"}},null,{"$f":"VLOOKUP(BD107,#REF!,BH$14,FALSE)","v":{"$error":"#REF!"}},{"$f":"VLOOKUP(BD107,#REF!,BI$14,FALSE)","v":{"$error":"#REF!"}},null,null,null,null,null,null,null,{"$error":"#REF!"},{"$f":"VLOOKUP(BQ107,#REF!,BR$14,FALSE)","v":{"$error":"#REF!"}},{"$f":"VLOOKUP(BQ107,#REF!,BS$14,FALSE)","v":{"$error":"#REF!"}},null,{"$f":"VLOOKUP(BQ107,#REF!,BU$14,FALSE)","v":{"$error":"#REF!"}},{"$f":"VLOOKUP(BQ107,#REF!,BV$14,FALSE)","v":{"$error":"#REF!"}},null,null,null,null,null,null,null,{"$error":"#REF!"},{"$f":"VLOOKUP(CD107,#REF!,CE$14,FALSE)","v":{"$error":"#REF!"}},{"$f":"VLOOKUP(CD107,#REF!,CF$14,FALSE)","v":{"$error":"#REF!"}},null,{"$f":"VLOOKUP(CD107,#REF!,CH$14,FALSE)","v":{"$error":"#REF!"}},{"$f":"VLOOKUP(CD107,#REF!,CI$14,FALSE)","v":{"$error":"#REF!"}}]
[null,null,null,null,null,null,null,null,null,null,null,null,null,null,null,null,null,null,null,null,null,null,null,null,null,null,null,null,null,null,null,null,null,null,null,null,null,null,null,null,null,null,null,null,null,null,null,null,null,null,null,null,null,null,null,{"$f":"#REF!","v":{"$error":"#REF!"}},{"$f":"VLOOKUP(BD108,#REF!,BE$14,FALSE)","v":{"$error":"#REF!"}},{"$f":"VLOOKUP(BD108,#REF!,BF$14,FALSE)","v":{"$error":"#REF!"}},null,{"$f":"VLOOKUP(BD108,#REF!,BH$14,FALSE)","v":{"$error":"#REF!"}},{"$f":"VLOOKUP(BD108,#REF!,BI$14,FALSE)","v":{"$error":"#REF!"}},null,null,null,null,null,null,null,{"$error":"#REF!"},{"$f":"VLOOKUP(BQ108,#REF!,BR$14,FALSE)","v":{"$error":"#REF!"}},{"$f":"VLOOKUP(BQ108,#REF!,BS$14,FALSE)","v":{"$error":"#REF!"}},null,{"$f":"VLOOKUP(BQ108,#REF!,BU$14,FALSE)","v":{"$error":"#REF!"}},{"$f":"VLOOKUP(BQ108,#REF!,BV$14,FALSE)","v":{"$error":"#REF!"}},null,null,null,null,null,null,null,{"$error":"#REF!"},{"$f":"VLOOKUP(CD108,#REF!,CE$14,FALSE)","v":{"$error":"#REF!"}},{"$f":"VLOOKUP(CD108,#REF!,CF$14,FALSE)","v":{"$error":"#REF!"}},null,{"$f":"VLOOKUP(CD108,#REF!,CH$14,FALSE)","v":{"$error":"#REF!"}},{"$f":"VLOOKUP(CD108,#REF!,CI$14,FALSE)","v":{"$error":"#REF!"}}]
[null,null,null,null,null,null,null,null,null,null,null,null,null,null,null,null,null,null,null,null,null,null,null,null,null,null,null,null,null,null,null,null,null,null,null,null,null,null,null,null,null,null,null,null,null,null,null,null,null,null,null,null,null,null,null,{"$f":"#REF!","v":{"$error":"#REF!"}},{"$f":"VLOOKUP(BD109,#REF!,BE$14,FALSE)","v":{"$error":"#REF!"}},{"$f":"VLOOKUP(BD109,#REF!,BF$14,FALSE)","v":{"$error":"#REF!"}},null,{"$f":"VLOOKUP(BD109,#REF!,BH$14,FALSE)","v":{"$error":"#REF!"}},{"$f":"VLOOKUP(BD109,#REF!,BI$14,FALSE)","v":{"$error":"#REF!"}},null,null,null,null,null,null,null,{"$error":"#REF!"},{"$f":"VLOOKUP(BQ109,#REF!,BR$14,FALSE)","v":{"$error":"#REF!"}},{"$f":"VLOOKUP(BQ109,#REF!,BS$14,FALSE)","v":{"$error":"#REF!"}},null,{"$f":"VLOOKUP(BQ109,#REF!,BU$14,FALSE)","v":{"$error":"#REF!"}},{"$f":"VLOOKUP(BQ109,#REF!,BV$14,FALSE)","v":{"$error":"#REF!"}},null,null,null,null,null,null,null,{"$error":"#REF!"},{"$f":"VLOOKUP(CD109,#REF!,CE$14,FALSE)","v":{"$error":"#REF!"}},{"$f":"VLOOKUP(CD109,#REF!,CF$14,FALSE)","v":{"$error":"#REF!"}},null,{"$f":"VLOOKUP(CD109,#REF!,CH$14,FALSE)","v":{"$error":"#REF!"}},{"$f":"VLOOKUP(CD109,#REF!,CI$14,FALSE)","v":{"$error":"#REF!"}}]
[null,null,null,null,null,null,null,null,null,null,null,null,null,null,null,null,null,null,null,null,null,null,null,null,null,null,null,null,null,null,null,null,null,null,null,null,null,null,null,null,null,null,null,null,null,null,null,null,null,null,null,null,null,null,null,{"$f":"#REF!","v":{"$error":"#REF!"}},{"$f":"VLOOKUP(BD110,#REF!,BE$14,FALSE)","v":{"$error":"#REF!"}},{"$f":"VLOOKUP(BD110,#REF!,BF$14,FALSE)","v":{"$error":"#REF!"}},null,{"$f":"VLOOKUP(BD110,#REF!,BH$14,FALSE)","v":{"$error":"#REF!"}},{"$f":"VLOOKUP(BD110,#REF!,BI$14,FALSE)","v":{"$error":"#REF!"}},null,null,null,null,null,null,null,{"$error":"#REF!"},{"$f":"VLOOKUP(BQ110,#REF!,BR$14,FALSE)","v":{"$error":"#REF!"}},{"$f":"VLOOKUP(BQ110,#REF!,BS$14,FALSE)","v":{"$error":"#REF!"}},null,{"$f":"VLOOKUP(BQ110,#REF!,BU$14,FALSE)","v":{"$error":"#REF!"}},{"$f":"VLOOKUP(BQ110,#REF!,BV$14,FALSE)","v":{"$error":"#REF!"}},null,null,null,null,null,null,null,{"$error":"#REF!"},{"$f":"VLOOKUP(CD110,#REF!,CE$14,FALSE)","v":{"$error":"#REF!"}},{"$f":"VLOOKUP(CD110,#REF!,CF$14,FALSE)","v":{"$error":"#REF!"}},null,{"$f":"VLOOKUP(CD110,#REF!,CH$14,FALSE)","v":{"$error":"#REF!"}},{"$f":"VLOOKUP(CD110,#REF!,CI$14,FALSE)","v":{"$error":"#REF!"}}]
[null,null,null,null,null,null,null,null,null,null,null,null,null,null,null,null,null,null,null,null,null,null,null,null,null,null,null,null,null,null,null,null,null,null,null,null,null,null,null,null,null,null,null,null,null,null,null,null,null,null,null,null,null,null,null,{"$f":"#REF!","v":{"$error":"#REF!"}},{"$f":"VLOOKUP(BD111,#REF!,BE$14,FALSE)","v":{"$error":"#REF!"}},{"$f":"VLOOKUP(BD111,#REF!,BF$14,FALSE)","v":{"$error":"#REF!"}},null,{"$f":"VLOOKUP(BD111,#REF!,BH$14,FALSE)","v":{"$error":"#REF!"}},{"$f":"VLOOKUP(BD111,#REF!,BI$14,FALSE)","v":{"$error":"#REF!"}},null,null,null,null,null,null,null,{"$error":"#REF!"},{"$f":"VLOOKUP(BQ111,#REF!,BR$14,FALSE)","v":{"$error":"#REF!"}},{"$f":"VLOOKUP(BQ111,#REF!,BS$14,FALSE)","v":{"$error":"#REF!"}},null,{"$f":"VLOOKUP(BQ111,#REF!,BU$14,FALSE)","v":{"$error":"#REF!"}},{"$f":"VLOOKUP(BQ111,#REF!,BV$14,FALSE)","v":{"$error":"#REF!"}},null,null,null,null,null,null,null,{"$error":"#REF!"},{"$f":"VLOOKUP(CD111,#REF!,CE$14,FALSE)","v":{"$error":"#REF!"}},{"$f":"VLOOKUP(CD111,#REF!,CF$14,FALSE)","v":{"$error":"#REF!"}},null,{"$f":"VLOOKUP(CD111,#REF!,CH$14,FALSE)","v":{"$error":"#REF!"}},{"$f":"VLOOKUP(CD111,#REF!,CI$14,FALSE)","v":{"$error":"#REF!"}}]
[null,null,null,null,null,null,null,null,null,null,null,null,null,null,null,null,null,null,null,null,null,null,null,null,null,null,null,null,null,null,null,null,null,null,null,null,null,null,null,null,null,null,null,null,null,null,null,null,null,null,null,null,null,null,null,{"$f":"#REF!","v":{"$error":"#REF!"}},{"$f":"VLOOKUP(BD112,#REF!,BE$14,FALSE)","v":{"$error":"#REF!"}},{"$f":"VLOOKUP(BD112,#REF!,BF$14,FALSE)","v":{"$error":"#REF!"}},null,{"$f":"VLOOKUP(BD112,#REF!,BH$14,FALSE)","v":{"$error":"#REF!"}},{"$f":"VLOOKUP(BD112,#REF!,BI$14,FALSE)","v":{"$error":"#REF!"}},null,null,null,null,null,null,null,{"$error":"#REF!"},{"$f":"VLOOKUP(BQ112,#REF!,BR$14,FALSE)","v":{"$error":"#REF!"}},{"$f":"VLOOKUP(BQ112,#REF!,BS$14,FALSE)","v":{"$error":"#REF!"}},null,{"$f":"VLOOKUP(BQ112,#REF!,BU$14,FALSE)","v":{"$error":"#REF!"}},{"$f":"VLOOKUP(BQ112,#REF!,BV$14,FALSE)","v":{"$error":"#REF!"}},null,null,null,null,null,null,null,{"$error":"#REF!"},{"$f":"VLOOKUP(CD112,#REF!,CE$14,FALSE)","v":{"$error":"#REF!"}},{"$f":"VLOOKUP(CD112,#REF!,CF$14,FALSE)","v":{"$error":"#REF!"}},null,{"$f":"VLOOKUP(CD112,#REF!,CH$14,FALSE)","v":{"$error":"#REF!"}},{"$f":"VLOOKUP(CD112,#REF!,CI$14,FALSE)","v":{"$error":"#REF!"}}]
[null,null,null,null,null,null,null,null,null,null,null,null,null,null,null,null,null,null,null,null,null,null,null,null,null,null,null,null,null,null,null,null,null,null,null,null,null,null,null,null,null,null,null,null,null,null,null,null,null,null,null,null,null,null,null,{"$f":"#REF!","v":{"$error":"#REF!"}},{"$f":"VLOOKUP(BD113,#REF!,BE$14,FALSE)","v":{"$error":"#REF!"}},{"$f":"VLOOKUP(BD113,#REF!,BF$14,FALSE)","v":{"$error":"#REF!"}},null,{"$f":"VLOOKUP(BD113,#REF!,BH$14,FALSE)","v":{"$error":"#REF!"}},{"$f":"VLOOKUP(BD113,#REF!,BI$14,FALSE)","v":{"$error":"#REF!"}},null,null,null,null,null,null,null,{"$error":"#REF!"},{"$f":"VLOOKUP(BQ113,#REF!,BR$14,FALSE)","v":{"$error":"#REF!"}},{"$f":"VLOOKUP(BQ113,#REF!,BS$14,FALSE)","v":{"$error":"#REF!"}},null,{"$f":"VLOOKUP(BQ113,#REF!,BU$14,FALSE)","v":{"$error":"#REF!"}},{"$f":"VLOOKUP(BQ113,#REF!,BV$14,FALSE)","v":{"$error":"#REF!"}},null,null,null,null,null,null,null,{"$error":"#REF!"},{"$f":"VLOOKUP(CD113,#REF!,CE$14,FALSE)","v":{"$error":"#REF!"}},{"$f":"VLOOKUP(CD113,#REF!,CF$14,FALSE)","v":{"$error":"#REF!"}},null,{"$f":"VLOOKUP(CD113,#REF!,CH$14,FALSE)","v":{"$error":"#REF!"}},{"$f":"VLOOKUP(CD113,#REF!,CI$14,FALSE)","v":{"$error":"#REF!"}}]
[null,null,null,null,null,null,null,null,null,null,null,null,null,null,null,null,null,null,null,null,null,null,null,null,null,null,null,null,null,null,null,null,null,null,null,null,null,null,null,null,null,null,null,null,null,null,null,null,null,null,null,null,null,null,null,{"$f":"#REF!","v":{"$error":"#REF!"}},{"$f":"VLOOKUP(BD114,#REF!,BE$14,FALSE)","v":{"$error":"#REF!"}},{"$f":"VLOOKUP(BD114,#REF!,BF$14,FALSE)","v":{"$error":"#REF!"}},null,{"$f":"VLOOKUP(BD114,#REF!,BH$14,FALSE)","v":{"$error":"#REF!"}},{"$f":"VLOOKUP(BD114,#REF!,BI$14,FALSE)","v":{"$error":"#REF!"}},null,null,null,null,null,null,null,{"$error":"#REF!"},{"$f":"VLOOKUP(BQ114,#REF!,BR$14,FALSE)","v":{"$error":"#REF!"}},{"$f":"VLOOKUP(BQ114,#REF!,BS$14,FALSE)","v":{"$error":"#REF!"}},null,{"$f":"VLOOKUP(BQ114,#REF!,BU$14,FALSE)","v":{"$error":"#REF!"}},{"$f":"VLOOKUP(BQ114,#REF!,BV$14,FALSE)","v":{"$error":"#REF!"}},null,null,null,null,null,null,null,{"$error":"#REF!"},{"$f":"VLOOKUP(CD114,#REF!,CE$14,FALSE)","v":{"$error":"#REF!"}},{"$f":"VLOOKUP(CD114,#REF!,CF$14,FALSE)","v":{"$error":"#REF!"}},null,{"$f":"VLOOKUP(CD114,#REF!,CH$14,FALSE)","v":{"$error":"#REF!"}},{"$f":"VLOOKUP(CD114,#REF!,CI$14,FALSE)","v":{"$error":"#REF!"}}]
[null,null,null,null,null,null,null,null,null,null,null,null,null,null,null,null,null,null,null,null,null,null,null,null,null,null,null,null,null,null,null,null,null,null,null,null,null,null,null,null,null,null,null,null,null,null,null,null,null,null,null,null,null,null,null,{"$f":"#REF!","v":{"$error":"#REF!"}},{"$f":"VLOOKUP(BD115,#REF!,BE$14,FALSE)","v":{"$error":"#REF!"}},{"$f":"VLOOKUP(BD115,#REF!,BF$14,FALSE)","v":{"$error":"#REF!"}},null,{"$f":"VLOOKUP(BD115,#REF!,BH$14,FALSE)","v":{"$error":"#REF!"}},{"$f":"VLOOKUP(BD115,#REF!,BI$14,FALSE)","v":{"$error":"#REF!"}},null,null,null,null,null,null,null,{"$error":"#REF!"},{"$f":"VLOOKUP(BQ115,#REF!,BR$14,FALSE)","v":{"$error":"#REF!"}},{"$f":"VLOOKUP(BQ115,#REF!,BS$14,FALSE)","v":{"$error":"#REF!"}},null,{"$f":"VLOOKUP(BQ115,#REF!,BU$14,FALSE)","v":{"$error":"#REF!"}},{"$f":"VLOOKUP(BQ115,#REF!,BV$14,FALSE)","v":{"$error":"#REF!"}},null,null,null,null,null,null,null,{"$error":"#REF!"},{"$f":"VLOOKUP(CD115,#REF!,CE$14,FALSE)","v":{"$error":"#REF!"}},{"$f":"VLOOKUP(CD115,#REF!,CF$14,FALSE)","v":{"$error":"#REF!"}},null,{"$f":"VLOOKUP(CD115,#REF!,CH$14,FALSE)","v":{"$error":"#REF!"}},{"$f":"VLOOKUP(CD115,#REF!,CI$14,FALSE)","v":{"$error":"#REF!"}}]
[null,null,null,null,null,null,null,null,null,null,null,null,null,null,null,null,null,null,null,null,null,null,null,null,null,null,null,null,null,null,null,null,null,null,null,null,null,null,null,null,null,null,null,null,null,null,null,null,null,null,null,null,null,null,null,{"$f":"#REF!","v":{"$error":"#REF!"}},{"$f":"VLOOKUP(BD116,#REF!,BE$14,FALSE)","v":{"$error":"#REF!"}},{"$f":"VLOOKUP(BD116,#REF!,BF$14,FALSE)","v":{"$error":"#REF!"}},null,{"$f":"VLOOKUP(BD116,#REF!,BH$14,FALSE)","v":{"$error":"#REF!"}},{"$f":"VLOOKUP(BD116,#REF!,BI$14,FALSE)","v":{"$error":"#REF!"}},null,null,null,null,null,null,null,{"$error":"#REF!"},{"$f":"VLOOKUP(BQ116,#REF!,BR$14,FALSE)","v":{"$error":"#REF!"}},{"$f":"VLOOKUP(BQ116,#REF!,BS$14,FALSE)","v":{"$error":"#REF!"}},null,{"$f":"VLOOKUP(BQ116,#REF!,BU$14,FALSE)","v":{"$error":"#REF!"}},{"$f":"VLOOKUP(BQ116,#REF!,BV$14,FALSE)","v":{"$error":"#REF!"}},null,null,null,null,null,null,null,{"$error":"#REF!"},{"$f":"VLOOKUP(CD116,#REF!,CE$14,FALSE)","v":{"$error":"#REF!"}},{"$f":"VLOOKUP(CD116,#REF!,CF$14,FALSE)","v":{"$error":"#REF!"}},null,{"$f":"VLOOKUP(CD116,#REF!,CH$14,FALSE)","v":{"$error":"#REF!"}},{"$f":"VLOOKUP(CD116,#REF!,CI$14,FALSE)","v":{"$error":"#REF!"}}]
[null,null,null,null,null,null,null,null,null,null,null,null,null,null,null,null,null,null,null,null,null,null,null,null,null,null,null,null,null,null,null,null,null,null,null,null,null,null,null,null,null,null,null,null,null,null,null,null,null,null,null,null,null,null,null,{"$f":"#REF!","v":{"$error":"#REF!"}},{"$f":"VLOOKUP(BD117,#REF!,BE$14,FALSE)","v":{"$error":"#REF!"}},{"$f":"VLOOKUP(BD117,#REF!,BF$14,FALSE)","v":{"$error":"#REF!"}},null,{"$f":"VLOOKUP(BD117,#REF!,BH$14,FALSE)","v":{"$error":"#REF!"}},{"$f":"VLOOKUP(BD117,#REF!,BI$14,FALSE)","v":{"$error":"#REF!"}},null,null,null,null,null,null,null,{"$error":"#REF!"},{"$f":"VLOOKUP(BQ117,#REF!,BR$14,FALSE)","v":{"$error":"#REF!"}},{"$f":"VLOOKUP(BQ117,#REF!,BS$14,FALSE)","v":{"$error":"#REF!"}},null,{"$f":"VLOOKUP(BQ117,#REF!,BU$14,FALSE)","v":{"$error":"#REF!"}},{"$f":"VLOOKUP(BQ117,#REF!,BV$14,FALSE)","v":{"$error":"#REF!"}},null,null,null,null,null,null,null,{"$error":"#REF!"},{"$f":"VLOOKUP(CD117,#REF!,CE$14,FALSE)","v":{"$error":"#REF!"}},{"$f":"VLOOKUP(CD117,#REF!,CF$14,FALSE)","v":{"$error":"#REF!"}},null,{"$f":"VLOOKUP(CD117,#REF!,CH$14,FALSE)","v":{"$error":"#REF!"}},{"$f":"VLOOKUP(CD117,#REF!,CI$14,FALSE)","v":{"$error":"#REF!"}}]
[null,null,null,null,null,null,null,null,null,null,null,null,null,null,null,null,null,null,null,null,null,null,null,null,null,null,null,null,null,null,null,null,null,null,null,null,null,null,null,null,null,null,null,null,null,null,null,null,null,null,null,null,null,null,null,{"$f":"#REF!","v":{"$error":"#REF!"}},{"$f":"VLOOKUP(BD118,#REF!,BE$14,FALSE)","v":{"$error":"#REF!"}},{"$f":"VLOOKUP(BD118,#REF!,BF$14,FALSE)","v":{"$error":"#REF!"}},null,{"$f":"VLOOKUP(BD118,#REF!,BH$14,FALSE)","v":{"$error":"#REF!"}},{"$f":"VLOOKUP(BD118,#REF!,BI$14,FALSE)","v":{"$error":"#REF!"}},null,null,null,null,null,null,null,{"$error":"#REF!"},{"$f":"VLOOKUP(BQ118,#REF!,BR$14,FALSE)","v":{"$error":"#REF!"}},{"$f":"VLOOKUP(BQ118,#REF!,BS$14,FALSE)","v":{"$error":"#REF!"}},null,{"$f":"VLOOKUP(BQ118,#REF!,BU$14,FALSE)","v":{"$error":"#REF!"}},{"$f":"VLOOKUP(BQ118,#REF!,BV$14,FALSE)","v":{"$error":"#REF!"}},null,null,null,null,null,null,null,{"$error":"#REF!"},{"$f":"VLOOKUP(CD118,#REF!,CE$14,FALSE)","v":{"$error":"#REF!"}},{"$f":"VLOOKUP(CD118,#REF!,CF$14,FALSE)","v":{"$error":"#REF!"}},null,{"$f":"VLOOKUP(CD118,#REF!,CH$14,FALSE)","v":{"$error":"#REF!"}},{"$f":"VLOOKUP(CD118,#REF!,CI$14,FALSE)","v":{"$error":"#REF!"}}]
[null,null,null,null,null,null,null,null,null,null,null,null,null,null,null,null,null,null,null,null,null,null,null,null,null,null,null,null,null,null,null,null,null,null,null,null,null,null,null,null,null,null,null,null,null,null,null,null,null,null,null,null,null,null,null,{"$f":"#REF!","v":{"$error":"#REF!"}},{"$f":"VLOOKUP(BD119,#REF!,BE$14,FALSE)","v":{"$error":"#REF!"}},{"$f":"VLOOKUP(BD119,#REF!,BF$14,FALSE)","v":{"$error":"#REF!"}},null,{"$f":"VLOOKUP(BD119,#REF!,BH$14,FALSE)","v":{"$error":"#REF!"}},{"$f":"VLOOKUP(BD119,#REF!,BI$14,FALSE)","v":{"$error":"#REF!"}},null,null,null,null,null,null,null,{"$error":"#REF!"},{"$f":"VLOOKUP(BQ119,#REF!,BR$14,FALSE)","v":{"$error":"#REF!"}},{"$f":"VLOOKUP(BQ119,#REF!,BS$14,FALSE)","v":{"$error":"#REF!"}},null,{"$f":"VLOOKUP(BQ119,#REF!,BU$14,FALSE)","v":{"$error":"#REF!"}},{"$f":"VLOOKUP(BQ119,#REF!,BV$14,FALSE)","v":{"$error":"#REF!"}},null,null,null,null,null,null,null,{"$error":"#REF!"},{"$f":"VLOOKUP(CD119,#REF!,CE$14,FALSE)","v":{"$error":"#REF!"}},{"$f":"VLOOKUP(CD119,#REF!,CF$14,FALSE)","v":{"$error":"#REF!"}},null,{"$f":"VLOOKUP(CD119,#REF!,CH$14,FALSE)","v":{"$error":"#REF!"}},{"$f":"VLOOKUP(CD119,#REF!,CI$14,FALSE)","v":{"$error":"#REF!"}}]
[null,null,null,null,null,null,null,null,null,null,null,null,null,null,null,null,null,null,null,null,null,null,null,null,null,null,null,null,null,null,null,null,null,null,null,null,null,null,null,null,null,null,null,null,null,null,null,null,null,null,null,null,null,null,null,{"$f":"#REF!","v":{"$error":"#REF!"}},{"$f":"VLOOKUP(BD120,#REF!,BE$14,FALSE)","v":{"$error":"#REF!"}},{"$f":"VLOOKUP(BD120,#REF!,BF$14,FALSE)","v":{"$error":"#REF!"}},null,{"$f":"VLOOKUP(BD120,#REF!,BH$14,FALSE)","v":{"$error":"#REF!"}},{"$f":"VLOOKUP(BD120,#REF!,BI$14,FALSE)","v":{"$error":"#REF!"}},null,null,null,null,null,null,null,{"$error":"#REF!"},{"$f":"VLOOKUP(BQ120,#REF!,BR$14,FALSE)","v":{"$error":"#REF!"}},{"$f":"VLOOKUP(BQ120,#REF!,BS$14,FALSE)","v":{"$error":"#REF!"}},null,{"$f":"VLOOKUP(BQ120,#REF!,BU$14,FALSE)","v":{"$error":"#REF!"}},{"$f":"VLOOKUP(BQ120,#REF!,BV$14,FALSE)","v":{"$error":"#REF!"}},null,null,null,null,null,null,null,{"$error":"#REF!"},{"$f":"VLOOKUP(CD120,#REF!,CE$14,FALSE)","v":{"$error":"#REF!"}},{"$f":"VLOOKUP(CD120,#REF!,CF$14,FALSE)","v":{"$error":"#REF!"}},null,{"$f":"VLOOKUP(CD120,#REF!,CH$14,FALSE)","v":{"$error":"#REF!"}},{"$f":"VLOOKUP(CD120,#REF!,CI$14,FALSE)","v":{"$error":"#REF!"}}]
[null,null,null,null,null,null,null,null,null,null,null,null,null,null,null,null,null,null,null,null,null,null,null,null,null,null,null,null,null,null,null,null,null,null,null,null,null,null,null,null,null,null,null,null,null,null,null,null,null,null,null,null,null,null,null,{"$f":"#REF!","v":{"$error":"#REF!"}},{"$f":"VLOOKUP(BD121,#REF!,BE$14,FALSE)","v":{"$error":"#REF!"}},{"$f":"VLOOKUP(BD121,#REF!,BF$14,FALSE)","v":{"$error":"#REF!"}},null,{"$f":"VLOOKUP(BD121,#REF!,BH$14,FALSE)","v":{"$error":"#REF!"}},{"$f":"VLOOKUP(BD121,#REF!,BI$14,FALSE)","v":{"$error":"#REF!"}},null,null,null,null,null,null,null,{"$error":"#REF!"},{"$f":"VLOOKUP(BQ121,#REF!,BR$14,FALSE)","v":{"$error":"#REF!"}},{"$f":"VLOOKUP(BQ121,#REF!,BS$14,FALSE)","v":{"$error":"#REF!"}},null,{"$f":"VLOOKUP(BQ121,#REF!,BU$14,FALSE)","v":{"$error":"#REF!"}},{"$f":"VLOOKUP(BQ121,#REF!,BV$14,FALSE)","v":{"$error":"#REF!"}},null,null,null,null,null,null,null,{"$error":"#REF!"},{"$f":"VLOOKUP(CD121,#REF!,CE$14,FALSE)","v":{"$error":"#REF!"}},{"$f":"VLOOKUP(CD121,#REF!,CF$14,FALSE)","v":{"$error":"#REF!"}},null,{"$f":"VLOOKUP(CD121,#REF!,CH$14,FALSE)","v":{"$error":"#REF!"}},{"$f":"VLOOKUP(CD121,#REF!,CI$14,FALSE)","v":{"$error":"#REF!"}}]
[null,null,null,null,null,null,null,null,null,null,null,null,null,null,null,null,null,null,null,null,null,null,null,null,null,null,null,null,null,null,null,null,null,null,null,null,null,null,null,null,null,null,null,null,null,null,null,null,null,null,null,null,null,null,null,{"$f":"#REF!","v":{"$error":"#REF!"}},{"$f":"VLOOKUP(BD122,#REF!,BE$14,FALSE)","v":{"$error":"#REF!"}},{"$f":"VLOOKUP(BD122,#REF!,BF$14,FALSE)","v":{"$error":"#REF!"}},null,{"$f":"VLOOKUP(BD122,#REF!,BH$14,FALSE)","v":{"$error":"#REF!"}},{"$f":"VLOOKUP(BD122,#REF!,BI$14,FALSE)","v":{"$error":"#REF!"}},null,null,null,null,null,null,null,{"$error":"#REF!"},{"$f":"VLOOKUP(BQ122,#REF!,BR$14,FALSE)","v":{"$error":"#REF!"}},{"$f":"VLOOKUP(BQ122,#REF!,BS$14,FALSE)","v":{"$error":"#REF!"}},null,{"$f":"VLOOKUP(BQ122,#REF!,BU$14,FALSE)","v":{"$error":"#REF!"}},{"$f":"VLOOKUP(BQ122,#REF!,BV$14,FALSE)","v":{"$error":"#REF!"}},null,null,null,null,null,null,null,{"$error":"#REF!"},{"$f":"VLOOKUP(CD122,#REF!,CE$14,FALSE)","v":{"$error":"#REF!"}},{"$f":"VLOOKUP(CD122,#REF!,CF$14,FALSE)","v":{"$error":"#REF!"}},null,{"$f":"VLOOKUP(CD122,#REF!,CH$14,FALSE)","v":{"$error":"#REF!"}},{"$f":"VLOOKUP(CD122,#REF!,CI$14,FALSE)","v":{"$error":"#REF!"}}]
[null,null,null,null,null,null,null,null,null,null,null,null,null,null,null,null,null,null,null,null,null,null,null,null,null,null,null,null,null,null,null,null,null,null,null,null,null,null,null,null,null,null,null,null,null,null,null,null,null,null,null,null,null,null,null,{"$f":"#REF!","v":{"$error":"#REF!"}},{"$f":"VLOOKUP(BD123,#REF!,BE$14,FALSE)","v":{"$error":"#REF!"}},{"$f":"VLOOKUP(BD123,#REF!,BF$14,FALSE)","v":{"$error":"#REF!"}},null,{"$f":"VLOOKUP(BD123,#REF!,BH$14,FALSE)","v":{"$error":"#REF!"}},{"$f":"VLOOKUP(BD123,#REF!,BI$14,FALSE)","v":{"$error":"#REF!"}},null,null,null,null,null,null,null,{"$error":"#REF!"},{"$f":"VLOOKUP(BQ123,#REF!,BR$14,FALSE)","v":{"$error":"#REF!"}},{"$f":"VLOOKUP(BQ123,#REF!,BS$14,FALSE)","v":{"$error":"#REF!"}},null,{"$f":"VLOOKUP(BQ123,#REF!,BU$14,FALSE)","v":{"$error":"#REF!"}},{"$f":"VLOOKUP(BQ123,#REF!,BV$14,FALSE)","v":{"$error":"#REF!"}},null,null,null,null,null,null,null,{"$error":"#REF!"},{"$f":"VLOOKUP(CD123,#REF!,CE$14,FALSE)","v":{"$error":"#REF!"}},{"$f":"VLOOKUP(CD123,#REF!,CF$14,FALSE)","v":{"$error":"#REF!"}},null,{"$f":"VLOOKUP(CD123,#REF!,CH$14,FALSE)","v":{"$error":"#REF!"}},{"$f":"VLOOKUP(CD123,#REF!,CI$14,FALSE)","v":{"$error":"#REF!"}}]
[null,null,null,null,null,null,null,null,null,null,null,null,null,null,null,null,null,null,null,null,null,null,null,null,null,null,null,null,null,null,null,null,null,null,null,null,null,null,null,null,null,null,null,null,null,null,null,null,null,null,null,null,null,null,null,{"$f":"#REF!","v":{"$error":"#REF!"}},{"$f":"VLOOKUP(BD124,#REF!,BE$14,FALSE)","v":{"$error":"#REF!"}},{"$f":"VLOOKUP(BD124,#REF!,BF$14,FALSE)","v":{"$error":"#REF!"}},null,{"$f":"VLOOKUP(BD124,#REF!,BH$14,FALSE)","v":{"$error":"#REF!"}},{"$f":"VLOOKUP(BD124,#REF!,BI$14,FALSE)","v":{"$error":"#REF!"}},null,null,null,null,null,null,null,{"$error":"#REF!"},{"$f":"VLOOKUP(BQ124,#REF!,BR$14,FALSE)","v":{"$error":"#REF!"}},{"$f":"VLOOKUP(BQ124,#REF!,BS$14,FALSE)","v":{"$error":"#REF!"}},null,{"$f":"VLOOKUP(BQ124,#REF!,BU$14,FALSE)","v":{"$error":"#REF!"}},{"$f":"VLOOKUP(BQ124,#REF!,BV$14,FALSE)","v":{"$error":"#REF!"}},null,null,null,null,null,null,null,{"$error":"#REF!"},{"$f":"VLOOKUP(CD124,#REF!,CE$14,FALSE)","v":{"$error":"#REF!"}},{"$f":"VLOOKUP(CD124,#REF!,CF$14,FALSE)","v":{"$error":"#REF!"}},null,{"$f":"VLOOKUP(CD124,#REF!,CH$14,FALSE)","v":{"$error":"#REF!"}},{"$f":"VLOOKUP(CD124,#REF!,CI$14,FALSE)","v":{"$error":"#REF!"}}]
[null,null,null,null,null,null,null,null,null,null,null,null,null,null,null,null,null,null,null,null,null,null,null,null,null,null,null,null,null,null,null,null,null,null,null,null,null,null,null,null,null,null,null,null,null,null,null,null,null,null,null,null,null,null,null,{"$f":"#REF!","v":{"$error":"#REF!"}},{"$f":"VLOOKUP(BD125,#REF!,BE$14,FALSE)","v":{"$error":"#REF!"}},{"$f":"VLOOKUP(BD125,#REF!,BF$14,FALSE)","v":{"$error":"#REF!"}},null,{"$f":"VLOOKUP(BD125,#REF!,BH$14,FALSE)","v":{"$error":"#REF!"}},{"$f":"VLOOKUP(BD125,#REF!,BI$14,FALSE)","v":{"$error":"#REF!"}},null,null,null,null,null,null,null,{"$error":"#REF!"},{"$f":"VLOOKUP(BQ125,#REF!,BR$14,FALSE)","v":{"$error":"#REF!"}},{"$f":"VLOOKUP(BQ125,#REF!,BS$14,FALSE)","v":{"$error":"#REF!"}},null,{"$f":"VLOOKUP(BQ125,#REF!,BU$14,FALSE)","v":{"$error":"#REF!"}},{"$f":"VLOOKUP(BQ125,#REF!,BV$14,FALSE)","v":{"$error":"#REF!"}},null,null,null,null,null,null,null,{"$error":"#REF!"},{"$f":"VLOOKUP(CD125,#REF!,CE$14,FALSE)","v":{"$error":"#REF!"}},{"$f":"VLOOKUP(CD125,#REF!,CF$14,FALSE)","v":{"$error":"#REF!"}},null,{"$f":"VLOOKUP(CD125,#REF!,CH$14,FALSE)","v":{"$error":"#REF!"}},{"$f":"VLOOKUP(CD125,#REF!,CI$14,FALSE)","v":{"$error":"#REF!"}}]
[null,null,null,null,null,null,null,null,null,null,null,null,null,null,null,null,null,null,null,null,null,null,null,null,null,null,null,null,null,null,null,null,null,null,null,null,null,null,null,null,null,null,null,null,null,null,null,null,null,null,null,null,null,null,null,{"$f":"#REF!","v":{"$error":"#REF!"}},{"$f":"VLOOKUP(BD126,#REF!,BE$14,FALSE)","v":{"$error":"#REF!"}},{"$f":"VLOOKUP(BD126,#REF!,BF$14,FALSE)","v":{"$error":"#REF!"}},null,{"$f":"VLOOKUP(BD126,#REF!,BH$14,FALSE)","v":{"$error":"#REF!"}},{"$f":"VLOOKUP(BD126,#REF!,BI$14,FALSE)","v":{"$error":"#REF!"}},null,null,null,null,null,null,null,{"$error":"#REF!"},{"$f":"VLOOKUP(BQ126,#REF!,BR$14,FALSE)","v":{"$error":"#REF!"}},{"$f":"VLOOKUP(BQ126,#REF!,BS$14,FALSE)","v":{"$error":"#REF!"}},null,{"$f":"VLOOKUP(BQ126,#REF!,BU$14,FALSE)","v":{"$error":"#REF!"}},{"$f":"VLOOKUP(BQ126,#REF!,BV$14,FALSE)","v":{"$error":"#REF!"}},null,null,null,null,null,null,null,{"$error":"#REF!"},{"$f":"VLOOKUP(CD126,#REF!,CE$14,FALSE)","v":{"$error":"#REF!"}},{"$f":"VLOOKUP(CD126,#REF!,CF$14,FALSE)","v":{"$error":"#REF!"}},null,{"$f":"VLOOKUP(CD126,#REF!,CH$14,FALSE)","v":{"$error":"#REF!"}},{"$f":"VLOOKUP(CD126,#REF!,CI$14,FALSE)","v":{"$error":"#REF!"}}]
[null,null,null,null,null,null,null,null,null,null,null,null,null,null,null,null,null,null,null,null,null,null,null,null,null,null,null,null,null,null,null,null,null,null,null,null,null,null,null,null,null,null,null,null,null,null,null,null,null,null,null,null,null,null,null,{"$f":"#REF!","v":{"$error":"#REF!"}},{"$f":"VLOOKUP(BD127,#REF!,BE$14,FALSE)","v":{"$error":"#REF!"}},{"$f":"VLOOKUP(BD127,#REF!,BF$14,FALSE)","v":{"$error":"#REF!"}},null,{"$f":"VLOOKUP(BD127,#REF!,BH$14,FALSE)","v":{"$error":"#REF!"}},{"$f":"VLOOKUP(BD127,#REF!,BI$14,FALSE)","v":{"$error":"#REF!"}},null,null,null,null,null,null,null,{"$error":"#REF!"},{"$f":"VLOOKUP(BQ127,#REF!,BR$14,FALSE)","v":{"$error":"#REF!"}},{"$f":"VLOOKUP(BQ127,#REF!,BS$14,FALSE)","v":{"$error":"#REF!"}},null,{"$f":"VLOOKUP(BQ127,#REF!,BU$14,FALSE)","v":{"$error":"#REF!"}},{"$f":"VLOOKUP(BQ127,#REF!,BV$14,FALSE)","v":{"$error":"#REF!"}},null,null,null,null,null,null,null,{"$error":"#REF!"},{"$f":"VLOOKUP(CD127,#REF!,CE$14,FALSE)","v":{"$error":"#REF!"}},{"$f":"VLOOKUP(CD127,#REF!,CF$14,FALSE)","v":{"$error":"#REF!"}},null,{"$f":"VLOOKUP(CD127,#REF!,CH$14,FALSE)","v":{"$error":"#REF!"}},{"$f":"VLOOKUP(CD127,#REF!,CI$14,FALSE)","v":{"$error":"#REF!"}}]
[null,null,null,null,null,null,null,null,null,null,null,null,null,null,null,null,null,null,null,null,null,null,null,null,null,null,null,null,null,null,null,null,null,null,null,null,null,null,null,null,null,null,null,null,null,null,null,null,null,null,null,null,null,null,null,{"$f":"#REF!","v":{"$error":"#REF!"}},{"$f":"VLOOKUP(BD128,#REF!,BE$14,FALSE)","v":{"$error":"#REF!"}},{"$f":"VLOOKUP(BD128,#REF!,BF$14,FALSE)","v":{"$error":"#REF!"}},null,{"$f":"VLOOKUP(BD128,#REF!,BH$14,FALSE)","v":{"$error":"#REF!"}},{"$f":"VLOOKUP(BD128,#REF!,BI$14,FALSE)","v":{"$error":"#REF!"}},null,null,null,null,null,null,null,{"$error":"#REF!"},{"$f":"VLOOKUP(BQ128,#REF!,BR$14,FALSE)","v":{"$error":"#REF!"}},{"$f":"VLOOKUP(BQ128,#REF!,BS$14,FALSE)","v":{"$error":"#REF!"}},null,{"$f":"VLOOKUP(BQ128,#REF!,BU$14,FALSE)","v":{"$error":"#REF!"}},{"$f":"VLOOKUP(BQ128,#REF!,BV$14,FALSE)","v":{"$error":"#REF!"}},null,null,null,null,null,null,null,{"$error":"#REF!"},{"$f":"VLOOKUP(CD128,#REF!,CE$14,FALSE)","v":{"$error":"#REF!"}},{"$f":"VLOOKUP(CD128,#REF!,CF$14,FALSE)","v":{"$error":"#REF!"}},null,{"$f":"VLOOKUP(CD128,#REF!,CH$14,FALSE)","v":{"$error":"#REF!"}},{"$f":"VLOOKUP(CD128,#REF!,CI$14,FALSE)","v":{"$error":"#REF!"}}]
[null,null,null,null,null,null,null,null,null,null,null,null,null,null,null,null,null,null,null,null,null,null,null,null,null,null,null,null,null,null,null,null,null,null,null,null,null,null,null,null,null,null,null,null,null,null,null,null,null,null,null,null,null,null,null,{"$f":"#REF!","v":{"$error":"#REF!"}},{"$f":"VLOOKUP(BD129,#REF!,BE$14,FALSE)","v":{"$error":"#REF!"}},{"$f":"VLOOKUP(BD129,#REF!,BF$14,FALSE)","v":{"$error":"#REF!"}},null,{"$f":"VLOOKUP(BD129,#REF!,BH$14,FALSE)","v":{"$error":"#REF!"}},{"$f":"VLOOKUP(BD129,#REF!,BI$14,FALSE)","v":{"$error":"#REF!"}},null,null,null,null,null,null,null,{"$error":"#REF!"},{"$f":"VLOOKUP(BQ129,#REF!,BR$14,FALSE)","v":{"$error":"#REF!"}},{"$f":"VLOOKUP(BQ129,#REF!,BS$14,FALSE)","v":{"$error":"#REF!"}},null,{"$f":"VLOOKUP(BQ129,#REF!,BU$14,FALSE)","v":{"$error":"#REF!"}},{"$f":"VLOOKUP(BQ129,#REF!,BV$14,FALSE)","v":{"$error":"#REF!"}},null,null,null,null,null,null,null,{"$error":"#REF!"},{"$f":"VLOOKUP(CD129,#REF!,CE$14,FALSE)","v":{"$error":"#REF!"}},{"$f":"VLOOKUP(CD129,#REF!,CF$14,FALSE)","v":{"$error":"#REF!"}},null,{"$f":"VLOOKUP(CD129,#REF!,CH$14,FALSE)","v":{"$error":"#REF!"}},{"$f":"VLOOKUP(CD129,#REF!,CI$14,FALSE)","v":{"$error":"#REF!"}}]
[null,null,null,null,null,null,null,null,null,null,null,null,null,null,null,null,null,null,null,null,null,null,null,null,null,null,null,null,null,null,null,null,null,null,null,null,null,null,null,null,null,null,null,null,null,null,null,null,null,null,null,null,null,null,null,{"$f":"#REF!","v":{"$error":"#REF!"}},{"$f":"VLOOKUP(BD130,#REF!,BE$14,FALSE)","v":{"$error":"#REF!"}},{"$f":"VLOOKUP(BD130,#REF!,BF$14,FALSE)","v":{"$error":"#REF!"}},null,{"$f":"VLOOKUP(BD130,#REF!,BH$14,FALSE)","v":{"$error":"#REF!"}},{"$f":"VLOOKUP(BD130,#REF!,BI$14,FALSE)","v":{"$error":"#REF!"}},null,null,null,null,null,null,null,{"$error":"#REF!"},{"$f":"VLOOKUP(BQ130,#REF!,BR$14,FALSE)","v":{"$error":"#REF!"}},{"$f":"VLOOKUP(BQ130,#REF!,BS$14,FALSE)","v":{"$error":"#REF!"}},null,{"$f":"VLOOKUP(BQ130,#REF!,BU$14,FALSE)","v":{"$error":"#REF!"}},{"$f":"VLOOKUP(BQ130,#REF!,BV$14,FALSE)","v":{"$error":"#REF!"}},null,null,null,null,null,null,null,{"$error":"#REF!"},{"$f":"VLOOKUP(CD130,#REF!,CE$14,FALSE)","v":{"$error":"#REF!"}},{"$f":"VLOOKUP(CD130,#REF!,CF$14,FALSE)","v":{"$error":"#REF!"}},null,{"$f":"VLOOKUP(CD130,#REF!,CH$14,FALSE)","v":{"$error":"#REF!"}},{"$f":"VLOOKUP(CD130,#REF!,CI$14,FALSE)","v":{"$error":"#REF!"}}]
[null,null,null,null,null,null,null,null,null,null,null,null,null,null,null,null,null,null,null,null,null,null,null,null,null,null,null,null,null,null,null,null,null,null,null,null,null,null,null,null,null,null,null,null,null,null,null,null,null,null,null,null,null,null,null,{"$f":"#REF!","v":{"$error":"#REF!"}},{"$f":"VLOOKUP(BD131,#REF!,BE$14,FALSE)","v":{"$error":"#REF!"}},{"$f":"VLOOKUP(BD131,#REF!,BF$14,FALSE)","v":{"$error":"#REF!"}},null,{"$f":"VLOOKUP(BD131,#REF!,BH$14,FALSE)","v":{"$error":"#REF!"}},{"$f":"VLOOKUP(BD131,#REF!,BI$14,FALSE)","v":{"$error":"#REF!"}},null,null,null,null,null,null,null,{"$error":"#REF!"},{"$f":"VLOOKUP(BQ131,#REF!,BR$14,FALSE)","v":{"$error":"#REF!"}},{"$f":"VLOOKUP(BQ131,#REF!,BS$14,FALSE)","v":{"$error":"#REF!"}},null,{"$f":"VLOOKUP(BQ131,#REF!,BU$14,FALSE)","v":{"$error":"#REF!"}},{"$f":"VLOOKUP(BQ131,#REF!,BV$14,FALSE)","v":{"$error":"#REF!"}},null,null,null,null,null,null,null,{"$error":"#REF!"},{"$f":"VLOOKUP(CD131,#REF!,CE$14,FALSE)","v":{"$error":"#REF!"}},{"$f":"VLOOKUP(CD131,#REF!,CF$14,FALSE)","v":{"$error":"#REF!"}},null,{"$f":"VLOOKUP(CD131,#REF!,CH$14,FALSE)","v":{"$error":"#REF!"}},{"$f":"VLOOKUP(CD131,#REF!,CI$14,FALSE)","v":{"$error":"#REF!"}}]
[null,null,null,null,null,null,null,null,null,null,null,null,null,null,null,null,null,null,null,null,null,null,null,null,null,null,null,null,null,null,null,null,null,null,null,null,null,null,null,null,null,null,null,null,null,null,null,null,null,null,null,null,null,null,null,{"$f":"#REF!","v":{"$error":"#REF!"}},{"$f":"VLOOKUP(BD132,#REF!,BE$14,FALSE)","v":{"$error":"#REF!"}},{"$f":"VLOOKUP(BD132,#REF!,BF$14,FALSE)","v":{"$error":"#REF!"}},null,{"$f":"VLOOKUP(BD132,#REF!,BH$14,FALSE)","v":{"$error":"#REF!"}},{"$f":"VLOOKUP(BD132,#REF!,BI$14,FALSE)","v":{"$error":"#REF!"}},null,null,null,null,null,null,null,{"$error":"#REF!"},{"$f":"VLOOKUP(BQ132,#REF!,BR$14,FALSE)","v":{"$error":"#REF!"}},{"$f":"VLOOKUP(BQ132,#REF!,BS$14,FALSE)","v":{"$error":"#REF!"}},null,{"$f":"VLOOKUP(BQ132,#REF!,BU$14,FALSE)","v":{"$error":"#REF!"}},{"$f":"VLOOKUP(BQ132,#REF!,BV$14,FALSE)","v":{"$error":"#REF!"}},null,null,null,null,null,null,null,{"$error":"#REF!"},{"$f":"VLOOKUP(CD132,#REF!,CE$14,FALSE)","v":{"$error":"#REF!"}},{"$f":"VLOOKUP(CD132,#REF!,CF$14,FALSE)","v":{"$error":"#REF!"}},null,{"$f":"VLOOKUP(CD132,#REF!,CH$14,FALSE)","v":{"$error":"#REF!"}},{"$f":"VLOOKUP(CD132,#REF!,CI$14,FALSE)","v":{"$error":"#REF!"}}]
[null,null,null,null,null,null,null,null,null,null,null,null,null,null,null,null,null,null,null,null,null,null,null,null,null,null,null,null,null,null,null,null,null,null,null,null,null,null,null,null,null,null,null,null,null,null,null,null,null,null,null,null,null,null,null,{"$f":"#REF!","v":{"$error":"#REF!"}},{"$f":"VLOOKUP(BD133,#REF!,BE$14,FALSE)","v":{"$error":"#REF!"}},{"$f":"VLOOKUP(BD133,#REF!,BF$14,FALSE)","v":{"$error":"#REF!"}},null,{"$f":"VLOOKUP(BD133,#REF!,BH$14,FALSE)","v":{"$error":"#REF!"}},{"$f":"VLOOKUP(BD133,#REF!,BI$14,FALSE)","v":{"$error":"#REF!"}},null,null,null,null,null,null,null,{"$error":"#REF!"},{"$f":"VLOOKUP(BQ133,#REF!,BR$14,FALSE)","v":{"$error":"#REF!"}},{"$f":"VLOOKUP(BQ133,#REF!,BS$14,FALSE)","v":{"$error":"#REF!"}},null,{"$f":"VLOOKUP(BQ133,#REF!,BU$14,FALSE)","v":{"$error":"#REF!"}},{"$f":"VLOOKUP(BQ133,#REF!,BV$14,FALSE)","v":{"$error":"#REF!"}},null,null,null,null,null,null,null,{"$error":"#REF!"},{"$f":"VLOOKUP(CD133,#REF!,CE$14,FALSE)","v":{"$error":"#REF!"}},{"$f":"VLOOKUP(CD133,#REF!,CF$14,FALSE)","v":{"$error":"#REF!"}},null,{"$f":"VLOOKUP(CD133,#REF!,CH$14,FALSE)","v":{"$error":"#REF!"}},{"$f":"VLOOKUP(CD133,#REF!,CI$14,FALSE)","v":{"$error":"#REF!"}}]
[null,null,null,null,null,null,null,null,null,null,null,null,null,null,null,null,null,null,null,null,null,null,null,null,null,null,null,null,null,null,null,null,null,null,null,null,null,null,null,null,null,null,null,null,null,null,null,null,null,null,null,null,null,null,null,{"$f":"#REF!","v":{"$error":"#REF!"}},{"$f":"VLOOKUP(BD134,#REF!,BE$14,FALSE)","v":{"$error":"#REF!"}},{"$f":"VLOOKUP(BD134,#REF!,BF$14,FALSE)","v":{"$error":"#REF!"}},null,{"$f":"VLOOKUP(BD134,#REF!,BH$14,FALSE)","v":{"$error":"#REF!"}},{"$f":"VLOOKUP(BD134,#REF!,BI$14,FALSE)","v":{"$error":"#REF!"}},null,null,null,null,null,null,null,{"$error":"#REF!"},{"$f":"VLOOKUP(BQ134,#REF!,BR$14,FALSE)","v":{"$error":"#REF!"}},{"$f":"VLOOKUP(BQ134,#REF!,BS$14,FALSE)","v":{"$error":"#REF!"}},null,{"$f":"VLOOKUP(BQ134,#REF!,BU$14,FALSE)","v":{"$error":"#REF!"}},{"$f":"VLOOKUP(BQ134,#REF!,BV$14,FALSE)","v":{"$error":"#REF!"}},null,null,null,null,null,null,null,{"$error":"#REF!"},{"$f":"VLOOKUP(CD134,#REF!,CE$14,FALSE)","v":{"$error":"#REF!"}},{"$f":"VLOOKUP(CD134,#REF!,CF$14,FALSE)","v":{"$error":"#REF!"}},null,{"$f":"VLOOKUP(CD134,#REF!,CH$14,FALSE)","v":{"$error":"#REF!"}},{"$f":"VLOOKUP(CD134,#REF!,CI$14,FALSE)","v":{"$error":"#REF!"}}]
[null,null,null,null,null,null,null,null,null,null,null,null,null,null,null,null,null,null,null,null,null,null,null,null,null,null,null,null,null,null,null,null,null,null,null,null,null,null,null,null,null,null,null,null,null,null,null,null,null,null,null,null,null,null,null,{"$f":"#REF!","v":{"$error":"#REF!"}},{"$f":"VLOOKUP(BD135,#REF!,BE$14,FALSE)","v":{"$error":"#REF!"}},{"$f":"VLOOKUP(BD135,#REF!,BF$14,FALSE)","v":{"$error":"#REF!"}},null,{"$f":"VLOOKUP(BD135,#REF!,BH$14,FALSE)","v":{"$error":"#REF!"}},{"$f":"VLOOKUP(BD135,#REF!,BI$14,FALSE)","v":{"$error":"#REF!"}},null,null,null,null,null,null,null,{"$error":"#REF!"},{"$f":"VLOOKUP(BQ135,#REF!,BR$14,FALSE)","v":{"$error":"#REF!"}},{"$f":"VLOOKUP(BQ135,#REF!,BS$14,FALSE)","v":{"$error":"#REF!"}},null,{"$f":"VLOOKUP(BQ135,#REF!,BU$14,FALSE)","v":{"$error":"#REF!"}},{"$f":"VLOOKUP(BQ135,#REF!,BV$14,FALSE)","v":{"$error":"#REF!"}},null,null,null,null,null,null,null,{"$error":"#REF!"},{"$f":"VLOOKUP(CD135,#REF!,CE$14,FALSE)","v":{"$error":"#REF!"}},{"$f":"VLOOKUP(CD135,#REF!,CF$14,FALSE)","v":{"$error":"#REF!"}},null,{"$f":"VLOOKUP(CD135,#REF!,CH$14,FALSE)","v":{"$error":"#REF!"}},{"$f":"VLOOKUP(CD135,#REF!,CI$14,FALSE)","v":{"$error":"#REF!"}}]
[null,null,null,null,null,null,null,null,null,null,null,null,null,null,null,null,null,null,null,null,null,null,null,null,null,null,null,null,null,null,null,null,null,null,null,null,null,null,null,null,null,null,null,null,null,null,null,null,null,null,null,null,null,null,null,{"$f":"#REF!","v":{"$error":"#REF!"}},{"$f":"VLOOKUP(BD136,#REF!,BE$14,FALSE)","v":{"$error":"#REF!"}},{"$f":"VLOOKUP(BD136,#REF!,BF$14,FALSE)","v":{"$error":"#REF!"}},null,{"$f":"VLOOKUP(BD136,#REF!,BH$14,FALSE)","v":{"$error":"#REF!"}},{"$f":"VLOOKUP(BD136,#REF!,BI$14,FALSE)","v":{"$error":"#REF!"}},null,null,null,null,null,null,null,{"$error":"#REF!"},{"$f":"VLOOKUP(BQ136,#REF!,BR$14,FALSE)","v":{"$error":"#REF!"}},{"$f":"VLOOKUP(BQ136,#REF!,BS$14,FALSE)","v":{"$error":"#REF!"}},null,{"$f":"VLOOKUP(BQ136,#REF!,BU$14,FALSE)","v":{"$error":"#REF!"}},{"$f":"VLOOKUP(BQ136,#REF!,BV$14,FALSE)","v":{"$error":"#REF!"}},null,null,null,null,null,null,null,{"$error":"#REF!"},{"$f":"VLOOKUP(CD136,#REF!,CE$14,FALSE)","v":{"$error":"#REF!"}},{"$f":"VLOOKUP(CD136,#REF!,CF$14,FALSE)","v":{"$error":"#REF!"}},null,{"$f":"VLOOKUP(CD136,#REF!,CH$14,FALSE)","v":{"$error":"#REF!"}},{"$f":"VLOOKUP(CD136,#REF!,CI$14,FALSE)","v":{"$error":"#REF!"}}]
[null,null,null,null,null,null,null,null,null,null,null,null,null,null,null,null,null,null,null,null,null,null,null,null,null,null,null,null,null,null,null,null,null,null,null,null,null,null,null,null,null,null,null,null,null,null,null,null,null,null,null,null,null,null,null,{"$f":"#REF!","v":{"$error":"#REF!"}},{"$f":"VLOOKUP(BD137,#REF!,BE$14,FALSE)","v":{"$error":"#REF!"}},{"$f":"VLOOKUP(BD137,#REF!,BF$14,FALSE)","v":{"$error":"#REF!"}},null,{"$f":"VLOOKUP(BD137,#REF!,BH$14,FALSE)","v":{"$error":"#REF!"}},{"$f":"VLOOKUP(BD137,#REF!,BI$14,FALSE)","v":{"$error":"#REF!"}},null,null,null,null,null,null,null,{"$error":"#REF!"},{"$f":"VLOOKUP(BQ137,#REF!,BR$14,FALSE)","v":{"$error":"#REF!"}},{"$f":"VLOOKUP(BQ137,#REF!,BS$14,FALSE)","v":{"$error":"#REF!"}},null,{"$f":"VLOOKUP(BQ137,#REF!,BU$14,FALSE)","v":{"$error":"#REF!"}},{"$f":"VLOOKUP(BQ137,#REF!,BV$14,FALSE)","v":{"$error":"#REF!"}},null,null,null,null,null,null,null,{"$error":"#REF!"},{"$f":"VLOOKUP(CD137,#REF!,CE$14,FALSE)","v":{"$error":"#REF!"}},{"$f":"VLOOKUP(CD137,#REF!,CF$14,FALSE)","v":{"$error":"#REF!"}},null,{"$f":"VLOOKUP(CD137,#REF!,CH$14,FALSE)","v":{"$error":"#REF!"}},{"$f":"VLOOKUP(CD137,#REF!,CI$14,FALSE)","v":{"$error":"#REF!"}}]
[null,null,null,null,null,null,null,null,null,null,null,null,null,null,null,null,null,null,null,null,null,null,null,null,null,null,null,null,null,null,null,null,null,null,null,null,null,null,null,null,null,null,null,null,null,null,null,null,null,null,null,null,null,null,null,{"$f":"#REF!","v":{"$error":"#REF!"}},{"$f":"VLOOKUP(BD138,#REF!,BE$14,FALSE)","v":{"$error":"#REF!"}},{"$f":"VLOOKUP(BD138,#REF!,BF$14,FALSE)","v":{"$error":"#REF!"}},null,{"$f":"VLOOKUP(BD138,#REF!,BH$14,FALSE)","v":{"$error":"#REF!"}},{"$f":"VLOOKUP(BD138,#REF!,BI$14,FALSE)","v":{"$error":"#REF!"}},null,null,null,null,null,null,null,{"$error":"#REF!"},{"$f":"VLOOKUP(BQ138,#REF!,BR$14,FALSE)","v":{"$error":"#REF!"}},{"$f":"VLOOKUP(BQ138,#REF!,BS$14,FALSE)","v":{"$error":"#REF!"}},null,{"$f":"VLOOKUP(BQ138,#REF!,BU$14,FALSE)","v":{"$error":"#REF!"}},{"$f":"VLOOKUP(BQ138,#REF!,BV$14,FALSE)","v":{"$error":"#REF!"}},null,null,null,null,null,null,null,{"$error":"#REF!"},{"$f":"VLOOKUP(CD138,#REF!,CE$14,FALSE)","v":{"$error":"#REF!"}},{"$f":"VLOOKUP(CD138,#REF!,CF$14,FALSE)","v":{"$error":"#REF!"}},null,{"$f":"VLOOKUP(CD138,#REF!,CH$14,FALSE)","v":{"$error":"#REF!"}},{"$f":"VLOOKUP(CD138,#REF!,CI$14,FALSE)","v":{"$error":"#REF!"}}]
[null,null,null,null,null,null,null,null,null,null,null,null,null,null,null,null,null,null,null,null,null,null,null,null,null,null,null,null,null,null,null,null,null,null,null,null,null,null,null,null,null,null,null,null,null,null,null,null,null,null,null,null,null,null,null,{"$f":"#REF!","v":{"$error":"#REF!"}},{"$f":"VLOOKUP(BD139,#REF!,BE$14,FALSE)","v":{"$error":"#REF!"}},{"$f":"VLOOKUP(BD139,#REF!,BF$14,FALSE)","v":{"$error":"#REF!"}},null,{"$f":"VLOOKUP(BD139,#REF!,BH$14,FALSE)","v":{"$error":"#REF!"}},{"$f":"VLOOKUP(BD139,#REF!,BI$14,FALSE)","v":{"$error":"#REF!"}},null,null,null,null,null,null,null,{"$error":"#REF!"},{"$f":"VLOOKUP(BQ139,#REF!,BR$14,FALSE)","v":{"$error":"#REF!"}},{"$f":"VLOOKUP(BQ139,#REF!,BS$14,FALSE)","v":{"$error":"#REF!"}},null,{"$f":"VLOOKUP(BQ139,#REF!,BU$14,FALSE)","v":{"$error":"#REF!"}},{"$f":"VLOOKUP(BQ139,#REF!,BV$14,FALSE)","v":{"$error":"#REF!"}},null,null,null,null,null,null,null,{"$error":"#REF!"},{"$f":"VLOOKUP(CD139,#REF!,CE$14,FALSE)","v":{"$error":"#REF!"}},{"$f":"VLOOKUP(CD139,#REF!,CF$14,FALSE)","v":{"$error":"#REF!"}},null,{"$f":"VLOOKUP(CD139,#REF!,CH$14,FALSE)","v":{"$error":"#REF!"}},{"$f":"VLOOKUP(CD139,#REF!,CI$14,FALSE)","v":{"$error":"#REF!"}}]
[null,null,null,null,null,null,null,null,null,null,null,null,null,null,null,null,null,null,null,null,null,null,null,null,null,null,null,null,null,null,null,null,null,null,null,null,null,null,null,null,null,null,null,null,null,null,null,null,null,null,null,null,null,null,null,{"$f":"#REF!","v":{"$error":"#REF!"}},{"$f":"VLOOKUP(BD140,#REF!,BE$14,FALSE)","v":{"$error":"#REF!"}},{"$f":"VLOOKUP(BD140,#REF!,BF$14,FALSE)","v":{"$error":"#REF!"}},null,{"$f":"VLOOKUP(BD140,#REF!,BH$14,FALSE)","v":{"$error":"#REF!"}},{"$f":"VLOOKUP(BD140,#REF!,BI$14,FALSE)","v":{"$error":"#REF!"}},null,null,null,null,null,null,null,{"$error":"#REF!"},{"$f":"VLOOKUP(BQ140,#REF!,BR$14,FALSE)","v":{"$error":"#REF!"}},{"$f":"VLOOKUP(BQ140,#REF!,BS$14,FALSE)","v":{"$error":"#REF!"}},null,{"$f":"VLOOKUP(BQ140,#REF!,BU$14,FALSE)","v":{"$error":"#REF!"}},{"$f":"VLOOKUP(BQ140,#REF!,BV$14,FALSE)","v":{"$error":"#REF!"}},null,null,null,null,null,null,null,{"$error":"#REF!"},{"$f":"VLOOKUP(CD140,#REF!,CE$14,FALSE)","v":{"$error":"#REF!"}},{"$f":"VLOOKUP(CD140,#REF!,CF$14,FALSE)","v":{"$error":"#REF!"}},null,{"$f":"VLOOKUP(CD140,#REF!,CH$14,FALSE)","v":{"$error":"#REF!"}},{"$f":"VLOOKUP(CD140,#REF!,CI$14,FALSE)","v":{"$error":"#REF!"}}]
[null,null,null,null,null,null,null,null,null,null,null,null,null,null,null,null,null,null,null,null,null,null,null,null,null,null,null,null,null,null,null,null,null,null,null,null,null,null,null,null,null,null,null,null,null,null,null,null,null,null,null,null,null,null,null,{"$f":"#REF!","v":{"$error":"#REF!"}},{"$f":"VLOOKUP(BD141,#REF!,BE$14,FALSE)","v":{"$error":"#REF!"}},{"$f":"VLOOKUP(BD141,#REF!,BF$14,FALSE)","v":{"$error":"#REF!"}},null,{"$f":"VLOOKUP(BD141,#REF!,BH$14,FALSE)","v":{"$error":"#REF!"}},{"$f":"VLOOKUP(BD141,#REF!,BI$14,FALSE)","v":{"$error":"#REF!"}},null,null,null,null,null,null,null,{"$error":"#REF!"},{"$f":"VLOOKUP(BQ141,#REF!,BR$14,FALSE)","v":{"$error":"#REF!"}},{"$f":"VLOOKUP(BQ141,#REF!,BS$14,FALSE)","v":{"$error":"#REF!"}},null,{"$f":"VLOOKUP(BQ141,#REF!,BU$14,FALSE)","v":{"$error":"#REF!"}},{"$f":"VLOOKUP(BQ141,#REF!,BV$14,FALSE)","v":{"$error":"#REF!"}},null,null,null,null,null,null,null,{"$error":"#REF!"},{"$f":"VLOOKUP(CD141,#REF!,CE$14,FALSE)","v":{"$error":"#REF!"}},{"$f":"VLOOKUP(CD141,#REF!,CF$14,FALSE)","v":{"$error":"#REF!"}},null,{"$f":"VLOOKUP(CD141,#REF!,CH$14,FALSE)","v":{"$error":"#REF!"}},{"$f":"VLOOKUP(CD141,#REF!,CI$14,FALSE)","v":{"$error":"#REF!"}}]
[null,null,null,null,null,null,null,null,null,null,null,null,null,null,null,null,null,null,null,null,null,null,null,null,null,null,null,null,null,null,null,null,null,null,null,null,null,null,null,null,null,null,null,null,null,null,null,null,null,null,null,null,null,null,null,{"$f":"#REF!","v":{"$error":"#REF!"}},{"$f":"VLOOKUP(BD142,#REF!,BE$14,FALSE)","v":{"$error":"#REF!"}},{"$f":"VLOOKUP(BD142,#REF!,BF$14,FALSE)","v":{"$error":"#REF!"}},null,{"$f":"VLOOKUP(BD142,#REF!,BH$14,FALSE)","v":{"$error":"#REF!"}},{"$f":"VLOOKUP(BD142,#REF!,BI$14,FALSE)","v":{"$error":"#REF!"}},null,null,null,null,null,null,null,{"$error":"#REF!"},{"$f":"VLOOKUP(BQ142,#REF!,BR$14,FALSE)","v":{"$error":"#REF!"}},{"$f":"VLOOKUP(BQ142,#REF!,BS$14,FALSE)","v":{"$error":"#REF!"}},null,{"$f":"VLOOKUP(BQ142,#REF!,BU$14,FALSE)","v":{"$error":"#REF!"}},{"$f":"VLOOKUP(BQ142,#REF!,BV$14,FALSE)","v":{"$error":"#REF!"}},null,null,null,null,null,null,null,{"$error":"#REF!"},{"$f":"VLOOKUP(CD142,#REF!,CE$14,FALSE)","v":{"$error":"#REF!"}},{"$f":"VLOOKUP(CD142,#REF!,CF$14,FALSE)","v":{"$error":"#REF!"}},null,{"$f":"VLOOKUP(CD142,#REF!,CH$14,FALSE)","v":{"$error":"#REF!"}},{"$f":"VLOOKUP(CD142,#REF!,CI$14,FALSE)","v":{"$error":"#REF!"}}]

{"sheet":"Sheet1","index":4,"n_rows":0,"n_cols":0,"rows_kept":0,"cut":false,"hidden":true,"merged":[]}

{"sheet":"Sheet2","index":5,"n_rows":0,"n_cols":0,"rows_kept":0,"cut":false,"hidden":true,"merged":[]}